{"text_format":"1","workbook":"xlsx","n_sheets":8,"sheets":["Simulador Valora","Tabla Valora","Módulo1","Carat_cont_VA","Simulador Pagos Oportunos","Tabla Pagos Oportunos","Carat_cont_PO","RECAS"],"not_rendered":{"charts":0,"images":4,"macros":1,"external_links":0,"defined_names":7,"comments":3,"pivot_tables":0},"unopened":[],"bounds":{"document_bytes":16777216,"sheet_cells":100000,"rows_first":2000,"rows_last":500,"rows_between":2000,"halvings":0,"cell_chars":16384,"cell_head_chars":4096},"cells_cut":0,"cells_raw":0,"read":"whole","date_system":"1900"}

{"sheet":"Simulador Valora","index":0,"n_rows":104,"n_cols":48,"rows_kept":104,"cut":false,"hidden":false,"merged":[[45,44,46,44],[2,2,2,16],[3,2,3,16],[15,2,15,4],[31,43,32,43],[31,44,32,44],[9,8,9,12],[12,2,12,6],[9,2,9,6],[32,6,32,14],[12,8,12,12],[45,43,46,43],[36,6,36,7],[36,10,36,11],[36,14,36,15]]}
[null,null,null,null,null,null,null,null,null,null,null,null,null,null,null,null,null,null,"-",null,null,null,null,null,null,null,null,null,null,null,null,null,null,null,null,null,null,null,null,null,null,null,null,null,null,null,null,"-"]
[]
[null,null,"SIMULADOR CREDITO HIPOTECARIO"]
[null,null,"FINANCIAMIENTO LIQUIDEZ LIBRE VALORA"]
[]
[]
[null,null,{"$f":"TODAY()","v":"2022-11-10"}]
[]
[null,null,"Lugar",null,null,null,null,null,"Sucursal"]
[]
[]
[null,null,"Nombre del cliente / Conyuge en su caso.",null,null,null,null,null,"Ejecutivo/Broker que le atendió",null,null,null,null,null,null,null,null,null,null,null,null,null,null,null,null,2,null,null,null,null,3]
[null,null,null,null,null,null,null,null,null,null,null,null,null,null,null,null,null,null,null,null,"Tasas Valora 20 años",null,240,null,null,"Tasas Valora 15 años",null,180,"PTI",null,null,"Tasas Valora 10 años",null,120,"PTI"]
[null,null,null,null,null,null,null,null,null,null,null,null,null,null,null,null,null,null,null,1,null,null,null,null,1,0.17499999999999999,15.24,1.4999999999999999E-2,0.35,null,1,{"$f":"Z14","v":0.17499999999999999},17.2,1.4999999999999999E-2,0.35]
[null,null,"Telefonos del cliente",null,null,null,null,null,"Teléfonos del ejecutivo",null,null,null,null,null,null,null,null,null,null,2,null,null,null,null,2,0.1825,15.62,1.4999999999999999E-2,0.3,null,2,{"$f":"Z15","v":0.1825},17.600000000000001,1.4999999999999999E-2,0.3]
[null,null,null,null,null,null,null,null,null,null,null,null,null,null,null,null,null,null,null,3,null,null,null,null,3,0.185,15.71,1.4999999999999999E-2,0.2,null,3,{"$f":"Z16","v":0.185},17.690000000000001,1.4999999999999999E-2,0.2]
[null,null,null,null,null,null,null,null,null,null,null,null,null,null,null,null,null,null,null,4,null,null,null,null,null,null,null,null,0.2,null,null,null,null,null,0.2]
[null,null,null,null,null,null,null,null,null,null,null,null,null,null,null,null,null,null,null,5,null,null,null,null,null,null,null,null,0.2,null,null,null,null,null,0.2]
[]
[null,null,"Paso 1",null,null,null,null,null,"Paso 2",null,null,null,"Paso 3"]
[null,null,"Escoja su base de cálculo",null,null,null,null,null,"Escriba los datos que se piden:",null,null,null,"Escoja el plazo y la tasa aplicable:",null,null,null,null,null,null,1,{"$f":"VLOOKUP($T$21,$T$14:$W$20,2,0)","v":0},{"$f":"VLOOKUP($T$21,$T$14:$W$20,3,0)","v":0},{"$f":"VLOOKUP($T$21,$T$14:$W$20,4,0)","v":0},null,1,{"$f":"VLOOKUP($Y$21,$Y$14:$AB$20,2,0)","v":0.17499999999999999},{"$f":"VLOOKUP($Y$21,$Y$14:$AB$20,3,0)","v":15.24},{"$f":"VLOOKUP($Y$21,$Y$14:$AB$20,4,0)","v":1.4999999999999999E-2},{"$f":"+VLOOKUP(Y21,Y14:AC18,5,0)","v":0.35},null,1,{"$f":"VLOOKUP($AE$21,$AE$14:$AH$20,2,0)","v":0.17499999999999999},{"$f":"VLOOKUP($AE$21,$AE$14:$AH$20,3,0)","v":17.2},{"$f":"VLOOKUP($AE$21,$AE$14:$AH$20,4,0)","v":1.4999999999999999E-2},{"$f":"+VLOOKUP(AE21,AE14:AI18,5,0)","v":0.35}]
[null,null,null,null,null,null,null,null,null,null,{"$f":"IF($AD$40=1,\"Valor del inmueble\",\"Ingresos Brutos Mensuales\")","v":"Valor del inmueble"},null," Plazo 15 años              Plazo 10 años"]
[null,null,"Paso 4",null,null,null,null,null,null,null,{"$f":"IF($AD$40=1,\"Monto solictado\",\"\")","v":"Monto solictado"},null,null,null,null,null,null,null,null,null,null,null,null,null,null,"Erog",{"$f":"I23/1000*AA21","v":0},null,{"$f":"+G43/1000*$AA$21/$AC$21","v":0},null,null,"Erog",{"$f":"I23/1000*AG21","v":0},null,{"$f":"+G43/1000*$AG$21/$AI$21","v":0}]
[null,null,"Tipo de comisión",null,null,null,null,null,"Valor Destructible"]
[null,null,{"$f":"IF(AND(V40=1,I23>I22),\"El enganche es mayor que el valor del inmueble\",IF(AND(V40=2,I23>I22),\"El monto es mayor que el valor del inmueble\",\"\"))","v":""},null,null,null,null,null,"Paso 5"]
[null,null,{"$f":"IF(AND($AD$40=1,$Y$40>$V$34),\"El monto solicitado es mayor al \"&TEXT(V34,\"##0%\")&\" del valor del inmueble\",IF(AND($AD$40=1,$I$23<$X$34),\"El monto solicitado debe ser >= $\"&TEXT($X$34,\"#,##0\"),\"\"))","v":"El monto solicitado debe ser >= $100,000"},null,null,null,null,null,"El cliente opta por seguros externos"]
[null,null,{"$f":"IFERROR(IF(AND($AD$40=2,$I$22<$W$34),\"Los ingresos mínimos requeridos son $\"&TEXT($W$34,\"#,##0\"),\"\"),\"\")","v":""}]
[null,null,null,null,null,null,null,null,"Paso 6",null,null,null,null,null,null,null,null,null,null,null,null,null,null,null,null,{"$f":"\"Mínima \"&TEXT(Z14,\"0.00%\")&\" y       Máxima \"&TEXT(Z16,\"0.00%\")","v":"Mínima 17.50% y       Máxima 18.50%"}]
[null,null,null,null,null,null,null,null,"El cliente es TopUp"]
[]
[]
[null,null,null,null,null,null,null,null,null,null,null,null,null,null,null,null,null,null,null,null,null,null,null,null,null,null,null,null,null,null,null,null,null,null,null,null,null,null,null,null,null,null,"Producto","Fecha de Registro","Numero de registro RECA"]
[null,null,null,null,{"$f":"IF(V40=1,\"VALORA\",\"\")","v":""},null,"VALORA",null,null,null,null,null,null,null,null,null,null,null,null,"Com Apert","Coms. prepago","LTV","Ingresos min.","Monto min.","Monto max","Valor min. viv.","PTI"]
[null,null,null,null,null,null,null,null,null,null,null,null,null,null,null,null,null,null,null,0.02,0.03,0.7,20000,100000,2500000,1000000,{"$f":"+IF(X35=1,AC21,AI21)","v":0.35},null,"Aforos",null,null,null,null,null,null,null,null,null,null,null,null,null,"CrediResidencial Valora 20 años","2008-09-10","0319-138-003323/01-04108-0908"]
[null,null,"Plazo",null,{"$f":"IF(V40=1,\"15 AÑOS\",\"\")","v":""},null,"10 AÑOS",null,null,null,"15 AÑOS",null,null,null,null,null,null,null,null,null,"Esquemas","Plazo",null,1,null,null,null,null,"20 años","15 años","10 años",null,null,null,null,null,null,null,null,null,null,null,"CrediResidencial Valora 20 años con Apoyo Infonavit","2008-09-10","0319-138-003324/01-04109-0908"]
[null,null,null,null,null,null,null,null,null,null,null,null,null,null,null,null,null,null,null,null,null,"Pago 9.9",null,null,null,null,null,null,null,{"$f":"K43/K41","v":{"$error":"#DIV/0!"}},{"$f":"G43/G41","v":{"$error":"#DIV/0!"}},null,null,null,null,null,null,null,null,null,null,null,"Pasivo Hipotecario Valora 20 años","2008-09-10","0319-138-003325/01-04110-0908"]
[null,null,"Tasa de Interés",null,null,null,{"$f":"+Z28","v":"Mínima 17.50% y       Máxima 18.50%"},null,null,null,{"$f":"+Z28","v":"Mínima 17.50% y       Máxima 18.50%"},null,null,null,null,null,null,null,null,null,null,"Tasa 1234",null,null,null,null,null,null,null,null,null,null,null,null,null,null,null,null,null,null,null,null,"Preventa Valora 20 años","2008-09-10","0319-138-003326/01-04111-0908"]
[null,null,null,null,null,null,null,null,null,null,null,null,null,null,null,null,null,null,null,null,null,"Tasa Fija Pago Red 15",null,null,"Cambio de etiqueta",{"$f":"IF(AD40=1,\"Valor del inmueble\",\"Ingresos Brutos Mensuales\")","v":"Valor del inmueble"},null,null,null,null,null,null,null,null,null,null,null,null,null,null,null,null,"Preventa Valora 20 años con Apoyo Infonavit","2008-09-10","0319-138-003327/01-04112-0908"]
[null,null,"% máximo de financiamiento",null,null,null,{"$f":"IF($V$40=1,\"\",$V$34)","v":0.7},null,null,null,{"$f":"IF($V$40=1,\"\",$V$34)","v":0.7},null,null,null,null,null,null,null,null,null,null,"Pagos reducidos 20 años",null,null,null,null,null,null,null,null,null,null,null,null,null,null,null,null,null,null,null,null,"CrediConstrucción Valora 20 años ","2008-09-10","0319-138-003328/01-04113-0908"]
[null,null,null,null,null,null,null,null,null,null,null,null,null,null,null,null,null,null,null,null,"Destino Vivienda",2,null,"% de aforo",{"$f":"IF(I22=0,0,IF(I23/I22>1,0,I23/I22))","v":0},{"$f":"IF(V40=2,\" \",\"Monto a Financiar\")","v":" "},null,null,"Por Valor del Inmueble",1,null,null,null,null,null,null,null,null,null,null,null,null,"CrediConstrucción Valora 20 años con Apoyo Infonavit","2008-09-10","0319-138-003329/01-04114-0908"]
[null,null,"Valor de la vivienda",null,null,null,{"$f":"IFERROR(IF($AD$40=1,$I$22,G43/$V$34),0)","v":0},null,null,null,{"$f":"IFERROR(IF($AD$40=1,$I$22,K43/$V$34),0)","v":0},null,null,null,null,null,null,null,null,null,"Destino Libre",null,"Cambio de pasivo o adquisi",null,{"$f":"IF(AD40=1,\"Importe a financiar\",\"\")","v":"Importe a financiar"},{"$f":"IF($X$35=1,$K$43,IF($X$35=2,$G$43,0))","v":0},null,null,"Por Ingresos",null,null,null,null,null,null,null,null,null,null,null,null,null,"Crediliquidez Vivienda Valora 20 años","2008-09-10","0319-138-003330/01-04115-0908"]
[null,null,null,null,null,null,null,null,null,null,null,null,null,null,null,null,null,null,null,null,null,null,null,null,null,null,null,null,null,null,null,null,null,null,null,null,null,null,null,null,null,null,"Cofinanciamiento Fovissste Alia2 Valora 20 años","2008-09-10","0319-138-003331/01-04116-0908"]
[null,null,"Monto del crédito",null,null,null,{"$f":"IFERROR(IF(AND($AD$40=1,$Y$40<=$V$34),$I$23,IF($AD$40=2,$G$45/$AG$21*1000,0)),0)","v":0},null,null,null,{"$f":"IFERROR(IF(AND($AD$40=1,$Y$40<=$V$34),$I$23,IF($AD$40=2,$K$45/$AA$21*1000,0)),0)","v":0},null,null,null,null,null,null,null,null,null,null,null,"Pag Red 10.90",null,"Pag Red 10.90",null,"Pagos oportunos","Pagos oportunos",null,"Pagos oportunos","Pagos oportunos","Pagos oportunos",null,"Pagos Reducidos Liq libre",null,"Tasa Mixta Liq Viv",null,null,null,null,null,null,"Cofinanciamiento Fovissste Respalda2 Valora 20 años","2008-09-10","0319-138-003332/01-04117-0908"]
[null,null,null,null,null,null,null,null,null,null,null,null,null,null,null,null,null,null,null,"Plazo",null,null,15,null,20,null,10,15,null,20,null,null,null,20,null,20,null,null,null,null,null,null,"Cofinanciamiento Infonavit Valora 20 años","2008-09-10","0319-138-003333/01-04118-0908"]
[null,null,"Erogación inicial",null,null,null,{"$f":"IF($V$40=1,\"\",IF($AD$40=1,G43/1000*$AG$21,$I$22*$AA$34))","v":0},null,null,null,{"$f":"IF($V$40=1,\"\",IF($AD$40=1,K43/1000*$AA$21,$I$22*$AA$34))","v":0}]
[null,null,null,null,null,null,null,null,null,null,null,null,null,null,null,null,null,null,null,"Pago x mil",null,null,10.25,null,9.3000000000000007,null,12.6,15.4,null,11.25,11.86,11.46,null,10.6,null,13,null,null,{"$f":"+IF(X35=2,AG23,AA23)","v":0},null,null,null,"Producto","Fecha de Registro","Numero de registro RECA"]
["x",null,"Seguro de vida",null,null,null,{"$f":"G43*IF($AC$62=1,0,$Y$67)","v":0},null,null,null,{"$f":"K43*IF($AC$62=1,0,$Y$67)","v":0}]
[null,null,null,null,null,null,null,null,null,null,null,null,null,null,null,null,null,null,null,"Incremento anual ",null,null,0.03,null,2.1000000000000001E-2,null,0,0,null,0,0,0,null,1.7999999999999999E-2,null,0.01,null,null,{"$f":"+IF(X35=1,$AB$21,$AH$21)","v":1.4999999999999999E-2},null,null,null,"CrediResidencial Valora 20 años con Seguro de Crédito a la Vivienda","2008-09-11","0319-138-003342/01-04165-0908"]
["X",null,"Seguro de daños",null,null,null,{"$f":"IF($K$24>0,$K$24,G41)*IF($AC$62=1,0,IF($AC$66=1,0,$Y$68))","v":0},null,null,null,{"$f":"IF($K$24>0,$K$24,K41)*IF($AC$62=1,0,IF($AC$66=1,0,$Y$68))","v":0},null,null,null,null,null,null,null,null,"Tasa de int.",null,null,0.109,0.13900000000000001,0.109,0.13900000000000001,0.1135,0.1158,null,0.11749999999999999,0.12,0.125,null,0.14899999999999999,0.16900000000000001,0.14499999999999999,"TIIE + 8",null,null,null,null,null,"CrediResidencial Valora 20 años con Apoyo Infonavit Seguro de Crédito a la Vivienda","2008-09-11","0319-138-003343/01-04166-0908"]
[null,null,null,null,null,null,null,null,null,null,null,null,null,null,null,null,null,null,null,null,null,null,null,null,null,null,null,null,null,null,null,null,null,null,null,null,null,null,null,null,null,null,"Crediliquidez Vivienda Valora 20 años Seguro de Crédito a la Vivienda","2008-09-11","0319-138-003344/01-04167-0908"]
[null,null,"IVA Intereses",null,null,null,{"$f":"IFERROR($AF$21/360*'Tabla Valora'!$AV$15*'Simulador Valora'!G43,0)*$X$59","v":0},null,null,null,{"$f":"IFERROR($Z$21/360*'Tabla Valora'!$AV$15*'Simulador Valora'!K43,0)*$X$59","v":0},null,null,null,null,null,null,null,null,"Monto a financiar adquisición",null,null,null,null,null,null,null,null,null,null,null,null,null,null,null,null,null,null,null,null,null,null,"Cofinanciamiento Fovissste Alia2 Valora 20 años Seguro de Crédito a la Vivienda","2008-09-11","0319-138-003345/01-04168-0908"]
[null,null,null,null,null,null,null,null,null,null,null,null,null,null,null,null,null,null,null,"Monto a financiar adquisición",null,null,null,null,null,null,null,null,null,null,null,null,null,null,null,null,null,null,null,null,null,null,"Cofinanciamiento Fovissste Respalda2 Valora 20 años Seguro de Crédito a la Vivienda","2008-09-11","0319-138-003346/01-04169-0908"]
[null,null,"Total mensualidad inicial",null,null,null,{"$f":"IFERROR(G49+G47+G45+G51,0)","v":0},null,null,null,{"$f":"IFERROR(K49+K47+K45+K51,0)","v":0},null,null,null,null,null,null,null,null,"erogación adquisición",null,null,null,null,null,null,null,null,null,null,null,null,null,null,null,null,null,null,null,null,null,null,"Cofinanciamiento Infonavit Valora 20 años Seguro de Crédito a la Vivienda","2008-09-11","0319-138-003347/01-04170-0908"]
[null,null,null,null,null,null,null,null,null,null,null,null,null,null,null,null,null,null,null,"Monto a financiar pasivo"]
[null,null,"Incremento anual del pago",null,null,null,{"$f":"IF($X$35=2,$AB$21,$AH$21)","v":1.4999999999999999E-2},null,null,null,{"$f":"IF($X$35=2,$AB$21,$AH$21)","v":1.4999999999999999E-2},null,null,null,null,null,null,null,null,"Monto a financiar pasivo"]
[null,null,null,null,null,null,null,null,null,null,null,null,null,null,null,null,null,null,null,"Desición de monto a financiar"]
[null,null,"Ingresos brutos por comprobar",null,null,null,{"$f":"IF($AD$40=1,$AI$23,$I$22)","v":0},null,null,null,{"$f":"IF($AD$40=1,$AC$23,$I$22)","v":0}]
[null,null,null,null,null,null,null,null,null,null,null,null,null,null,null,null,null,null,null,"Frontera","NO"]
[null,null,"Comisión por apertura",null,null,null,{"$f":"IF($V$60=2,0,IF($AC$66=1,0,G43*$T$34))","v":0},null,null,null,{"$f":"IF($V$60=2,0,IF($AC$66=1,0,K43*$T$34))","v":0},null,null,null,null,null,null,null,null,"IVA","SI",1,1.1599999999999999,{"$f":"IF(V59=1,0.16,0.11)","v":0.16}]
[null,null,"IVA / Comisión por apertura",null,null,null,{"$f":"G59*$X$59","v":0},null,null,null,{"$f":"K59*$X$59","v":0},null,null,null,null,null,null,null,null,"Apertura",null,1,{"$f":"IF(V40=1,\"Comisión por apertura 2.50% y comisión por prepago 0%\",\"Comisión por apertura 2.5% más IVA\")","v":"Comisión por apertura 2.5% más IVA"},null,null,null,null,null,null,"Tasas PAR",null,null,null,"Tasas Valora 15 años",null,null,null,null,"Tasas Valora 10 años"]
[null,null,{"$f":"\"Avalúo     \"&IF($V$40=2,\"\",IF(G41>$U$85,\"'Favor de Cotizar'. Val. apróx.\",\"\"))","v":"Avalúo     "},null,null,null,{"$f":"IF($V$40=1,\"\",IFERROR(V104,0))","v":0},null,null,null,{"$f":"IF($V$40=1,\"\",IFERROR(V104,0))","v":0},null,null,null,null,null,null,null,null,"Prepago",null,{"$f":"IF(V60=2,3%,\"NO APLICA\")","v":"NO APLICA"},{"$f":"IF(V40=1,\"Comisión por apertura 0% y comisión por prepago 3.50% más IVA\",\"\")","v":""},null,null,null,null,"Contratación de Seguros",null,8.7499999999999994E-2,7.82,2.4E-2,1,{"$f":"AD61","v":8.7499999999999994E-2},9,2.4E-2,1,null,{"$f":"AD61","v":8.7499999999999994E-2},11.45,2.4E-2,4]
[null,null,null,null,null,null,null,null,null,null,null,null,null,null,null,null,null,null,null,"Com Aut Dif",250,250,250,250,250,null,null,"SI ",2,0.09,7.95,2.4E-2,{"$f":"IF($AG$61=1,AE61,IF($AG$61=2,AE62,IF($AG$61=3,AE63,IF($AG$61=4,AE64,IF($AG$61=5,AE65,IF($AG$61=6,AE66,AE67))))))","v":7.82},{"$f":"AD62","v":0.09},9.1,2.4E-2,{"$f":"IF($AK$61=1,AI61,IF($AK$61=2,AI62,IF($AK$61=3,AI63,IF($AK$61=4,AI64,IF($AK$61=5,AI65,IF($AK$61=6,AI66,AI67))))))","v":9},null,{"$f":"AD62","v":0.09},11.5,2.4E-2,{"$f":"IF($AP$61=1,AN61,IF($AP$61=2,AN62,IF($AP$61=3,AN63,IF($AP$61=4,AN64,IF($AP$61=5,AN65,IF($AP$61=6,AN66,AN67))))))","v":11.7}]
[null,null,"Comisión por pagos anticipados",null,null,null,{"$f":"IF($V$60=2,$V$61,\"NO APLICA\")","v":"NO APLICA"},null,null,null,{"$f":"IF($V$60=2,$V$61,\"NO APLICA\")","v":"NO APLICA"},null,null,null,null,null,null,null,null,"AVALUO",null,null,null,null,null,null,null,"NO",null,9.2499999999999999E-2,8.1,2.4E-2,{"$f":"IF($AG$61=1,AF61,IF($AG$61=2,AF62,IF($AG$61=3,AF63,IF($AG$61=4,AF64,IF($AG$61=5,AF65,IF($AG$61=6,AF66,AF67))))))","v":2.4E-2},9.2499999999999999E-2,9.1999999999999993,2.4E-2,{"$f":"IF($AK$61=1,AJ61,IF($AK$61=2,AJ62,IF($AK$61=3,AJ63,IF($AK$61=4,AJ64,IF($AK$61=5,AJ65,IF($AK$61=6,AJ66,AJ67))))))","v":2.4E-2},null,9.2499999999999999E-2,11.6,2.4E-2,{"$f":"IF($AP$61=1,AO61,IF($AP$61=2,AO62,IF($AP$61=3,AO63,IF($AP$61=4,AO64,IF($AP$61=5,AO65,IF($AP$61=6,AO66,AO67))))))","v":2.4E-2}]
[null,null,null,null,null,null,null,null,null,null,null,null,null,null,null,null,null,null,null,"Mayor a","Hasta a","Importe",null,null,null,null,null,null,null,9.5000000000000001E-2,8.1999999999999993,2.4E-2,{"$f":"IF($AG$61=1,AD61,IF($AG$61=2,AD62,IF($AG$61=3,AD63,IF($AG$61=4,AD64,IF($AG$61=5,AD65,IF($AG$61=6,AD66,AD67))))))","v":8.7499999999999994E-2},9.5000000000000001E-2,9.3000000000000007,2.4E-2,{"$f":"IF($AK$61=1,AH61,IF($AK$61=2,AH62,IF($AK$61=3,AH63,IF($AK$61=4,AH64,IF($AK$61=5,AH65,IF($AK$61=6,AH66,AH67))))))","v":8.7499999999999994E-2},null,9.5000000000000001E-2,11.7,2.4E-2,{"$f":"IF($AP$61=1,AM61,IF($AP$61=2,AM62,IF($AP$61=3,AM63,IF($AP$61=4,AM64,IF($AP$61=5,AM65,IF($AP$61=6,AM66,AM67))))))","v":9.5000000000000001E-2}]
[null,null,null,null,null,null,null,null,null,null,null,null,null,null,null,null,null,null,null,0.01,500000,1900,null,null,null,null,null,"TopUp",null,0.1,8.5500000000000007,2.1999999999999999E-2,null,0.1,9.65,2.1999999999999999E-2,null,null,0.1,12.1,2.1999999999999999E-2]
[null,null,"Ver tabla de amortización",null,null,null,null,null,null,null,null,null,null,null,null,null,null,null,null,500001,1000000,3300,null,"Seguros",null,null,null,"SI ",2,0.105,9,1.7000000000000001E-2,null,0.105,10.1,1.7000000000000001E-2,null,null,0.105,12.55,1.7000000000000001E-2]
[null,null,"Observaciones:",null,null,null,null,null,null,null,null,null,null,null,null,null,null,null,null,1000001,1500000,4500,null,"Vida",5.5599999999999996E-4,5.5599999999999996E-4,null,"NO",null,0.11,9.4,1.2999999999999999E-2,null,0.11,10.5,1.2999999999999999E-2,null,null,0.11,13,1.2999999999999999E-2]
[null,null,"-No se incluyen los gastos notariales, los cuales se pagaran al momento de la firma del crédito",null,null,null,null,null,null,null,null,null,null,null,null,null,null,null,null,1500001,2000000,5750,null,"Daños",3.0160000000000001E-4,3.0160000000000001E-4]
[null,null,"-  El crédito solicitado dependerá de la capacidad de pago de cada cliente",null,null,null,null,null,null,null,null,null,null,null,null,null,null,null,null,2000001,2500000,7000]
[null,null,"-  Scotiabank se reserva el derecho de solicitar información adicional y/o restringir parámetros de enganche, monto, plazo o tasa en función de las características específicas ",null,null,null,null,null,null,null,null,null,null,null,null,null,null,null,null,2500001,3000000,8200,null,null,null,null,null,null,null,"Valor del inmueble",{"$f":"IF($X$35=2,O41,IF($X$35=6,G41,IF($X$35=3,K41,IF($X$35=4,G41,IF($X$35=5,#REF!,IF($X$35=7,#REF!))))))","v":false}]
[null,null,"    del solicitante y del inmueble objeto de la operación.",null,null,null,null,null,null,null,null,null,null,null,null,null,null,null,null,3000001,4000000,11000,null,null,null,null,null,null,null,"Pago por mil",{"$f":"IF($X$35=2,V21,IF($X$35=6,AA46,IF($X$35=3,AA21,IF($X$35=4,AG21,IF($X$35=5,AE46,IF($X$35=7,AF46))))))","v":false}]
[null,null,"-  En caso de que aplique, la comisión por pagos anticipados causa I.V.A.",null,null,null,null,null,null,null,null,null,null,null,null,null,null,null,null,4000001,5000000,13900,null,null,null,null,null,null,null,"Plazo",{"$f":"IF($X$35=2,\"20 Años\",IF($X$35=6,\"7 Años\",IF($X$35=3,\"15 Años\",IF($X$35=4,\"10 Años\",IF($X$35=5,\"20 Años\",IF($X$35=7,\"30 Años\"))))))","v":false}]
[null,null,"- Esta cotización tiene carácter informativo, Scotiabank se reserva el derecho de cambiar cualquier condición sin previo aviso.",null,null,null,null,null,null,null,null,null,null,null,null,null,null,null,null,5000001,6000000,15500]
[null,null,"- Este documento NO implica que el crédito ha sido autorizado, ni establece obligación alguna para Scotiabank.",null,null,null,null,null,null,null,null,null,null,null,null,null,null,null,null,6000001,7000000,19000,null,"Comisión por aut difer ="]
[null,null,"- Para los esquemas de \"Pagos Oportunos\" y \"Valora\" se deberá cumplir con las reglas establecidas en los programas para la disminución de la tasa de interés",null,null,null,null,null,null,null,null,null,null,null,null,null,null,null,null,7000001,8000000,20000,null,"Comisión por Apertura =",0.02]
[null,null,null,null,null,null,null,null,null,null,null,null,null,null,null,null,null,null,null,8000001,9000000,20100,null,"Comisión por Prepago =",0.03]
[null,null,null,null,null,null,null,null,null,null,null,null,null,null,"v2022.11",null,null,null,null,9000001,10000000,22500,null,"Avalúo",1E-3]
[null,null,null,null,null,null,null,null,null,null,null,null,null,null,null,null,null,null,null,10000001,11000000,27000,null,"Dictamen técnico",5.4999999999999997E-3,6600]
[null,null,null,null,null,null,null,null,null,null,null,null,null,null,null,null,null,null,null,11000001,12000000,28000,null,null,null,"Máximo"]
[null,null,null,null,null,null,null,null,null,null,null,null,null,null,null,null,null,null,null,12000001,13000000,30000,null,null,null,"Ya no hay mínimo"]
[null,null,null,null,null,null,null,null,null,null,null,null,null,null,null,null,null,null,null,13000001,14000000,32000]
[null,null,null,null,null,null,null,null,null,null,null,null,null,null,null,null,null,null,null,14000001,15000000,34000]
[null,null,null,null,null,null,null,null,null,null,null,null,null,null,null,null,null,null,null,15000001,20000000,37000]
[null,null,null,null,null,null,null,null,null,null,null,null,null,null,null,null,null,null,null,20000001,25000000,39000]
[null,null,null,null,null,null,null,null,null,null,null,null,null,null,null,null,null,null,null,25000001,30000000,40000]
[null,null,null,null,null,null,null,null,null,null,null,null,null,null,null,null,null,null,null,30000001,30000000,40000]
[null,null,null,null,null,null,null,null,null,null,null,null,null,null,null,null,null,null,null,null,null,{"$f":"+IF(G41<=$U$85,VLOOKUP(G41,$T$65:$V$86,3),$V$86)","v":{"$error":"#N/A"}}]
[null,null,null,null,null,null,null,null,null,null,null,null,null,null,null,null,null,null,null,"TOPUP/LiqLibre"]
[null,null,null,null,null,null,null,null,null,null,null,null,null,null,null,null,null,null,null,"Mayor a","Hasta a","Importe"]
[null,null,null,null,null,null,null,null,null,null,null,null,null,null,null,null,null,null,null,0.01,500000,1253]
[null,null,null,null,null,null,null,null,null,null,null,null,null,null,null,null,null,null,null,{"$f":"U90+1","v":500001},1000000,1740]
[null,null,null,null,null,null,null,null,null,null,null,null,null,null,null,null,null,null,null,{"$f":"U91+1","v":1000001},2000000,2784]
[null,null,null,null,null,null,null,null,null,null,null,null,null,null,null,null,null,null,null,2000001,3000000,4663]
[null,null,null,null,null,null,null,null,null,null,null,null,null,null,null,null,null,null,null,3000001,4000000,5000]
[null,null,null,null,null,null,null,null,null,null,null,null,null,null,null,null,null,null,null,4000001,5000000,5000]
[null,null,null,null,null,null,null,null,null,null,null,null,null,null,null,null,null,null,null,5000001,8000000,5000]
[null,null,null,null,null,null,null,null,null,null,null,null,null,null,null,null,null,null,null,8000001,11000000,5000]
[null,null,null,null,null,null,null,null,null,null,null,null,null,null,null,null,null,null,null,11000001,15000000,5000]
[null,null,null,null,null,null,null,null,null,null,null,null,null,null,null,null,null,null,null,15000001,20000000,5000]
[null,null,null,null,null,null,null,null,null,null,null,null,null,null,null,null,null,null,null,20000001,25000000,5000]
[null,null,null,null,null,null,null,null,null,null,null,null,null,null,null,null,null,null,null,25000001,30000000,5000]
[null,null,null,null,null,null,null,null,null,null,null,null,null,null,null,null,null,null,null,30000001,30000000,5000]
[]
[null,null,null,null,null,null,null,null,null,null,null,null,null,null,null,null,null,null,null,null,null,{"$f":"+IF(G41<=$U$93,VLOOKUP(G41,$T$90:$V$101,3),V94)","v":{"$error":"#N/A"}}]

{"sheet":"Tabla Valora","index":1,"n_rows":258,"n_cols":56,"rows_kept":258,"cut":false,"hidden":false,"merged":[[11,22,11,23],[2,0,2,26],[3,0,3,26],[0,0,0,26],[1,0,1,26],[10,22,10,23]]}
["SIMULADOR CREDITO HIPOTECARIO",null,null,null,null,null,null,null,null,null,null,null,null,null,null,null,null,null,null,null,null,null,null,null,null,null,null,"-",null,null,null,null,null,null,null,null,null,null,null,null,null,null,null,null,null,null,null,null,null,null,null,null,null,null,null,"-"]
["FINANCIAMIENTO LIQUIDEZ LIBRE SCOTIABANK",null,null,null,null,null,null,null,null,null,null,null,null,null,null,null,null,null,null,null,null,null,null,null,null,null,null,null,null,null,null,null,null,null,null,"Comisión por apertura",null,{"$f":"+'Simulador Valora'!G59","v":0},null,null,"Piso",null,null,null,2]
[{"$f":"IF('Simulador Valora'!X35=1,\"VALORA 15 AÑOS\",IF('Simulador Valora'!X35=2,\"VALORA 10 AÑOS\",\"\"))","v":"VALORA 15 AÑOS"},null,null,null,null,null,null,null,null,null,null,null,null,null,null,null,null,null,null,null,null,null,null,null,null,null,null,null,null,null,null,null,null,null,null,"avaluo",null,{"$f":"+'Simulador Valora'!G61","v":0},null,null,{"$f":"+'Simulador Valora'!Z14","v":0.17499999999999999},null,3,null,"Disminución de plazo"]
[null,null,null,null,null,null,null,null,null,null,null,null,null,null,null,null,null,null,null,null,null,null,null,null,null,null,null,null,null,null,null,null,null,null,null,null,null,null,null,null,null,null,null,null,"Disminución de pago"]
["Observaciones",null,null,null,null,null,null,null,null,null,null,null,null,null,null,null,null,null,null,null,null,null,null,{"$f":"TODAY()","v":"2022-11-10"},null,null,null,null,null,null,null,null,null,null,null,"total",null,{"$f":"SUM(AL2:AL4)","v":0}]
["- La comisión por prepagos causa IVA y en la corrida ya lo incluye",null,null,null,null,null,null,null,null,null,null,null,null,null,null,null,null,null,null,null,null,null,null,null,null,null,null,null,null,null,null,null,"Corrida CAT"]
["- El escenario que se presenta en la tabla de amortización siempre es considerando que se paga de manera puntual el crédito.",null,null,null,null,null,null,null,null,null,null,null,null,null,null,null,null,null,null,null,null,null,null,null,null,null,null,null,null,null,null,null,{"$f":"IFERROR(IRR(AG14:AG254,0),0)","v":0},{"$f":"((1+AG7)^12)-1","v":0}]
["- Para los esquemas \"Pagos Oportunos\" y \"Valora\" en Crediliquidez destino vivienda se deberá cumplir con las reglas establecidas en los programas para la disminución de la tasa de interés",null,null,null,null,null,null,null,null,null,null,null,null,null,null,null,null,null,null,null,null,null,null,null,null,null,null,null,null,null,null,null,null,null,null,null,null,null,null,null,null,null,null,null,{"$f":"AS12*12","v":0}]
["- Esta cotización tiene carácter informativo, Scotiabank se reserva el derecho de cambiar cualquier condición sin previo aviso.",null,null,null,null,null,null,null,null,null,null,null,null,null,null,null,null,null,null,null,null,null,null,null,null,null,null,null,null,null,null,null,null,null,null,null,null,null,null,null,null,null,null,null,{"$f":"((1+AS12)^12)-1","v":0}]
["- Este documento NO implica que el crédito ha sido autorizado, ni establece obligación alguna para Scotiabank.",null,null,null,null,null,null,null,null,null,null,null,null,null,null,null,null,null,null,null,null,null,null,null,null,null,null,null,null,null,null,null,null,null,null,null,null,null,null,null,null,null,null,null,"Corrida para CAT"]
["- CAT =.",{"$f":"AS9","v":0},"\"Para fines informativos de comparación exclusivamente, sin IVA\"",null,null,null,null,null,null,null,null,null,null,null,null,"El crédito se liquida",null,null,null,null,"Años",null,{"$f":"AE14","v":0},null,"Años",null,null,null,null,null,null,null,null,null,null,null,null,null,null,null,null,null,null,null,"TIR"]
["- En caso de anticipos a capital escoja la opción:",null,null,null,null,null,null,null,null,null,null,null,null,null,null,"por pago puntual en:",null,null,null,null,"Meses",null,{"$f":"AF14","v":0},null,"Meses",null,null,null,null,null,null,null,null,null,null,null,null,null,null,null,null,null,null,null,{"$f":"IFERROR(IRR(AS13:AS254,0),0)","v":0}]
[null,null,null,null,null,null,null,null,null,null,null,null,null,null,null,null,null,null,null,null,null,null,null,null,null,null,null,null,null,null,null,null,null,null,null,null,null,null,null,null,null,null,null,null,{"$f":"AL5-AJ15","v":0}]
["Período","Saldo Inicial",null,"Erogación",null,"Interés",null,"Amortización",null,"Prepagos a capital",null,"Comisión por prepagos",null,"Tasa aplicada",null,"Saldo Final",null,"Seguro de vida",null,"Seguro de daños",null,"IVA Ints",null,"Pago Mensual",null,"Inc. Pago",null,"años","meses",{"$f":"SUM(AD15:AD254)","v":1},{"$f":"SUM(AE15:AE254)","v":0},{"$f":"SUM(AF15:AF254)","v":0},{"$f":"AL5-B15","v":0},"Tasa Aplic.","Factor de pago","Saldo Inicial","Erogación","Interés","Amortización","Saldo Final","Tasa Aplic.","Seguros","Incremento Pago","IVA Intereses","Pago Mensual","Plazo","Fecha","Dias","Período","Año actual","Mes actual","Día actual","Dia/corte","sumar a mes"]
[1,{"$f":"'Simulador Valora'!Z41","v":0},null,{"$f":"'Simulador Valora'!AM46","v":0},null,{"$f":"IFERROR(IF(B15=0,0,N15/360*AV15*B15),0)","v":0},null,{"$f":"D15-F15","v":0},null,null,null,{"$f":"IF('Simulador Valora'!$V$60=1,0,J15*'Simulador Valora'!$V$61*'Simulador Valora'!$W$59)","v":0},null,{"$f":"IF(B15=0,\"\",AH15)","v":""},null,{"$f":"B15-H15-J15+L15","v":0},null,{"$f":"IF('Simulador Valora'!$AC$62=1,0,IFERROR(IF(B15<=0,0,B15*'Simulador Valora'!$Y$67),0))","v":0},null,{"$f":"IF(OR('Simulador Valora'!$AC$62=1,'Simulador Valora'!$AC$66=1),0,IFERROR(IF(B15<=0,0,IF('Simulador Valora'!$X$35=2,IF('Simulador Valora'!$K$24>0,'Simulador Valora'!$K$24,'Simulador Valora'!$K$41)*'Simulador Valora'!$Y$68,IF('Simulador Valora'!$X$35=1,IF('Simulador Valora'!$K$24>0,'Simulador Valora'!$K$24,'Simulador Valora'!$G$41)*'Simulador Valora'!$Y$68,0))),0))","v":0},null,{"$f":"F15*'Simulador Valora'!$X$59","v":0},null,{"$f":"IF(B15<=0,\"\",(D15+J15+R15+V15+T15))","v":""},null,null,null,0,{"$f":"IF(B15=0,0,1)","v":0},{"$f":"+IF(P15<=0,IF(P14>0,+A15,0),0)","v":1},{"$f":"+IF(AD15>0,+AB15,0)","v":0},{"$f":"+IF(AD15>0,+AC15,0)","v":0},{"$f":"X15","v":""},{"$f":"+IF('Simulador Valora'!X35=1,'Simulador Valora'!Z21,'Simulador Valora'!AF21)","v":0.17499999999999999},{"$f":"IFERROR(AK15/AJ15,0)","v":0},{"$f":"B15","v":0},{"$f":"D15","v":0},{"$f":"IFERROR((AO15/360*AV15*AJ15),0)","v":0},{"$f":"+AK15-AL15","v":0},{"$f":"+AJ15-AM15","v":0},{"$f":"IF(AJ15=0,\"\",AH15)","v":""},{"$f":"IF(AJ15<=0,0,IF('Simulador Valora'!$AC$62=1,0,AJ15*'Simulador Valora'!$Y$67+IF('Simulador Valora'!$X$35=2,'Simulador Valora'!$G$49,IF('Simulador Valora'!$X$35=1,'Simulador Valora'!$K$49,0))))","v":0},null,{"$f":"AL15*'Simulador Valora'!$X$59","v":0},{"$f":"AL15+AM15+AP15","v":0},{"$f":"IF('Simulador Valora'!$X$35=3,'Simulador Valora'!$AH$13,IF('Simulador Valora'!$X$35=2,'Simulador Valora'!$AB$13,0))","v":0},{"$f":"IF(AJ15=0,\"\",DATE(AX15,AY15+BB15,BA15))","v":""},{"$f":"IFERROR(DAY(DATE(YEAR(AU15),MONTH(AU15)+1,0)),0)","v":0},1,{"$f":"IFERROR(YEAR('Simulador Valora'!$C$7),YEAR('Simulador Valora'!$C$7))","v":2022},{"$f":"IFERROR(MONTH('Simulador Valora'!$C$7),MONTH('Simulador Valora'!$C$7))","v":11},{"$f":"IFERROR(DAY('Simulador Valora'!$C$7),DAY('Simulador Valora'!$C$7))","v":10},{"$f":"IF(AND(DAY('Simulador Valora'!C7)>=3,DAY('Simulador Valora'!C7)<=16),3,17)","v":3},{"$f":"IF(AZ15>BA15,1,0)","v":1}]
[2,{"$f":"IF(P15<=0,0,P15)","v":0},null,{"$f":"IF(B16+F16-D15<=0,B16+F16,IF(J15=0,D15*(1+Z16),IF($AS$2=2,B16*AI16,D15*(1+Z16))))","v":0},null,{"$f":"IFERROR(IF(B16=0,0,N16/360*AV16*B16),0)","v":0},null,{"$f":"D16-F16","v":0},null,null,null,{"$f":"IF('Simulador Valora'!$V$60=1,0,J16*'Simulador Valora'!$V$61*'Simulador Valora'!$W$59)","v":0},null,{"$f":"IF(B16=0,\"\",AH16)","v":""},null,{"$f":"B16-H16-J16+L16","v":0},null,{"$f":"IF('Simulador Valora'!$AC$62=1,0,IFERROR(IF(B16<=0,0,B16*'Simulador Valora'!$Y$67),0))","v":0},null,{"$f":"IF(OR('Simulador Valora'!$AC$62=1,'Simulador Valora'!$AC$66=1),0,IFERROR(IF(B16<=0,0,IF('Simulador Valora'!$X$35=2,IF('Simulador Valora'!$K$24>0,'Simulador Valora'!$K$24,'Simulador Valora'!$K$41)*'Simulador Valora'!$Y$68,IF('Simulador Valora'!$X$35=1,IF('Simulador Valora'!$K$24>0,'Simulador Valora'!$K$24,'Simulador Valora'!$G$41)*'Simulador Valora'!$Y$68,0))),0))","v":0},null,{"$f":"F16*'Simulador Valora'!$X$59","v":0},null,{"$f":"IF(B16<=0,\"\",(D16+J16+R16+V16+T16))","v":""},null,null,null,0,2,{"$f":"+IF(P16<=0,IF(P15>0,+A16,0),0)","v":0},{"$f":"+IF(AD16>0,+AB16,0)","v":0},{"$f":"+IF(AD16>0,+AC16,0)","v":0},{"$f":"X16","v":""},{"$f":"AH15","v":0.17499999999999999},{"$f":"IFERROR(AK16/AJ16,0)","v":0},{"$f":"AN15","v":0},{"$f":"IFERROR((IF(AJ16+AL16-AK15<0, AJ16+AL16, AK15*(1+AQ16))),0)","v":0},{"$f":"IFERROR((AO16/360*AV16*AJ16),0)","v":0},0,0,{"$f":"IF(AJ16=0,\"\",AH16)","v":""},{"$f":"IF(AJ16<=0,0,IF('Simulador Valora'!$AC$62=1,0,AJ16*'Simulador Valora'!$Y$67+IF('Simulador Valora'!$X$35=2,'Simulador Valora'!$G$49,IF('Simulador Valora'!$X$35=1,'Simulador Valora'!$K$49,0))))","v":0},null,{"$f":"AL16*'Simulador Valora'!$X$59","v":0},{"$f":"AL16+AM16+AP16","v":0},{"$f":"IFERROR(IF(AK16<=0.01,0,AT15-1),0)","v":0},{"$f":"IF(AJ16=0,\"\",DATE(YEAR(AU15),MONTH(AU15)+1,1))","v":""},{"$f":"IFERROR(DAY(DATE(YEAR(AU16),MONTH(AU16)+1,0)),0)","v":0},2]
[3,{"$f":"IF(P16<=0,0,P16)","v":0},null,{"$f":"IF(B17+F17-D16<=0,B17+F17,IF(J16=0,D16*(1+Z17),IF($AS$2=2,B17*AI17,D16*(1+Z17))))","v":0},null,0,null,{"$f":"D17-F17","v":0},null,null,null,{"$f":"IF('Simulador Valora'!$V$60=1,0,J17*'Simulador Valora'!$V$61*'Simulador Valora'!$W$59)","v":0},null,"",null,0,null,{"$f":"IF('Simulador Valora'!$AC$62=1,0,IFERROR(IF(B17<=0,0,B17*'Simulador Valora'!$Y$67),0))","v":0},null,{"$f":"IF(OR('Simulador Valora'!$AC$62=1,'Simulador Valora'!$AC$66=1),0,IFERROR(IF(B17<=0,0,IF('Simulador Valora'!$X$35=2,IF('Simulador Valora'!$K$24>0,'Simulador Valora'!$K$24,'Simulador Valora'!$K$41)*'Simulador Valora'!$Y$68,IF('Simulador Valora'!$X$35=1,IF('Simulador Valora'!$K$24>0,'Simulador Valora'!$K$24,'Simulador Valora'!$G$41)*'Simulador Valora'!$Y$68,0))),0))","v":0},null,{"$f":"F17*'Simulador Valora'!$X$59","v":0},null,"",null,null,null,0,3,0,0,0,"",0.17499999999999999,0,{"$f":"AN16","v":0},0,0,0,0,"",{"$f":"IF(AJ17<=0,0,IF('Simulador Valora'!$AC$62=1,0,AJ17*'Simulador Valora'!$Y$67+IF('Simulador Valora'!$X$35=2,'Simulador Valora'!$G$49,IF('Simulador Valora'!$X$35=1,'Simulador Valora'!$K$49,0))))","v":0},null,{"$f":"AL17*'Simulador Valora'!$X$59","v":0},0,0,{"$f":"IF(AJ17=0,\"\",DATE(YEAR(AU16),MONTH(AU16)+1,1))","v":""},0,3,"Días/Mes",{"$f":"365.25/12","v":30.4375}]
[4,0,null,{"$f":"IF(B18+F18-D17<=0,B18+F18,IF(J17=0,D17*(1+Z18),IF($AS$2=2,B18*AI18,D17*(1+Z18))))","v":0},null,0,null,0,null,null,null,{"$f":"IF('Simulador Valora'!$V$60=1,0,J18*'Simulador Valora'!$V$61*'Simulador Valora'!$W$59)","v":0},null,"",null,0,null,{"$f":"IF('Simulador Valora'!$AC$62=1,0,IFERROR(IF(B18<=0,0,B18*'Simulador Valora'!$Y$67),0))","v":0},null,{"$f":"IF(OR('Simulador Valora'!$AC$62=1,'Simulador Valora'!$AC$66=1),0,IFERROR(IF(B18<=0,0,IF('Simulador Valora'!$X$35=2,IF('Simulador Valora'!$K$24>0,'Simulador Valora'!$K$24,'Simulador Valora'!$K$41)*'Simulador Valora'!$Y$68,IF('Simulador Valora'!$X$35=1,IF('Simulador Valora'!$K$24>0,'Simulador Valora'!$K$24,'Simulador Valora'!$G$41)*'Simulador Valora'!$Y$68,0))),0))","v":0},null,{"$f":"F18*'Simulador Valora'!$X$59","v":0},null,"",null,null,null,0,4,0,0,0,"",0.17499999999999999,0,0,0,0,0,0,"",{"$f":"IF(AJ18<=0,0,IF('Simulador Valora'!$AC$62=1,0,AJ18*'Simulador Valora'!$Y$67+IF('Simulador Valora'!$X$35=2,'Simulador Valora'!$G$49,IF('Simulador Valora'!$X$35=1,'Simulador Valora'!$K$49,0))))","v":0},null,{"$f":"AL18*'Simulador Valora'!$X$59","v":0},0,0,"",0,4,null,"Interés mensual = Sdo inicial x tasa / 360 x # días del mes"]
[5,0,null,0,null,0,null,0,null,null,null,{"$f":"IF('Simulador Valora'!$V$60=1,0,J19*'Simulador Valora'!$V$61*'Simulador Valora'!$W$59)","v":0},null,"",null,0,null,{"$f":"IF('Simulador Valora'!$AC$62=1,0,IFERROR(IF(B19<=0,0,B19*'Simulador Valora'!$Y$67),0))","v":0},null,{"$f":"IF(OR('Simulador Valora'!$AC$62=1,'Simulador Valora'!$AC$66=1),0,IFERROR(IF(B19<=0,0,IF('Simulador Valora'!$X$35=2,IF('Simulador Valora'!$K$24>0,'Simulador Valora'!$K$24,'Simulador Valora'!$K$41)*'Simulador Valora'!$Y$68,IF('Simulador Valora'!$X$35=1,IF('Simulador Valora'!$K$24>0,'Simulador Valora'!$K$24,'Simulador Valora'!$G$41)*'Simulador Valora'!$Y$68,0))),0))","v":0},null,{"$f":"F19*'Simulador Valora'!$X$59","v":0},null,"",null,null,null,0,5,0,0,0,"",0.17499999999999999,0,0,0,0,0,0,"",{"$f":"IF(AJ19<=0,0,IF('Simulador Valora'!$AC$62=1,0,AJ19*'Simulador Valora'!$Y$67+IF('Simulador Valora'!$X$35=2,'Simulador Valora'!$G$49,IF('Simulador Valora'!$X$35=1,'Simulador Valora'!$K$49,0))))","v":0},null,{"$f":"AL19*'Simulador Valora'!$X$59","v":0},0,0,"",0,5]
[6,0,null,0,null,0,null,0,null,null,null,{"$f":"IF('Simulador Valora'!$V$60=1,0,J20*'Simulador Valora'!$V$61*'Simulador Valora'!$W$59)","v":0},null,"",null,0,null,{"$f":"IF('Simulador Valora'!$AC$62=1,0,IFERROR(IF(B20<=0,0,B20*'Simulador Valora'!$Y$67),0))","v":0},null,{"$f":"IF(OR('Simulador Valora'!$AC$62=1,'Simulador Valora'!$AC$66=1),0,IFERROR(IF(B20<=0,0,IF('Simulador Valora'!$X$35=2,IF('Simulador Valora'!$K$24>0,'Simulador Valora'!$K$24,'Simulador Valora'!$K$41)*'Simulador Valora'!$Y$68,IF('Simulador Valora'!$X$35=1,IF('Simulador Valora'!$K$24>0,'Simulador Valora'!$K$24,'Simulador Valora'!$G$41)*'Simulador Valora'!$Y$68,0))),0))","v":0},null,{"$f":"F20*'Simulador Valora'!$X$59","v":0},null,"",null,null,null,0,6,0,0,0,"",0.17499999999999999,0,0,0,0,0,0,"",{"$f":"IF(AJ20<=0,0,IF('Simulador Valora'!$AC$62=1,0,AJ20*'Simulador Valora'!$Y$67+IF('Simulador Valora'!$X$35=2,'Simulador Valora'!$G$49,IF('Simulador Valora'!$X$35=1,'Simulador Valora'!$K$49,0))))","v":0},null,{"$f":"AL20*'Simulador Valora'!$X$59","v":0},0,0,"",0,6]
[7,0,null,0,null,0,null,0,null,null,null,{"$f":"IF('Simulador Valora'!$V$60=1,0,J21*'Simulador Valora'!$V$61*'Simulador Valora'!$W$59)","v":0},null,"",null,0,null,{"$f":"IF('Simulador Valora'!$AC$62=1,0,IFERROR(IF(B21<=0,0,B21*'Simulador Valora'!$Y$67),0))","v":0},null,{"$f":"IF(OR('Simulador Valora'!$AC$62=1,'Simulador Valora'!$AC$66=1),0,IFERROR(IF(B21<=0,0,IF('Simulador Valora'!$X$35=2,IF('Simulador Valora'!$K$24>0,'Simulador Valora'!$K$24,'Simulador Valora'!$K$41)*'Simulador Valora'!$Y$68,IF('Simulador Valora'!$X$35=1,IF('Simulador Valora'!$K$24>0,'Simulador Valora'!$K$24,'Simulador Valora'!$G$41)*'Simulador Valora'!$Y$68,0))),0))","v":0},null,{"$f":"F21*'Simulador Valora'!$X$59","v":0},null,"",null,null,null,0,7,0,0,0,"",0.17499999999999999,0,0,0,0,0,0,"",{"$f":"IF(AJ21<=0,0,IF('Simulador Valora'!$AC$62=1,0,AJ21*'Simulador Valora'!$Y$67+IF('Simulador Valora'!$X$35=2,'Simulador Valora'!$G$49,IF('Simulador Valora'!$X$35=1,'Simulador Valora'!$K$49,0))))","v":0},null,{"$f":"AL21*'Simulador Valora'!$X$59","v":0},0,0,"",0,7]
[8,0,null,0,null,0,null,0,null,null,null,{"$f":"IF('Simulador Valora'!$V$60=1,0,J22*'Simulador Valora'!$V$61*'Simulador Valora'!$W$59)","v":0},null,"",null,0,null,{"$f":"IF('Simulador Valora'!$AC$62=1,0,IFERROR(IF(B22<=0,0,B22*'Simulador Valora'!$Y$67),0))","v":0},null,{"$f":"IF(OR('Simulador Valora'!$AC$62=1,'Simulador Valora'!$AC$66=1),0,IFERROR(IF(B22<=0,0,IF('Simulador Valora'!$X$35=2,IF('Simulador Valora'!$K$24>0,'Simulador Valora'!$K$24,'Simulador Valora'!$K$41)*'Simulador Valora'!$Y$68,IF('Simulador Valora'!$X$35=1,IF('Simulador Valora'!$K$24>0,'Simulador Valora'!$K$24,'Simulador Valora'!$G$41)*'Simulador Valora'!$Y$68,0))),0))","v":0},null,{"$f":"F22*'Simulador Valora'!$X$59","v":0},null,"",null,null,null,0,8,0,0,0,"",0.17499999999999999,0,0,0,0,0,0,"",{"$f":"IF(AJ22<=0,0,IF('Simulador Valora'!$AC$62=1,0,AJ22*'Simulador Valora'!$Y$67+IF('Simulador Valora'!$X$35=2,'Simulador Valora'!$G$49,IF('Simulador Valora'!$X$35=1,'Simulador Valora'!$K$49,0))))","v":0},null,{"$f":"AL22*'Simulador Valora'!$X$59","v":0},0,0,"",0,8]
[9,0,null,0,null,0,null,0,null,null,null,{"$f":"IF('Simulador Valora'!$V$60=1,0,J23*'Simulador Valora'!$V$61*'Simulador Valora'!$W$59)","v":0},null,"",null,0,null,{"$f":"IF('Simulador Valora'!$AC$62=1,0,IFERROR(IF(B23<=0,0,B23*'Simulador Valora'!$Y$67),0))","v":0},null,{"$f":"IF(OR('Simulador Valora'!$AC$62=1,'Simulador Valora'!$AC$66=1),0,IFERROR(IF(B23<=0,0,IF('Simulador Valora'!$X$35=2,IF('Simulador Valora'!$K$24>0,'Simulador Valora'!$K$24,'Simulador Valora'!$K$41)*'Simulador Valora'!$Y$68,IF('Simulador Valora'!$X$35=1,IF('Simulador Valora'!$K$24>0,'Simulador Valora'!$K$24,'Simulador Valora'!$G$41)*'Simulador Valora'!$Y$68,0))),0))","v":0},null,{"$f":"F23*'Simulador Valora'!$X$59","v":0},null,"",null,null,null,0,9,0,0,0,"",0.17499999999999999,0,0,0,0,0,0,"",{"$f":"IF(AJ23<=0,0,IF('Simulador Valora'!$AC$62=1,0,AJ23*'Simulador Valora'!$Y$67+IF('Simulador Valora'!$X$35=2,'Simulador Valora'!$G$49,IF('Simulador Valora'!$X$35=1,'Simulador Valora'!$K$49,0))))","v":0},null,{"$f":"AL23*'Simulador Valora'!$X$59","v":0},0,0,"",0,9]
[10,0,null,0,null,0,null,0,null,null,null,{"$f":"IF('Simulador Valora'!$V$60=1,0,J24*'Simulador Valora'!$V$61*'Simulador Valora'!$W$59)","v":0},null,"",null,0,null,{"$f":"IF('Simulador Valora'!$AC$62=1,0,IFERROR(IF(B24<=0,0,B24*'Simulador Valora'!$Y$67),0))","v":0},null,{"$f":"IF(OR('Simulador Valora'!$AC$62=1,'Simulador Valora'!$AC$66=1),0,IFERROR(IF(B24<=0,0,IF('Simulador Valora'!$X$35=2,IF('Simulador Valora'!$K$24>0,'Simulador Valora'!$K$24,'Simulador Valora'!$K$41)*'Simulador Valora'!$Y$68,IF('Simulador Valora'!$X$35=1,IF('Simulador Valora'!$K$24>0,'Simulador Valora'!$K$24,'Simulador Valora'!$G$41)*'Simulador Valora'!$Y$68,0))),0))","v":0},null,{"$f":"F24*'Simulador Valora'!$X$59","v":0},null,"",null,null,null,0,10,0,0,0,"",0.17499999999999999,0,0,0,0,0,0,"",{"$f":"IF(AJ24<=0,0,IF('Simulador Valora'!$AC$62=1,0,AJ24*'Simulador Valora'!$Y$67+IF('Simulador Valora'!$X$35=2,'Simulador Valora'!$G$49,IF('Simulador Valora'!$X$35=1,'Simulador Valora'!$K$49,0))))","v":0},null,{"$f":"AL24*'Simulador Valora'!$X$59","v":0},0,0,"",0,10]
[11,0,null,0,null,0,null,0,null,null,null,{"$f":"IF('Simulador Valora'!$V$60=1,0,J25*'Simulador Valora'!$V$61*'Simulador Valora'!$W$59)","v":0},null,"",null,0,null,{"$f":"IF('Simulador Valora'!$AC$62=1,0,IFERROR(IF(B25<=0,0,B25*'Simulador Valora'!$Y$67),0))","v":0},null,{"$f":"IF(OR('Simulador Valora'!$AC$62=1,'Simulador Valora'!$AC$66=1),0,IFERROR(IF(B25<=0,0,IF('Simulador Valora'!$X$35=2,IF('Simulador Valora'!$K$24>0,'Simulador Valora'!$K$24,'Simulador Valora'!$K$41)*'Simulador Valora'!$Y$68,IF('Simulador Valora'!$X$35=1,IF('Simulador Valora'!$K$24>0,'Simulador Valora'!$K$24,'Simulador Valora'!$G$41)*'Simulador Valora'!$Y$68,0))),0))","v":0},null,{"$f":"F25*'Simulador Valora'!$X$59","v":0},null,"",null,null,null,0,11,0,0,0,"",0.17499999999999999,0,0,0,0,0,0,"",{"$f":"IF(AJ25<=0,0,IF('Simulador Valora'!$AC$62=1,0,AJ25*'Simulador Valora'!$Y$67+IF('Simulador Valora'!$X$35=2,'Simulador Valora'!$G$49,IF('Simulador Valora'!$X$35=1,'Simulador Valora'!$K$49,0))))","v":0},null,{"$f":"AL25*'Simulador Valora'!$X$59","v":0},0,0,"",0,11]
[12,0,null,0,null,0,null,0,null,null,null,{"$f":"IF('Simulador Valora'!$V$60=1,0,J26*'Simulador Valora'!$V$61*'Simulador Valora'!$W$59)","v":0},null,"",null,0,null,{"$f":"IF('Simulador Valora'!$AC$62=1,0,IFERROR(IF(B26<=0,0,B26*'Simulador Valora'!$Y$67),0))","v":0},null,{"$f":"IF(OR('Simulador Valora'!$AC$62=1,'Simulador Valora'!$AC$66=1),0,IFERROR(IF(B26<=0,0,IF('Simulador Valora'!$X$35=2,IF('Simulador Valora'!$K$24>0,'Simulador Valora'!$K$24,'Simulador Valora'!$K$41)*'Simulador Valora'!$Y$68,IF('Simulador Valora'!$X$35=1,IF('Simulador Valora'!$K$24>0,'Simulador Valora'!$K$24,'Simulador Valora'!$G$41)*'Simulador Valora'!$Y$68,0))),0))","v":0},null,{"$f":"F26*'Simulador Valora'!$X$59","v":0},null,"",null,null,null,1,0,0,0,0,"",0.17499999999999999,0,0,0,0,0,0,"",{"$f":"IF(AJ26<=0,0,IF('Simulador Valora'!$AC$62=1,0,AJ26*'Simulador Valora'!$Y$67+IF('Simulador Valora'!$X$35=2,'Simulador Valora'!$G$49,IF('Simulador Valora'!$X$35=1,'Simulador Valora'!$K$49,0))))","v":0},null,{"$f":"AL26*'Simulador Valora'!$X$59","v":0},0,0,"",0,12]
[13,0,null,{"$f":"IF(B27+F27-D26<=0,B27+F27,IF(J26=0,D26*(1+Z27),IF($AS$2=2,B27*AI27,D26*(1+Z27))))","v":0},null,0,null,0,null,null,null,{"$f":"IF('Simulador Valora'!$V$60=1,0,J27*'Simulador Valora'!$V$61*'Simulador Valora'!$W$59)","v":0},null,"",null,0,null,{"$f":"IF('Simulador Valora'!$AC$62=1,0,IFERROR(IF(B27<=0,0,B27*'Simulador Valora'!$Y$67),0))","v":0},null,{"$f":"IF(OR('Simulador Valora'!$AC$62=1,'Simulador Valora'!$AC$66=1),0,IFERROR(IF(B27<=0,0,IF('Simulador Valora'!$X$35=2,IF('Simulador Valora'!$K$24>0,'Simulador Valora'!$K$24,'Simulador Valora'!$K$41)*'Simulador Valora'!$Y$68,IF('Simulador Valora'!$X$35=1,IF('Simulador Valora'!$K$24>0,'Simulador Valora'!$K$24,'Simulador Valora'!$G$41)*'Simulador Valora'!$Y$68,0))),0))","v":0},null,{"$f":"F27*'Simulador Valora'!$X$59","v":0},null,"",null,{"$f":"IF(B27<=0,0,'Simulador Valora'!$AM$48)","v":0},null,1,1,0,0,0,"",0.17499999999999999,0,0,0,0,0,0,"",{"$f":"IF(AJ27<=0,0,IF('Simulador Valora'!$AC$62=1,0,AJ27*'Simulador Valora'!$Y$67+IF('Simulador Valora'!$X$35=2,'Simulador Valora'!$G$49,IF('Simulador Valora'!$X$35=1,'Simulador Valora'!$K$49,0))))","v":0},{"$f":"IF(AJ27<=0,0,'Simulador Valora'!$AM$48)","v":0},{"$f":"AL27*'Simulador Valora'!$X$59","v":0},0,0,"",0,13]
[14,0,null,0,null,0,null,0,null,null,null,{"$f":"IF('Simulador Valora'!$V$60=1,0,J28*'Simulador Valora'!$V$61*'Simulador Valora'!$W$59)","v":0},null,"",null,0,null,{"$f":"IF('Simulador Valora'!$AC$62=1,0,IFERROR(IF(B28<=0,0,B28*'Simulador Valora'!$Y$67),0))","v":0},null,{"$f":"IF(OR('Simulador Valora'!$AC$62=1,'Simulador Valora'!$AC$66=1),0,IFERROR(IF(B28<=0,0,IF('Simulador Valora'!$X$35=2,IF('Simulador Valora'!$K$24>0,'Simulador Valora'!$K$24,'Simulador Valora'!$K$41)*'Simulador Valora'!$Y$68,IF('Simulador Valora'!$X$35=1,IF('Simulador Valora'!$K$24>0,'Simulador Valora'!$K$24,'Simulador Valora'!$G$41)*'Simulador Valora'!$Y$68,0))),0))","v":0},null,{"$f":"F28*'Simulador Valora'!$X$59","v":0},null,"",null,null,null,1,2,0,0,0,"",0.17499999999999999,0,0,0,0,0,0,"",{"$f":"IF(AJ28<=0,0,IF('Simulador Valora'!$AC$62=1,0,AJ28*'Simulador Valora'!$Y$67+IF('Simulador Valora'!$X$35=2,'Simulador Valora'!$G$49,IF('Simulador Valora'!$X$35=1,'Simulador Valora'!$K$49,0))))","v":0},null,{"$f":"AL28*'Simulador Valora'!$X$59","v":0},0,0,"",0,14]
[15,0,null,0,null,0,null,0,null,null,null,{"$f":"IF('Simulador Valora'!$V$60=1,0,J29*'Simulador Valora'!$V$61*'Simulador Valora'!$W$59)","v":0},null,"",null,0,null,{"$f":"IF('Simulador Valora'!$AC$62=1,0,IFERROR(IF(B29<=0,0,B29*'Simulador Valora'!$Y$67),0))","v":0},null,{"$f":"IF(OR('Simulador Valora'!$AC$62=1,'Simulador Valora'!$AC$66=1),0,IFERROR(IF(B29<=0,0,IF('Simulador Valora'!$X$35=2,IF('Simulador Valora'!$K$24>0,'Simulador Valora'!$K$24,'Simulador Valora'!$K$41)*'Simulador Valora'!$Y$68,IF('Simulador Valora'!$X$35=1,IF('Simulador Valora'!$K$24>0,'Simulador Valora'!$K$24,'Simulador Valora'!$G$41)*'Simulador Valora'!$Y$68,0))),0))","v":0},null,{"$f":"F29*'Simulador Valora'!$X$59","v":0},null,"",null,null,null,1,3,0,0,0,"",0.17499999999999999,0,0,0,0,0,0,"",{"$f":"IF(AJ29<=0,0,IF('Simulador Valora'!$AC$62=1,0,AJ29*'Simulador Valora'!$Y$67+IF('Simulador Valora'!$X$35=2,'Simulador Valora'!$G$49,IF('Simulador Valora'!$X$35=1,'Simulador Valora'!$K$49,0))))","v":0},null,{"$f":"AL29*'Simulador Valora'!$X$59","v":0},0,0,"",0,15]
[16,0,null,0,null,0,null,0,null,null,null,{"$f":"IF('Simulador Valora'!$V$60=1,0,J30*'Simulador Valora'!$V$61*'Simulador Valora'!$W$59)","v":0},null,"",null,0,null,{"$f":"IF('Simulador Valora'!$AC$62=1,0,IFERROR(IF(B30<=0,0,B30*'Simulador Valora'!$Y$67),0))","v":0},null,{"$f":"IF(OR('Simulador Valora'!$AC$62=1,'Simulador Valora'!$AC$66=1),0,IFERROR(IF(B30<=0,0,IF('Simulador Valora'!$X$35=2,IF('Simulador Valora'!$K$24>0,'Simulador Valora'!$K$24,'Simulador Valora'!$K$41)*'Simulador Valora'!$Y$68,IF('Simulador Valora'!$X$35=1,IF('Simulador Valora'!$K$24>0,'Simulador Valora'!$K$24,'Simulador Valora'!$G$41)*'Simulador Valora'!$Y$68,0))),0))","v":0},null,{"$f":"F30*'Simulador Valora'!$X$59","v":0},null,"",null,null,null,1,4,0,0,0,"",0.17499999999999999,0,0,0,0,0,0,"",{"$f":"IF(AJ30<=0,0,IF('Simulador Valora'!$AC$62=1,0,AJ30*'Simulador Valora'!$Y$67+IF('Simulador Valora'!$X$35=2,'Simulador Valora'!$G$49,IF('Simulador Valora'!$X$35=1,'Simulador Valora'!$K$49,0))))","v":0},null,{"$f":"AL30*'Simulador Valora'!$X$59","v":0},0,0,"",0,16]
[17,0,null,0,null,0,null,0,null,null,null,{"$f":"IF('Simulador Valora'!$V$60=1,0,J31*'Simulador Valora'!$V$61*'Simulador Valora'!$W$59)","v":0},null,"",null,0,null,{"$f":"IF('Simulador Valora'!$AC$62=1,0,IFERROR(IF(B31<=0,0,B31*'Simulador Valora'!$Y$67),0))","v":0},null,{"$f":"IF(OR('Simulador Valora'!$AC$62=1,'Simulador Valora'!$AC$66=1),0,IFERROR(IF(B31<=0,0,IF('Simulador Valora'!$X$35=2,IF('Simulador Valora'!$K$24>0,'Simulador Valora'!$K$24,'Simulador Valora'!$K$41)*'Simulador Valora'!$Y$68,IF('Simulador Valora'!$X$35=1,IF('Simulador Valora'!$K$24>0,'Simulador Valora'!$K$24,'Simulador Valora'!$G$41)*'Simulador Valora'!$Y$68,0))),0))","v":0},null,{"$f":"F31*'Simulador Valora'!$X$59","v":0},null,"",null,null,null,1,5,0,0,0,"",0.17499999999999999,0,0,0,0,0,0,"",{"$f":"IF(AJ31<=0,0,IF('Simulador Valora'!$AC$62=1,0,AJ31*'Simulador Valora'!$Y$67+IF('Simulador Valora'!$X$35=2,'Simulador Valora'!$G$49,IF('Simulador Valora'!$X$35=1,'Simulador Valora'!$K$49,0))))","v":0},null,{"$f":"AL31*'Simulador Valora'!$X$59","v":0},0,0,"",0,17]
[18,0,null,0,null,0,null,0,null,null,null,{"$f":"IF('Simulador Valora'!$V$60=1,0,J32*'Simulador Valora'!$V$61*'Simulador Valora'!$W$59)","v":0},null,"",null,0,null,{"$f":"IF('Simulador Valora'!$AC$62=1,0,IFERROR(IF(B32<=0,0,B32*'Simulador Valora'!$Y$67),0))","v":0},null,{"$f":"IF(OR('Simulador Valora'!$AC$62=1,'Simulador Valora'!$AC$66=1),0,IFERROR(IF(B32<=0,0,IF('Simulador Valora'!$X$35=2,IF('Simulador Valora'!$K$24>0,'Simulador Valora'!$K$24,'Simulador Valora'!$K$41)*'Simulador Valora'!$Y$68,IF('Simulador Valora'!$X$35=1,IF('Simulador Valora'!$K$24>0,'Simulador Valora'!$K$24,'Simulador Valora'!$G$41)*'Simulador Valora'!$Y$68,0))),0))","v":0},null,{"$f":"F32*'Simulador Valora'!$X$59","v":0},null,"",null,null,null,1,6,0,0,0,"",0.17499999999999999,0,0,0,0,0,0,"",{"$f":"IF(AJ32<=0,0,IF('Simulador Valora'!$AC$62=1,0,AJ32*'Simulador Valora'!$Y$67+IF('Simulador Valora'!$X$35=2,'Simulador Valora'!$G$49,IF('Simulador Valora'!$X$35=1,'Simulador Valora'!$K$49,0))))","v":0},null,{"$f":"AL32*'Simulador Valora'!$X$59","v":0},0,0,"",0,18]
[19,0,null,0,null,0,null,0,null,null,null,{"$f":"IF('Simulador Valora'!$V$60=1,0,J33*'Simulador Valora'!$V$61*'Simulador Valora'!$W$59)","v":0},null,"",null,0,null,{"$f":"IF('Simulador Valora'!$AC$62=1,0,IFERROR(IF(B33<=0,0,B33*'Simulador Valora'!$Y$67),0))","v":0},null,{"$f":"IF(OR('Simulador Valora'!$AC$62=1,'Simulador Valora'!$AC$66=1),0,IFERROR(IF(B33<=0,0,IF('Simulador Valora'!$X$35=2,IF('Simulador Valora'!$K$24>0,'Simulador Valora'!$K$24,'Simulador Valora'!$K$41)*'Simulador Valora'!$Y$68,IF('Simulador Valora'!$X$35=1,IF('Simulador Valora'!$K$24>0,'Simulador Valora'!$K$24,'Simulador Valora'!$G$41)*'Simulador Valora'!$Y$68,0))),0))","v":0},null,{"$f":"F33*'Simulador Valora'!$X$59","v":0},null,"",null,null,null,1,7,0,0,0,"",0.17499999999999999,0,0,0,0,0,0,"",{"$f":"IF(AJ33<=0,0,IF('Simulador Valora'!$AC$62=1,0,AJ33*'Simulador Valora'!$Y$67+IF('Simulador Valora'!$X$35=2,'Simulador Valora'!$G$49,IF('Simulador Valora'!$X$35=1,'Simulador Valora'!$K$49,0))))","v":0},null,{"$f":"AL33*'Simulador Valora'!$X$59","v":0},0,0,"",0,19]
[20,0,null,0,null,0,null,0,null,null,null,{"$f":"IF('Simulador Valora'!$V$60=1,0,J34*'Simulador Valora'!$V$61*'Simulador Valora'!$W$59)","v":0},null,"",null,0,null,{"$f":"IF('Simulador Valora'!$AC$62=1,0,IFERROR(IF(B34<=0,0,B34*'Simulador Valora'!$Y$67),0))","v":0},null,{"$f":"IF(OR('Simulador Valora'!$AC$62=1,'Simulador Valora'!$AC$66=1),0,IFERROR(IF(B34<=0,0,IF('Simulador Valora'!$X$35=2,IF('Simulador Valora'!$K$24>0,'Simulador Valora'!$K$24,'Simulador Valora'!$K$41)*'Simulador Valora'!$Y$68,IF('Simulador Valora'!$X$35=1,IF('Simulador Valora'!$K$24>0,'Simulador Valora'!$K$24,'Simulador Valora'!$G$41)*'Simulador Valora'!$Y$68,0))),0))","v":0},null,{"$f":"F34*'Simulador Valora'!$X$59","v":0},null,"",null,null,null,1,8,0,0,0,"",0.17499999999999999,0,0,0,0,0,0,"",{"$f":"IF(AJ34<=0,0,IF('Simulador Valora'!$AC$62=1,0,AJ34*'Simulador Valora'!$Y$67+IF('Simulador Valora'!$X$35=2,'Simulador Valora'!$G$49,IF('Simulador Valora'!$X$35=1,'Simulador Valora'!$K$49,0))))","v":0},null,{"$f":"AL34*'Simulador Valora'!$X$59","v":0},0,0,"",0,20]
[21,0,null,0,null,0,null,0,null,null,null,{"$f":"IF('Simulador Valora'!$V$60=1,0,J35*'Simulador Valora'!$V$61*'Simulador Valora'!$W$59)","v":0},null,"",null,0,null,{"$f":"IF('Simulador Valora'!$AC$62=1,0,IFERROR(IF(B35<=0,0,B35*'Simulador Valora'!$Y$67),0))","v":0},null,{"$f":"IF(OR('Simulador Valora'!$AC$62=1,'Simulador Valora'!$AC$66=1),0,IFERROR(IF(B35<=0,0,IF('Simulador Valora'!$X$35=2,IF('Simulador Valora'!$K$24>0,'Simulador Valora'!$K$24,'Simulador Valora'!$K$41)*'Simulador Valora'!$Y$68,IF('Simulador Valora'!$X$35=1,IF('Simulador Valora'!$K$24>0,'Simulador Valora'!$K$24,'Simulador Valora'!$G$41)*'Simulador Valora'!$Y$68,0))),0))","v":0},null,{"$f":"F35*'Simulador Valora'!$X$59","v":0},null,"",null,null,null,1,9,0,0,0,"",0.17499999999999999,0,0,0,0,0,0,"",{"$f":"IF(AJ35<=0,0,IF('Simulador Valora'!$AC$62=1,0,AJ35*'Simulador Valora'!$Y$67+IF('Simulador Valora'!$X$35=2,'Simulador Valora'!$G$49,IF('Simulador Valora'!$X$35=1,'Simulador Valora'!$K$49,0))))","v":0},null,{"$f":"AL35*'Simulador Valora'!$X$59","v":0},0,0,"",0,21]
[22,0,null,0,null,0,null,0,null,null,null,{"$f":"IF('Simulador Valora'!$V$60=1,0,J36*'Simulador Valora'!$V$61*'Simulador Valora'!$W$59)","v":0},null,"",null,0,null,{"$f":"IF('Simulador Valora'!$AC$62=1,0,IFERROR(IF(B36<=0,0,B36*'Simulador Valora'!$Y$67),0))","v":0},null,{"$f":"IF(OR('Simulador Valora'!$AC$62=1,'Simulador Valora'!$AC$66=1),0,IFERROR(IF(B36<=0,0,IF('Simulador Valora'!$X$35=2,IF('Simulador Valora'!$K$24>0,'Simulador Valora'!$K$24,'Simulador Valora'!$K$41)*'Simulador Valora'!$Y$68,IF('Simulador Valora'!$X$35=1,IF('Simulador Valora'!$K$24>0,'Simulador Valora'!$K$24,'Simulador Valora'!$G$41)*'Simulador Valora'!$Y$68,0))),0))","v":0},null,{"$f":"F36*'Simulador Valora'!$X$59","v":0},null,"",null,null,null,1,10,0,0,0,"",0.17499999999999999,0,0,0,0,0,0,"",{"$f":"IF(AJ36<=0,0,IF('Simulador Valora'!$AC$62=1,0,AJ36*'Simulador Valora'!$Y$67+IF('Simulador Valora'!$X$35=2,'Simulador Valora'!$G$49,IF('Simulador Valora'!$X$35=1,'Simulador Valora'!$K$49,0))))","v":0},null,{"$f":"AL36*'Simulador Valora'!$X$59","v":0},0,0,"",0,22]
[23,0,null,0,null,0,null,0,null,null,null,{"$f":"IF('Simulador Valora'!$V$60=1,0,J37*'Simulador Valora'!$V$61*'Simulador Valora'!$W$59)","v":0},null,"",null,0,null,{"$f":"IF('Simulador Valora'!$AC$62=1,0,IFERROR(IF(B37<=0,0,B37*'Simulador Valora'!$Y$67),0))","v":0},null,{"$f":"IF(OR('Simulador Valora'!$AC$62=1,'Simulador Valora'!$AC$66=1),0,IFERROR(IF(B37<=0,0,IF('Simulador Valora'!$X$35=2,IF('Simulador Valora'!$K$24>0,'Simulador Valora'!$K$24,'Simulador Valora'!$K$41)*'Simulador Valora'!$Y$68,IF('Simulador Valora'!$X$35=1,IF('Simulador Valora'!$K$24>0,'Simulador Valora'!$K$24,'Simulador Valora'!$G$41)*'Simulador Valora'!$Y$68,0))),0))","v":0},null,{"$f":"F37*'Simulador Valora'!$X$59","v":0},null,"",null,null,null,1,11,0,0,0,"",0.17499999999999999,0,0,0,0,0,0,"",{"$f":"IF(AJ37<=0,0,IF('Simulador Valora'!$AC$62=1,0,AJ37*'Simulador Valora'!$Y$67+IF('Simulador Valora'!$X$35=2,'Simulador Valora'!$G$49,IF('Simulador Valora'!$X$35=1,'Simulador Valora'!$K$49,0))))","v":0},null,{"$f":"AL37*'Simulador Valora'!$X$59","v":0},0,0,"",0,23]
[24,0,null,0,null,0,null,0,null,null,null,{"$f":"IF('Simulador Valora'!$V$60=1,0,J38*'Simulador Valora'!$V$61*'Simulador Valora'!$W$59)","v":0},null,"",null,0,null,{"$f":"IF('Simulador Valora'!$AC$62=1,0,IFERROR(IF(B38<=0,0,B38*'Simulador Valora'!$Y$67),0))","v":0},null,{"$f":"IF(OR('Simulador Valora'!$AC$62=1,'Simulador Valora'!$AC$66=1),0,IFERROR(IF(B38<=0,0,IF('Simulador Valora'!$X$35=2,IF('Simulador Valora'!$K$24>0,'Simulador Valora'!$K$24,'Simulador Valora'!$K$41)*'Simulador Valora'!$Y$68,IF('Simulador Valora'!$X$35=1,IF('Simulador Valora'!$K$24>0,'Simulador Valora'!$K$24,'Simulador Valora'!$G$41)*'Simulador Valora'!$Y$68,0))),0))","v":0},null,{"$f":"F38*'Simulador Valora'!$X$59","v":0},null,"",null,null,null,2,0,0,0,0,"",0.17499999999999999,0,0,0,0,0,0,"",{"$f":"IF(AJ38<=0,0,IF('Simulador Valora'!$AC$62=1,0,AJ38*'Simulador Valora'!$Y$67+IF('Simulador Valora'!$X$35=2,'Simulador Valora'!$G$49,IF('Simulador Valora'!$X$35=1,'Simulador Valora'!$K$49,0))))","v":0},null,{"$f":"AL38*'Simulador Valora'!$X$59","v":0},0,0,"",0,24]
[25,0,null,0,null,0,null,0,null,null,null,{"$f":"IF('Simulador Valora'!$V$60=1,0,J39*'Simulador Valora'!$V$61*'Simulador Valora'!$W$59)","v":0},null,"",null,0,null,{"$f":"IF('Simulador Valora'!$AC$62=1,0,IFERROR(IF(B39<=0,0,B39*'Simulador Valora'!$Y$67),0))","v":0},null,{"$f":"IF(OR('Simulador Valora'!$AC$62=1,'Simulador Valora'!$AC$66=1),0,IFERROR(IF(B39<=0,0,IF('Simulador Valora'!$X$35=2,IF('Simulador Valora'!$K$24>0,'Simulador Valora'!$K$24,'Simulador Valora'!$K$41)*'Simulador Valora'!$Y$68,IF('Simulador Valora'!$X$35=1,IF('Simulador Valora'!$K$24>0,'Simulador Valora'!$K$24,'Simulador Valora'!$G$41)*'Simulador Valora'!$Y$68,0))),0))","v":0},null,{"$f":"F39*'Simulador Valora'!$X$59","v":0},null,"",null,{"$f":"IF(B39<=0,0,'Simulador Valora'!$AM$48)","v":0},null,2,1,0,0,0,"",0.17499999999999999,0,0,0,0,0,0,"",{"$f":"IF(AJ39<=0,0,IF('Simulador Valora'!$AC$62=1,0,AJ39*'Simulador Valora'!$Y$67+IF('Simulador Valora'!$X$35=2,'Simulador Valora'!$G$49,IF('Simulador Valora'!$X$35=1,'Simulador Valora'!$K$49,0))))","v":0},{"$f":"IF(AJ39<=0,0,$AQ$27)","v":0},{"$f":"AL39*'Simulador Valora'!$X$59","v":0},0,0,"",0,25]
[26,0,null,0,null,0,null,0,null,null,null,{"$f":"IF('Simulador Valora'!$V$60=1,0,J40*'Simulador Valora'!$V$61*'Simulador Valora'!$W$59)","v":0},null,"",null,0,null,{"$f":"IF('Simulador Valora'!$AC$62=1,0,IFERROR(IF(B40<=0,0,B40*'Simulador Valora'!$Y$67),0))","v":0},null,{"$f":"IF(OR('Simulador Valora'!$AC$62=1,'Simulador Valora'!$AC$66=1),0,IFERROR(IF(B40<=0,0,IF('Simulador Valora'!$X$35=2,IF('Simulador Valora'!$K$24>0,'Simulador Valora'!$K$24,'Simulador Valora'!$K$41)*'Simulador Valora'!$Y$68,IF('Simulador Valora'!$X$35=1,IF('Simulador Valora'!$K$24>0,'Simulador Valora'!$K$24,'Simulador Valora'!$G$41)*'Simulador Valora'!$Y$68,0))),0))","v":0},null,{"$f":"F40*'Simulador Valora'!$X$59","v":0},null,"",null,null,null,2,2,0,0,0,"",0.17499999999999999,0,0,0,0,0,0,"",{"$f":"IF(AJ40<=0,0,IF('Simulador Valora'!$AC$62=1,0,AJ40*'Simulador Valora'!$Y$67+IF('Simulador Valora'!$X$35=2,'Simulador Valora'!$G$49,IF('Simulador Valora'!$X$35=1,'Simulador Valora'!$K$49,0))))","v":0},null,{"$f":"AL40*'Simulador Valora'!$X$59","v":0},0,0,"",0,26]
[27,0,null,0,null,0,null,0,null,null,null,{"$f":"IF('Simulador Valora'!$V$60=1,0,J41*'Simulador Valora'!$V$61*'Simulador Valora'!$W$59)","v":0},null,"",null,0,null,{"$f":"IF('Simulador Valora'!$AC$62=1,0,IFERROR(IF(B41<=0,0,B41*'Simulador Valora'!$Y$67),0))","v":0},null,{"$f":"IF(OR('Simulador Valora'!$AC$62=1,'Simulador Valora'!$AC$66=1),0,IFERROR(IF(B41<=0,0,IF('Simulador Valora'!$X$35=2,IF('Simulador Valora'!$K$24>0,'Simulador Valora'!$K$24,'Simulador Valora'!$K$41)*'Simulador Valora'!$Y$68,IF('Simulador Valora'!$X$35=1,IF('Simulador Valora'!$K$24>0,'Simulador Valora'!$K$24,'Simulador Valora'!$G$41)*'Simulador Valora'!$Y$68,0))),0))","v":0},null,{"$f":"F41*'Simulador Valora'!$X$59","v":0},null,"",null,null,null,2,3,0,0,0,"",0.17499999999999999,0,0,0,0,0,0,"",{"$f":"IF(AJ41<=0,0,IF('Simulador Valora'!$AC$62=1,0,AJ41*'Simulador Valora'!$Y$67+IF('Simulador Valora'!$X$35=2,'Simulador Valora'!$G$49,IF('Simulador Valora'!$X$35=1,'Simulador Valora'!$K$49,0))))","v":0},null,{"$f":"AL41*'Simulador Valora'!$X$59","v":0},0,0,"",0,27]
[28,0,null,0,null,0,null,0,null,null,null,{"$f":"IF('Simulador Valora'!$V$60=1,0,J42*'Simulador Valora'!$V$61*'Simulador Valora'!$W$59)","v":0},null,"",null,0,null,{"$f":"IF('Simulador Valora'!$AC$62=1,0,IFERROR(IF(B42<=0,0,B42*'Simulador Valora'!$Y$67),0))","v":0},null,{"$f":"IF(OR('Simulador Valora'!$AC$62=1,'Simulador Valora'!$AC$66=1),0,IFERROR(IF(B42<=0,0,IF('Simulador Valora'!$X$35=2,IF('Simulador Valora'!$K$24>0,'Simulador Valora'!$K$24,'Simulador Valora'!$K$41)*'Simulador Valora'!$Y$68,IF('Simulador Valora'!$X$35=1,IF('Simulador Valora'!$K$24>0,'Simulador Valora'!$K$24,'Simulador Valora'!$G$41)*'Simulador Valora'!$Y$68,0))),0))","v":0},null,{"$f":"F42*'Simulador Valora'!$X$59","v":0},null,"",null,null,null,2,4,0,0,0,"",0.17499999999999999,0,0,0,0,0,0,"",{"$f":"IF(AJ42<=0,0,IF('Simulador Valora'!$AC$62=1,0,AJ42*'Simulador Valora'!$Y$67+IF('Simulador Valora'!$X$35=2,'Simulador Valora'!$G$49,IF('Simulador Valora'!$X$35=1,'Simulador Valora'!$K$49,0))))","v":0},null,{"$f":"AL42*'Simulador Valora'!$X$59","v":0},0,0,"",0,28]
[29,0,null,0,null,0,null,0,null,null,null,{"$f":"IF('Simulador Valora'!$V$60=1,0,J43*'Simulador Valora'!$V$61*'Simulador Valora'!$W$59)","v":0},null,"",null,0,null,{"$f":"IF('Simulador Valora'!$AC$62=1,0,IFERROR(IF(B43<=0,0,B43*'Simulador Valora'!$Y$67),0))","v":0},null,{"$f":"IF(OR('Simulador Valora'!$AC$62=1,'Simulador Valora'!$AC$66=1),0,IFERROR(IF(B43<=0,0,IF('Simulador Valora'!$X$35=2,IF('Simulador Valora'!$K$24>0,'Simulador Valora'!$K$24,'Simulador Valora'!$K$41)*'Simulador Valora'!$Y$68,IF('Simulador Valora'!$X$35=1,IF('Simulador Valora'!$K$24>0,'Simulador Valora'!$K$24,'Simulador Valora'!$G$41)*'Simulador Valora'!$Y$68,0))),0))","v":0},null,{"$f":"F43*'Simulador Valora'!$X$59","v":0},null,"",null,null,null,2,5,0,0,0,"",0.17499999999999999,0,0,0,0,0,0,"",{"$f":"IF(AJ43<=0,0,IF('Simulador Valora'!$AC$62=1,0,AJ43*'Simulador Valora'!$Y$67+IF('Simulador Valora'!$X$35=2,'Simulador Valora'!$G$49,IF('Simulador Valora'!$X$35=1,'Simulador Valora'!$K$49,0))))","v":0},null,{"$f":"AL43*'Simulador Valora'!$X$59","v":0},0,0,"",0,29]
[30,0,null,0,null,0,null,0,null,null,null,{"$f":"IF('Simulador Valora'!$V$60=1,0,J44*'Simulador Valora'!$V$61*'Simulador Valora'!$W$59)","v":0},null,"",null,0,null,{"$f":"IF('Simulador Valora'!$AC$62=1,0,IFERROR(IF(B44<=0,0,B44*'Simulador Valora'!$Y$67),0))","v":0},null,{"$f":"IF(OR('Simulador Valora'!$AC$62=1,'Simulador Valora'!$AC$66=1),0,IFERROR(IF(B44<=0,0,IF('Simulador Valora'!$X$35=2,IF('Simulador Valora'!$K$24>0,'Simulador Valora'!$K$24,'Simulador Valora'!$K$41)*'Simulador Valora'!$Y$68,IF('Simulador Valora'!$X$35=1,IF('Simulador Valora'!$K$24>0,'Simulador Valora'!$K$24,'Simulador Valora'!$G$41)*'Simulador Valora'!$Y$68,0))),0))","v":0},null,{"$f":"F44*'Simulador Valora'!$X$59","v":0},null,"",null,null,null,2,6,0,0,0,"",0.17499999999999999,0,0,0,0,0,0,"",{"$f":"IF(AJ44<=0,0,IF('Simulador Valora'!$AC$62=1,0,AJ44*'Simulador Valora'!$Y$67+IF('Simulador Valora'!$X$35=2,'Simulador Valora'!$G$49,IF('Simulador Valora'!$X$35=1,'Simulador Valora'!$K$49,0))))","v":0},null,{"$f":"AL44*'Simulador Valora'!$X$59","v":0},0,0,"",0,30]
[31,0,null,0,null,0,null,0,null,null,null,{"$f":"IF('Simulador Valora'!$V$60=1,0,J45*'Simulador Valora'!$V$61*'Simulador Valora'!$W$59)","v":0},null,"",null,0,null,{"$f":"IF('Simulador Valora'!$AC$62=1,0,IFERROR(IF(B45<=0,0,B45*'Simulador Valora'!$Y$67),0))","v":0},null,{"$f":"IF(OR('Simulador Valora'!$AC$62=1,'Simulador Valora'!$AC$66=1),0,IFERROR(IF(B45<=0,0,IF('Simulador Valora'!$X$35=2,IF('Simulador Valora'!$K$24>0,'Simulador Valora'!$K$24,'Simulador Valora'!$K$41)*'Simulador Valora'!$Y$68,IF('Simulador Valora'!$X$35=1,IF('Simulador Valora'!$K$24>0,'Simulador Valora'!$K$24,'Simulador Valora'!$G$41)*'Simulador Valora'!$Y$68,0))),0))","v":0},null,{"$f":"F45*'Simulador Valora'!$X$59","v":0},null,"",null,null,null,2,7,0,0,0,"",0.17499999999999999,0,0,0,0,0,0,"",{"$f":"IF(AJ45<=0,0,IF('Simulador Valora'!$AC$62=1,0,AJ45*'Simulador Valora'!$Y$67+IF('Simulador Valora'!$X$35=2,'Simulador Valora'!$G$49,IF('Simulador Valora'!$X$35=1,'Simulador Valora'!$K$49,0))))","v":0},null,{"$f":"AL45*'Simulador Valora'!$X$59","v":0},0,0,"",0,31]
[32,0,null,0,null,0,null,0,null,null,null,{"$f":"IF('Simulador Valora'!$V$60=1,0,J46*'Simulador Valora'!$V$61*'Simulador Valora'!$W$59)","v":0},null,"",null,0,null,{"$f":"IF('Simulador Valora'!$AC$62=1,0,IFERROR(IF(B46<=0,0,B46*'Simulador Valora'!$Y$67),0))","v":0},null,{"$f":"IF(OR('Simulador Valora'!$AC$62=1,'Simulador Valora'!$AC$66=1),0,IFERROR(IF(B46<=0,0,IF('Simulador Valora'!$X$35=2,IF('Simulador Valora'!$K$24>0,'Simulador Valora'!$K$24,'Simulador Valora'!$K$41)*'Simulador Valora'!$Y$68,IF('Simulador Valora'!$X$35=1,IF('Simulador Valora'!$K$24>0,'Simulador Valora'!$K$24,'Simulador Valora'!$G$41)*'Simulador Valora'!$Y$68,0))),0))","v":0},null,{"$f":"F46*'Simulador Valora'!$X$59","v":0},null,"",null,null,null,2,8,0,0,0,"",0.17499999999999999,0,0,0,0,0,0,"",{"$f":"IF(AJ46<=0,0,IF('Simulador Valora'!$AC$62=1,0,AJ46*'Simulador Valora'!$Y$67+IF('Simulador Valora'!$X$35=2,'Simulador Valora'!$G$49,IF('Simulador Valora'!$X$35=1,'Simulador Valora'!$K$49,0))))","v":0},null,{"$f":"AL46*'Simulador Valora'!$X$59","v":0},0,0,"",0,32]
[33,0,null,0,null,0,null,0,null,null,null,{"$f":"IF('Simulador Valora'!$V$60=1,0,J47*'Simulador Valora'!$V$61*'Simulador Valora'!$W$59)","v":0},null,"",null,0,null,{"$f":"IF('Simulador Valora'!$AC$62=1,0,IFERROR(IF(B47<=0,0,B47*'Simulador Valora'!$Y$67),0))","v":0},null,{"$f":"IF(OR('Simulador Valora'!$AC$62=1,'Simulador Valora'!$AC$66=1),0,IFERROR(IF(B47<=0,0,IF('Simulador Valora'!$X$35=2,IF('Simulador Valora'!$K$24>0,'Simulador Valora'!$K$24,'Simulador Valora'!$K$41)*'Simulador Valora'!$Y$68,IF('Simulador Valora'!$X$35=1,IF('Simulador Valora'!$K$24>0,'Simulador Valora'!$K$24,'Simulador Valora'!$G$41)*'Simulador Valora'!$Y$68,0))),0))","v":0},null,{"$f":"F47*'Simulador Valora'!$X$59","v":0},null,"",null,null,null,2,9,0,0,0,"",0.17499999999999999,0,0,0,0,0,0,"",{"$f":"IF(AJ47<=0,0,IF('Simulador Valora'!$AC$62=1,0,AJ47*'Simulador Valora'!$Y$67+IF('Simulador Valora'!$X$35=2,'Simulador Valora'!$G$49,IF('Simulador Valora'!$X$35=1,'Simulador Valora'!$K$49,0))))","v":0},null,{"$f":"AL47*'Simulador Valora'!$X$59","v":0},0,0,"",0,33]
[34,0,null,0,null,0,null,0,null,null,null,{"$f":"IF('Simulador Valora'!$V$60=1,0,J48*'Simulador Valora'!$V$61*'Simulador Valora'!$W$59)","v":0},null,"",null,0,null,{"$f":"IF('Simulador Valora'!$AC$62=1,0,IFERROR(IF(B48<=0,0,B48*'Simulador Valora'!$Y$67),0))","v":0},null,{"$f":"IF(OR('Simulador Valora'!$AC$62=1,'Simulador Valora'!$AC$66=1),0,IFERROR(IF(B48<=0,0,IF('Simulador Valora'!$X$35=2,IF('Simulador Valora'!$K$24>0,'Simulador Valora'!$K$24,'Simulador Valora'!$K$41)*'Simulador Valora'!$Y$68,IF('Simulador Valora'!$X$35=1,IF('Simulador Valora'!$K$24>0,'Simulador Valora'!$K$24,'Simulador Valora'!$G$41)*'Simulador Valora'!$Y$68,0))),0))","v":0},null,{"$f":"F48*'Simulador Valora'!$X$59","v":0},null,"",null,null,null,2,10,0,0,0,"",0.17499999999999999,0,0,0,0,0,0,"",{"$f":"IF(AJ48<=0,0,IF('Simulador Valora'!$AC$62=1,0,AJ48*'Simulador Valora'!$Y$67+IF('Simulador Valora'!$X$35=2,'Simulador Valora'!$G$49,IF('Simulador Valora'!$X$35=1,'Simulador Valora'!$K$49,0))))","v":0},null,{"$f":"AL48*'Simulador Valora'!$X$59","v":0},0,0,"",0,34]
[35,0,null,0,null,0,null,0,null,null,null,{"$f":"IF('Simulador Valora'!$V$60=1,0,J49*'Simulador Valora'!$V$61*'Simulador Valora'!$W$59)","v":0},null,"",null,0,null,{"$f":"IF('Simulador Valora'!$AC$62=1,0,IFERROR(IF(B49<=0,0,B49*'Simulador Valora'!$Y$67),0))","v":0},null,{"$f":"IF(OR('Simulador Valora'!$AC$62=1,'Simulador Valora'!$AC$66=1),0,IFERROR(IF(B49<=0,0,IF('Simulador Valora'!$X$35=2,IF('Simulador Valora'!$K$24>0,'Simulador Valora'!$K$24,'Simulador Valora'!$K$41)*'Simulador Valora'!$Y$68,IF('Simulador Valora'!$X$35=1,IF('Simulador Valora'!$K$24>0,'Simulador Valora'!$K$24,'Simulador Valora'!$G$41)*'Simulador Valora'!$Y$68,0))),0))","v":0},null,{"$f":"F49*'Simulador Valora'!$X$59","v":0},null,"",null,null,null,2,11,0,0,0,"",0.17499999999999999,0,0,0,0,0,0,"",{"$f":"IF(AJ49<=0,0,IF('Simulador Valora'!$AC$62=1,0,AJ49*'Simulador Valora'!$Y$67+IF('Simulador Valora'!$X$35=2,'Simulador Valora'!$G$49,IF('Simulador Valora'!$X$35=1,'Simulador Valora'!$K$49,0))))","v":0},null,{"$f":"AL49*'Simulador Valora'!$X$59","v":0},0,0,"",0,35]
[36,0,null,0,null,0,null,0,null,null,null,{"$f":"IF('Simulador Valora'!$V$60=1,0,J50*'Simulador Valora'!$V$61*'Simulador Valora'!$W$59)","v":0},null,"",null,0,null,{"$f":"IF('Simulador Valora'!$AC$62=1,0,IFERROR(IF(B50<=0,0,B50*'Simulador Valora'!$Y$67),0))","v":0},null,{"$f":"IF(OR('Simulador Valora'!$AC$62=1,'Simulador Valora'!$AC$66=1),0,IFERROR(IF(B50<=0,0,IF('Simulador Valora'!$X$35=2,IF('Simulador Valora'!$K$24>0,'Simulador Valora'!$K$24,'Simulador Valora'!$K$41)*'Simulador Valora'!$Y$68,IF('Simulador Valora'!$X$35=1,IF('Simulador Valora'!$K$24>0,'Simulador Valora'!$K$24,'Simulador Valora'!$G$41)*'Simulador Valora'!$Y$68,0))),0))","v":0},null,{"$f":"F50*'Simulador Valora'!$X$59","v":0},null,"",null,null,null,3,0,0,0,0,"",0.17499999999999999,0,0,0,0,0,0,"",{"$f":"IF(AJ50<=0,0,IF('Simulador Valora'!$AC$62=1,0,AJ50*'Simulador Valora'!$Y$67+IF('Simulador Valora'!$X$35=2,'Simulador Valora'!$G$49,IF('Simulador Valora'!$X$35=1,'Simulador Valora'!$K$49,0))))","v":0},null,{"$f":"AL50*'Simulador Valora'!$X$59","v":0},0,0,"",0,36]
[37,0,null,0,null,0,null,0,null,null,null,{"$f":"IF('Simulador Valora'!$V$60=1,0,J51*'Simulador Valora'!$V$61*'Simulador Valora'!$W$59)","v":0},null,"",null,0,null,{"$f":"IF('Simulador Valora'!$AC$62=1,0,IFERROR(IF(B51<=0,0,B51*'Simulador Valora'!$Y$67),0))","v":0},null,{"$f":"IF(OR('Simulador Valora'!$AC$62=1,'Simulador Valora'!$AC$66=1),0,IFERROR(IF(B51<=0,0,IF('Simulador Valora'!$X$35=2,IF('Simulador Valora'!$K$24>0,'Simulador Valora'!$K$24,'Simulador Valora'!$K$41)*'Simulador Valora'!$Y$68,IF('Simulador Valora'!$X$35=1,IF('Simulador Valora'!$K$24>0,'Simulador Valora'!$K$24,'Simulador Valora'!$G$41)*'Simulador Valora'!$Y$68,0))),0))","v":0},null,{"$f":"F51*'Simulador Valora'!$X$59","v":0},null,"",null,{"$f":"IF(B51<=0,0,'Simulador Valora'!$AM$48)","v":0},null,3,1,0,0,0,"",{"$f":"IF(AH50=$AO$3,$AO$3,IF(AH50=$AO$3,AH50,IF(AH50-0.25%<=$AO$3,$AO$3,AH50-0.25%)))","v":0.17499999999999999},0,0,0,0,0,0,"",{"$f":"IF(AJ51<=0,0,IF('Simulador Valora'!$AC$62=1,0,AJ51*'Simulador Valora'!$Y$67+IF('Simulador Valora'!$X$35=2,'Simulador Valora'!$G$49,IF('Simulador Valora'!$X$35=1,'Simulador Valora'!$K$49,0))))","v":0},{"$f":"IF(AJ51<=0,0,$AQ$27)","v":0},{"$f":"AL51*'Simulador Valora'!$X$59","v":0},0,0,"",0,37]
[38,0,null,0,null,0,null,0,null,null,null,{"$f":"IF('Simulador Valora'!$V$60=1,0,J52*'Simulador Valora'!$V$61*'Simulador Valora'!$W$59)","v":0},null,"",null,0,null,{"$f":"IF('Simulador Valora'!$AC$62=1,0,IFERROR(IF(B52<=0,0,B52*'Simulador Valora'!$Y$67),0))","v":0},null,{"$f":"IF(OR('Simulador Valora'!$AC$62=1,'Simulador Valora'!$AC$66=1),0,IFERROR(IF(B52<=0,0,IF('Simulador Valora'!$X$35=2,IF('Simulador Valora'!$K$24>0,'Simulador Valora'!$K$24,'Simulador Valora'!$K$41)*'Simulador Valora'!$Y$68,IF('Simulador Valora'!$X$35=1,IF('Simulador Valora'!$K$24>0,'Simulador Valora'!$K$24,'Simulador Valora'!$G$41)*'Simulador Valora'!$Y$68,0))),0))","v":0},null,{"$f":"F52*'Simulador Valora'!$X$59","v":0},null,"",null,null,null,3,2,0,0,0,"",{"$f":"AH51","v":0.17499999999999999},0,0,0,0,0,0,"",{"$f":"IF(AJ52<=0,0,IF('Simulador Valora'!$AC$62=1,0,AJ52*'Simulador Valora'!$Y$67+IF('Simulador Valora'!$X$35=2,'Simulador Valora'!$G$49,IF('Simulador Valora'!$X$35=1,'Simulador Valora'!$K$49,0))))","v":0},null,{"$f":"AL52*'Simulador Valora'!$X$59","v":0},0,0,"",0,38]
[39,0,null,0,null,0,null,0,null,null,null,{"$f":"IF('Simulador Valora'!$V$60=1,0,J53*'Simulador Valora'!$V$61*'Simulador Valora'!$W$59)","v":0},null,"",null,0,null,{"$f":"IF('Simulador Valora'!$AC$62=1,0,IFERROR(IF(B53<=0,0,B53*'Simulador Valora'!$Y$67),0))","v":0},null,{"$f":"IF(OR('Simulador Valora'!$AC$62=1,'Simulador Valora'!$AC$66=1),0,IFERROR(IF(B53<=0,0,IF('Simulador Valora'!$X$35=2,IF('Simulador Valora'!$K$24>0,'Simulador Valora'!$K$24,'Simulador Valora'!$K$41)*'Simulador Valora'!$Y$68,IF('Simulador Valora'!$X$35=1,IF('Simulador Valora'!$K$24>0,'Simulador Valora'!$K$24,'Simulador Valora'!$G$41)*'Simulador Valora'!$Y$68,0))),0))","v":0},null,{"$f":"F53*'Simulador Valora'!$X$59","v":0},null,"",null,null,null,3,3,0,0,0,"",{"$f":"AH52","v":0.17499999999999999},0,0,0,0,0,0,"",{"$f":"IF(AJ53<=0,0,IF('Simulador Valora'!$AC$62=1,0,AJ53*'Simulador Valora'!$Y$67+IF('Simulador Valora'!$X$35=2,'Simulador Valora'!$G$49,IF('Simulador Valora'!$X$35=1,'Simulador Valora'!$K$49,0))))","v":0},null,{"$f":"AL53*'Simulador Valora'!$X$59","v":0},0,0,"",0,39]
[40,0,null,0,null,0,null,0,null,null,null,{"$f":"IF('Simulador Valora'!$V$60=1,0,J54*'Simulador Valora'!$V$61*'Simulador Valora'!$W$59)","v":0},null,"",null,0,null,{"$f":"IF('Simulador Valora'!$AC$62=1,0,IFERROR(IF(B54<=0,0,B54*'Simulador Valora'!$Y$67),0))","v":0},null,{"$f":"IF(OR('Simulador Valora'!$AC$62=1,'Simulador Valora'!$AC$66=1),0,IFERROR(IF(B54<=0,0,IF('Simulador Valora'!$X$35=2,IF('Simulador Valora'!$K$24>0,'Simulador Valora'!$K$24,'Simulador Valora'!$K$41)*'Simulador Valora'!$Y$68,IF('Simulador Valora'!$X$35=1,IF('Simulador Valora'!$K$24>0,'Simulador Valora'!$K$24,'Simulador Valora'!$G$41)*'Simulador Valora'!$Y$68,0))),0))","v":0},null,{"$f":"F54*'Simulador Valora'!$X$59","v":0},null,"",null,null,null,3,4,0,0,0,"",0.17499999999999999,0,0,0,0,0,0,"",{"$f":"IF(AJ54<=0,0,IF('Simulador Valora'!$AC$62=1,0,AJ54*'Simulador Valora'!$Y$67+IF('Simulador Valora'!$X$35=2,'Simulador Valora'!$G$49,IF('Simulador Valora'!$X$35=1,'Simulador Valora'!$K$49,0))))","v":0},null,{"$f":"AL54*'Simulador Valora'!$X$59","v":0},0,0,"",0,40]
[41,0,null,0,null,0,null,0,null,null,null,{"$f":"IF('Simulador Valora'!$V$60=1,0,J55*'Simulador Valora'!$V$61*'Simulador Valora'!$W$59)","v":0},null,"",null,0,null,{"$f":"IF('Simulador Valora'!$AC$62=1,0,IFERROR(IF(B55<=0,0,B55*'Simulador Valora'!$Y$67),0))","v":0},null,{"$f":"IF(OR('Simulador Valora'!$AC$62=1,'Simulador Valora'!$AC$66=1),0,IFERROR(IF(B55<=0,0,IF('Simulador Valora'!$X$35=2,IF('Simulador Valora'!$K$24>0,'Simulador Valora'!$K$24,'Simulador Valora'!$K$41)*'Simulador Valora'!$Y$68,IF('Simulador Valora'!$X$35=1,IF('Simulador Valora'!$K$24>0,'Simulador Valora'!$K$24,'Simulador Valora'!$G$41)*'Simulador Valora'!$Y$68,0))),0))","v":0},null,{"$f":"F55*'Simulador Valora'!$X$59","v":0},null,"",null,null,null,3,5,0,0,0,"",0.17499999999999999,0,0,0,0,0,0,"",{"$f":"IF(AJ55<=0,0,IF('Simulador Valora'!$AC$62=1,0,AJ55*'Simulador Valora'!$Y$67+IF('Simulador Valora'!$X$35=2,'Simulador Valora'!$G$49,IF('Simulador Valora'!$X$35=1,'Simulador Valora'!$K$49,0))))","v":0},null,{"$f":"AL55*'Simulador Valora'!$X$59","v":0},0,0,"",0,41]
[42,0,null,0,null,0,null,0,null,null,null,{"$f":"IF('Simulador Valora'!$V$60=1,0,J56*'Simulador Valora'!$V$61*'Simulador Valora'!$W$59)","v":0},null,"",null,0,null,{"$f":"IF('Simulador Valora'!$AC$62=1,0,IFERROR(IF(B56<=0,0,B56*'Simulador Valora'!$Y$67),0))","v":0},null,{"$f":"IF(OR('Simulador Valora'!$AC$62=1,'Simulador Valora'!$AC$66=1),0,IFERROR(IF(B56<=0,0,IF('Simulador Valora'!$X$35=2,IF('Simulador Valora'!$K$24>0,'Simulador Valora'!$K$24,'Simulador Valora'!$K$41)*'Simulador Valora'!$Y$68,IF('Simulador Valora'!$X$35=1,IF('Simulador Valora'!$K$24>0,'Simulador Valora'!$K$24,'Simulador Valora'!$G$41)*'Simulador Valora'!$Y$68,0))),0))","v":0},null,{"$f":"F56*'Simulador Valora'!$X$59","v":0},null,"",null,null,null,3,6,0,0,0,"",0.17499999999999999,0,0,0,0,0,0,"",{"$f":"IF(AJ56<=0,0,IF('Simulador Valora'!$AC$62=1,0,AJ56*'Simulador Valora'!$Y$67+IF('Simulador Valora'!$X$35=2,'Simulador Valora'!$G$49,IF('Simulador Valora'!$X$35=1,'Simulador Valora'!$K$49,0))))","v":0},null,{"$f":"AL56*'Simulador Valora'!$X$59","v":0},0,0,"",0,42]
[43,0,null,0,null,0,null,0,null,null,null,{"$f":"IF('Simulador Valora'!$V$60=1,0,J57*'Simulador Valora'!$V$61*'Simulador Valora'!$W$59)","v":0},null,"",null,0,null,{"$f":"IF('Simulador Valora'!$AC$62=1,0,IFERROR(IF(B57<=0,0,B57*'Simulador Valora'!$Y$67),0))","v":0},null,{"$f":"IF(OR('Simulador Valora'!$AC$62=1,'Simulador Valora'!$AC$66=1),0,IFERROR(IF(B57<=0,0,IF('Simulador Valora'!$X$35=2,IF('Simulador Valora'!$K$24>0,'Simulador Valora'!$K$24,'Simulador Valora'!$K$41)*'Simulador Valora'!$Y$68,IF('Simulador Valora'!$X$35=1,IF('Simulador Valora'!$K$24>0,'Simulador Valora'!$K$24,'Simulador Valora'!$G$41)*'Simulador Valora'!$Y$68,0))),0))","v":0},null,{"$f":"F57*'Simulador Valora'!$X$59","v":0},null,"",null,null,null,3,7,0,0,0,"",0.17499999999999999,0,0,0,0,0,0,"",{"$f":"IF(AJ57<=0,0,IF('Simulador Valora'!$AC$62=1,0,AJ57*'Simulador Valora'!$Y$67+IF('Simulador Valora'!$X$35=2,'Simulador Valora'!$G$49,IF('Simulador Valora'!$X$35=1,'Simulador Valora'!$K$49,0))))","v":0},null,{"$f":"AL57*'Simulador Valora'!$X$59","v":0},0,0,"",0,43]
[44,0,null,0,null,0,null,0,null,null,null,{"$f":"IF('Simulador Valora'!$V$60=1,0,J58*'Simulador Valora'!$V$61*'Simulador Valora'!$W$59)","v":0},null,"",null,0,null,{"$f":"IF('Simulador Valora'!$AC$62=1,0,IFERROR(IF(B58<=0,0,B58*'Simulador Valora'!$Y$67),0))","v":0},null,{"$f":"IF(OR('Simulador Valora'!$AC$62=1,'Simulador Valora'!$AC$66=1),0,IFERROR(IF(B58<=0,0,IF('Simulador Valora'!$X$35=2,IF('Simulador Valora'!$K$24>0,'Simulador Valora'!$K$24,'Simulador Valora'!$K$41)*'Simulador Valora'!$Y$68,IF('Simulador Valora'!$X$35=1,IF('Simulador Valora'!$K$24>0,'Simulador Valora'!$K$24,'Simulador Valora'!$G$41)*'Simulador Valora'!$Y$68,0))),0))","v":0},null,{"$f":"F58*'Simulador Valora'!$X$59","v":0},null,"",null,null,null,3,8,0,0,0,"",0.17499999999999999,0,0,0,0,0,0,"",{"$f":"IF(AJ58<=0,0,IF('Simulador Valora'!$AC$62=1,0,AJ58*'Simulador Valora'!$Y$67+IF('Simulador Valora'!$X$35=2,'Simulador Valora'!$G$49,IF('Simulador Valora'!$X$35=1,'Simulador Valora'!$K$49,0))))","v":0},null,{"$f":"AL58*'Simulador Valora'!$X$59","v":0},0,0,"",0,44]
[45,0,null,0,null,0,null,0,null,null,null,{"$f":"IF('Simulador Valora'!$V$60=1,0,J59*'Simulador Valora'!$V$61*'Simulador Valora'!$W$59)","v":0},null,"",null,0,null,{"$f":"IF('Simulador Valora'!$AC$62=1,0,IFERROR(IF(B59<=0,0,B59*'Simulador Valora'!$Y$67),0))","v":0},null,{"$f":"IF(OR('Simulador Valora'!$AC$62=1,'Simulador Valora'!$AC$66=1),0,IFERROR(IF(B59<=0,0,IF('Simulador Valora'!$X$35=2,IF('Simulador Valora'!$K$24>0,'Simulador Valora'!$K$24,'Simulador Valora'!$K$41)*'Simulador Valora'!$Y$68,IF('Simulador Valora'!$X$35=1,IF('Simulador Valora'!$K$24>0,'Simulador Valora'!$K$24,'Simulador Valora'!$G$41)*'Simulador Valora'!$Y$68,0))),0))","v":0},null,{"$f":"F59*'Simulador Valora'!$X$59","v":0},null,"",null,null,null,3,9,0,0,0,"",0.17499999999999999,0,0,0,0,0,0,"",{"$f":"IF(AJ59<=0,0,IF('Simulador Valora'!$AC$62=1,0,AJ59*'Simulador Valora'!$Y$67+IF('Simulador Valora'!$X$35=2,'Simulador Valora'!$G$49,IF('Simulador Valora'!$X$35=1,'Simulador Valora'!$K$49,0))))","v":0},null,{"$f":"AL59*'Simulador Valora'!$X$59","v":0},0,0,"",0,45]
[46,0,null,0,null,0,null,0,null,null,null,{"$f":"IF('Simulador Valora'!$V$60=1,0,J60*'Simulador Valora'!$V$61*'Simulador Valora'!$W$59)","v":0},null,"",null,0,null,{"$f":"IF('Simulador Valora'!$AC$62=1,0,IFERROR(IF(B60<=0,0,B60*'Simulador Valora'!$Y$67),0))","v":0},null,{"$f":"IF(OR('Simulador Valora'!$AC$62=1,'Simulador Valora'!$AC$66=1),0,IFERROR(IF(B60<=0,0,IF('Simulador Valora'!$X$35=2,IF('Simulador Valora'!$K$24>0,'Simulador Valora'!$K$24,'Simulador Valora'!$K$41)*'Simulador Valora'!$Y$68,IF('Simulador Valora'!$X$35=1,IF('Simulador Valora'!$K$24>0,'Simulador Valora'!$K$24,'Simulador Valora'!$G$41)*'Simulador Valora'!$Y$68,0))),0))","v":0},null,{"$f":"F60*'Simulador Valora'!$X$59","v":0},null,"",null,null,null,3,10,0,0,0,"",0.17499999999999999,0,0,0,0,0,0,"",{"$f":"IF(AJ60<=0,0,IF('Simulador Valora'!$AC$62=1,0,AJ60*'Simulador Valora'!$Y$67+IF('Simulador Valora'!$X$35=2,'Simulador Valora'!$G$49,IF('Simulador Valora'!$X$35=1,'Simulador Valora'!$K$49,0))))","v":0},null,{"$f":"AL60*'Simulador Valora'!$X$59","v":0},0,0,"",0,46]
[47,0,null,0,null,0,null,0,null,null,null,{"$f":"IF('Simulador Valora'!$V$60=1,0,J61*'Simulador Valora'!$V$61*'Simulador Valora'!$W$59)","v":0},null,"",null,0,null,{"$f":"IF('Simulador Valora'!$AC$62=1,0,IFERROR(IF(B61<=0,0,B61*'Simulador Valora'!$Y$67),0))","v":0},null,{"$f":"IF(OR('Simulador Valora'!$AC$62=1,'Simulador Valora'!$AC$66=1),0,IFERROR(IF(B61<=0,0,IF('Simulador Valora'!$X$35=2,IF('Simulador Valora'!$K$24>0,'Simulador Valora'!$K$24,'Simulador Valora'!$K$41)*'Simulador Valora'!$Y$68,IF('Simulador Valora'!$X$35=1,IF('Simulador Valora'!$K$24>0,'Simulador Valora'!$K$24,'Simulador Valora'!$G$41)*'Simulador Valora'!$Y$68,0))),0))","v":0},null,{"$f":"F61*'Simulador Valora'!$X$59","v":0},null,"",null,null,null,3,11,0,0,0,"",0.17499999999999999,0,0,0,0,0,0,"",{"$f":"IF(AJ61<=0,0,IF('Simulador Valora'!$AC$62=1,0,AJ61*'Simulador Valora'!$Y$67+IF('Simulador Valora'!$X$35=2,'Simulador Valora'!$G$49,IF('Simulador Valora'!$X$35=1,'Simulador Valora'!$K$49,0))))","v":0},null,{"$f":"AL61*'Simulador Valora'!$X$59","v":0},0,0,"",0,47]
[48,0,null,0,null,0,null,0,null,null,null,{"$f":"IF('Simulador Valora'!$V$60=1,0,J62*'Simulador Valora'!$V$61*'Simulador Valora'!$W$59)","v":0},null,"",null,0,null,{"$f":"IF('Simulador Valora'!$AC$62=1,0,IFERROR(IF(B62<=0,0,B62*'Simulador Valora'!$Y$67),0))","v":0},null,{"$f":"IF(OR('Simulador Valora'!$AC$62=1,'Simulador Valora'!$AC$66=1),0,IFERROR(IF(B62<=0,0,IF('Simulador Valora'!$X$35=2,IF('Simulador Valora'!$K$24>0,'Simulador Valora'!$K$24,'Simulador Valora'!$K$41)*'Simulador Valora'!$Y$68,IF('Simulador Valora'!$X$35=1,IF('Simulador Valora'!$K$24>0,'Simulador Valora'!$K$24,'Simulador Valora'!$G$41)*'Simulador Valora'!$Y$68,0))),0))","v":0},null,{"$f":"F62*'Simulador Valora'!$X$59","v":0},null,"",null,null,null,4,0,0,0,0,"",0.17499999999999999,0,0,0,0,0,0,"",{"$f":"IF(AJ62<=0,0,IF('Simulador Valora'!$AC$62=1,0,AJ62*'Simulador Valora'!$Y$67+IF('Simulador Valora'!$X$35=2,'Simulador Valora'!$G$49,IF('Simulador Valora'!$X$35=1,'Simulador Valora'!$K$49,0))))","v":0},null,{"$f":"AL62*'Simulador Valora'!$X$59","v":0},0,0,"",0,48]
[49,0,null,0,null,0,null,0,null,null,null,{"$f":"IF('Simulador Valora'!$V$60=1,0,J63*'Simulador Valora'!$V$61*'Simulador Valora'!$W$59)","v":0},null,"",null,0,null,{"$f":"IF('Simulador Valora'!$AC$62=1,0,IFERROR(IF(B63<=0,0,B63*'Simulador Valora'!$Y$67),0))","v":0},null,{"$f":"IF(OR('Simulador Valora'!$AC$62=1,'Simulador Valora'!$AC$66=1),0,IFERROR(IF(B63<=0,0,IF('Simulador Valora'!$X$35=2,IF('Simulador Valora'!$K$24>0,'Simulador Valora'!$K$24,'Simulador Valora'!$K$41)*'Simulador Valora'!$Y$68,IF('Simulador Valora'!$X$35=1,IF('Simulador Valora'!$K$24>0,'Simulador Valora'!$K$24,'Simulador Valora'!$G$41)*'Simulador Valora'!$Y$68,0))),0))","v":0},null,{"$f":"F63*'Simulador Valora'!$X$59","v":0},null,"",null,{"$f":"IF(B63<=0,0,'Simulador Valora'!$AM$48)","v":0},null,4,1,0,0,0,"",{"$f":"IF(AH62=$AO$3,$AO$3,IF(AH62=$AO$3,AH62,IF(AH62-0.25%<=$AO$3,$AO$3,AH62-0.25%)))","v":0.17499999999999999},0,0,0,0,0,0,"",{"$f":"IF(AJ63<=0,0,IF('Simulador Valora'!$AC$62=1,0,AJ63*'Simulador Valora'!$Y$67+IF('Simulador Valora'!$X$35=2,'Simulador Valora'!$G$49,IF('Simulador Valora'!$X$35=1,'Simulador Valora'!$K$49,0))))","v":0},{"$f":"IF(AJ63<=0,0,$AQ$27)","v":0},{"$f":"AL63*'Simulador Valora'!$X$59","v":0},0,0,"",0,49]
[50,0,null,0,null,0,null,0,null,null,null,{"$f":"IF('Simulador Valora'!$V$60=1,0,J64*'Simulador Valora'!$V$61*'Simulador Valora'!$W$59)","v":0},null,"",null,0,null,{"$f":"IF('Simulador Valora'!$AC$62=1,0,IFERROR(IF(B64<=0,0,B64*'Simulador Valora'!$Y$67),0))","v":0},null,{"$f":"IF(OR('Simulador Valora'!$AC$62=1,'Simulador Valora'!$AC$66=1),0,IFERROR(IF(B64<=0,0,IF('Simulador Valora'!$X$35=2,IF('Simulador Valora'!$K$24>0,'Simulador Valora'!$K$24,'Simulador Valora'!$K$41)*'Simulador Valora'!$Y$68,IF('Simulador Valora'!$X$35=1,IF('Simulador Valora'!$K$24>0,'Simulador Valora'!$K$24,'Simulador Valora'!$G$41)*'Simulador Valora'!$Y$68,0))),0))","v":0},null,{"$f":"F64*'Simulador Valora'!$X$59","v":0},null,"",null,null,null,4,2,0,0,0,"",{"$f":"AH63","v":0.17499999999999999},0,0,0,0,0,0,"",{"$f":"IF(AJ64<=0,0,IF('Simulador Valora'!$AC$62=1,0,AJ64*'Simulador Valora'!$Y$67+IF('Simulador Valora'!$X$35=2,'Simulador Valora'!$G$49,IF('Simulador Valora'!$X$35=1,'Simulador Valora'!$K$49,0))))","v":0},null,{"$f":"AL64*'Simulador Valora'!$X$59","v":0},0,0,"",0,50]
[51,0,null,0,null,0,null,0,null,null,null,{"$f":"IF('Simulador Valora'!$V$60=1,0,J65*'Simulador Valora'!$V$61*'Simulador Valora'!$W$59)","v":0},null,"",null,0,null,{"$f":"IF('Simulador Valora'!$AC$62=1,0,IFERROR(IF(B65<=0,0,B65*'Simulador Valora'!$Y$67),0))","v":0},null,{"$f":"IF(OR('Simulador Valora'!$AC$62=1,'Simulador Valora'!$AC$66=1),0,IFERROR(IF(B65<=0,0,IF('Simulador Valora'!$X$35=2,IF('Simulador Valora'!$K$24>0,'Simulador Valora'!$K$24,'Simulador Valora'!$K$41)*'Simulador Valora'!$Y$68,IF('Simulador Valora'!$X$35=1,IF('Simulador Valora'!$K$24>0,'Simulador Valora'!$K$24,'Simulador Valora'!$G$41)*'Simulador Valora'!$Y$68,0))),0))","v":0},null,{"$f":"F65*'Simulador Valora'!$X$59","v":0},null,"",null,null,null,4,3,0,0,0,"",{"$f":"AH64","v":0.17499999999999999},0,0,0,0,0,0,"",{"$f":"IF(AJ65<=0,0,IF('Simulador Valora'!$AC$62=1,0,AJ65*'Simulador Valora'!$Y$67+IF('Simulador Valora'!$X$35=2,'Simulador Valora'!$G$49,IF('Simulador Valora'!$X$35=1,'Simulador Valora'!$K$49,0))))","v":0},null,{"$f":"AL65*'Simulador Valora'!$X$59","v":0},0,0,"",0,51]
[52,0,null,0,null,0,null,0,null,null,null,{"$f":"IF('Simulador Valora'!$V$60=1,0,J66*'Simulador Valora'!$V$61*'Simulador Valora'!$W$59)","v":0},null,"",null,0,null,{"$f":"IF('Simulador Valora'!$AC$62=1,0,IFERROR(IF(B66<=0,0,B66*'Simulador Valora'!$Y$67),0))","v":0},null,{"$f":"IF(OR('Simulador Valora'!$AC$62=1,'Simulador Valora'!$AC$66=1),0,IFERROR(IF(B66<=0,0,IF('Simulador Valora'!$X$35=2,IF('Simulador Valora'!$K$24>0,'Simulador Valora'!$K$24,'Simulador Valora'!$K$41)*'Simulador Valora'!$Y$68,IF('Simulador Valora'!$X$35=1,IF('Simulador Valora'!$K$24>0,'Simulador Valora'!$K$24,'Simulador Valora'!$G$41)*'Simulador Valora'!$Y$68,0))),0))","v":0},null,{"$f":"F66*'Simulador Valora'!$X$59","v":0},null,"",null,null,null,4,4,0,0,0,"",0.17499999999999999,0,0,0,0,0,0,"",{"$f":"IF(AJ66<=0,0,IF('Simulador Valora'!$AC$62=1,0,AJ66*'Simulador Valora'!$Y$67+IF('Simulador Valora'!$X$35=2,'Simulador Valora'!$G$49,IF('Simulador Valora'!$X$35=1,'Simulador Valora'!$K$49,0))))","v":0},null,{"$f":"AL66*'Simulador Valora'!$X$59","v":0},0,0,"",0,52]
[53,0,null,0,null,0,null,0,null,null,null,{"$f":"IF('Simulador Valora'!$V$60=1,0,J67*'Simulador Valora'!$V$61*'Simulador Valora'!$W$59)","v":0},null,"",null,0,null,{"$f":"IF('Simulador Valora'!$AC$62=1,0,IFERROR(IF(B67<=0,0,B67*'Simulador Valora'!$Y$67),0))","v":0},null,{"$f":"IF(OR('Simulador Valora'!$AC$62=1,'Simulador Valora'!$AC$66=1),0,IFERROR(IF(B67<=0,0,IF('Simulador Valora'!$X$35=2,IF('Simulador Valora'!$K$24>0,'Simulador Valora'!$K$24,'Simulador Valora'!$K$41)*'Simulador Valora'!$Y$68,IF('Simulador Valora'!$X$35=1,IF('Simulador Valora'!$K$24>0,'Simulador Valora'!$K$24,'Simulador Valora'!$G$41)*'Simulador Valora'!$Y$68,0))),0))","v":0},null,{"$f":"F67*'Simulador Valora'!$X$59","v":0},null,"",null,null,null,4,5,0,0,0,"",0.17499999999999999,0,0,0,0,0,0,"",{"$f":"IF(AJ67<=0,0,IF('Simulador Valora'!$AC$62=1,0,AJ67*'Simulador Valora'!$Y$67+IF('Simulador Valora'!$X$35=2,'Simulador Valora'!$G$49,IF('Simulador Valora'!$X$35=1,'Simulador Valora'!$K$49,0))))","v":0},null,{"$f":"AL67*'Simulador Valora'!$X$59","v":0},0,0,"",0,53]
[54,0,null,0,null,0,null,0,null,null,null,{"$f":"IF('Simulador Valora'!$V$60=1,0,J68*'Simulador Valora'!$V$61*'Simulador Valora'!$W$59)","v":0},null,"",null,0,null,{"$f":"IF('Simulador Valora'!$AC$62=1,0,IFERROR(IF(B68<=0,0,B68*'Simulador Valora'!$Y$67),0))","v":0},null,{"$f":"IF(OR('Simulador Valora'!$AC$62=1,'Simulador Valora'!$AC$66=1),0,IFERROR(IF(B68<=0,0,IF('Simulador Valora'!$X$35=2,IF('Simulador Valora'!$K$24>0,'Simulador Valora'!$K$24,'Simulador Valora'!$K$41)*'Simulador Valora'!$Y$68,IF('Simulador Valora'!$X$35=1,IF('Simulador Valora'!$K$24>0,'Simulador Valora'!$K$24,'Simulador Valora'!$G$41)*'Simulador Valora'!$Y$68,0))),0))","v":0},null,{"$f":"F68*'Simulador Valora'!$X$59","v":0},null,"",null,null,null,4,6,0,0,0,"",0.17499999999999999,0,0,0,0,0,0,"",{"$f":"IF(AJ68<=0,0,IF('Simulador Valora'!$AC$62=1,0,AJ68*'Simulador Valora'!$Y$67+IF('Simulador Valora'!$X$35=2,'Simulador Valora'!$G$49,IF('Simulador Valora'!$X$35=1,'Simulador Valora'!$K$49,0))))","v":0},null,{"$f":"AL68*'Simulador Valora'!$X$59","v":0},0,0,"",0,54]
[55,0,null,0,null,0,null,0,null,null,null,{"$f":"IF('Simulador Valora'!$V$60=1,0,J69*'Simulador Valora'!$V$61*'Simulador Valora'!$W$59)","v":0},null,"",null,0,null,{"$f":"IF('Simulador Valora'!$AC$62=1,0,IFERROR(IF(B69<=0,0,B69*'Simulador Valora'!$Y$67),0))","v":0},null,{"$f":"IF(OR('Simulador Valora'!$AC$62=1,'Simulador Valora'!$AC$66=1),0,IFERROR(IF(B69<=0,0,IF('Simulador Valora'!$X$35=2,IF('Simulador Valora'!$K$24>0,'Simulador Valora'!$K$24,'Simulador Valora'!$K$41)*'Simulador Valora'!$Y$68,IF('Simulador Valora'!$X$35=1,IF('Simulador Valora'!$K$24>0,'Simulador Valora'!$K$24,'Simulador Valora'!$G$41)*'Simulador Valora'!$Y$68,0))),0))","v":0},null,{"$f":"F69*'Simulador Valora'!$X$59","v":0},null,"",null,null,null,4,7,0,0,0,"",0.17499999999999999,0,0,0,0,0,0,"",{"$f":"IF(AJ69<=0,0,IF('Simulador Valora'!$AC$62=1,0,AJ69*'Simulador Valora'!$Y$67+IF('Simulador Valora'!$X$35=2,'Simulador Valora'!$G$49,IF('Simulador Valora'!$X$35=1,'Simulador Valora'!$K$49,0))))","v":0},null,{"$f":"AL69*'Simulador Valora'!$X$59","v":0},0,0,"",0,55]
[56,0,null,0,null,0,null,0,null,null,null,{"$f":"IF('Simulador Valora'!$V$60=1,0,J70*'Simulador Valora'!$V$61*'Simulador Valora'!$W$59)","v":0},null,"",null,0,null,{"$f":"IF('Simulador Valora'!$AC$62=1,0,IFERROR(IF(B70<=0,0,B70*'Simulador Valora'!$Y$67),0))","v":0},null,{"$f":"IF(OR('Simulador Valora'!$AC$62=1,'Simulador Valora'!$AC$66=1),0,IFERROR(IF(B70<=0,0,IF('Simulador Valora'!$X$35=2,IF('Simulador Valora'!$K$24>0,'Simulador Valora'!$K$24,'Simulador Valora'!$K$41)*'Simulador Valora'!$Y$68,IF('Simulador Valora'!$X$35=1,IF('Simulador Valora'!$K$24>0,'Simulador Valora'!$K$24,'Simulador Valora'!$G$41)*'Simulador Valora'!$Y$68,0))),0))","v":0},null,{"$f":"F70*'Simulador Valora'!$X$59","v":0},null,"",null,null,null,4,8,0,0,0,"",0.17499999999999999,0,0,0,0,0,0,"",{"$f":"IF(AJ70<=0,0,IF('Simulador Valora'!$AC$62=1,0,AJ70*'Simulador Valora'!$Y$67+IF('Simulador Valora'!$X$35=2,'Simulador Valora'!$G$49,IF('Simulador Valora'!$X$35=1,'Simulador Valora'!$K$49,0))))","v":0},null,{"$f":"AL70*'Simulador Valora'!$X$59","v":0},0,0,"",0,56]
[57,0,null,0,null,0,null,0,null,null,null,{"$f":"IF('Simulador Valora'!$V$60=1,0,J71*'Simulador Valora'!$V$61*'Simulador Valora'!$W$59)","v":0},null,"",null,0,null,{"$f":"IF('Simulador Valora'!$AC$62=1,0,IFERROR(IF(B71<=0,0,B71*'Simulador Valora'!$Y$67),0))","v":0},null,{"$f":"IF(OR('Simulador Valora'!$AC$62=1,'Simulador Valora'!$AC$66=1),0,IFERROR(IF(B71<=0,0,IF('Simulador Valora'!$X$35=2,IF('Simulador Valora'!$K$24>0,'Simulador Valora'!$K$24,'Simulador Valora'!$K$41)*'Simulador Valora'!$Y$68,IF('Simulador Valora'!$X$35=1,IF('Simulador Valora'!$K$24>0,'Simulador Valora'!$K$24,'Simulador Valora'!$G$41)*'Simulador Valora'!$Y$68,0))),0))","v":0},null,{"$f":"F71*'Simulador Valora'!$X$59","v":0},null,"",null,null,null,4,9,0,0,0,"",0.17499999999999999,0,0,0,0,0,0,"",{"$f":"IF(AJ71<=0,0,IF('Simulador Valora'!$AC$62=1,0,AJ71*'Simulador Valora'!$Y$67+IF('Simulador Valora'!$X$35=2,'Simulador Valora'!$G$49,IF('Simulador Valora'!$X$35=1,'Simulador Valora'!$K$49,0))))","v":0},null,{"$f":"AL71*'Simulador Valora'!$X$59","v":0},0,0,"",0,57]
[58,0,null,0,null,0,null,0,null,null,null,{"$f":"IF('Simulador Valora'!$V$60=1,0,J72*'Simulador Valora'!$V$61*'Simulador Valora'!$W$59)","v":0},null,"",null,0,null,{"$f":"IF('Simulador Valora'!$AC$62=1,0,IFERROR(IF(B72<=0,0,B72*'Simulador Valora'!$Y$67),0))","v":0},null,{"$f":"IF(OR('Simulador Valora'!$AC$62=1,'Simulador Valora'!$AC$66=1),0,IFERROR(IF(B72<=0,0,IF('Simulador Valora'!$X$35=2,IF('Simulador Valora'!$K$24>0,'Simulador Valora'!$K$24,'Simulador Valora'!$K$41)*'Simulador Valora'!$Y$68,IF('Simulador Valora'!$X$35=1,IF('Simulador Valora'!$K$24>0,'Simulador Valora'!$K$24,'Simulador Valora'!$G$41)*'Simulador Valora'!$Y$68,0))),0))","v":0},null,{"$f":"F72*'Simulador Valora'!$X$59","v":0},null,"",null,null,null,4,10,0,0,0,"",0.17499999999999999,0,0,0,0,0,0,"",{"$f":"IF(AJ72<=0,0,IF('Simulador Valora'!$AC$62=1,0,AJ72*'Simulador Valora'!$Y$67+IF('Simulador Valora'!$X$35=2,'Simulador Valora'!$G$49,IF('Simulador Valora'!$X$35=1,'Simulador Valora'!$K$49,0))))","v":0},null,{"$f":"AL72*'Simulador Valora'!$X$59","v":0},0,0,"",0,58]
[59,0,null,0,null,0,null,0,null,null,null,{"$f":"IF('Simulador Valora'!$V$60=1,0,J73*'Simulador Valora'!$V$61*'Simulador Valora'!$W$59)","v":0},null,"",null,0,null,{"$f":"IF('Simulador Valora'!$AC$62=1,0,IFERROR(IF(B73<=0,0,B73*'Simulador Valora'!$Y$67),0))","v":0},null,{"$f":"IF(OR('Simulador Valora'!$AC$62=1,'Simulador Valora'!$AC$66=1),0,IFERROR(IF(B73<=0,0,IF('Simulador Valora'!$X$35=2,IF('Simulador Valora'!$K$24>0,'Simulador Valora'!$K$24,'Simulador Valora'!$K$41)*'Simulador Valora'!$Y$68,IF('Simulador Valora'!$X$35=1,IF('Simulador Valora'!$K$24>0,'Simulador Valora'!$K$24,'Simulador Valora'!$G$41)*'Simulador Valora'!$Y$68,0))),0))","v":0},null,{"$f":"F73*'Simulador Valora'!$X$59","v":0},null,"",null,null,null,4,11,0,0,0,"",0.17499999999999999,0,0,0,0,0,0,"",{"$f":"IF(AJ73<=0,0,IF('Simulador Valora'!$AC$62=1,0,AJ73*'Simulador Valora'!$Y$67+IF('Simulador Valora'!$X$35=2,'Simulador Valora'!$G$49,IF('Simulador Valora'!$X$35=1,'Simulador Valora'!$K$49,0))))","v":0},null,{"$f":"AL73*'Simulador Valora'!$X$59","v":0},0,0,"",0,59]
[60,0,null,0,null,0,null,0,null,null,null,{"$f":"IF('Simulador Valora'!$V$60=1,0,J74*'Simulador Valora'!$V$61*'Simulador Valora'!$W$59)","v":0},null,"",null,0,null,{"$f":"IF('Simulador Valora'!$AC$62=1,0,IFERROR(IF(B74<=0,0,B74*'Simulador Valora'!$Y$67),0))","v":0},null,{"$f":"IF(OR('Simulador Valora'!$AC$62=1,'Simulador Valora'!$AC$66=1),0,IFERROR(IF(B74<=0,0,IF('Simulador Valora'!$X$35=2,IF('Simulador Valora'!$K$24>0,'Simulador Valora'!$K$24,'Simulador Valora'!$K$41)*'Simulador Valora'!$Y$68,IF('Simulador Valora'!$X$35=1,IF('Simulador Valora'!$K$24>0,'Simulador Valora'!$K$24,'Simulador Valora'!$G$41)*'Simulador Valora'!$Y$68,0))),0))","v":0},null,{"$f":"F74*'Simulador Valora'!$X$59","v":0},null,"",null,null,null,5,0,0,0,0,"",0.17499999999999999,0,0,0,0,0,0,"",{"$f":"IF(AJ74<=0,0,IF('Simulador Valora'!$AC$62=1,0,AJ74*'Simulador Valora'!$Y$67+IF('Simulador Valora'!$X$35=2,'Simulador Valora'!$G$49,IF('Simulador Valora'!$X$35=1,'Simulador Valora'!$K$49,0))))","v":0},null,{"$f":"AL74*'Simulador Valora'!$X$59","v":0},0,0,"",0,60]
[61,0,null,0,null,0,null,0,null,null,null,{"$f":"IF('Simulador Valora'!$V$60=1,0,J75*'Simulador Valora'!$V$61*'Simulador Valora'!$W$59)","v":0},null,"",null,0,null,{"$f":"IF('Simulador Valora'!$AC$62=1,0,IFERROR(IF(B75<=0,0,B75*'Simulador Valora'!$Y$67),0))","v":0},null,{"$f":"IF(OR('Simulador Valora'!$AC$62=1,'Simulador Valora'!$AC$66=1),0,IFERROR(IF(B75<=0,0,IF('Simulador Valora'!$X$35=2,IF('Simulador Valora'!$K$24>0,'Simulador Valora'!$K$24,'Simulador Valora'!$K$41)*'Simulador Valora'!$Y$68,IF('Simulador Valora'!$X$35=1,IF('Simulador Valora'!$K$24>0,'Simulador Valora'!$K$24,'Simulador Valora'!$G$41)*'Simulador Valora'!$Y$68,0))),0))","v":0},null,{"$f":"F75*'Simulador Valora'!$X$59","v":0},null,"",null,{"$f":"IF(B75<=0,0,'Simulador Valora'!$AM$48)","v":0},null,5,1,0,0,0,"",{"$f":"IF(AH74=$AO$3,$AO$3,IF(AH74=$AO$3,AH74,IF(AH74-0.25%<=$AO$3,$AO$3,AH74-0.25%)))","v":0.17499999999999999},0,0,0,0,0,0,"",{"$f":"IF(AJ75<=0,0,IF('Simulador Valora'!$AC$62=1,0,AJ75*'Simulador Valora'!$Y$67+IF('Simulador Valora'!$X$35=2,'Simulador Valora'!$G$49,IF('Simulador Valora'!$X$35=1,'Simulador Valora'!$K$49,0))))","v":0},{"$f":"IF(AJ75<=0,0,$AQ$27)","v":0},{"$f":"AL75*'Simulador Valora'!$X$59","v":0},0,0,"",0,61]
[62,0,null,0,null,0,null,0,null,null,null,{"$f":"IF('Simulador Valora'!$V$60=1,0,J76*'Simulador Valora'!$V$61*'Simulador Valora'!$W$59)","v":0},null,"",null,0,null,{"$f":"IF('Simulador Valora'!$AC$62=1,0,IFERROR(IF(B76<=0,0,B76*'Simulador Valora'!$Y$67),0))","v":0},null,{"$f":"IF(OR('Simulador Valora'!$AC$62=1,'Simulador Valora'!$AC$66=1),0,IFERROR(IF(B76<=0,0,IF('Simulador Valora'!$X$35=2,IF('Simulador Valora'!$K$24>0,'Simulador Valora'!$K$24,'Simulador Valora'!$K$41)*'Simulador Valora'!$Y$68,IF('Simulador Valora'!$X$35=1,IF('Simulador Valora'!$K$24>0,'Simulador Valora'!$K$24,'Simulador Valora'!$G$41)*'Simulador Valora'!$Y$68,0))),0))","v":0},null,{"$f":"F76*'Simulador Valora'!$X$59","v":0},null,"",null,null,null,5,2,0,0,0,"",{"$f":"AH75","v":0.17499999999999999},0,0,0,0,0,0,"",{"$f":"IF(AJ76<=0,0,IF('Simulador Valora'!$AC$62=1,0,AJ76*'Simulador Valora'!$Y$67+IF('Simulador Valora'!$X$35=2,'Simulador Valora'!$G$49,IF('Simulador Valora'!$X$35=1,'Simulador Valora'!$K$49,0))))","v":0},null,{"$f":"AL76*'Simulador Valora'!$X$59","v":0},0,0,"",0,62]
[63,0,null,0,null,0,null,0,null,null,null,{"$f":"IF('Simulador Valora'!$V$60=1,0,J77*'Simulador Valora'!$V$61*'Simulador Valora'!$W$59)","v":0},null,"",null,0,null,{"$f":"IF('Simulador Valora'!$AC$62=1,0,IFERROR(IF(B77<=0,0,B77*'Simulador Valora'!$Y$67),0))","v":0},null,{"$f":"IF(OR('Simulador Valora'!$AC$62=1,'Simulador Valora'!$AC$66=1),0,IFERROR(IF(B77<=0,0,IF('Simulador Valora'!$X$35=2,IF('Simulador Valora'!$K$24>0,'Simulador Valora'!$K$24,'Simulador Valora'!$K$41)*'Simulador Valora'!$Y$68,IF('Simulador Valora'!$X$35=1,IF('Simulador Valora'!$K$24>0,'Simulador Valora'!$K$24,'Simulador Valora'!$G$41)*'Simulador Valora'!$Y$68,0))),0))","v":0},null,{"$f":"F77*'Simulador Valora'!$X$59","v":0},null,"",null,null,null,5,3,0,0,0,"",{"$f":"AH76","v":0.17499999999999999},0,0,0,0,0,0,"",{"$f":"IF(AJ77<=0,0,IF('Simulador Valora'!$AC$62=1,0,AJ77*'Simulador Valora'!$Y$67+IF('Simulador Valora'!$X$35=2,'Simulador Valora'!$G$49,IF('Simulador Valora'!$X$35=1,'Simulador Valora'!$K$49,0))))","v":0},null,{"$f":"AL77*'Simulador Valora'!$X$59","v":0},0,0,"",0,63]
[64,0,null,0,null,0,null,0,null,null,null,{"$f":"IF('Simulador Valora'!$V$60=1,0,J78*'Simulador Valora'!$V$61*'Simulador Valora'!$W$59)","v":0},null,"",null,0,null,{"$f":"IF('Simulador Valora'!$AC$62=1,0,IFERROR(IF(B78<=0,0,B78*'Simulador Valora'!$Y$67),0))","v":0},null,{"$f":"IF(OR('Simulador Valora'!$AC$62=1,'Simulador Valora'!$AC$66=1),0,IFERROR(IF(B78<=0,0,IF('Simulador Valora'!$X$35=2,IF('Simulador Valora'!$K$24>0,'Simulador Valora'!$K$24,'Simulador Valora'!$K$41)*'Simulador Valora'!$Y$68,IF('Simulador Valora'!$X$35=1,IF('Simulador Valora'!$K$24>0,'Simulador Valora'!$K$24,'Simulador Valora'!$G$41)*'Simulador Valora'!$Y$68,0))),0))","v":0},null,{"$f":"F78*'Simulador Valora'!$X$59","v":0},null,"",null,null,null,5,4,0,0,0,"",0.17499999999999999,0,0,0,0,0,0,"",{"$f":"IF(AJ78<=0,0,IF('Simulador Valora'!$AC$62=1,0,AJ78*'Simulador Valora'!$Y$67+IF('Simulador Valora'!$X$35=2,'Simulador Valora'!$G$49,IF('Simulador Valora'!$X$35=1,'Simulador Valora'!$K$49,0))))","v":0},null,{"$f":"AL78*'Simulador Valora'!$X$59","v":0},0,0,"",0,64]
[65,0,null,0,null,0,null,0,null,null,null,{"$f":"IF('Simulador Valora'!$V$60=1,0,J79*'Simulador Valora'!$V$61*'Simulador Valora'!$W$59)","v":0},null,"",null,0,null,{"$f":"IF('Simulador Valora'!$AC$62=1,0,IFERROR(IF(B79<=0,0,B79*'Simulador Valora'!$Y$67),0))","v":0},null,{"$f":"IF(OR('Simulador Valora'!$AC$62=1,'Simulador Valora'!$AC$66=1),0,IFERROR(IF(B79<=0,0,IF('Simulador Valora'!$X$35=2,IF('Simulador Valora'!$K$24>0,'Simulador Valora'!$K$24,'Simulador Valora'!$K$41)*'Simulador Valora'!$Y$68,IF('Simulador Valora'!$X$35=1,IF('Simulador Valora'!$K$24>0,'Simulador Valora'!$K$24,'Simulador Valora'!$G$41)*'Simulador Valora'!$Y$68,0))),0))","v":0},null,{"$f":"F79*'Simulador Valora'!$X$59","v":0},null,"",null,null,null,5,5,0,0,0,"",0.17499999999999999,0,0,0,0,{"$f":"+AK79-AL79","v":0},{"$f":"+AJ79-AM79","v":0},"",{"$f":"IF(AJ79<=0,0,IF('Simulador Valora'!$AC$62=1,0,AJ79*'Simulador Valora'!$Y$67+IF('Simulador Valora'!$X$35=2,'Simulador Valora'!$G$49,IF('Simulador Valora'!$X$35=1,'Simulador Valora'!$K$49,0))))","v":0},null,{"$f":"AL79*'Simulador Valora'!$X$59","v":0},0,0,"",0,65]
[66,0,null,0,null,{"$f":"IFERROR(IF(B80=0,0,N80/360*AV80*B80),0)","v":0},null,0,null,null,null,{"$f":"IF('Simulador Valora'!$V$60=1,0,J80*'Simulador Valora'!$V$61*'Simulador Valora'!$W$59)","v":0},null,{"$f":"IF(B80=0,\"\",AH80)","v":""},null,{"$f":"B80-H80-J80+L80","v":0},null,{"$f":"IF('Simulador Valora'!$AC$62=1,0,IFERROR(IF(B80<=0,0,B80*'Simulador Valora'!$Y$67),0))","v":0},null,{"$f":"IF(OR('Simulador Valora'!$AC$62=1,'Simulador Valora'!$AC$66=1),0,IFERROR(IF(B80<=0,0,IF('Simulador Valora'!$X$35=2,IF('Simulador Valora'!$K$24>0,'Simulador Valora'!$K$24,'Simulador Valora'!$K$41)*'Simulador Valora'!$Y$68,IF('Simulador Valora'!$X$35=1,IF('Simulador Valora'!$K$24>0,'Simulador Valora'!$K$24,'Simulador Valora'!$G$41)*'Simulador Valora'!$Y$68,0))),0))","v":0},null,{"$f":"F80*'Simulador Valora'!$X$59","v":0},null,{"$f":"IF(B80<=0,\"\",(D80+J80+R80+V80+T80))","v":""},null,null,null,5,6,{"$f":"+IF(P80<=0,IF(P79>0,+A80,0),0)","v":0},{"$f":"+IF(AD80>0,+AB80,0)","v":0},{"$f":"+IF(AD80>0,+AC80,0)","v":0},{"$f":"X80","v":""},0.17499999999999999,{"$f":"IFERROR(AK80/AJ80,0)","v":0},0,{"$f":"IFERROR((IF(AJ80+AL80-AK79<0, AJ80+AL80, AK79*(1+AQ80))),0)","v":0},{"$f":"IFERROR((AO80/360*AV80*AJ80),0)","v":0},0,0,{"$f":"IF(AJ80=0,\"\",AH80)","v":""},{"$f":"IF(AJ80<=0,0,IF('Simulador Valora'!$AC$62=1,0,AJ80*'Simulador Valora'!$Y$67+IF('Simulador Valora'!$X$35=2,'Simulador Valora'!$G$49,IF('Simulador Valora'!$X$35=1,'Simulador Valora'!$K$49,0))))","v":0},null,{"$f":"AL80*'Simulador Valora'!$X$59","v":0},{"$f":"AL80+AM80+AP80","v":0},{"$f":"IFERROR(IF(AK80<=0.01,0,AT79-1),0)","v":0},"",{"$f":"IFERROR(DAY(DATE(YEAR(AU80),MONTH(AU80)+1,0)),0)","v":0},66]
[67,{"$f":"IF(P80<=0,0,P80)","v":0},null,{"$f":"IF(B81+F81-D80<=0,B81+F81,IF(J80=0,D80*(1+Z81),IF($AS$2=2,B81*AI81,D80*(1+Z81))))","v":0},null,0,null,{"$f":"D81-F81","v":0},null,null,null,{"$f":"IF('Simulador Valora'!$V$60=1,0,J81*'Simulador Valora'!$V$61*'Simulador Valora'!$W$59)","v":0},null,"",null,0,null,{"$f":"IF('Simulador Valora'!$AC$62=1,0,IFERROR(IF(B81<=0,0,B81*'Simulador Valora'!$Y$67),0))","v":0},null,{"$f":"IF(OR('Simulador Valora'!$AC$62=1,'Simulador Valora'!$AC$66=1),0,IFERROR(IF(B81<=0,0,IF('Simulador Valora'!$X$35=2,IF('Simulador Valora'!$K$24>0,'Simulador Valora'!$K$24,'Simulador Valora'!$K$41)*'Simulador Valora'!$Y$68,IF('Simulador Valora'!$X$35=1,IF('Simulador Valora'!$K$24>0,'Simulador Valora'!$K$24,'Simulador Valora'!$G$41)*'Simulador Valora'!$Y$68,0))),0))","v":0},null,{"$f":"F81*'Simulador Valora'!$X$59","v":0},null,"",null,null,null,5,7,0,0,0,"",0.17499999999999999,0,{"$f":"AN80","v":0},0,0,0,0,"",{"$f":"IF(AJ81<=0,0,IF('Simulador Valora'!$AC$62=1,0,AJ81*'Simulador Valora'!$Y$67+IF('Simulador Valora'!$X$35=2,'Simulador Valora'!$G$49,IF('Simulador Valora'!$X$35=1,'Simulador Valora'!$K$49,0))))","v":0},null,{"$f":"AL81*'Simulador Valora'!$X$59","v":0},0,0,{"$f":"IF(AJ81=0,\"\",DATE(YEAR(AU80),MONTH(AU80)+1,1))","v":""},0,67]
[68,0,null,0,null,0,null,0,null,null,null,{"$f":"IF('Simulador Valora'!$V$60=1,0,J82*'Simulador Valora'!$V$61*'Simulador Valora'!$W$59)","v":0},null,"",null,0,null,{"$f":"IF('Simulador Valora'!$AC$62=1,0,IFERROR(IF(B82<=0,0,B82*'Simulador Valora'!$Y$67),0))","v":0},null,{"$f":"IF(OR('Simulador Valora'!$AC$62=1,'Simulador Valora'!$AC$66=1),0,IFERROR(IF(B82<=0,0,IF('Simulador Valora'!$X$35=2,IF('Simulador Valora'!$K$24>0,'Simulador Valora'!$K$24,'Simulador Valora'!$K$41)*'Simulador Valora'!$Y$68,IF('Simulador Valora'!$X$35=1,IF('Simulador Valora'!$K$24>0,'Simulador Valora'!$K$24,'Simulador Valora'!$G$41)*'Simulador Valora'!$Y$68,0))),0))","v":0},null,{"$f":"F82*'Simulador Valora'!$X$59","v":0},null,"",null,null,null,5,8,0,0,0,"",0.17499999999999999,0,0,0,0,0,0,"",{"$f":"IF(AJ82<=0,0,IF('Simulador Valora'!$AC$62=1,0,AJ82*'Simulador Valora'!$Y$67+IF('Simulador Valora'!$X$35=2,'Simulador Valora'!$G$49,IF('Simulador Valora'!$X$35=1,'Simulador Valora'!$K$49,0))))","v":0},null,{"$f":"AL82*'Simulador Valora'!$X$59","v":0},0,0,"",0,68]
[69,0,null,0,null,0,null,0,null,null,null,{"$f":"IF('Simulador Valora'!$V$60=1,0,J83*'Simulador Valora'!$V$61*'Simulador Valora'!$W$59)","v":0},null,"",null,0,null,{"$f":"IF('Simulador Valora'!$AC$62=1,0,IFERROR(IF(B83<=0,0,B83*'Simulador Valora'!$Y$67),0))","v":0},null,{"$f":"IF(OR('Simulador Valora'!$AC$62=1,'Simulador Valora'!$AC$66=1),0,IFERROR(IF(B83<=0,0,IF('Simulador Valora'!$X$35=2,IF('Simulador Valora'!$K$24>0,'Simulador Valora'!$K$24,'Simulador Valora'!$K$41)*'Simulador Valora'!$Y$68,IF('Simulador Valora'!$X$35=1,IF('Simulador Valora'!$K$24>0,'Simulador Valora'!$K$24,'Simulador Valora'!$G$41)*'Simulador Valora'!$Y$68,0))),0))","v":0},null,{"$f":"F83*'Simulador Valora'!$X$59","v":0},null,"",null,null,null,5,9,0,0,0,"",0.17499999999999999,0,0,0,0,0,0,"",{"$f":"IF(AJ83<=0,0,IF('Simulador Valora'!$AC$62=1,0,AJ83*'Simulador Valora'!$Y$67+IF('Simulador Valora'!$X$35=2,'Simulador Valora'!$G$49,IF('Simulador Valora'!$X$35=1,'Simulador Valora'!$K$49,0))))","v":0},null,{"$f":"AL83*'Simulador Valora'!$X$59","v":0},0,0,"",0,69]
[70,0,null,0,null,0,null,0,null,null,null,{"$f":"IF('Simulador Valora'!$V$60=1,0,J84*'Simulador Valora'!$V$61*'Simulador Valora'!$W$59)","v":0},null,"",null,0,null,{"$f":"IF('Simulador Valora'!$AC$62=1,0,IFERROR(IF(B84<=0,0,B84*'Simulador Valora'!$Y$67),0))","v":0},null,{"$f":"IF(OR('Simulador Valora'!$AC$62=1,'Simulador Valora'!$AC$66=1),0,IFERROR(IF(B84<=0,0,IF('Simulador Valora'!$X$35=2,IF('Simulador Valora'!$K$24>0,'Simulador Valora'!$K$24,'Simulador Valora'!$K$41)*'Simulador Valora'!$Y$68,IF('Simulador Valora'!$X$35=1,IF('Simulador Valora'!$K$24>0,'Simulador Valora'!$K$24,'Simulador Valora'!$G$41)*'Simulador Valora'!$Y$68,0))),0))","v":0},null,{"$f":"F84*'Simulador Valora'!$X$59","v":0},null,"",null,null,null,5,10,0,0,0,"",0.17499999999999999,0,0,0,0,0,0,"",{"$f":"IF(AJ84<=0,0,IF('Simulador Valora'!$AC$62=1,0,AJ84*'Simulador Valora'!$Y$67+IF('Simulador Valora'!$X$35=2,'Simulador Valora'!$G$49,IF('Simulador Valora'!$X$35=1,'Simulador Valora'!$K$49,0))))","v":0},null,{"$f":"AL84*'Simulador Valora'!$X$59","v":0},0,0,"",0,70]
[71,0,null,0,null,0,null,0,null,null,null,{"$f":"IF('Simulador Valora'!$V$60=1,0,J85*'Simulador Valora'!$V$61*'Simulador Valora'!$W$59)","v":0},null,"",null,0,null,{"$f":"IF('Simulador Valora'!$AC$62=1,0,IFERROR(IF(B85<=0,0,B85*'Simulador Valora'!$Y$67),0))","v":0},null,{"$f":"IF(OR('Simulador Valora'!$AC$62=1,'Simulador Valora'!$AC$66=1),0,IFERROR(IF(B85<=0,0,IF('Simulador Valora'!$X$35=2,IF('Simulador Valora'!$K$24>0,'Simulador Valora'!$K$24,'Simulador Valora'!$K$41)*'Simulador Valora'!$Y$68,IF('Simulador Valora'!$X$35=1,IF('Simulador Valora'!$K$24>0,'Simulador Valora'!$K$24,'Simulador Valora'!$G$41)*'Simulador Valora'!$Y$68,0))),0))","v":0},null,{"$f":"F85*'Simulador Valora'!$X$59","v":0},null,"",null,null,null,5,11,0,0,0,"",0.17499999999999999,0,0,0,0,0,0,"",{"$f":"IF(AJ85<=0,0,IF('Simulador Valora'!$AC$62=1,0,AJ85*'Simulador Valora'!$Y$67+IF('Simulador Valora'!$X$35=2,'Simulador Valora'!$G$49,IF('Simulador Valora'!$X$35=1,'Simulador Valora'!$K$49,0))))","v":0},null,{"$f":"AL85*'Simulador Valora'!$X$59","v":0},0,0,"",0,71]
[72,0,null,0,null,0,null,0,null,null,null,{"$f":"IF('Simulador Valora'!$V$60=1,0,J86*'Simulador Valora'!$V$61*'Simulador Valora'!$W$59)","v":0},null,"",null,0,null,{"$f":"IF('Simulador Valora'!$AC$62=1,0,IFERROR(IF(B86<=0,0,B86*'Simulador Valora'!$Y$67),0))","v":0},null,{"$f":"IF(OR('Simulador Valora'!$AC$62=1,'Simulador Valora'!$AC$66=1),0,IFERROR(IF(B86<=0,0,IF('Simulador Valora'!$X$35=2,IF('Simulador Valora'!$K$24>0,'Simulador Valora'!$K$24,'Simulador Valora'!$K$41)*'Simulador Valora'!$Y$68,IF('Simulador Valora'!$X$35=1,IF('Simulador Valora'!$K$24>0,'Simulador Valora'!$K$24,'Simulador Valora'!$G$41)*'Simulador Valora'!$Y$68,0))),0))","v":0},null,{"$f":"F86*'Simulador Valora'!$X$59","v":0},null,"",null,null,null,6,0,0,0,0,"",0.17499999999999999,0,0,0,0,0,0,"",{"$f":"IF(AJ86<=0,0,IF('Simulador Valora'!$AC$62=1,0,AJ86*'Simulador Valora'!$Y$67+IF('Simulador Valora'!$X$35=2,'Simulador Valora'!$G$49,IF('Simulador Valora'!$X$35=1,'Simulador Valora'!$K$49,0))))","v":0},null,{"$f":"AL86*'Simulador Valora'!$X$59","v":0},0,0,"",0,72]
[73,0,null,0,null,0,null,0,null,null,null,{"$f":"IF('Simulador Valora'!$V$60=1,0,J87*'Simulador Valora'!$V$61*'Simulador Valora'!$W$59)","v":0},null,"",null,0,null,{"$f":"IF('Simulador Valora'!$AC$62=1,0,IFERROR(IF(B87<=0,0,B87*'Simulador Valora'!$Y$67),0))","v":0},null,{"$f":"IF(OR('Simulador Valora'!$AC$62=1,'Simulador Valora'!$AC$66=1),0,IFERROR(IF(B87<=0,0,IF('Simulador Valora'!$X$35=2,IF('Simulador Valora'!$K$24>0,'Simulador Valora'!$K$24,'Simulador Valora'!$K$41)*'Simulador Valora'!$Y$68,IF('Simulador Valora'!$X$35=1,IF('Simulador Valora'!$K$24>0,'Simulador Valora'!$K$24,'Simulador Valora'!$G$41)*'Simulador Valora'!$Y$68,0))),0))","v":0},null,{"$f":"F87*'Simulador Valora'!$X$59","v":0},null,"",null,{"$f":"IF(B87<=0,0,'Simulador Valora'!$AM$48)","v":0},null,6,1,0,0,0,"",{"$f":"IF(AH86=$AO$3,$AO$3,IF(AH86=$AO$3,AH86,IF(AH86-0.25%<=$AO$3,$AO$3,AH86-0.25%)))","v":0.17499999999999999},0,0,0,0,0,0,"",{"$f":"IF(AJ87<=0,0,IF('Simulador Valora'!$AC$62=1,0,AJ87*'Simulador Valora'!$Y$67+IF('Simulador Valora'!$X$35=2,'Simulador Valora'!$G$49,IF('Simulador Valora'!$X$35=1,'Simulador Valora'!$K$49,0))))","v":0},{"$f":"IF(AJ87<=0,0,$AQ$27)","v":0},{"$f":"AL87*'Simulador Valora'!$X$59","v":0},0,0,"",0,73]
[74,0,null,0,null,0,null,0,null,null,null,{"$f":"IF('Simulador Valora'!$V$60=1,0,J88*'Simulador Valora'!$V$61*'Simulador Valora'!$W$59)","v":0},null,"",null,0,null,{"$f":"IF('Simulador Valora'!$AC$62=1,0,IFERROR(IF(B88<=0,0,B88*'Simulador Valora'!$Y$67),0))","v":0},null,{"$f":"IF(OR('Simulador Valora'!$AC$62=1,'Simulador Valora'!$AC$66=1),0,IFERROR(IF(B88<=0,0,IF('Simulador Valora'!$X$35=2,IF('Simulador Valora'!$K$24>0,'Simulador Valora'!$K$24,'Simulador Valora'!$K$41)*'Simulador Valora'!$Y$68,IF('Simulador Valora'!$X$35=1,IF('Simulador Valora'!$K$24>0,'Simulador Valora'!$K$24,'Simulador Valora'!$G$41)*'Simulador Valora'!$Y$68,0))),0))","v":0},null,{"$f":"F88*'Simulador Valora'!$X$59","v":0},null,"",null,null,null,6,2,0,0,0,"",{"$f":"AH87","v":0.17499999999999999},0,0,0,0,0,0,"",{"$f":"IF(AJ88<=0,0,IF('Simulador Valora'!$AC$62=1,0,AJ88*'Simulador Valora'!$Y$67+IF('Simulador Valora'!$X$35=2,'Simulador Valora'!$G$49,IF('Simulador Valora'!$X$35=1,'Simulador Valora'!$K$49,0))))","v":0},null,{"$f":"AL88*'Simulador Valora'!$X$59","v":0},0,0,"",0,74]
[75,0,null,0,null,0,null,0,null,null,null,{"$f":"IF('Simulador Valora'!$V$60=1,0,J89*'Simulador Valora'!$V$61*'Simulador Valora'!$W$59)","v":0},null,"",null,0,null,{"$f":"IF('Simulador Valora'!$AC$62=1,0,IFERROR(IF(B89<=0,0,B89*'Simulador Valora'!$Y$67),0))","v":0},null,{"$f":"IF(OR('Simulador Valora'!$AC$62=1,'Simulador Valora'!$AC$66=1),0,IFERROR(IF(B89<=0,0,IF('Simulador Valora'!$X$35=2,IF('Simulador Valora'!$K$24>0,'Simulador Valora'!$K$24,'Simulador Valora'!$K$41)*'Simulador Valora'!$Y$68,IF('Simulador Valora'!$X$35=1,IF('Simulador Valora'!$K$24>0,'Simulador Valora'!$K$24,'Simulador Valora'!$G$41)*'Simulador Valora'!$Y$68,0))),0))","v":0},null,{"$f":"F89*'Simulador Valora'!$X$59","v":0},null,"",null,null,null,6,3,0,0,0,"",{"$f":"AH88","v":0.17499999999999999},0,0,0,0,0,0,"",{"$f":"IF(AJ89<=0,0,IF('Simulador Valora'!$AC$62=1,0,AJ89*'Simulador Valora'!$Y$67+IF('Simulador Valora'!$X$35=2,'Simulador Valora'!$G$49,IF('Simulador Valora'!$X$35=1,'Simulador Valora'!$K$49,0))))","v":0},null,{"$f":"AL89*'Simulador Valora'!$X$59","v":0},0,0,"",0,75]
[76,0,null,0,null,0,null,0,null,null,null,{"$f":"IF('Simulador Valora'!$V$60=1,0,J90*'Simulador Valora'!$V$61*'Simulador Valora'!$W$59)","v":0},null,"",null,0,null,{"$f":"IF('Simulador Valora'!$AC$62=1,0,IFERROR(IF(B90<=0,0,B90*'Simulador Valora'!$Y$67),0))","v":0},null,{"$f":"IF(OR('Simulador Valora'!$AC$62=1,'Simulador Valora'!$AC$66=1),0,IFERROR(IF(B90<=0,0,IF('Simulador Valora'!$X$35=2,IF('Simulador Valora'!$K$24>0,'Simulador Valora'!$K$24,'Simulador Valora'!$K$41)*'Simulador Valora'!$Y$68,IF('Simulador Valora'!$X$35=1,IF('Simulador Valora'!$K$24>0,'Simulador Valora'!$K$24,'Simulador Valora'!$G$41)*'Simulador Valora'!$Y$68,0))),0))","v":0},null,{"$f":"F90*'Simulador Valora'!$X$59","v":0},null,"",null,null,null,6,4,0,0,0,"",0.17499999999999999,0,0,0,0,0,0,"",{"$f":"IF(AJ90<=0,0,IF('Simulador Valora'!$AC$62=1,0,AJ90*'Simulador Valora'!$Y$67+IF('Simulador Valora'!$X$35=2,'Simulador Valora'!$G$49,IF('Simulador Valora'!$X$35=1,'Simulador Valora'!$K$49,0))))","v":0},null,{"$f":"AL90*'Simulador Valora'!$X$59","v":0},0,0,"",0,76]
[77,0,null,0,null,0,null,0,null,null,null,{"$f":"IF('Simulador Valora'!$V$60=1,0,J91*'Simulador Valora'!$V$61*'Simulador Valora'!$W$59)","v":0},null,"",null,0,null,{"$f":"IF('Simulador Valora'!$AC$62=1,0,IFERROR(IF(B91<=0,0,B91*'Simulador Valora'!$Y$67),0))","v":0},null,{"$f":"IF(OR('Simulador Valora'!$AC$62=1,'Simulador Valora'!$AC$66=1),0,IFERROR(IF(B91<=0,0,IF('Simulador Valora'!$X$35=2,IF('Simulador Valora'!$K$24>0,'Simulador Valora'!$K$24,'Simulador Valora'!$K$41)*'Simulador Valora'!$Y$68,IF('Simulador Valora'!$X$35=1,IF('Simulador Valora'!$K$24>0,'Simulador Valora'!$K$24,'Simulador Valora'!$G$41)*'Simulador Valora'!$Y$68,0))),0))","v":0},null,{"$f":"F91*'Simulador Valora'!$X$59","v":0},null,"",null,null,null,6,5,0,0,0,"",0.17499999999999999,0,0,0,0,0,0,"",{"$f":"IF(AJ91<=0,0,IF('Simulador Valora'!$AC$62=1,0,AJ91*'Simulador Valora'!$Y$67+IF('Simulador Valora'!$X$35=2,'Simulador Valora'!$G$49,IF('Simulador Valora'!$X$35=1,'Simulador Valora'!$K$49,0))))","v":0},null,{"$f":"AL91*'Simulador Valora'!$X$59","v":0},0,0,"",0,77]
[78,0,null,0,null,0,null,0,null,null,null,{"$f":"IF('Simulador Valora'!$V$60=1,0,J92*'Simulador Valora'!$V$61*'Simulador Valora'!$W$59)","v":0},null,"",null,0,null,{"$f":"IF('Simulador Valora'!$AC$62=1,0,IFERROR(IF(B92<=0,0,B92*'Simulador Valora'!$Y$67),0))","v":0},null,{"$f":"IF(OR('Simulador Valora'!$AC$62=1,'Simulador Valora'!$AC$66=1),0,IFERROR(IF(B92<=0,0,IF('Simulador Valora'!$X$35=2,IF('Simulador Valora'!$K$24>0,'Simulador Valora'!$K$24,'Simulador Valora'!$K$41)*'Simulador Valora'!$Y$68,IF('Simulador Valora'!$X$35=1,IF('Simulador Valora'!$K$24>0,'Simulador Valora'!$K$24,'Simulador Valora'!$G$41)*'Simulador Valora'!$Y$68,0))),0))","v":0},null,{"$f":"F92*'Simulador Valora'!$X$59","v":0},null,"",null,null,null,6,6,0,0,0,"",0.17499999999999999,0,0,0,0,0,0,"",{"$f":"IF(AJ92<=0,0,IF('Simulador Valora'!$AC$62=1,0,AJ92*'Simulador Valora'!$Y$67+IF('Simulador Valora'!$X$35=2,'Simulador Valora'!$G$49,IF('Simulador Valora'!$X$35=1,'Simulador Valora'!$K$49,0))))","v":0},null,{"$f":"AL92*'Simulador Valora'!$X$59","v":0},0,0,"",0,78]
[79,0,null,0,null,0,null,0,null,null,null,{"$f":"IF('Simulador Valora'!$V$60=1,0,J93*'Simulador Valora'!$V$61*'Simulador Valora'!$W$59)","v":0},null,"",null,0,null,{"$f":"IF('Simulador Valora'!$AC$62=1,0,IFERROR(IF(B93<=0,0,B93*'Simulador Valora'!$Y$67),0))","v":0},null,{"$f":"IF(OR('Simulador Valora'!$AC$62=1,'Simulador Valora'!$AC$66=1),0,IFERROR(IF(B93<=0,0,IF('Simulador Valora'!$X$35=2,IF('Simulador Valora'!$K$24>0,'Simulador Valora'!$K$24,'Simulador Valora'!$K$41)*'Simulador Valora'!$Y$68,IF('Simulador Valora'!$X$35=1,IF('Simulador Valora'!$K$24>0,'Simulador Valora'!$K$24,'Simulador Valora'!$G$41)*'Simulador Valora'!$Y$68,0))),0))","v":0},null,{"$f":"F93*'Simulador Valora'!$X$59","v":0},null,"",null,null,null,6,7,0,0,0,"",0.17499999999999999,0,0,0,0,0,0,"",{"$f":"IF(AJ93<=0,0,IF('Simulador Valora'!$AC$62=1,0,AJ93*'Simulador Valora'!$Y$67+IF('Simulador Valora'!$X$35=2,'Simulador Valora'!$G$49,IF('Simulador Valora'!$X$35=1,'Simulador Valora'!$K$49,0))))","v":0},null,{"$f":"AL93*'Simulador Valora'!$X$59","v":0},0,0,"",0,79]
[80,0,null,0,null,0,null,0,null,null,null,{"$f":"IF('Simulador Valora'!$V$60=1,0,J94*'Simulador Valora'!$V$61*'Simulador Valora'!$W$59)","v":0},null,"",null,0,null,{"$f":"IF('Simulador Valora'!$AC$62=1,0,IFERROR(IF(B94<=0,0,B94*'Simulador Valora'!$Y$67),0))","v":0},null,{"$f":"IF(OR('Simulador Valora'!$AC$62=1,'Simulador Valora'!$AC$66=1),0,IFERROR(IF(B94<=0,0,IF('Simulador Valora'!$X$35=2,IF('Simulador Valora'!$K$24>0,'Simulador Valora'!$K$24,'Simulador Valora'!$K$41)*'Simulador Valora'!$Y$68,IF('Simulador Valora'!$X$35=1,IF('Simulador Valora'!$K$24>0,'Simulador Valora'!$K$24,'Simulador Valora'!$G$41)*'Simulador Valora'!$Y$68,0))),0))","v":0},null,{"$f":"F94*'Simulador Valora'!$X$59","v":0},null,"",null,null,null,6,8,0,0,0,"",0.17499999999999999,0,0,0,0,0,0,"",{"$f":"IF(AJ94<=0,0,IF('Simulador Valora'!$AC$62=1,0,AJ94*'Simulador Valora'!$Y$67+IF('Simulador Valora'!$X$35=2,'Simulador Valora'!$G$49,IF('Simulador Valora'!$X$35=1,'Simulador Valora'!$K$49,0))))","v":0},null,{"$f":"AL94*'Simulador Valora'!$X$59","v":0},0,0,"",0,80]
[81,0,null,0,null,0,null,0,null,null,null,{"$f":"IF('Simulador Valora'!$V$60=1,0,J95*'Simulador Valora'!$V$61*'Simulador Valora'!$W$59)","v":0},null,"",null,0,null,{"$f":"IF('Simulador Valora'!$AC$62=1,0,IFERROR(IF(B95<=0,0,B95*'Simulador Valora'!$Y$67),0))","v":0},null,{"$f":"IF(OR('Simulador Valora'!$AC$62=1,'Simulador Valora'!$AC$66=1),0,IFERROR(IF(B95<=0,0,IF('Simulador Valora'!$X$35=2,IF('Simulador Valora'!$K$24>0,'Simulador Valora'!$K$24,'Simulador Valora'!$K$41)*'Simulador Valora'!$Y$68,IF('Simulador Valora'!$X$35=1,IF('Simulador Valora'!$K$24>0,'Simulador Valora'!$K$24,'Simulador Valora'!$G$41)*'Simulador Valora'!$Y$68,0))),0))","v":0},null,{"$f":"F95*'Simulador Valora'!$X$59","v":0},null,"",null,null,null,6,9,0,0,0,"",0.17499999999999999,0,0,0,0,0,0,"",{"$f":"IF(AJ95<=0,0,IF('Simulador Valora'!$AC$62=1,0,AJ95*'Simulador Valora'!$Y$67+IF('Simulador Valora'!$X$35=2,'Simulador Valora'!$G$49,IF('Simulador Valora'!$X$35=1,'Simulador Valora'!$K$49,0))))","v":0},null,{"$f":"AL95*'Simulador Valora'!$X$59","v":0},0,0,"",0,81]
[82,0,null,0,null,0,null,0,null,null,null,{"$f":"IF('Simulador Valora'!$V$60=1,0,J96*'Simulador Valora'!$V$61*'Simulador Valora'!$W$59)","v":0},null,"",null,0,null,{"$f":"IF('Simulador Valora'!$AC$62=1,0,IFERROR(IF(B96<=0,0,B96*'Simulador Valora'!$Y$67),0))","v":0},null,{"$f":"IF(OR('Simulador Valora'!$AC$62=1,'Simulador Valora'!$AC$66=1),0,IFERROR(IF(B96<=0,0,IF('Simulador Valora'!$X$35=2,IF('Simulador Valora'!$K$24>0,'Simulador Valora'!$K$24,'Simulador Valora'!$K$41)*'Simulador Valora'!$Y$68,IF('Simulador Valora'!$X$35=1,IF('Simulador Valora'!$K$24>0,'Simulador Valora'!$K$24,'Simulador Valora'!$G$41)*'Simulador Valora'!$Y$68,0))),0))","v":0},null,{"$f":"F96*'Simulador Valora'!$X$59","v":0},null,"",null,null,null,6,10,0,0,0,"",0.17499999999999999,0,0,0,0,0,0,"",{"$f":"IF(AJ96<=0,0,IF('Simulador Valora'!$AC$62=1,0,AJ96*'Simulador Valora'!$Y$67+IF('Simulador Valora'!$X$35=2,'Simulador Valora'!$G$49,IF('Simulador Valora'!$X$35=1,'Simulador Valora'!$K$49,0))))","v":0},null,{"$f":"AL96*'Simulador Valora'!$X$59","v":0},0,0,"",0,82]
[83,0,null,0,null,0,null,0,null,null,null,{"$f":"IF('Simulador Valora'!$V$60=1,0,J97*'Simulador Valora'!$V$61*'Simulador Valora'!$W$59)","v":0},null,"",null,0,null,{"$f":"IF('Simulador Valora'!$AC$62=1,0,IFERROR(IF(B97<=0,0,B97*'Simulador Valora'!$Y$67),0))","v":0},null,{"$f":"IF(OR('Simulador Valora'!$AC$62=1,'Simulador Valora'!$AC$66=1),0,IFERROR(IF(B97<=0,0,IF('Simulador Valora'!$X$35=2,IF('Simulador Valora'!$K$24>0,'Simulador Valora'!$K$24,'Simulador Valora'!$K$41)*'Simulador Valora'!$Y$68,IF('Simulador Valora'!$X$35=1,IF('Simulador Valora'!$K$24>0,'Simulador Valora'!$K$24,'Simulador Valora'!$G$41)*'Simulador Valora'!$Y$68,0))),0))","v":0},null,{"$f":"F97*'Simulador Valora'!$X$59","v":0},null,"",null,null,null,6,11,0,0,0,"",0.17499999999999999,0,0,0,0,0,0,"",{"$f":"IF(AJ97<=0,0,IF('Simulador Valora'!$AC$62=1,0,AJ97*'Simulador Valora'!$Y$67+IF('Simulador Valora'!$X$35=2,'Simulador Valora'!$G$49,IF('Simulador Valora'!$X$35=1,'Simulador Valora'!$K$49,0))))","v":0},null,{"$f":"AL97*'Simulador Valora'!$X$59","v":0},0,0,"",0,83]
[84,0,null,0,null,0,null,0,null,null,null,{"$f":"IF('Simulador Valora'!$V$60=1,0,J98*'Simulador Valora'!$V$61*'Simulador Valora'!$W$59)","v":0},null,"",null,0,null,{"$f":"IF('Simulador Valora'!$AC$62=1,0,IFERROR(IF(B98<=0,0,B98*'Simulador Valora'!$Y$67),0))","v":0},null,{"$f":"IF(OR('Simulador Valora'!$AC$62=1,'Simulador Valora'!$AC$66=1),0,IFERROR(IF(B98<=0,0,IF('Simulador Valora'!$X$35=2,IF('Simulador Valora'!$K$24>0,'Simulador Valora'!$K$24,'Simulador Valora'!$K$41)*'Simulador Valora'!$Y$68,IF('Simulador Valora'!$X$35=1,IF('Simulador Valora'!$K$24>0,'Simulador Valora'!$K$24,'Simulador Valora'!$G$41)*'Simulador Valora'!$Y$68,0))),0))","v":0},null,{"$f":"F98*'Simulador Valora'!$X$59","v":0},null,"",null,null,null,7,0,0,0,0,"",0.17499999999999999,0,0,0,0,0,0,"",{"$f":"IF(AJ98<=0,0,IF('Simulador Valora'!$AC$62=1,0,AJ98*'Simulador Valora'!$Y$67+IF('Simulador Valora'!$X$35=2,'Simulador Valora'!$G$49,IF('Simulador Valora'!$X$35=1,'Simulador Valora'!$K$49,0))))","v":0},null,{"$f":"AL98*'Simulador Valora'!$X$59","v":0},0,0,"",0,84]
[85,0,null,0,null,0,null,0,null,null,null,{"$f":"IF('Simulador Valora'!$V$60=1,0,J99*'Simulador Valora'!$V$61*'Simulador Valora'!$W$59)","v":0},null,"",null,0,null,{"$f":"IF('Simulador Valora'!$AC$62=1,0,IFERROR(IF(B99<=0,0,B99*'Simulador Valora'!$Y$67),0))","v":0},null,{"$f":"IF(OR('Simulador Valora'!$AC$62=1,'Simulador Valora'!$AC$66=1),0,IFERROR(IF(B99<=0,0,IF('Simulador Valora'!$X$35=2,IF('Simulador Valora'!$K$24>0,'Simulador Valora'!$K$24,'Simulador Valora'!$K$41)*'Simulador Valora'!$Y$68,IF('Simulador Valora'!$X$35=1,IF('Simulador Valora'!$K$24>0,'Simulador Valora'!$K$24,'Simulador Valora'!$G$41)*'Simulador Valora'!$Y$68,0))),0))","v":0},null,{"$f":"F99*'Simulador Valora'!$X$59","v":0},null,"",null,{"$f":"IF(B99<=0,0,'Simulador Valora'!$AM$48)","v":0},null,7,1,0,0,0,"",{"$f":"IF(AH98=$AO$3,$AO$3,IF(AH98=$AO$3,AH98,IF(AH98-0.25%<=$AO$3,$AO$3,AH98-0.25%)))","v":0.17499999999999999},0,0,0,0,0,0,"",{"$f":"IF(AJ99<=0,0,IF('Simulador Valora'!$AC$62=1,0,AJ99*'Simulador Valora'!$Y$67+IF('Simulador Valora'!$X$35=2,'Simulador Valora'!$G$49,IF('Simulador Valora'!$X$35=1,'Simulador Valora'!$K$49,0))))","v":0},{"$f":"IF(AJ99<=0,0,$AQ$27)","v":0},{"$f":"AL99*'Simulador Valora'!$X$59","v":0},0,0,"",0,85]
[86,0,null,0,null,0,null,0,null,null,null,{"$f":"IF('Simulador Valora'!$V$60=1,0,J100*'Simulador Valora'!$V$61*'Simulador Valora'!$W$59)","v":0},null,"",null,0,null,{"$f":"IF('Simulador Valora'!$AC$62=1,0,IFERROR(IF(B100<=0,0,B100*'Simulador Valora'!$Y$67),0))","v":0},null,{"$f":"IF(OR('Simulador Valora'!$AC$62=1,'Simulador Valora'!$AC$66=1),0,IFERROR(IF(B100<=0,0,IF('Simulador Valora'!$X$35=2,IF('Simulador Valora'!$K$24>0,'Simulador Valora'!$K$24,'Simulador Valora'!$K$41)*'Simulador Valora'!$Y$68,IF('Simulador Valora'!$X$35=1,IF('Simulador Valora'!$K$24>0,'Simulador Valora'!$K$24,'Simulador Valora'!$G$41)*'Simulador Valora'!$Y$68,0))),0))","v":0},null,{"$f":"F100*'Simulador Valora'!$X$59","v":0},null,"",null,null,null,7,2,0,0,0,"",{"$f":"AH99","v":0.17499999999999999},0,0,0,0,0,0,"",{"$f":"IF(AJ100<=0,0,IF('Simulador Valora'!$AC$62=1,0,AJ100*'Simulador Valora'!$Y$67+IF('Simulador Valora'!$X$35=2,'Simulador Valora'!$G$49,IF('Simulador Valora'!$X$35=1,'Simulador Valora'!$K$49,0))))","v":0},null,{"$f":"AL100*'Simulador Valora'!$X$59","v":0},0,0,"",0,86]
[87,0,null,0,null,0,null,0,null,null,null,{"$f":"IF('Simulador Valora'!$V$60=1,0,J101*'Simulador Valora'!$V$61*'Simulador Valora'!$W$59)","v":0},null,"",null,0,null,{"$f":"IF('Simulador Valora'!$AC$62=1,0,IFERROR(IF(B101<=0,0,B101*'Simulador Valora'!$Y$67),0))","v":0},null,{"$f":"IF(OR('Simulador Valora'!$AC$62=1,'Simulador Valora'!$AC$66=1),0,IFERROR(IF(B101<=0,0,IF('Simulador Valora'!$X$35=2,IF('Simulador Valora'!$K$24>0,'Simulador Valora'!$K$24,'Simulador Valora'!$K$41)*'Simulador Valora'!$Y$68,IF('Simulador Valora'!$X$35=1,IF('Simulador Valora'!$K$24>0,'Simulador Valora'!$K$24,'Simulador Valora'!$G$41)*'Simulador Valora'!$Y$68,0))),0))","v":0},null,{"$f":"F101*'Simulador Valora'!$X$59","v":0},null,"",null,null,null,7,3,0,0,0,"",{"$f":"AH100","v":0.17499999999999999},0,0,0,0,0,0,"",{"$f":"IF(AJ101<=0,0,IF('Simulador Valora'!$AC$62=1,0,AJ101*'Simulador Valora'!$Y$67+IF('Simulador Valora'!$X$35=2,'Simulador Valora'!$G$49,IF('Simulador Valora'!$X$35=1,'Simulador Valora'!$K$49,0))))","v":0},null,{"$f":"AL101*'Simulador Valora'!$X$59","v":0},0,0,"",0,87]
[88,0,null,0,null,0,null,0,null,null,null,{"$f":"IF('Simulador Valora'!$V$60=1,0,J102*'Simulador Valora'!$V$61*'Simulador Valora'!$W$59)","v":0},null,"",null,0,null,{"$f":"IF('Simulador Valora'!$AC$62=1,0,IFERROR(IF(B102<=0,0,B102*'Simulador Valora'!$Y$67),0))","v":0},null,{"$f":"IF(OR('Simulador Valora'!$AC$62=1,'Simulador Valora'!$AC$66=1),0,IFERROR(IF(B102<=0,0,IF('Simulador Valora'!$X$35=2,IF('Simulador Valora'!$K$24>0,'Simulador Valora'!$K$24,'Simulador Valora'!$K$41)*'Simulador Valora'!$Y$68,IF('Simulador Valora'!$X$35=1,IF('Simulador Valora'!$K$24>0,'Simulador Valora'!$K$24,'Simulador Valora'!$G$41)*'Simulador Valora'!$Y$68,0))),0))","v":0},null,{"$f":"F102*'Simulador Valora'!$X$59","v":0},null,"",null,null,null,7,4,0,0,0,"",0.17499999999999999,0,0,0,0,0,0,"",{"$f":"IF(AJ102<=0,0,IF('Simulador Valora'!$AC$62=1,0,AJ102*'Simulador Valora'!$Y$67+IF('Simulador Valora'!$X$35=2,'Simulador Valora'!$G$49,IF('Simulador Valora'!$X$35=1,'Simulador Valora'!$K$49,0))))","v":0},null,{"$f":"AL102*'Simulador Valora'!$X$59","v":0},0,0,"",0,88]
[89,0,null,0,null,0,null,0,null,null,null,{"$f":"IF('Simulador Valora'!$V$60=1,0,J103*'Simulador Valora'!$V$61*'Simulador Valora'!$W$59)","v":0},null,"",null,0,null,{"$f":"IF('Simulador Valora'!$AC$62=1,0,IFERROR(IF(B103<=0,0,B103*'Simulador Valora'!$Y$67),0))","v":0},null,{"$f":"IF(OR('Simulador Valora'!$AC$62=1,'Simulador Valora'!$AC$66=1),0,IFERROR(IF(B103<=0,0,IF('Simulador Valora'!$X$35=2,IF('Simulador Valora'!$K$24>0,'Simulador Valora'!$K$24,'Simulador Valora'!$K$41)*'Simulador Valora'!$Y$68,IF('Simulador Valora'!$X$35=1,IF('Simulador Valora'!$K$24>0,'Simulador Valora'!$K$24,'Simulador Valora'!$G$41)*'Simulador Valora'!$Y$68,0))),0))","v":0},null,{"$f":"F103*'Simulador Valora'!$X$59","v":0},null,"",null,null,null,7,5,0,0,0,"",0.17499999999999999,0,0,0,0,0,0,"",{"$f":"IF(AJ103<=0,0,IF('Simulador Valora'!$AC$62=1,0,AJ103*'Simulador Valora'!$Y$67+IF('Simulador Valora'!$X$35=2,'Simulador Valora'!$G$49,IF('Simulador Valora'!$X$35=1,'Simulador Valora'!$K$49,0))))","v":0},null,{"$f":"AL103*'Simulador Valora'!$X$59","v":0},0,0,"",0,89]
[90,0,null,0,null,0,null,0,null,null,null,{"$f":"IF('Simulador Valora'!$V$60=1,0,J104*'Simulador Valora'!$V$61*'Simulador Valora'!$W$59)","v":0},null,"",null,0,null,{"$f":"IF('Simulador Valora'!$AC$62=1,0,IFERROR(IF(B104<=0,0,B104*'Simulador Valora'!$Y$67),0))","v":0},null,{"$f":"IF(OR('Simulador Valora'!$AC$62=1,'Simulador Valora'!$AC$66=1),0,IFERROR(IF(B104<=0,0,IF('Simulador Valora'!$X$35=2,IF('Simulador Valora'!$K$24>0,'Simulador Valora'!$K$24,'Simulador Valora'!$K$41)*'Simulador Valora'!$Y$68,IF('Simulador Valora'!$X$35=1,IF('Simulador Valora'!$K$24>0,'Simulador Valora'!$K$24,'Simulador Valora'!$G$41)*'Simulador Valora'!$Y$68,0))),0))","v":0},null,{"$f":"F104*'Simulador Valora'!$X$59","v":0},null,"",null,null,null,7,6,0,0,0,"",0.17499999999999999,0,0,0,0,0,0,"",{"$f":"IF(AJ104<=0,0,IF('Simulador Valora'!$AC$62=1,0,AJ104*'Simulador Valora'!$Y$67+IF('Simulador Valora'!$X$35=2,'Simulador Valora'!$G$49,IF('Simulador Valora'!$X$35=1,'Simulador Valora'!$K$49,0))))","v":0},null,{"$f":"AL104*'Simulador Valora'!$X$59","v":0},0,0,"",0,90]
[91,0,null,0,null,0,null,0,null,null,null,{"$f":"IF('Simulador Valora'!$V$60=1,0,J105*'Simulador Valora'!$V$61*'Simulador Valora'!$W$59)","v":0},null,"",null,0,null,{"$f":"IF('Simulador Valora'!$AC$62=1,0,IFERROR(IF(B105<=0,0,B105*'Simulador Valora'!$Y$67),0))","v":0},null,{"$f":"IF(OR('Simulador Valora'!$AC$62=1,'Simulador Valora'!$AC$66=1),0,IFERROR(IF(B105<=0,0,IF('Simulador Valora'!$X$35=2,IF('Simulador Valora'!$K$24>0,'Simulador Valora'!$K$24,'Simulador Valora'!$K$41)*'Simulador Valora'!$Y$68,IF('Simulador Valora'!$X$35=1,IF('Simulador Valora'!$K$24>0,'Simulador Valora'!$K$24,'Simulador Valora'!$G$41)*'Simulador Valora'!$Y$68,0))),0))","v":0},null,{"$f":"F105*'Simulador Valora'!$X$59","v":0},null,"",null,null,null,7,7,0,0,0,"",0.17499999999999999,0,0,0,0,0,0,"",{"$f":"IF(AJ105<=0,0,IF('Simulador Valora'!$AC$62=1,0,AJ105*'Simulador Valora'!$Y$67+IF('Simulador Valora'!$X$35=2,'Simulador Valora'!$G$49,IF('Simulador Valora'!$X$35=1,'Simulador Valora'!$K$49,0))))","v":0},null,{"$f":"AL105*'Simulador Valora'!$X$59","v":0},0,0,"",0,91]
[92,0,null,0,null,0,null,0,null,null,null,{"$f":"IF('Simulador Valora'!$V$60=1,0,J106*'Simulador Valora'!$V$61*'Simulador Valora'!$W$59)","v":0},null,"",null,0,null,{"$f":"IF('Simulador Valora'!$AC$62=1,0,IFERROR(IF(B106<=0,0,B106*'Simulador Valora'!$Y$67),0))","v":0},null,{"$f":"IF(OR('Simulador Valora'!$AC$62=1,'Simulador Valora'!$AC$66=1),0,IFERROR(IF(B106<=0,0,IF('Simulador Valora'!$X$35=2,IF('Simulador Valora'!$K$24>0,'Simulador Valora'!$K$24,'Simulador Valora'!$K$41)*'Simulador Valora'!$Y$68,IF('Simulador Valora'!$X$35=1,IF('Simulador Valora'!$K$24>0,'Simulador Valora'!$K$24,'Simulador Valora'!$G$41)*'Simulador Valora'!$Y$68,0))),0))","v":0},null,{"$f":"F106*'Simulador Valora'!$X$59","v":0},null,"",null,null,null,7,8,0,0,0,"",0.17499999999999999,0,0,0,0,0,0,"",{"$f":"IF(AJ106<=0,0,IF('Simulador Valora'!$AC$62=1,0,AJ106*'Simulador Valora'!$Y$67+IF('Simulador Valora'!$X$35=2,'Simulador Valora'!$G$49,IF('Simulador Valora'!$X$35=1,'Simulador Valora'!$K$49,0))))","v":0},null,{"$f":"AL106*'Simulador Valora'!$X$59","v":0},0,0,"",0,92]
[93,0,null,0,null,0,null,0,null,null,null,{"$f":"IF('Simulador Valora'!$V$60=1,0,J107*'Simulador Valora'!$V$61*'Simulador Valora'!$W$59)","v":0},null,"",null,0,null,{"$f":"IF('Simulador Valora'!$AC$62=1,0,IFERROR(IF(B107<=0,0,B107*'Simulador Valora'!$Y$67),0))","v":0},null,{"$f":"IF(OR('Simulador Valora'!$AC$62=1,'Simulador Valora'!$AC$66=1),0,IFERROR(IF(B107<=0,0,IF('Simulador Valora'!$X$35=2,IF('Simulador Valora'!$K$24>0,'Simulador Valora'!$K$24,'Simulador Valora'!$K$41)*'Simulador Valora'!$Y$68,IF('Simulador Valora'!$X$35=1,IF('Simulador Valora'!$K$24>0,'Simulador Valora'!$K$24,'Simulador Valora'!$G$41)*'Simulador Valora'!$Y$68,0))),0))","v":0},null,{"$f":"F107*'Simulador Valora'!$X$59","v":0},null,"",null,null,null,7,9,0,0,0,"",0.17499999999999999,0,0,0,0,0,0,"",{"$f":"IF(AJ107<=0,0,IF('Simulador Valora'!$AC$62=1,0,AJ107*'Simulador Valora'!$Y$67+IF('Simulador Valora'!$X$35=2,'Simulador Valora'!$G$49,IF('Simulador Valora'!$X$35=1,'Simulador Valora'!$K$49,0))))","v":0},null,{"$f":"AL107*'Simulador Valora'!$X$59","v":0},0,0,"",0,93]
[94,0,null,0,null,0,null,0,null,null,null,{"$f":"IF('Simulador Valora'!$V$60=1,0,J108*'Simulador Valora'!$V$61*'Simulador Valora'!$W$59)","v":0},null,"",null,0,null,{"$f":"IF('Simulador Valora'!$AC$62=1,0,IFERROR(IF(B108<=0,0,B108*'Simulador Valora'!$Y$67),0))","v":0},null,{"$f":"IF(OR('Simulador Valora'!$AC$62=1,'Simulador Valora'!$AC$66=1),0,IFERROR(IF(B108<=0,0,IF('Simulador Valora'!$X$35=2,IF('Simulador Valora'!$K$24>0,'Simulador Valora'!$K$24,'Simulador Valora'!$K$41)*'Simulador Valora'!$Y$68,IF('Simulador Valora'!$X$35=1,IF('Simulador Valora'!$K$24>0,'Simulador Valora'!$K$24,'Simulador Valora'!$G$41)*'Simulador Valora'!$Y$68,0))),0))","v":0},null,{"$f":"F108*'Simulador Valora'!$X$59","v":0},null,"",null,null,null,7,10,0,0,0,"",0.17499999999999999,0,0,0,0,0,0,"",{"$f":"IF(AJ108<=0,0,IF('Simulador Valora'!$AC$62=1,0,AJ108*'Simulador Valora'!$Y$67+IF('Simulador Valora'!$X$35=2,'Simulador Valora'!$G$49,IF('Simulador Valora'!$X$35=1,'Simulador Valora'!$K$49,0))))","v":0},null,{"$f":"AL108*'Simulador Valora'!$X$59","v":0},0,0,"",0,94]
[95,0,null,0,null,0,null,0,null,null,null,{"$f":"IF('Simulador Valora'!$V$60=1,0,J109*'Simulador Valora'!$V$61*'Simulador Valora'!$W$59)","v":0},null,"",null,0,null,{"$f":"IF('Simulador Valora'!$AC$62=1,0,IFERROR(IF(B109<=0,0,B109*'Simulador Valora'!$Y$67),0))","v":0},null,{"$f":"IF(OR('Simulador Valora'!$AC$62=1,'Simulador Valora'!$AC$66=1),0,IFERROR(IF(B109<=0,0,IF('Simulador Valora'!$X$35=2,IF('Simulador Valora'!$K$24>0,'Simulador Valora'!$K$24,'Simulador Valora'!$K$41)*'Simulador Valora'!$Y$68,IF('Simulador Valora'!$X$35=1,IF('Simulador Valora'!$K$24>0,'Simulador Valora'!$K$24,'Simulador Valora'!$G$41)*'Simulador Valora'!$Y$68,0))),0))","v":0},null,{"$f":"F109*'Simulador Valora'!$X$59","v":0},null,"",null,null,null,7,11,0,0,0,"",0.17499999999999999,0,0,0,0,0,0,"",{"$f":"IF(AJ109<=0,0,IF('Simulador Valora'!$AC$62=1,0,AJ109*'Simulador Valora'!$Y$67+IF('Simulador Valora'!$X$35=2,'Simulador Valora'!$G$49,IF('Simulador Valora'!$X$35=1,'Simulador Valora'!$K$49,0))))","v":0},null,{"$f":"AL109*'Simulador Valora'!$X$59","v":0},0,0,"",0,95]
[96,0,null,0,null,0,null,0,null,null,null,{"$f":"IF('Simulador Valora'!$V$60=1,0,J110*'Simulador Valora'!$V$61*'Simulador Valora'!$W$59)","v":0},null,"",null,0,null,{"$f":"IF('Simulador Valora'!$AC$62=1,0,IFERROR(IF(B110<=0,0,B110*'Simulador Valora'!$Y$67),0))","v":0},null,{"$f":"IF(OR('Simulador Valora'!$AC$62=1,'Simulador Valora'!$AC$66=1),0,IFERROR(IF(B110<=0,0,IF('Simulador Valora'!$X$35=2,IF('Simulador Valora'!$K$24>0,'Simulador Valora'!$K$24,'Simulador Valora'!$K$41)*'Simulador Valora'!$Y$68,IF('Simulador Valora'!$X$35=1,IF('Simulador Valora'!$K$24>0,'Simulador Valora'!$K$24,'Simulador Valora'!$G$41)*'Simulador Valora'!$Y$68,0))),0))","v":0},null,{"$f":"F110*'Simulador Valora'!$X$59","v":0},null,"",null,null,null,8,0,0,0,0,"",0.17499999999999999,0,0,0,0,0,0,"",{"$f":"IF(AJ110<=0,0,IF('Simulador Valora'!$AC$62=1,0,AJ110*'Simulador Valora'!$Y$67+IF('Simulador Valora'!$X$35=2,'Simulador Valora'!$G$49,IF('Simulador Valora'!$X$35=1,'Simulador Valora'!$K$49,0))))","v":0},null,{"$f":"AL110*'Simulador Valora'!$X$59","v":0},0,0,"",0,96]
[97,0,null,0,null,0,null,0,null,null,null,{"$f":"IF('Simulador Valora'!$V$60=1,0,J111*'Simulador Valora'!$V$61*'Simulador Valora'!$W$59)","v":0},null,"",null,0,null,{"$f":"IF('Simulador Valora'!$AC$62=1,0,IFERROR(IF(B111<=0,0,B111*'Simulador Valora'!$Y$67),0))","v":0},null,{"$f":"IF(OR('Simulador Valora'!$AC$62=1,'Simulador Valora'!$AC$66=1),0,IFERROR(IF(B111<=0,0,IF('Simulador Valora'!$X$35=2,IF('Simulador Valora'!$K$24>0,'Simulador Valora'!$K$24,'Simulador Valora'!$K$41)*'Simulador Valora'!$Y$68,IF('Simulador Valora'!$X$35=1,IF('Simulador Valora'!$K$24>0,'Simulador Valora'!$K$24,'Simulador Valora'!$G$41)*'Simulador Valora'!$Y$68,0))),0))","v":0},null,{"$f":"F111*'Simulador Valora'!$X$59","v":0},null,"",null,{"$f":"IF(B111<=0,0,'Simulador Valora'!$AM$48)","v":0},null,8,1,0,0,0,"",{"$f":"IF(AH110=$AO$3,$AO$3,IF(AH110=$AO$3,AH110,IF(AH110-0.25%<=$AO$3,$AO$3,AH110-0.25%)))","v":0.17499999999999999},0,0,0,0,0,0,"",{"$f":"IF(AJ111<=0,0,IF('Simulador Valora'!$AC$62=1,0,AJ111*'Simulador Valora'!$Y$67+IF('Simulador Valora'!$X$35=2,'Simulador Valora'!$G$49,IF('Simulador Valora'!$X$35=1,'Simulador Valora'!$K$49,0))))","v":0},{"$f":"IF(AJ111<=0,0,$AQ$27)","v":0},{"$f":"AL111*'Simulador Valora'!$X$59","v":0},0,0,"",0,97]
[98,0,null,0,null,0,null,0,null,null,null,{"$f":"IF('Simulador Valora'!$V$60=1,0,J112*'Simulador Valora'!$V$61*'Simulador Valora'!$W$59)","v":0},null,"",null,0,null,{"$f":"IF('Simulador Valora'!$AC$62=1,0,IFERROR(IF(B112<=0,0,B112*'Simulador Valora'!$Y$67),0))","v":0},null,{"$f":"IF(OR('Simulador Valora'!$AC$62=1,'Simulador Valora'!$AC$66=1),0,IFERROR(IF(B112<=0,0,IF('Simulador Valora'!$X$35=2,IF('Simulador Valora'!$K$24>0,'Simulador Valora'!$K$24,'Simulador Valora'!$K$41)*'Simulador Valora'!$Y$68,IF('Simulador Valora'!$X$35=1,IF('Simulador Valora'!$K$24>0,'Simulador Valora'!$K$24,'Simulador Valora'!$G$41)*'Simulador Valora'!$Y$68,0))),0))","v":0},null,{"$f":"F112*'Simulador Valora'!$X$59","v":0},null,"",null,null,null,8,2,0,0,0,"",{"$f":"AH111","v":0.17499999999999999},0,0,0,0,0,0,"",{"$f":"IF(AJ112<=0,0,IF('Simulador Valora'!$AC$62=1,0,AJ112*'Simulador Valora'!$Y$67+IF('Simulador Valora'!$X$35=2,'Simulador Valora'!$G$49,IF('Simulador Valora'!$X$35=1,'Simulador Valora'!$K$49,0))))","v":0},null,{"$f":"AL112*'Simulador Valora'!$X$59","v":0},0,0,"",0,98]
[99,0,null,0,null,0,null,0,null,null,null,{"$f":"IF('Simulador Valora'!$V$60=1,0,J113*'Simulador Valora'!$V$61*'Simulador Valora'!$W$59)","v":0},null,"",null,0,null,{"$f":"IF('Simulador Valora'!$AC$62=1,0,IFERROR(IF(B113<=0,0,B113*'Simulador Valora'!$Y$67),0))","v":0},null,{"$f":"IF(OR('Simulador Valora'!$AC$62=1,'Simulador Valora'!$AC$66=1),0,IFERROR(IF(B113<=0,0,IF('Simulador Valora'!$X$35=2,IF('Simulador Valora'!$K$24>0,'Simulador Valora'!$K$24,'Simulador Valora'!$K$41)*'Simulador Valora'!$Y$68,IF('Simulador Valora'!$X$35=1,IF('Simulador Valora'!$K$24>0,'Simulador Valora'!$K$24,'Simulador Valora'!$G$41)*'Simulador Valora'!$Y$68,0))),0))","v":0},null,{"$f":"F113*'Simulador Valora'!$X$59","v":0},null,"",null,null,null,8,3,0,0,0,"",{"$f":"AH112","v":0.17499999999999999},0,0,0,0,0,0,"",{"$f":"IF(AJ113<=0,0,IF('Simulador Valora'!$AC$62=1,0,AJ113*'Simulador Valora'!$Y$67+IF('Simulador Valora'!$X$35=2,'Simulador Valora'!$G$49,IF('Simulador Valora'!$X$35=1,'Simulador Valora'!$K$49,0))))","v":0},null,{"$f":"AL113*'Simulador Valora'!$X$59","v":0},0,0,"",0,99]
[100,0,null,0,null,0,null,0,null,null,null,{"$f":"IF('Simulador Valora'!$V$60=1,0,J114*'Simulador Valora'!$V$61*'Simulador Valora'!$W$59)","v":0},null,"",null,0,null,{"$f":"IF('Simulador Valora'!$AC$62=1,0,IFERROR(IF(B114<=0,0,B114*'Simulador Valora'!$Y$67),0))","v":0},null,{"$f":"IF(OR('Simulador Valora'!$AC$62=1,'Simulador Valora'!$AC$66=1),0,IFERROR(IF(B114<=0,0,IF('Simulador Valora'!$X$35=2,IF('Simulador Valora'!$K$24>0,'Simulador Valora'!$K$24,'Simulador Valora'!$K$41)*'Simulador Valora'!$Y$68,IF('Simulador Valora'!$X$35=1,IF('Simulador Valora'!$K$24>0,'Simulador Valora'!$K$24,'Simulador Valora'!$G$41)*'Simulador Valora'!$Y$68,0))),0))","v":0},null,{"$f":"F114*'Simulador Valora'!$X$59","v":0},null,"",null,null,null,8,4,0,0,0,"",0.17499999999999999,0,0,0,0,0,0,"",{"$f":"IF(AJ114<=0,0,IF('Simulador Valora'!$AC$62=1,0,AJ114*'Simulador Valora'!$Y$67+IF('Simulador Valora'!$X$35=2,'Simulador Valora'!$G$49,IF('Simulador Valora'!$X$35=1,'Simulador Valora'!$K$49,0))))","v":0},null,{"$f":"AL114*'Simulador Valora'!$X$59","v":0},0,0,"",0,100]
[101,0,null,0,null,0,null,0,null,null,null,{"$f":"IF('Simulador Valora'!$V$60=1,0,J115*'Simulador Valora'!$V$61*'Simulador Valora'!$W$59)","v":0},null,"",null,0,null,{"$f":"IF('Simulador Valora'!$AC$62=1,0,IFERROR(IF(B115<=0,0,B115*'Simulador Valora'!$Y$67),0))","v":0},null,{"$f":"IF(OR('Simulador Valora'!$AC$62=1,'Simulador Valora'!$AC$66=1),0,IFERROR(IF(B115<=0,0,IF('Simulador Valora'!$X$35=2,IF('Simulador Valora'!$K$24>0,'Simulador Valora'!$K$24,'Simulador Valora'!$K$41)*'Simulador Valora'!$Y$68,IF('Simulador Valora'!$X$35=1,IF('Simulador Valora'!$K$24>0,'Simulador Valora'!$K$24,'Simulador Valora'!$G$41)*'Simulador Valora'!$Y$68,0))),0))","v":0},null,{"$f":"F115*'Simulador Valora'!$X$59","v":0},null,"",null,null,null,8,5,0,0,0,"",0.17499999999999999,0,0,0,0,0,0,"",{"$f":"IF(AJ115<=0,0,IF('Simulador Valora'!$AC$62=1,0,AJ115*'Simulador Valora'!$Y$67+IF('Simulador Valora'!$X$35=2,'Simulador Valora'!$G$49,IF('Simulador Valora'!$X$35=1,'Simulador Valora'!$K$49,0))))","v":0},null,{"$f":"AL115*'Simulador Valora'!$X$59","v":0},0,0,"",0,101]
[102,0,null,0,null,0,null,0,null,null,null,{"$f":"IF('Simulador Valora'!$V$60=1,0,J116*'Simulador Valora'!$V$61*'Simulador Valora'!$W$59)","v":0},null,"",null,0,null,{"$f":"IF('Simulador Valora'!$AC$62=1,0,IFERROR(IF(B116<=0,0,B116*'Simulador Valora'!$Y$67),0))","v":0},null,{"$f":"IF(OR('Simulador Valora'!$AC$62=1,'Simulador Valora'!$AC$66=1),0,IFERROR(IF(B116<=0,0,IF('Simulador Valora'!$X$35=2,IF('Simulador Valora'!$K$24>0,'Simulador Valora'!$K$24,'Simulador Valora'!$K$41)*'Simulador Valora'!$Y$68,IF('Simulador Valora'!$X$35=1,IF('Simulador Valora'!$K$24>0,'Simulador Valora'!$K$24,'Simulador Valora'!$G$41)*'Simulador Valora'!$Y$68,0))),0))","v":0},null,{"$f":"F116*'Simulador Valora'!$X$59","v":0},null,"",null,null,null,8,6,0,0,0,"",0.17499999999999999,0,0,0,0,0,0,"",{"$f":"IF(AJ116<=0,0,IF('Simulador Valora'!$AC$62=1,0,AJ116*'Simulador Valora'!$Y$67+IF('Simulador Valora'!$X$35=2,'Simulador Valora'!$G$49,IF('Simulador Valora'!$X$35=1,'Simulador Valora'!$K$49,0))))","v":0},null,{"$f":"AL116*'Simulador Valora'!$X$59","v":0},0,0,"",0,102]
[103,0,null,0,null,0,null,0,null,null,null,{"$f":"IF('Simulador Valora'!$V$60=1,0,J117*'Simulador Valora'!$V$61*'Simulador Valora'!$W$59)","v":0},null,"",null,0,null,{"$f":"IF('Simulador Valora'!$AC$62=1,0,IFERROR(IF(B117<=0,0,B117*'Simulador Valora'!$Y$67),0))","v":0},null,{"$f":"IF(OR('Simulador Valora'!$AC$62=1,'Simulador Valora'!$AC$66=1),0,IFERROR(IF(B117<=0,0,IF('Simulador Valora'!$X$35=2,IF('Simulador Valora'!$K$24>0,'Simulador Valora'!$K$24,'Simulador Valora'!$K$41)*'Simulador Valora'!$Y$68,IF('Simulador Valora'!$X$35=1,IF('Simulador Valora'!$K$24>0,'Simulador Valora'!$K$24,'Simulador Valora'!$G$41)*'Simulador Valora'!$Y$68,0))),0))","v":0},null,{"$f":"F117*'Simulador Valora'!$X$59","v":0},null,"",null,null,null,8,7,0,0,0,"",0.17499999999999999,0,0,0,0,0,0,"",{"$f":"IF(AJ117<=0,0,IF('Simulador Valora'!$AC$62=1,0,AJ117*'Simulador Valora'!$Y$67+IF('Simulador Valora'!$X$35=2,'Simulador Valora'!$G$49,IF('Simulador Valora'!$X$35=1,'Simulador Valora'!$K$49,0))))","v":0},null,{"$f":"AL117*'Simulador Valora'!$X$59","v":0},0,0,"",0,103]
[104,0,null,0,null,0,null,0,null,null,null,{"$f":"IF('Simulador Valora'!$V$60=1,0,J118*'Simulador Valora'!$V$61*'Simulador Valora'!$W$59)","v":0},null,"",null,0,null,{"$f":"IF('Simulador Valora'!$AC$62=1,0,IFERROR(IF(B118<=0,0,B118*'Simulador Valora'!$Y$67),0))","v":0},null,{"$f":"IF(OR('Simulador Valora'!$AC$62=1,'Simulador Valora'!$AC$66=1),0,IFERROR(IF(B118<=0,0,IF('Simulador Valora'!$X$35=2,IF('Simulador Valora'!$K$24>0,'Simulador Valora'!$K$24,'Simulador Valora'!$K$41)*'Simulador Valora'!$Y$68,IF('Simulador Valora'!$X$35=1,IF('Simulador Valora'!$K$24>0,'Simulador Valora'!$K$24,'Simulador Valora'!$G$41)*'Simulador Valora'!$Y$68,0))),0))","v":0},null,{"$f":"F118*'Simulador Valora'!$X$59","v":0},null,"",null,null,null,8,8,0,0,0,"",0.17499999999999999,0,0,0,0,0,0,"",{"$f":"IF(AJ118<=0,0,IF('Simulador Valora'!$AC$62=1,0,AJ118*'Simulador Valora'!$Y$67+IF('Simulador Valora'!$X$35=2,'Simulador Valora'!$G$49,IF('Simulador Valora'!$X$35=1,'Simulador Valora'!$K$49,0))))","v":0},null,{"$f":"AL118*'Simulador Valora'!$X$59","v":0},0,0,"",0,104]
[105,0,null,0,null,0,null,0,null,null,null,{"$f":"IF('Simulador Valora'!$V$60=1,0,J119*'Simulador Valora'!$V$61*'Simulador Valora'!$W$59)","v":0},null,"",null,0,null,{"$f":"IF('Simulador Valora'!$AC$62=1,0,IFERROR(IF(B119<=0,0,B119*'Simulador Valora'!$Y$67),0))","v":0},null,{"$f":"IF(OR('Simulador Valora'!$AC$62=1,'Simulador Valora'!$AC$66=1),0,IFERROR(IF(B119<=0,0,IF('Simulador Valora'!$X$35=2,IF('Simulador Valora'!$K$24>0,'Simulador Valora'!$K$24,'Simulador Valora'!$K$41)*'Simulador Valora'!$Y$68,IF('Simulador Valora'!$X$35=1,IF('Simulador Valora'!$K$24>0,'Simulador Valora'!$K$24,'Simulador Valora'!$G$41)*'Simulador Valora'!$Y$68,0))),0))","v":0},null,{"$f":"F119*'Simulador Valora'!$X$59","v":0},null,"",null,null,null,8,9,0,0,0,"",0.17499999999999999,0,0,0,0,0,0,"",{"$f":"IF(AJ119<=0,0,IF('Simulador Valora'!$AC$62=1,0,AJ119*'Simulador Valora'!$Y$67+IF('Simulador Valora'!$X$35=2,'Simulador Valora'!$G$49,IF('Simulador Valora'!$X$35=1,'Simulador Valora'!$K$49,0))))","v":0},null,{"$f":"AL119*'Simulador Valora'!$X$59","v":0},0,0,"",0,105]
[106,0,null,0,null,0,null,0,null,null,null,{"$f":"IF('Simulador Valora'!$V$60=1,0,J120*'Simulador Valora'!$V$61*'Simulador Valora'!$W$59)","v":0},null,"",null,0,null,{"$f":"IF('Simulador Valora'!$AC$62=1,0,IFERROR(IF(B120<=0,0,B120*'Simulador Valora'!$Y$67),0))","v":0},null,{"$f":"IF(OR('Simulador Valora'!$AC$62=1,'Simulador Valora'!$AC$66=1),0,IFERROR(IF(B120<=0,0,IF('Simulador Valora'!$X$35=2,IF('Simulador Valora'!$K$24>0,'Simulador Valora'!$K$24,'Simulador Valora'!$K$41)*'Simulador Valora'!$Y$68,IF('Simulador Valora'!$X$35=1,IF('Simulador Valora'!$K$24>0,'Simulador Valora'!$K$24,'Simulador Valora'!$G$41)*'Simulador Valora'!$Y$68,0))),0))","v":0},null,{"$f":"F120*'Simulador Valora'!$X$59","v":0},null,"",null,null,null,8,10,0,0,0,"",0.17499999999999999,0,0,0,0,0,0,"",{"$f":"IF(AJ120<=0,0,IF('Simulador Valora'!$AC$62=1,0,AJ120*'Simulador Valora'!$Y$67+IF('Simulador Valora'!$X$35=2,'Simulador Valora'!$G$49,IF('Simulador Valora'!$X$35=1,'Simulador Valora'!$K$49,0))))","v":0},null,{"$f":"AL120*'Simulador Valora'!$X$59","v":0},0,0,"",0,106]
[107,0,null,0,null,0,null,0,null,null,null,{"$f":"IF('Simulador Valora'!$V$60=1,0,J121*'Simulador Valora'!$V$61*'Simulador Valora'!$W$59)","v":0},null,"",null,0,null,{"$f":"IF('Simulador Valora'!$AC$62=1,0,IFERROR(IF(B121<=0,0,B121*'Simulador Valora'!$Y$67),0))","v":0},null,{"$f":"IF(OR('Simulador Valora'!$AC$62=1,'Simulador Valora'!$AC$66=1),0,IFERROR(IF(B121<=0,0,IF('Simulador Valora'!$X$35=2,IF('Simulador Valora'!$K$24>0,'Simulador Valora'!$K$24,'Simulador Valora'!$K$41)*'Simulador Valora'!$Y$68,IF('Simulador Valora'!$X$35=1,IF('Simulador Valora'!$K$24>0,'Simulador Valora'!$K$24,'Simulador Valora'!$G$41)*'Simulador Valora'!$Y$68,0))),0))","v":0},null,{"$f":"F121*'Simulador Valora'!$X$59","v":0},null,"",null,null,null,8,11,0,0,0,"",0.17499999999999999,0,0,0,0,0,0,"",{"$f":"IF(AJ121<=0,0,IF('Simulador Valora'!$AC$62=1,0,AJ121*'Simulador Valora'!$Y$67+IF('Simulador Valora'!$X$35=2,'Simulador Valora'!$G$49,IF('Simulador Valora'!$X$35=1,'Simulador Valora'!$K$49,0))))","v":0},null,{"$f":"AL121*'Simulador Valora'!$X$59","v":0},0,0,"",0,107]
[108,0,null,0,null,0,null,0,null,null,null,{"$f":"IF('Simulador Valora'!$V$60=1,0,J122*'Simulador Valora'!$V$61*'Simulador Valora'!$W$59)","v":0},null,{"$f":"IF(B122=0,\"\",AH122)","v":""},null,0,null,{"$f":"IF('Simulador Valora'!$AC$62=1,0,IFERROR(IF(B122<=0,0,B122*'Simulador Valora'!$Y$67),0))","v":0},null,{"$f":"IF(OR('Simulador Valora'!$AC$62=1,'Simulador Valora'!$AC$66=1),0,IFERROR(IF(B122<=0,0,IF('Simulador Valora'!$X$35=2,IF('Simulador Valora'!$K$24>0,'Simulador Valora'!$K$24,'Simulador Valora'!$K$41)*'Simulador Valora'!$Y$68,IF('Simulador Valora'!$X$35=1,IF('Simulador Valora'!$K$24>0,'Simulador Valora'!$K$24,'Simulador Valora'!$G$41)*'Simulador Valora'!$Y$68,0))),0))","v":0},null,{"$f":"F122*'Simulador Valora'!$X$59","v":0},null,"",null,null,null,9,0,0,0,0,"",0.17499999999999999,0,0,0,0,0,0,"",{"$f":"IF(AJ122<=0,0,IF('Simulador Valora'!$AC$62=1,0,AJ122*'Simulador Valora'!$Y$67+IF('Simulador Valora'!$X$35=2,'Simulador Valora'!$G$49,IF('Simulador Valora'!$X$35=1,'Simulador Valora'!$K$49,0))))","v":0},null,{"$f":"AL122*'Simulador Valora'!$X$59","v":0},0,0,"",0,108]
[109,0,null,0,null,0,null,0,null,null,null,{"$f":"IF('Simulador Valora'!$V$60=1,0,J123*'Simulador Valora'!$V$61*'Simulador Valora'!$W$59)","v":0},null,"",null,0,null,{"$f":"IF('Simulador Valora'!$AC$62=1,0,IFERROR(IF(B123<=0,0,B123*'Simulador Valora'!$Y$67),0))","v":0},null,{"$f":"IF(OR('Simulador Valora'!$AC$62=1,'Simulador Valora'!$AC$66=1),0,IFERROR(IF(B123<=0,0,IF('Simulador Valora'!$X$35=2,IF('Simulador Valora'!$K$24>0,'Simulador Valora'!$K$24,'Simulador Valora'!$K$41)*'Simulador Valora'!$Y$68,IF('Simulador Valora'!$X$35=1,IF('Simulador Valora'!$K$24>0,'Simulador Valora'!$K$24,'Simulador Valora'!$G$41)*'Simulador Valora'!$Y$68,0))),0))","v":0},null,{"$f":"F123*'Simulador Valora'!$X$59","v":0},null,"",null,{"$f":"IF(B123<=0,0,'Simulador Valora'!$AM$48)","v":0},null,9,1,0,0,0,"",{"$f":"IF(AH122=$AO$3,$AO$3,IF(AH122=$AO$3,AH122,IF(AH122-0.25%<=$AO$3,$AO$3,AH122-0.25%)))","v":0.17499999999999999},0,0,0,0,0,0,"",{"$f":"IF(AJ123<=0,0,IF('Simulador Valora'!$AC$62=1,0,AJ123*'Simulador Valora'!$Y$67+IF('Simulador Valora'!$X$35=2,'Simulador Valora'!$G$49,IF('Simulador Valora'!$X$35=1,'Simulador Valora'!$K$49,0))))","v":0},{"$f":"IF(AJ123<=0,0,$AQ$27)","v":0},{"$f":"AL123*'Simulador Valora'!$X$59","v":0},0,0,"",0,109]
[110,0,null,0,null,0,null,0,null,null,null,{"$f":"IF('Simulador Valora'!$V$60=1,0,J124*'Simulador Valora'!$V$61*'Simulador Valora'!$W$59)","v":0},null,"",null,0,null,{"$f":"IF('Simulador Valora'!$AC$62=1,0,IFERROR(IF(B124<=0,0,B124*'Simulador Valora'!$Y$67),0))","v":0},null,{"$f":"IF(OR('Simulador Valora'!$AC$62=1,'Simulador Valora'!$AC$66=1),0,IFERROR(IF(B124<=0,0,IF('Simulador Valora'!$X$35=2,IF('Simulador Valora'!$K$24>0,'Simulador Valora'!$K$24,'Simulador Valora'!$K$41)*'Simulador Valora'!$Y$68,IF('Simulador Valora'!$X$35=1,IF('Simulador Valora'!$K$24>0,'Simulador Valora'!$K$24,'Simulador Valora'!$G$41)*'Simulador Valora'!$Y$68,0))),0))","v":0},null,{"$f":"F124*'Simulador Valora'!$X$59","v":0},null,"",null,null,null,9,2,0,0,0,"",{"$f":"AH123","v":0.17499999999999999},0,0,0,0,0,0,"",{"$f":"IF(AJ124<=0,0,IF('Simulador Valora'!$AC$62=1,0,AJ124*'Simulador Valora'!$Y$67+IF('Simulador Valora'!$X$35=2,'Simulador Valora'!$G$49,IF('Simulador Valora'!$X$35=1,'Simulador Valora'!$K$49,0))))","v":0},null,{"$f":"AL124*'Simulador Valora'!$X$59","v":0},0,0,"",0,110]
[111,0,null,0,null,0,null,0,null,null,null,{"$f":"IF('Simulador Valora'!$V$60=1,0,J125*'Simulador Valora'!$V$61*'Simulador Valora'!$W$59)","v":0},null,"",null,0,null,{"$f":"IF('Simulador Valora'!$AC$62=1,0,IFERROR(IF(B125<=0,0,B125*'Simulador Valora'!$Y$67),0))","v":0},null,{"$f":"IF(OR('Simulador Valora'!$AC$62=1,'Simulador Valora'!$AC$66=1),0,IFERROR(IF(B125<=0,0,IF('Simulador Valora'!$X$35=2,IF('Simulador Valora'!$K$24>0,'Simulador Valora'!$K$24,'Simulador Valora'!$K$41)*'Simulador Valora'!$Y$68,IF('Simulador Valora'!$X$35=1,IF('Simulador Valora'!$K$24>0,'Simulador Valora'!$K$24,'Simulador Valora'!$G$41)*'Simulador Valora'!$Y$68,0))),0))","v":0},null,{"$f":"F125*'Simulador Valora'!$X$59","v":0},null,"",null,null,null,9,3,0,0,0,"",{"$f":"AH124","v":0.17499999999999999},0,0,0,0,0,0,"",{"$f":"IF(AJ125<=0,0,IF('Simulador Valora'!$AC$62=1,0,AJ125*'Simulador Valora'!$Y$67+IF('Simulador Valora'!$X$35=2,'Simulador Valora'!$G$49,IF('Simulador Valora'!$X$35=1,'Simulador Valora'!$K$49,0))))","v":0},null,{"$f":"AL125*'Simulador Valora'!$X$59","v":0},0,0,"",0,111]
[112,0,null,0,null,0,null,0,null,null,null,{"$f":"IF('Simulador Valora'!$V$60=1,0,J126*'Simulador Valora'!$V$61*'Simulador Valora'!$W$59)","v":0},null,"",null,0,null,{"$f":"IF('Simulador Valora'!$AC$62=1,0,IFERROR(IF(B126<=0,0,B126*'Simulador Valora'!$Y$67),0))","v":0},null,{"$f":"IF(OR('Simulador Valora'!$AC$62=1,'Simulador Valora'!$AC$66=1),0,IFERROR(IF(B126<=0,0,IF('Simulador Valora'!$X$35=2,IF('Simulador Valora'!$K$24>0,'Simulador Valora'!$K$24,'Simulador Valora'!$K$41)*'Simulador Valora'!$Y$68,IF('Simulador Valora'!$X$35=1,IF('Simulador Valora'!$K$24>0,'Simulador Valora'!$K$24,'Simulador Valora'!$G$41)*'Simulador Valora'!$Y$68,0))),0))","v":0},null,{"$f":"F126*'Simulador Valora'!$X$59","v":0},null,"",null,null,null,9,4,0,0,0,"",0.17499999999999999,0,0,0,0,0,0,"",{"$f":"IF(AJ126<=0,0,IF('Simulador Valora'!$AC$62=1,0,AJ126*'Simulador Valora'!$Y$67+IF('Simulador Valora'!$X$35=2,'Simulador Valora'!$G$49,IF('Simulador Valora'!$X$35=1,'Simulador Valora'!$K$49,0))))","v":0},null,{"$f":"AL126*'Simulador Valora'!$X$59","v":0},0,0,"",0,112]
[113,0,null,0,null,0,null,0,null,null,null,{"$f":"IF('Simulador Valora'!$V$60=1,0,J127*'Simulador Valora'!$V$61*'Simulador Valora'!$W$59)","v":0},null,"",null,0,null,{"$f":"IF('Simulador Valora'!$AC$62=1,0,IFERROR(IF(B127<=0,0,B127*'Simulador Valora'!$Y$67),0))","v":0},null,{"$f":"IF(OR('Simulador Valora'!$AC$62=1,'Simulador Valora'!$AC$66=1),0,IFERROR(IF(B127<=0,0,IF('Simulador Valora'!$X$35=2,IF('Simulador Valora'!$K$24>0,'Simulador Valora'!$K$24,'Simulador Valora'!$K$41)*'Simulador Valora'!$Y$68,IF('Simulador Valora'!$X$35=1,IF('Simulador Valora'!$K$24>0,'Simulador Valora'!$K$24,'Simulador Valora'!$G$41)*'Simulador Valora'!$Y$68,0))),0))","v":0},null,{"$f":"F127*'Simulador Valora'!$X$59","v":0},null,"",null,null,null,9,5,0,0,0,"",0.17499999999999999,0,0,0,0,0,0,"",{"$f":"IF(AJ127<=0,0,IF('Simulador Valora'!$AC$62=1,0,AJ127*'Simulador Valora'!$Y$67+IF('Simulador Valora'!$X$35=2,'Simulador Valora'!$G$49,IF('Simulador Valora'!$X$35=1,'Simulador Valora'!$K$49,0))))","v":0},null,{"$f":"AL127*'Simulador Valora'!$X$59","v":0},0,0,"",0,113]
[114,0,null,0,null,0,null,0,null,null,null,{"$f":"IF('Simulador Valora'!$V$60=1,0,J128*'Simulador Valora'!$V$61*'Simulador Valora'!$W$59)","v":0},null,"",null,0,null,{"$f":"IF('Simulador Valora'!$AC$62=1,0,IFERROR(IF(B128<=0,0,B128*'Simulador Valora'!$Y$67),0))","v":0},null,{"$f":"IF(OR('Simulador Valora'!$AC$62=1,'Simulador Valora'!$AC$66=1),0,IFERROR(IF(B128<=0,0,IF('Simulador Valora'!$X$35=2,IF('Simulador Valora'!$K$24>0,'Simulador Valora'!$K$24,'Simulador Valora'!$K$41)*'Simulador Valora'!$Y$68,IF('Simulador Valora'!$X$35=1,IF('Simulador Valora'!$K$24>0,'Simulador Valora'!$K$24,'Simulador Valora'!$G$41)*'Simulador Valora'!$Y$68,0))),0))","v":0},null,{"$f":"F128*'Simulador Valora'!$X$59","v":0},null,"",null,null,null,9,6,0,0,0,"",0.17499999999999999,0,0,0,0,0,0,"",{"$f":"IF(AJ128<=0,0,IF('Simulador Valora'!$AC$62=1,0,AJ128*'Simulador Valora'!$Y$67+IF('Simulador Valora'!$X$35=2,'Simulador Valora'!$G$49,IF('Simulador Valora'!$X$35=1,'Simulador Valora'!$K$49,0))))","v":0},null,{"$f":"AL128*'Simulador Valora'!$X$59","v":0},0,0,"",0,114]
[115,0,null,0,null,0,null,0,null,null,null,{"$f":"IF('Simulador Valora'!$V$60=1,0,J129*'Simulador Valora'!$V$61*'Simulador Valora'!$W$59)","v":0},null,"",null,0,null,{"$f":"IF('Simulador Valora'!$AC$62=1,0,IFERROR(IF(B129<=0,0,B129*'Simulador Valora'!$Y$67),0))","v":0},null,{"$f":"IF(OR('Simulador Valora'!$AC$62=1,'Simulador Valora'!$AC$66=1),0,IFERROR(IF(B129<=0,0,IF('Simulador Valora'!$X$35=2,IF('Simulador Valora'!$K$24>0,'Simulador Valora'!$K$24,'Simulador Valora'!$K$41)*'Simulador Valora'!$Y$68,IF('Simulador Valora'!$X$35=1,IF('Simulador Valora'!$K$24>0,'Simulador Valora'!$K$24,'Simulador Valora'!$G$41)*'Simulador Valora'!$Y$68,0))),0))","v":0},null,{"$f":"F129*'Simulador Valora'!$X$59","v":0},null,"",null,null,null,9,7,0,0,0,"",0.17499999999999999,0,0,0,0,0,0,"",{"$f":"IF(AJ129<=0,0,IF('Simulador Valora'!$AC$62=1,0,AJ129*'Simulador Valora'!$Y$67+IF('Simulador Valora'!$X$35=2,'Simulador Valora'!$G$49,IF('Simulador Valora'!$X$35=1,'Simulador Valora'!$K$49,0))))","v":0},null,{"$f":"AL129*'Simulador Valora'!$X$59","v":0},0,0,"",0,115]
[116,0,null,0,null,0,null,0,null,null,null,{"$f":"IF('Simulador Valora'!$V$60=1,0,J130*'Simulador Valora'!$V$61*'Simulador Valora'!$W$59)","v":0},null,"",null,0,null,{"$f":"IF('Simulador Valora'!$AC$62=1,0,IFERROR(IF(B130<=0,0,B130*'Simulador Valora'!$Y$67),0))","v":0},null,{"$f":"IF(OR('Simulador Valora'!$AC$62=1,'Simulador Valora'!$AC$66=1),0,IFERROR(IF(B130<=0,0,IF('Simulador Valora'!$X$35=2,IF('Simulador Valora'!$K$24>0,'Simulador Valora'!$K$24,'Simulador Valora'!$K$41)*'Simulador Valora'!$Y$68,IF('Simulador Valora'!$X$35=1,IF('Simulador Valora'!$K$24>0,'Simulador Valora'!$K$24,'Simulador Valora'!$G$41)*'Simulador Valora'!$Y$68,0))),0))","v":0},null,{"$f":"F130*'Simulador Valora'!$X$59","v":0},null,"",null,null,null,9,8,0,0,0,"",0.17499999999999999,0,0,0,0,0,0,"",{"$f":"IF(AJ130<=0,0,IF('Simulador Valora'!$AC$62=1,0,AJ130*'Simulador Valora'!$Y$67+IF('Simulador Valora'!$X$35=2,'Simulador Valora'!$G$49,IF('Simulador Valora'!$X$35=1,'Simulador Valora'!$K$49,0))))","v":0},null,{"$f":"AL130*'Simulador Valora'!$X$59","v":0},0,0,"",0,116]
[117,0,null,0,null,0,null,0,null,null,null,{"$f":"IF('Simulador Valora'!$V$60=1,0,J131*'Simulador Valora'!$V$61*'Simulador Valora'!$W$59)","v":0},null,"",null,0,null,{"$f":"IF('Simulador Valora'!$AC$62=1,0,IFERROR(IF(B131<=0,0,B131*'Simulador Valora'!$Y$67),0))","v":0},null,{"$f":"IF(OR('Simulador Valora'!$AC$62=1,'Simulador Valora'!$AC$66=1),0,IFERROR(IF(B131<=0,0,IF('Simulador Valora'!$X$35=2,IF('Simulador Valora'!$K$24>0,'Simulador Valora'!$K$24,'Simulador Valora'!$K$41)*'Simulador Valora'!$Y$68,IF('Simulador Valora'!$X$35=1,IF('Simulador Valora'!$K$24>0,'Simulador Valora'!$K$24,'Simulador Valora'!$G$41)*'Simulador Valora'!$Y$68,0))),0))","v":0},null,{"$f":"F131*'Simulador Valora'!$X$59","v":0},null,"",null,null,null,9,9,0,0,0,"",0.17499999999999999,0,0,0,0,0,0,"",{"$f":"IF(AJ131<=0,0,IF('Simulador Valora'!$AC$62=1,0,AJ131*'Simulador Valora'!$Y$67+IF('Simulador Valora'!$X$35=2,'Simulador Valora'!$G$49,IF('Simulador Valora'!$X$35=1,'Simulador Valora'!$K$49,0))))","v":0},null,{"$f":"AL131*'Simulador Valora'!$X$59","v":0},0,0,"",0,117]
[118,0,null,0,null,0,null,0,null,null,null,{"$f":"IF('Simulador Valora'!$V$60=1,0,J132*'Simulador Valora'!$V$61*'Simulador Valora'!$W$59)","v":0},null,"",null,0,null,{"$f":"IF('Simulador Valora'!$AC$62=1,0,IFERROR(IF(B132<=0,0,B132*'Simulador Valora'!$Y$67),0))","v":0},null,{"$f":"IF(OR('Simulador Valora'!$AC$62=1,'Simulador Valora'!$AC$66=1),0,IFERROR(IF(B132<=0,0,IF('Simulador Valora'!$X$35=2,IF('Simulador Valora'!$K$24>0,'Simulador Valora'!$K$24,'Simulador Valora'!$K$41)*'Simulador Valora'!$Y$68,IF('Simulador Valora'!$X$35=1,IF('Simulador Valora'!$K$24>0,'Simulador Valora'!$K$24,'Simulador Valora'!$G$41)*'Simulador Valora'!$Y$68,0))),0))","v":0},null,{"$f":"F132*'Simulador Valora'!$X$59","v":0},null,"",null,null,null,9,10,0,0,0,"",0.17499999999999999,0,0,0,0,0,0,"",{"$f":"IF(AJ132<=0,0,IF('Simulador Valora'!$AC$62=1,0,AJ132*'Simulador Valora'!$Y$67+IF('Simulador Valora'!$X$35=2,'Simulador Valora'!$G$49,IF('Simulador Valora'!$X$35=1,'Simulador Valora'!$K$49,0))))","v":0},null,{"$f":"AL132*'Simulador Valora'!$X$59","v":0},0,0,"",0,118]
[119,0,null,0,null,0,null,0,null,null,null,{"$f":"IF('Simulador Valora'!$V$60=1,0,J133*'Simulador Valora'!$V$61*'Simulador Valora'!$W$59)","v":0},null,"",null,0,null,{"$f":"IF('Simulador Valora'!$AC$62=1,0,IFERROR(IF(B133<=0,0,B133*'Simulador Valora'!$Y$67),0))","v":0},null,{"$f":"IF(OR('Simulador Valora'!$AC$62=1,'Simulador Valora'!$AC$66=1),0,IFERROR(IF(B133<=0,0,IF('Simulador Valora'!$X$35=2,IF('Simulador Valora'!$K$24>0,'Simulador Valora'!$K$24,'Simulador Valora'!$K$41)*'Simulador Valora'!$Y$68,IF('Simulador Valora'!$X$35=1,IF('Simulador Valora'!$K$24>0,'Simulador Valora'!$K$24,'Simulador Valora'!$G$41)*'Simulador Valora'!$Y$68,0))),0))","v":0},null,{"$f":"F133*'Simulador Valora'!$X$59","v":0},null,"",null,null,null,9,11,0,0,0,"",0.17499999999999999,0,0,0,0,0,0,"",{"$f":"IF(AJ133<=0,0,IF('Simulador Valora'!$AC$62=1,0,AJ133*'Simulador Valora'!$Y$67+IF('Simulador Valora'!$X$35=2,'Simulador Valora'!$G$49,IF('Simulador Valora'!$X$35=1,'Simulador Valora'!$K$49,0))))","v":0},null,{"$f":"AL133*'Simulador Valora'!$X$59","v":0},0,0,"",0,119]
[120,0,null,0,null,0,null,0,null,null,null,{"$f":"IF('Simulador Valora'!$V$60=1,0,J134*'Simulador Valora'!$V$61*'Simulador Valora'!$W$59)","v":0},null,"",null,0,null,{"$f":"IF('Simulador Valora'!$AC$62=1,0,IFERROR(IF(B134<=0,0,B134*'Simulador Valora'!$Y$67),0))","v":0},null,{"$f":"IF(OR('Simulador Valora'!$AC$62=1,'Simulador Valora'!$AC$66=1),0,IFERROR(IF(B134<=0,0,IF('Simulador Valora'!$X$35=2,IF('Simulador Valora'!$K$24>0,'Simulador Valora'!$K$24,'Simulador Valora'!$K$41)*'Simulador Valora'!$Y$68,IF('Simulador Valora'!$X$35=1,IF('Simulador Valora'!$K$24>0,'Simulador Valora'!$K$24,'Simulador Valora'!$G$41)*'Simulador Valora'!$Y$68,0))),0))","v":0},null,{"$f":"F134*'Simulador Valora'!$X$59","v":0},null,"",null,null,null,10,0,0,0,0,"",0.17499999999999999,0,0,0,0,0,0,"",{"$f":"IF(AJ134<=0,0,IF('Simulador Valora'!$AC$62=1,0,AJ134*'Simulador Valora'!$Y$67+IF('Simulador Valora'!$X$35=2,'Simulador Valora'!$G$49,IF('Simulador Valora'!$X$35=1,'Simulador Valora'!$K$49,0))))","v":0},null,{"$f":"AL134*'Simulador Valora'!$X$59","v":0},0,0,"",0,120]
[121,0,null,0,null,0,null,0,null,null,null,{"$f":"IF('Simulador Valora'!$V$60=1,0,J135*'Simulador Valora'!$V$61*'Simulador Valora'!$W$59)","v":0},null,"",null,0,null,{"$f":"IF('Simulador Valora'!$AC$62=1,0,IFERROR(IF(B135<=0,0,B135*'Simulador Valora'!$Y$67),0))","v":0},null,{"$f":"IF(OR('Simulador Valora'!$AC$62=1,'Simulador Valora'!$AC$66=1),0,IFERROR(IF(B135<=0,0,IF('Simulador Valora'!$X$35=2,IF('Simulador Valora'!$K$24>0,'Simulador Valora'!$K$24,'Simulador Valora'!$K$41)*'Simulador Valora'!$Y$68,IF('Simulador Valora'!$X$35=1,IF('Simulador Valora'!$K$24>0,'Simulador Valora'!$K$24,'Simulador Valora'!$G$41)*'Simulador Valora'!$Y$68,0))),0))","v":0},null,{"$f":"F135*'Simulador Valora'!$X$59","v":0},null,"",null,{"$f":"IF(B135<=0,0,IF(AND('Simulador Valora'!$V$40=2,'Simulador Valora'!$X$35=4),0,'Simulador Valora'!$AM$48))","v":0},null,10,1,0,0,0,"",{"$f":"IF(AH134=$AO$3,$AO$3,IF(AH134=$AO$3,AH134,IF(AH134-0.25%<=$AO$3,$AO$3,AH134-0.25%)))","v":0.17499999999999999},0,0,0,0,0,0,"",{"$f":"IF(AJ135<=0,0,IF('Simulador Valora'!$AC$62=1,0,AJ135*'Simulador Valora'!$Y$67+IF('Simulador Valora'!$X$35=2,'Simulador Valora'!$G$49,IF('Simulador Valora'!$X$35=1,'Simulador Valora'!$K$49,0))))","v":0},{"$f":"IF(AJ135<=0,0,$AQ$27)","v":0},{"$f":"AL135*'Simulador Valora'!$X$59","v":0},0,{"$f":"IFERROR(IF(AK135<=0.01,0,AT134-1),0)","v":0},"",0,121]
[122,0,null,0,null,0,null,0,null,null,null,{"$f":"IF('Simulador Valora'!$V$60=1,0,J136*'Simulador Valora'!$V$61*'Simulador Valora'!$W$59)","v":0},null,"",null,0,null,{"$f":"IF('Simulador Valora'!$AC$62=1,0,IFERROR(IF(B136<=0,0,B136*'Simulador Valora'!$Y$67),0))","v":0},null,{"$f":"IF(OR('Simulador Valora'!$AC$62=1,'Simulador Valora'!$AC$66=1),0,IFERROR(IF(B136<=0,0,IF('Simulador Valora'!$X$35=2,IF('Simulador Valora'!$K$24>0,'Simulador Valora'!$K$24,'Simulador Valora'!$K$41)*'Simulador Valora'!$Y$68,IF('Simulador Valora'!$X$35=1,IF('Simulador Valora'!$K$24>0,'Simulador Valora'!$K$24,'Simulador Valora'!$G$41)*'Simulador Valora'!$Y$68,0))),0))","v":0},null,{"$f":"F136*'Simulador Valora'!$X$59","v":0},null,"",null,null,null,10,2,0,0,0,"",{"$f":"AH135","v":0.17499999999999999},0,0,0,0,0,0,"",{"$f":"IF(AJ136<=0,0,IF('Simulador Valora'!$AC$62=1,0,AJ136*'Simulador Valora'!$Y$67+IF('Simulador Valora'!$X$35=2,'Simulador Valora'!$G$49,IF('Simulador Valora'!$X$35=1,'Simulador Valora'!$K$49,0))))","v":0},null,{"$f":"AL136*'Simulador Valora'!$X$59","v":0},0,{"$f":"IFERROR(IF(AK136<=0.01,0,AT135-1),0)","v":0},"",0,122]
[123,0,null,0,null,0,null,0,null,null,null,{"$f":"IF('Simulador Valora'!$V$60=1,0,J137*'Simulador Valora'!$V$61*'Simulador Valora'!$W$59)","v":0},null,"",null,0,null,{"$f":"IF('Simulador Valora'!$AC$62=1,0,IFERROR(IF(B137<=0,0,B137*'Simulador Valora'!$Y$67),0))","v":0},null,{"$f":"IF(OR('Simulador Valora'!$AC$62=1,'Simulador Valora'!$AC$66=1),0,IFERROR(IF(B137<=0,0,IF('Simulador Valora'!$X$35=2,IF('Simulador Valora'!$K$24>0,'Simulador Valora'!$K$24,'Simulador Valora'!$K$41)*'Simulador Valora'!$Y$68,IF('Simulador Valora'!$X$35=1,IF('Simulador Valora'!$K$24>0,'Simulador Valora'!$K$24,'Simulador Valora'!$G$41)*'Simulador Valora'!$Y$68,0))),0))","v":0},null,{"$f":"F137*'Simulador Valora'!$X$59","v":0},null,"",null,null,null,10,3,0,0,0,"",{"$f":"AH136","v":0.17499999999999999},0,0,0,0,0,0,"",{"$f":"IF(AJ137<=0,0,IF('Simulador Valora'!$AC$62=1,0,AJ137*'Simulador Valora'!$Y$67+IF('Simulador Valora'!$X$35=2,'Simulador Valora'!$G$49,IF('Simulador Valora'!$X$35=1,'Simulador Valora'!$K$49,0))))","v":0},null,{"$f":"AL137*'Simulador Valora'!$X$59","v":0},0,0,"",0,123]
[124,0,null,0,null,0,null,0,null,null,null,{"$f":"IF('Simulador Valora'!$V$60=1,0,J138*'Simulador Valora'!$V$61*'Simulador Valora'!$W$59)","v":0},null,"",null,0,null,{"$f":"IF('Simulador Valora'!$AC$62=1,0,IFERROR(IF(B138<=0,0,B138*'Simulador Valora'!$Y$67),0))","v":0},null,{"$f":"IF(OR('Simulador Valora'!$AC$62=1,'Simulador Valora'!$AC$66=1),0,IFERROR(IF(B138<=0,0,IF('Simulador Valora'!$X$35=2,IF('Simulador Valora'!$K$24>0,'Simulador Valora'!$K$24,'Simulador Valora'!$K$41)*'Simulador Valora'!$Y$68,IF('Simulador Valora'!$X$35=1,IF('Simulador Valora'!$K$24>0,'Simulador Valora'!$K$24,'Simulador Valora'!$G$41)*'Simulador Valora'!$Y$68,0))),0))","v":0},null,{"$f":"F138*'Simulador Valora'!$X$59","v":0},null,"",null,null,null,10,4,0,0,0,"",0.17499999999999999,0,0,0,0,0,0,"",{"$f":"IF(AJ138<=0,0,IF('Simulador Valora'!$AC$62=1,0,AJ138*'Simulador Valora'!$Y$67+IF('Simulador Valora'!$X$35=2,'Simulador Valora'!$G$49,IF('Simulador Valora'!$X$35=1,'Simulador Valora'!$K$49,0))))","v":0},null,{"$f":"AL138*'Simulador Valora'!$X$59","v":0},0,0,"",0,124]
[125,0,null,0,null,0,null,0,null,null,null,{"$f":"IF('Simulador Valora'!$V$60=1,0,J139*'Simulador Valora'!$V$61*'Simulador Valora'!$W$59)","v":0},null,"",null,0,null,{"$f":"IF('Simulador Valora'!$AC$62=1,0,IFERROR(IF(B139<=0,0,B139*'Simulador Valora'!$Y$67),0))","v":0},null,{"$f":"IF(OR('Simulador Valora'!$AC$62=1,'Simulador Valora'!$AC$66=1),0,IFERROR(IF(B139<=0,0,IF('Simulador Valora'!$X$35=2,IF('Simulador Valora'!$K$24>0,'Simulador Valora'!$K$24,'Simulador Valora'!$K$41)*'Simulador Valora'!$Y$68,IF('Simulador Valora'!$X$35=1,IF('Simulador Valora'!$K$24>0,'Simulador Valora'!$K$24,'Simulador Valora'!$G$41)*'Simulador Valora'!$Y$68,0))),0))","v":0},null,{"$f":"F139*'Simulador Valora'!$X$59","v":0},null,"",null,null,null,10,5,0,0,0,"",0.17499999999999999,0,0,0,0,0,0,"",{"$f":"IF(AJ139<=0,0,IF('Simulador Valora'!$AC$62=1,0,AJ139*'Simulador Valora'!$Y$67+IF('Simulador Valora'!$X$35=2,'Simulador Valora'!$G$49,IF('Simulador Valora'!$X$35=1,'Simulador Valora'!$K$49,0))))","v":0},null,{"$f":"AL139*'Simulador Valora'!$X$59","v":0},0,0,"",0,125]
[126,0,null,0,null,0,null,0,null,null,null,{"$f":"IF('Simulador Valora'!$V$60=1,0,J140*'Simulador Valora'!$V$61*'Simulador Valora'!$W$59)","v":0},null,"",null,0,null,{"$f":"IF('Simulador Valora'!$AC$62=1,0,IFERROR(IF(B140<=0,0,B140*'Simulador Valora'!$Y$67),0))","v":0},null,{"$f":"IF(OR('Simulador Valora'!$AC$62=1,'Simulador Valora'!$AC$66=1),0,IFERROR(IF(B140<=0,0,IF('Simulador Valora'!$X$35=2,IF('Simulador Valora'!$K$24>0,'Simulador Valora'!$K$24,'Simulador Valora'!$K$41)*'Simulador Valora'!$Y$68,IF('Simulador Valora'!$X$35=1,IF('Simulador Valora'!$K$24>0,'Simulador Valora'!$K$24,'Simulador Valora'!$G$41)*'Simulador Valora'!$Y$68,0))),0))","v":0},null,{"$f":"F140*'Simulador Valora'!$X$59","v":0},null,"",null,null,null,10,6,0,0,0,"",0.17499999999999999,0,0,0,0,0,0,"",{"$f":"IF(AJ140<=0,0,IF('Simulador Valora'!$AC$62=1,0,AJ140*'Simulador Valora'!$Y$67+IF('Simulador Valora'!$X$35=2,'Simulador Valora'!$G$49,IF('Simulador Valora'!$X$35=1,'Simulador Valora'!$K$49,0))))","v":0},null,{"$f":"AL140*'Simulador Valora'!$X$59","v":0},0,0,"",0,126]
[127,0,null,0,null,0,null,0,null,null,null,{"$f":"IF('Simulador Valora'!$V$60=1,0,J141*'Simulador Valora'!$V$61*'Simulador Valora'!$W$59)","v":0},null,"",null,0,null,{"$f":"IF('Simulador Valora'!$AC$62=1,0,IFERROR(IF(B141<=0,0,B141*'Simulador Valora'!$Y$67),0))","v":0},null,{"$f":"IF(OR('Simulador Valora'!$AC$62=1,'Simulador Valora'!$AC$66=1),0,IFERROR(IF(B141<=0,0,IF('Simulador Valora'!$X$35=2,IF('Simulador Valora'!$K$24>0,'Simulador Valora'!$K$24,'Simulador Valora'!$K$41)*'Simulador Valora'!$Y$68,IF('Simulador Valora'!$X$35=1,IF('Simulador Valora'!$K$24>0,'Simulador Valora'!$K$24,'Simulador Valora'!$G$41)*'Simulador Valora'!$Y$68,0))),0))","v":0},null,{"$f":"F141*'Simulador Valora'!$X$59","v":0},null,"",null,null,null,10,7,0,0,0,"",0.17499999999999999,0,0,0,0,0,0,"",{"$f":"IF(AJ141<=0,0,IF('Simulador Valora'!$AC$62=1,0,AJ141*'Simulador Valora'!$Y$67+IF('Simulador Valora'!$X$35=2,'Simulador Valora'!$G$49,IF('Simulador Valora'!$X$35=1,'Simulador Valora'!$K$49,0))))","v":0},null,{"$f":"AL141*'Simulador Valora'!$X$59","v":0},0,0,"",0,127]
[128,0,null,0,null,0,null,0,null,null,null,{"$f":"IF('Simulador Valora'!$V$60=1,0,J142*'Simulador Valora'!$V$61*'Simulador Valora'!$W$59)","v":0},null,"",null,0,null,{"$f":"IF('Simulador Valora'!$AC$62=1,0,IFERROR(IF(B142<=0,0,B142*'Simulador Valora'!$Y$67),0))","v":0},null,{"$f":"IF(OR('Simulador Valora'!$AC$62=1,'Simulador Valora'!$AC$66=1),0,IFERROR(IF(B142<=0,0,IF('Simulador Valora'!$X$35=2,IF('Simulador Valora'!$K$24>0,'Simulador Valora'!$K$24,'Simulador Valora'!$K$41)*'Simulador Valora'!$Y$68,IF('Simulador Valora'!$X$35=1,IF('Simulador Valora'!$K$24>0,'Simulador Valora'!$K$24,'Simulador Valora'!$G$41)*'Simulador Valora'!$Y$68,0))),0))","v":0},null,{"$f":"F142*'Simulador Valora'!$X$59","v":0},null,"",null,null,null,10,8,0,0,0,"",0.17499999999999999,0,0,0,0,0,0,"",{"$f":"IF(AJ142<=0,0,IF('Simulador Valora'!$AC$62=1,0,AJ142*'Simulador Valora'!$Y$67+IF('Simulador Valora'!$X$35=2,'Simulador Valora'!$G$49,IF('Simulador Valora'!$X$35=1,'Simulador Valora'!$K$49,0))))","v":0},null,{"$f":"AL142*'Simulador Valora'!$X$59","v":0},0,0,"",0,128]
[129,0,null,0,null,0,null,0,null,null,null,{"$f":"IF('Simulador Valora'!$V$60=1,0,J143*'Simulador Valora'!$V$61*'Simulador Valora'!$W$59)","v":0},null,"",null,0,null,{"$f":"IF('Simulador Valora'!$AC$62=1,0,IFERROR(IF(B143<=0,0,B143*'Simulador Valora'!$Y$67),0))","v":0},null,{"$f":"IF(OR('Simulador Valora'!$AC$62=1,'Simulador Valora'!$AC$66=1),0,IFERROR(IF(B143<=0,0,IF('Simulador Valora'!$X$35=2,IF('Simulador Valora'!$K$24>0,'Simulador Valora'!$K$24,'Simulador Valora'!$K$41)*'Simulador Valora'!$Y$68,IF('Simulador Valora'!$X$35=1,IF('Simulador Valora'!$K$24>0,'Simulador Valora'!$K$24,'Simulador Valora'!$G$41)*'Simulador Valora'!$Y$68,0))),0))","v":0},null,{"$f":"F143*'Simulador Valora'!$X$59","v":0},null,"",null,null,null,10,9,0,0,0,"",0.17499999999999999,0,0,0,0,{"$f":"+AK143-AL143","v":0},{"$f":"+AJ143-AM143","v":0},"",{"$f":"IF(AJ143<=0,0,IF('Simulador Valora'!$AC$62=1,0,AJ143*'Simulador Valora'!$Y$67+IF('Simulador Valora'!$X$35=2,'Simulador Valora'!$G$49,IF('Simulador Valora'!$X$35=1,'Simulador Valora'!$K$49,0))))","v":0},null,{"$f":"AL143*'Simulador Valora'!$X$59","v":0},0,0,"",0,129]
[130,0,null,0,null,{"$f":"IFERROR(IF(B144=0,0,N144/360*AV144*B144),0)","v":0},null,0,null,null,null,{"$f":"IF('Simulador Valora'!$V$60=1,0,J144*'Simulador Valora'!$V$61*'Simulador Valora'!$W$59)","v":0},null,{"$f":"IF(B144=0,\"\",AH144)","v":""},null,{"$f":"B144-H144-J144+L144","v":0},null,{"$f":"IF('Simulador Valora'!$AC$62=1,0,IFERROR(IF(B144<=0,0,B144*'Simulador Valora'!$Y$67),0))","v":0},null,{"$f":"IF(OR('Simulador Valora'!$AC$62=1,'Simulador Valora'!$AC$66=1),0,IFERROR(IF(B144<=0,0,IF('Simulador Valora'!$X$35=2,IF('Simulador Valora'!$K$24>0,'Simulador Valora'!$K$24,'Simulador Valora'!$K$41)*'Simulador Valora'!$Y$68,IF('Simulador Valora'!$X$35=1,IF('Simulador Valora'!$K$24>0,'Simulador Valora'!$K$24,'Simulador Valora'!$G$41)*'Simulador Valora'!$Y$68,0))),0))","v":0},null,{"$f":"F144*'Simulador Valora'!$X$59","v":0},null,{"$f":"IF(B144<=0,\"\",(D144+J144+R144+V144+T144))","v":""},null,null,null,10,10,{"$f":"+IF(P144<=0,IF(P143>0,+A144,0),0)","v":0},{"$f":"+IF(AD144>0,+AB144,0)","v":0},{"$f":"+IF(AD144>0,+AC144,0)","v":0},{"$f":"X144","v":""},0.17499999999999999,{"$f":"IFERROR(AK144/AJ144,0)","v":0},0,{"$f":"IFERROR((IF(AJ144+AL144-AK143<0, AJ144+AL144, AK143*(1+AQ144))),0)","v":0},{"$f":"IFERROR((AO144/360*AV144*AJ144),0)","v":0},0,0,{"$f":"IF(AJ144=0,\"\",AH144)","v":""},{"$f":"IF(AJ144<=0,0,IF('Simulador Valora'!$AC$62=1,0,AJ144*'Simulador Valora'!$Y$67+IF('Simulador Valora'!$X$35=2,'Simulador Valora'!$G$49,IF('Simulador Valora'!$X$35=1,'Simulador Valora'!$K$49,0))))","v":0},null,{"$f":"AL144*'Simulador Valora'!$X$59","v":0},{"$f":"AL144+AM144+AP144","v":0},0,"",{"$f":"IFERROR(DAY(DATE(YEAR(AU144),MONTH(AU144)+1,0)),0)","v":0},130]
[131,{"$f":"IF(P144<=0,0,P144)","v":0},null,{"$f":"IF(B145+F145-D144<=0,B145+F145,IF(J144=0,D144*(1+Z145),IF($AS$2=2,B145*AI145,D144*(1+Z145))))","v":0},null,0,null,{"$f":"D145-F145","v":0},null,null,null,{"$f":"IF('Simulador Valora'!$V$60=1,0,J145*'Simulador Valora'!$V$61*'Simulador Valora'!$W$59)","v":0},null,"",null,0,null,{"$f":"IF('Simulador Valora'!$AC$62=1,0,IFERROR(IF(B145<=0,0,B145*'Simulador Valora'!$Y$67),0))","v":0},null,{"$f":"IF(OR('Simulador Valora'!$AC$62=1,'Simulador Valora'!$AC$66=1),0,IFERROR(IF(B145<=0,0,IF('Simulador Valora'!$X$35=2,IF('Simulador Valora'!$K$24>0,'Simulador Valora'!$K$24,'Simulador Valora'!$K$41)*'Simulador Valora'!$Y$68,IF('Simulador Valora'!$X$35=1,IF('Simulador Valora'!$K$24>0,'Simulador Valora'!$K$24,'Simulador Valora'!$G$41)*'Simulador Valora'!$Y$68,0))),0))","v":0},null,{"$f":"F145*'Simulador Valora'!$X$59","v":0},null,"",null,null,null,10,11,0,0,0,"",0.17499999999999999,0,{"$f":"AN144","v":0},0,0,0,0,"",{"$f":"IF(AJ145<=0,0,IF('Simulador Valora'!$AC$62=1,0,AJ145*'Simulador Valora'!$Y$67+IF('Simulador Valora'!$X$35=2,'Simulador Valora'!$G$49,IF('Simulador Valora'!$X$35=1,'Simulador Valora'!$K$49,0))))","v":0},null,{"$f":"AL145*'Simulador Valora'!$X$59","v":0},0,0,{"$f":"IF(AJ145=0,\"\",DATE(YEAR(AU144),MONTH(AU144)+1,1))","v":""},0,131]
[132,0,null,0,null,0,null,0,null,null,null,{"$f":"IF('Simulador Valora'!$V$60=1,0,J146*'Simulador Valora'!$V$61*'Simulador Valora'!$W$59)","v":0},null,"",null,0,null,{"$f":"IF('Simulador Valora'!$AC$62=1,0,IFERROR(IF(B146<=0,0,B146*'Simulador Valora'!$Y$67),0))","v":0},null,{"$f":"IF(OR('Simulador Valora'!$AC$62=1,'Simulador Valora'!$AC$66=1),0,IFERROR(IF(B146<=0,0,IF('Simulador Valora'!$X$35=2,IF('Simulador Valora'!$K$24>0,'Simulador Valora'!$K$24,'Simulador Valora'!$K$41)*'Simulador Valora'!$Y$68,IF('Simulador Valora'!$X$35=1,IF('Simulador Valora'!$K$24>0,'Simulador Valora'!$K$24,'Simulador Valora'!$G$41)*'Simulador Valora'!$Y$68,0))),0))","v":0},null,{"$f":"F146*'Simulador Valora'!$X$59","v":0},null,"",null,null,null,11,0,0,0,0,"",0.17499999999999999,0,0,0,0,0,0,"",{"$f":"IF(AJ146<=0,0,IF('Simulador Valora'!$AC$62=1,0,AJ146*'Simulador Valora'!$Y$67+IF('Simulador Valora'!$X$35=2,'Simulador Valora'!$G$49,IF('Simulador Valora'!$X$35=1,'Simulador Valora'!$K$49,0))))","v":0},null,{"$f":"AL146*'Simulador Valora'!$X$59","v":0},0,0,"",0,132]
[133,0,null,0,null,0,null,0,null,null,null,{"$f":"IF('Simulador Valora'!$V$60=1,0,J147*'Simulador Valora'!$V$61*'Simulador Valora'!$W$59)","v":0},null,"",null,0,null,{"$f":"IF('Simulador Valora'!$AC$62=1,0,IFERROR(IF(B147<=0,0,B147*'Simulador Valora'!$Y$67),0))","v":0},null,{"$f":"IF(OR('Simulador Valora'!$AC$62=1,'Simulador Valora'!$AC$66=1),0,IFERROR(IF(B147<=0,0,IF('Simulador Valora'!$X$35=2,IF('Simulador Valora'!$K$24>0,'Simulador Valora'!$K$24,'Simulador Valora'!$K$41)*'Simulador Valora'!$Y$68,IF('Simulador Valora'!$X$35=1,IF('Simulador Valora'!$K$24>0,'Simulador Valora'!$K$24,'Simulador Valora'!$G$41)*'Simulador Valora'!$Y$68,0))),0))","v":0},null,{"$f":"F147*'Simulador Valora'!$X$59","v":0},null,"",null,{"$f":"IF(B147<=0,0,IF(AND('Simulador Valora'!$V$40=2,'Simulador Valora'!$X$35=4),0,'Simulador Valora'!$AM$48))","v":0},null,11,1,0,0,0,"",{"$f":"IF(AH146=$AO$3,$AO$3,IF(AH146=$AO$3,AH146,IF(AH146-0.25%<=$AO$3,$AO$3,AH146-0.25%)))","v":0.17499999999999999},0,0,0,0,0,0,"",{"$f":"IF(AJ147<=0,0,IF('Simulador Valora'!$AC$62=1,0,AJ147*'Simulador Valora'!$Y$67+IF('Simulador Valora'!$X$35=2,'Simulador Valora'!$G$49,IF('Simulador Valora'!$X$35=1,'Simulador Valora'!$K$49,0))))","v":0},{"$f":"IF(AJ147<=0,0,$AQ$27)","v":0},{"$f":"AL147*'Simulador Valora'!$X$59","v":0},0,0,"",0,133]
[134,0,null,0,null,0,null,0,null,null,null,{"$f":"IF('Simulador Valora'!$V$60=1,0,J148*'Simulador Valora'!$V$61*'Simulador Valora'!$W$59)","v":0},null,"",null,0,null,{"$f":"IF('Simulador Valora'!$AC$62=1,0,IFERROR(IF(B148<=0,0,B148*'Simulador Valora'!$Y$67),0))","v":0},null,{"$f":"IF(OR('Simulador Valora'!$AC$62=1,'Simulador Valora'!$AC$66=1),0,IFERROR(IF(B148<=0,0,IF('Simulador Valora'!$X$35=2,IF('Simulador Valora'!$K$24>0,'Simulador Valora'!$K$24,'Simulador Valora'!$K$41)*'Simulador Valora'!$Y$68,IF('Simulador Valora'!$X$35=1,IF('Simulador Valora'!$K$24>0,'Simulador Valora'!$K$24,'Simulador Valora'!$G$41)*'Simulador Valora'!$Y$68,0))),0))","v":0},null,{"$f":"F148*'Simulador Valora'!$X$59","v":0},null,"",null,null,null,11,2,0,0,0,"",{"$f":"AH147","v":0.17499999999999999},0,0,0,0,0,0,"",{"$f":"IF(AJ148<=0,0,IF('Simulador Valora'!$AC$62=1,0,AJ148*'Simulador Valora'!$Y$67+IF('Simulador Valora'!$X$35=2,'Simulador Valora'!$G$49,IF('Simulador Valora'!$X$35=1,'Simulador Valora'!$K$49,0))))","v":0},null,{"$f":"AL148*'Simulador Valora'!$X$59","v":0},0,0,"",0,134]
[135,0,null,0,null,0,null,0,null,null,null,{"$f":"IF('Simulador Valora'!$V$60=1,0,J149*'Simulador Valora'!$V$61*'Simulador Valora'!$W$59)","v":0},null,"",null,0,null,{"$f":"IF('Simulador Valora'!$AC$62=1,0,IFERROR(IF(B149<=0,0,B149*'Simulador Valora'!$Y$67),0))","v":0},null,{"$f":"IF(OR('Simulador Valora'!$AC$62=1,'Simulador Valora'!$AC$66=1),0,IFERROR(IF(B149<=0,0,IF('Simulador Valora'!$X$35=2,IF('Simulador Valora'!$K$24>0,'Simulador Valora'!$K$24,'Simulador Valora'!$K$41)*'Simulador Valora'!$Y$68,IF('Simulador Valora'!$X$35=1,IF('Simulador Valora'!$K$24>0,'Simulador Valora'!$K$24,'Simulador Valora'!$G$41)*'Simulador Valora'!$Y$68,0))),0))","v":0},null,{"$f":"F149*'Simulador Valora'!$X$59","v":0},null,"",null,null,null,11,3,0,0,0,"",{"$f":"AH148","v":0.17499999999999999},0,0,0,0,0,0,"",{"$f":"IF(AJ149<=0,0,IF('Simulador Valora'!$AC$62=1,0,AJ149*'Simulador Valora'!$Y$67+IF('Simulador Valora'!$X$35=2,'Simulador Valora'!$G$49,IF('Simulador Valora'!$X$35=1,'Simulador Valora'!$K$49,0))))","v":0},null,{"$f":"AL149*'Simulador Valora'!$X$59","v":0},0,0,"",0,135]
[136,0,null,0,null,0,null,0,null,null,null,{"$f":"IF('Simulador Valora'!$V$60=1,0,J150*'Simulador Valora'!$V$61*'Simulador Valora'!$W$59)","v":0},null,"",null,0,null,{"$f":"IF('Simulador Valora'!$AC$62=1,0,IFERROR(IF(B150<=0,0,B150*'Simulador Valora'!$Y$67),0))","v":0},null,{"$f":"IF(OR('Simulador Valora'!$AC$62=1,'Simulador Valora'!$AC$66=1),0,IFERROR(IF(B150<=0,0,IF('Simulador Valora'!$X$35=2,IF('Simulador Valora'!$K$24>0,'Simulador Valora'!$K$24,'Simulador Valora'!$K$41)*'Simulador Valora'!$Y$68,IF('Simulador Valora'!$X$35=1,IF('Simulador Valora'!$K$24>0,'Simulador Valora'!$K$24,'Simulador Valora'!$G$41)*'Simulador Valora'!$Y$68,0))),0))","v":0},null,{"$f":"F150*'Simulador Valora'!$X$59","v":0},null,"",null,null,null,11,4,0,0,0,"",0.17499999999999999,0,0,0,0,0,0,"",{"$f":"IF(AJ150<=0,0,IF('Simulador Valora'!$AC$62=1,0,AJ150*'Simulador Valora'!$Y$67+IF('Simulador Valora'!$X$35=2,'Simulador Valora'!$G$49,IF('Simulador Valora'!$X$35=1,'Simulador Valora'!$K$49,0))))","v":0},null,{"$f":"AL150*'Simulador Valora'!$X$59","v":0},0,0,"",0,136]
[137,0,null,0,null,0,null,0,null,null,null,{"$f":"IF('Simulador Valora'!$V$60=1,0,J151*'Simulador Valora'!$V$61*'Simulador Valora'!$W$59)","v":0},null,"",null,0,null,{"$f":"IF('Simulador Valora'!$AC$62=1,0,IFERROR(IF(B151<=0,0,B151*'Simulador Valora'!$Y$67),0))","v":0},null,{"$f":"IF(OR('Simulador Valora'!$AC$62=1,'Simulador Valora'!$AC$66=1),0,IFERROR(IF(B151<=0,0,IF('Simulador Valora'!$X$35=2,IF('Simulador Valora'!$K$24>0,'Simulador Valora'!$K$24,'Simulador Valora'!$K$41)*'Simulador Valora'!$Y$68,IF('Simulador Valora'!$X$35=1,IF('Simulador Valora'!$K$24>0,'Simulador Valora'!$K$24,'Simulador Valora'!$G$41)*'Simulador Valora'!$Y$68,0))),0))","v":0},null,{"$f":"F151*'Simulador Valora'!$X$59","v":0},null,"",null,null,null,11,5,0,0,0,"",0.17499999999999999,0,0,0,0,0,0,"",{"$f":"IF(AJ151<=0,0,IF('Simulador Valora'!$AC$62=1,0,AJ151*'Simulador Valora'!$Y$67+IF('Simulador Valora'!$X$35=2,'Simulador Valora'!$G$49,IF('Simulador Valora'!$X$35=1,'Simulador Valora'!$K$49,0))))","v":0},null,{"$f":"AL151*'Simulador Valora'!$X$59","v":0},0,0,"",0,137]
[138,0,null,0,null,0,null,0,null,null,null,{"$f":"IF('Simulador Valora'!$V$60=1,0,J152*'Simulador Valora'!$V$61*'Simulador Valora'!$W$59)","v":0},null,"",null,0,null,{"$f":"IF('Simulador Valora'!$AC$62=1,0,IFERROR(IF(B152<=0,0,B152*'Simulador Valora'!$Y$67),0))","v":0},null,{"$f":"IF(OR('Simulador Valora'!$AC$62=1,'Simulador Valora'!$AC$66=1),0,IFERROR(IF(B152<=0,0,IF('Simulador Valora'!$X$35=2,IF('Simulador Valora'!$K$24>0,'Simulador Valora'!$K$24,'Simulador Valora'!$K$41)*'Simulador Valora'!$Y$68,IF('Simulador Valora'!$X$35=1,IF('Simulador Valora'!$K$24>0,'Simulador Valora'!$K$24,'Simulador Valora'!$G$41)*'Simulador Valora'!$Y$68,0))),0))","v":0},null,{"$f":"F152*'Simulador Valora'!$X$59","v":0},null,"",null,null,null,11,6,0,0,0,"",0.17499999999999999,0,0,0,0,0,0,"",{"$f":"IF(AJ152<=0,0,IF('Simulador Valora'!$AC$62=1,0,AJ152*'Simulador Valora'!$Y$67+IF('Simulador Valora'!$X$35=2,'Simulador Valora'!$G$49,IF('Simulador Valora'!$X$35=1,'Simulador Valora'!$K$49,0))))","v":0},null,{"$f":"AL152*'Simulador Valora'!$X$59","v":0},0,0,"",0,138]
[139,0,null,0,null,0,null,0,null,null,null,{"$f":"IF('Simulador Valora'!$V$60=1,0,J153*'Simulador Valora'!$V$61*'Simulador Valora'!$W$59)","v":0},null,"",null,0,null,{"$f":"IF('Simulador Valora'!$AC$62=1,0,IFERROR(IF(B153<=0,0,B153*'Simulador Valora'!$Y$67),0))","v":0},null,{"$f":"IF(OR('Simulador Valora'!$AC$62=1,'Simulador Valora'!$AC$66=1),0,IFERROR(IF(B153<=0,0,IF('Simulador Valora'!$X$35=2,IF('Simulador Valora'!$K$24>0,'Simulador Valora'!$K$24,'Simulador Valora'!$K$41)*'Simulador Valora'!$Y$68,IF('Simulador Valora'!$X$35=1,IF('Simulador Valora'!$K$24>0,'Simulador Valora'!$K$24,'Simulador Valora'!$G$41)*'Simulador Valora'!$Y$68,0))),0))","v":0},null,{"$f":"F153*'Simulador Valora'!$X$59","v":0},null,"",null,null,null,11,7,0,0,0,"",0.17499999999999999,0,0,0,0,0,0,"",{"$f":"IF(AJ153<=0,0,IF('Simulador Valora'!$AC$62=1,0,AJ153*'Simulador Valora'!$Y$67+IF('Simulador Valora'!$X$35=2,'Simulador Valora'!$G$49,IF('Simulador Valora'!$X$35=1,'Simulador Valora'!$K$49,0))))","v":0},null,{"$f":"AL153*'Simulador Valora'!$X$59","v":0},0,0,"",0,139]
[140,0,null,0,null,0,null,0,null,null,null,{"$f":"IF('Simulador Valora'!$V$60=1,0,J154*'Simulador Valora'!$V$61*'Simulador Valora'!$W$59)","v":0},null,"",null,0,null,{"$f":"IF('Simulador Valora'!$AC$62=1,0,IFERROR(IF(B154<=0,0,B154*'Simulador Valora'!$Y$67),0))","v":0},null,{"$f":"IF(OR('Simulador Valora'!$AC$62=1,'Simulador Valora'!$AC$66=1),0,IFERROR(IF(B154<=0,0,IF('Simulador Valora'!$X$35=2,IF('Simulador Valora'!$K$24>0,'Simulador Valora'!$K$24,'Simulador Valora'!$K$41)*'Simulador Valora'!$Y$68,IF('Simulador Valora'!$X$35=1,IF('Simulador Valora'!$K$24>0,'Simulador Valora'!$K$24,'Simulador Valora'!$G$41)*'Simulador Valora'!$Y$68,0))),0))","v":0},null,{"$f":"F154*'Simulador Valora'!$X$59","v":0},null,"",null,null,null,11,8,0,0,0,"",0.17499999999999999,0,0,0,0,0,0,"",{"$f":"IF(AJ154<=0,0,IF('Simulador Valora'!$AC$62=1,0,AJ154*'Simulador Valora'!$Y$67+IF('Simulador Valora'!$X$35=2,'Simulador Valora'!$G$49,IF('Simulador Valora'!$X$35=1,'Simulador Valora'!$K$49,0))))","v":0},null,{"$f":"AL154*'Simulador Valora'!$X$59","v":0},0,0,"",0,140]
[141,0,null,0,null,0,null,0,null,null,null,{"$f":"IF('Simulador Valora'!$V$60=1,0,J155*'Simulador Valora'!$V$61*'Simulador Valora'!$W$59)","v":0},null,"",null,0,null,{"$f":"IF('Simulador Valora'!$AC$62=1,0,IFERROR(IF(B155<=0,0,B155*'Simulador Valora'!$Y$67),0))","v":0},null,{"$f":"IF(OR('Simulador Valora'!$AC$62=1,'Simulador Valora'!$AC$66=1),0,IFERROR(IF(B155<=0,0,IF('Simulador Valora'!$X$35=2,IF('Simulador Valora'!$K$24>0,'Simulador Valora'!$K$24,'Simulador Valora'!$K$41)*'Simulador Valora'!$Y$68,IF('Simulador Valora'!$X$35=1,IF('Simulador Valora'!$K$24>0,'Simulador Valora'!$K$24,'Simulador Valora'!$G$41)*'Simulador Valora'!$Y$68,0))),0))","v":0},null,{"$f":"F155*'Simulador Valora'!$X$59","v":0},null,"",null,null,null,11,9,0,0,0,"",0.17499999999999999,0,0,0,0,0,0,"",{"$f":"IF(AJ155<=0,0,IF('Simulador Valora'!$AC$62=1,0,AJ155*'Simulador Valora'!$Y$67+IF('Simulador Valora'!$X$35=2,'Simulador Valora'!$G$49,IF('Simulador Valora'!$X$35=1,'Simulador Valora'!$K$49,0))))","v":0},null,{"$f":"AL155*'Simulador Valora'!$X$59","v":0},0,0,"",0,141]
[142,0,null,0,null,0,null,0,null,null,null,{"$f":"IF('Simulador Valora'!$V$60=1,0,J156*'Simulador Valora'!$V$61*'Simulador Valora'!$W$59)","v":0},null,"",null,0,null,{"$f":"IF('Simulador Valora'!$AC$62=1,0,IFERROR(IF(B156<=0,0,B156*'Simulador Valora'!$Y$67),0))","v":0},null,{"$f":"IF(OR('Simulador Valora'!$AC$62=1,'Simulador Valora'!$AC$66=1),0,IFERROR(IF(B156<=0,0,IF('Simulador Valora'!$X$35=2,IF('Simulador Valora'!$K$24>0,'Simulador Valora'!$K$24,'Simulador Valora'!$K$41)*'Simulador Valora'!$Y$68,IF('Simulador Valora'!$X$35=1,IF('Simulador Valora'!$K$24>0,'Simulador Valora'!$K$24,'Simulador Valora'!$G$41)*'Simulador Valora'!$Y$68,0))),0))","v":0},null,{"$f":"F156*'Simulador Valora'!$X$59","v":0},null,"",null,null,null,11,10,0,0,0,"",0.17499999999999999,0,0,0,0,0,0,"",{"$f":"IF(AJ156<=0,0,IF('Simulador Valora'!$AC$62=1,0,AJ156*'Simulador Valora'!$Y$67+IF('Simulador Valora'!$X$35=2,'Simulador Valora'!$G$49,IF('Simulador Valora'!$X$35=1,'Simulador Valora'!$K$49,0))))","v":0},null,{"$f":"AL156*'Simulador Valora'!$X$59","v":0},0,0,"",0,142]
[143,0,null,0,null,0,null,0,null,null,null,{"$f":"IF('Simulador Valora'!$V$60=1,0,J157*'Simulador Valora'!$V$61*'Simulador Valora'!$W$59)","v":0},null,"",null,0,null,{"$f":"IF('Simulador Valora'!$AC$62=1,0,IFERROR(IF(B157<=0,0,B157*'Simulador Valora'!$Y$67),0))","v":0},null,{"$f":"IF(OR('Simulador Valora'!$AC$62=1,'Simulador Valora'!$AC$66=1),0,IFERROR(IF(B157<=0,0,IF('Simulador Valora'!$X$35=2,IF('Simulador Valora'!$K$24>0,'Simulador Valora'!$K$24,'Simulador Valora'!$K$41)*'Simulador Valora'!$Y$68,IF('Simulador Valora'!$X$35=1,IF('Simulador Valora'!$K$24>0,'Simulador Valora'!$K$24,'Simulador Valora'!$G$41)*'Simulador Valora'!$Y$68,0))),0))","v":0},null,{"$f":"F157*'Simulador Valora'!$X$59","v":0},null,"",null,null,null,11,11,0,0,0,"",0.17499999999999999,0,0,0,0,0,0,"",{"$f":"IF(AJ157<=0,0,IF('Simulador Valora'!$AC$62=1,0,AJ157*'Simulador Valora'!$Y$67+IF('Simulador Valora'!$X$35=2,'Simulador Valora'!$G$49,IF('Simulador Valora'!$X$35=1,'Simulador Valora'!$K$49,0))))","v":0},null,{"$f":"AL157*'Simulador Valora'!$X$59","v":0},0,0,"",0,143]
[144,0,null,0,null,0,null,0,null,null,null,{"$f":"IF('Simulador Valora'!$V$60=1,0,J158*'Simulador Valora'!$V$61*'Simulador Valora'!$W$59)","v":0},null,"",null,0,null,{"$f":"IF('Simulador Valora'!$AC$62=1,0,IFERROR(IF(B158<=0,0,B158*'Simulador Valora'!$Y$67),0))","v":0},null,{"$f":"IF(OR('Simulador Valora'!$AC$62=1,'Simulador Valora'!$AC$66=1),0,IFERROR(IF(B158<=0,0,IF('Simulador Valora'!$X$35=2,IF('Simulador Valora'!$K$24>0,'Simulador Valora'!$K$24,'Simulador Valora'!$K$41)*'Simulador Valora'!$Y$68,IF('Simulador Valora'!$X$35=1,IF('Simulador Valora'!$K$24>0,'Simulador Valora'!$K$24,'Simulador Valora'!$G$41)*'Simulador Valora'!$Y$68,0))),0))","v":0},null,{"$f":"F158*'Simulador Valora'!$X$59","v":0},null,"",null,null,null,12,0,0,0,0,"",0.17499999999999999,0,0,0,0,0,0,"",{"$f":"IF(AJ158<=0,0,IF('Simulador Valora'!$AC$62=1,0,AJ158*'Simulador Valora'!$Y$67+IF('Simulador Valora'!$X$35=2,'Simulador Valora'!$G$49,IF('Simulador Valora'!$X$35=1,'Simulador Valora'!$K$49,0))))","v":0},null,{"$f":"AL158*'Simulador Valora'!$X$59","v":0},0,0,"",0,144]
[145,0,null,0,null,0,null,0,null,null,null,{"$f":"IF('Simulador Valora'!$V$60=1,0,J159*'Simulador Valora'!$V$61*'Simulador Valora'!$W$59)","v":0},null,"",null,0,null,{"$f":"IF('Simulador Valora'!$AC$62=1,0,IFERROR(IF(B159<=0,0,B159*'Simulador Valora'!$Y$67),0))","v":0},null,{"$f":"IF(OR('Simulador Valora'!$AC$62=1,'Simulador Valora'!$AC$66=1),0,IFERROR(IF(B159<=0,0,IF('Simulador Valora'!$X$35=2,IF('Simulador Valora'!$K$24>0,'Simulador Valora'!$K$24,'Simulador Valora'!$K$41)*'Simulador Valora'!$Y$68,IF('Simulador Valora'!$X$35=1,IF('Simulador Valora'!$K$24>0,'Simulador Valora'!$K$24,'Simulador Valora'!$G$41)*'Simulador Valora'!$Y$68,0))),0))","v":0},null,{"$f":"F159*'Simulador Valora'!$X$59","v":0},null,"",null,{"$f":"IF(B159<=0,0,IF(AND('Simulador Valora'!$V$40=2,'Simulador Valora'!$X$35=4),0,'Simulador Valora'!$AM$48))","v":0},null,12,1,0,0,0,"",{"$f":"IF(AH158=$AO$3,$AO$3,IF(AH158=$AO$3,AH158,IF(AH158-0.25%<=$AO$3,$AO$3,AH158-0.25%)))","v":0.17499999999999999},0,0,0,0,0,0,"",{"$f":"IF(AJ159<=0,0,IF('Simulador Valora'!$AC$62=1,0,AJ159*'Simulador Valora'!$Y$67+IF('Simulador Valora'!$X$35=2,'Simulador Valora'!$G$49,IF('Simulador Valora'!$X$35=1,'Simulador Valora'!$K$49,0))))","v":0},{"$f":"IF(AJ159<=0,0,$AQ$27)","v":0},{"$f":"AL159*'Simulador Valora'!$X$59","v":0},0,0,"",0,145]
[146,0,null,0,null,0,null,0,null,null,null,{"$f":"IF('Simulador Valora'!$V$60=1,0,J160*'Simulador Valora'!$V$61*'Simulador Valora'!$W$59)","v":0},null,"",null,0,null,{"$f":"IF('Simulador Valora'!$AC$62=1,0,IFERROR(IF(B160<=0,0,B160*'Simulador Valora'!$Y$67),0))","v":0},null,{"$f":"IF(OR('Simulador Valora'!$AC$62=1,'Simulador Valora'!$AC$66=1),0,IFERROR(IF(B160<=0,0,IF('Simulador Valora'!$X$35=2,IF('Simulador Valora'!$K$24>0,'Simulador Valora'!$K$24,'Simulador Valora'!$K$41)*'Simulador Valora'!$Y$68,IF('Simulador Valora'!$X$35=1,IF('Simulador Valora'!$K$24>0,'Simulador Valora'!$K$24,'Simulador Valora'!$G$41)*'Simulador Valora'!$Y$68,0))),0))","v":0},null,{"$f":"F160*'Simulador Valora'!$X$59","v":0},null,"",null,null,null,12,2,0,0,0,"",{"$f":"AH159","v":0.17499999999999999},0,0,0,0,0,0,"",{"$f":"IF(AJ160<=0,0,IF('Simulador Valora'!$AC$62=1,0,AJ160*'Simulador Valora'!$Y$67+IF('Simulador Valora'!$X$35=2,'Simulador Valora'!$G$49,IF('Simulador Valora'!$X$35=1,'Simulador Valora'!$K$49,0))))","v":0},null,{"$f":"AL160*'Simulador Valora'!$X$59","v":0},0,0,"",0,146]
[147,0,null,0,null,0,null,0,null,null,null,{"$f":"IF('Simulador Valora'!$V$60=1,0,J161*'Simulador Valora'!$V$61*'Simulador Valora'!$W$59)","v":0},null,"",null,0,null,{"$f":"IF('Simulador Valora'!$AC$62=1,0,IFERROR(IF(B161<=0,0,B161*'Simulador Valora'!$Y$67),0))","v":0},null,{"$f":"IF(OR('Simulador Valora'!$AC$62=1,'Simulador Valora'!$AC$66=1),0,IFERROR(IF(B161<=0,0,IF('Simulador Valora'!$X$35=2,IF('Simulador Valora'!$K$24>0,'Simulador Valora'!$K$24,'Simulador Valora'!$K$41)*'Simulador Valora'!$Y$68,IF('Simulador Valora'!$X$35=1,IF('Simulador Valora'!$K$24>0,'Simulador Valora'!$K$24,'Simulador Valora'!$G$41)*'Simulador Valora'!$Y$68,0))),0))","v":0},null,{"$f":"F161*'Simulador Valora'!$X$59","v":0},null,"",null,null,null,12,3,0,0,0,"",{"$f":"AH160","v":0.17499999999999999},0,0,0,0,0,0,"",{"$f":"IF(AJ161<=0,0,IF('Simulador Valora'!$AC$62=1,0,AJ161*'Simulador Valora'!$Y$67+IF('Simulador Valora'!$X$35=2,'Simulador Valora'!$G$49,IF('Simulador Valora'!$X$35=1,'Simulador Valora'!$K$49,0))))","v":0},null,{"$f":"AL161*'Simulador Valora'!$X$59","v":0},0,0,"",0,147]
[148,0,null,0,null,0,null,0,null,null,null,{"$f":"IF('Simulador Valora'!$V$60=1,0,J162*'Simulador Valora'!$V$61*'Simulador Valora'!$W$59)","v":0},null,"",null,0,null,{"$f":"IF('Simulador Valora'!$AC$62=1,0,IFERROR(IF(B162<=0,0,B162*'Simulador Valora'!$Y$67),0))","v":0},null,{"$f":"IF(OR('Simulador Valora'!$AC$62=1,'Simulador Valora'!$AC$66=1),0,IFERROR(IF(B162<=0,0,IF('Simulador Valora'!$X$35=2,IF('Simulador Valora'!$K$24>0,'Simulador Valora'!$K$24,'Simulador Valora'!$K$41)*'Simulador Valora'!$Y$68,IF('Simulador Valora'!$X$35=1,IF('Simulador Valora'!$K$24>0,'Simulador Valora'!$K$24,'Simulador Valora'!$G$41)*'Simulador Valora'!$Y$68,0))),0))","v":0},null,{"$f":"F162*'Simulador Valora'!$X$59","v":0},null,"",null,null,null,12,4,0,0,0,"",0.17499999999999999,0,0,0,0,0,0,"",{"$f":"IF(AJ162<=0,0,IF('Simulador Valora'!$AC$62=1,0,AJ162*'Simulador Valora'!$Y$67+IF('Simulador Valora'!$X$35=2,'Simulador Valora'!$G$49,IF('Simulador Valora'!$X$35=1,'Simulador Valora'!$K$49,0))))","v":0},null,{"$f":"AL162*'Simulador Valora'!$X$59","v":0},0,0,"",0,148]
[149,0,null,0,null,0,null,0,null,null,null,{"$f":"IF('Simulador Valora'!$V$60=1,0,J163*'Simulador Valora'!$V$61*'Simulador Valora'!$W$59)","v":0},null,"",null,0,null,{"$f":"IF('Simulador Valora'!$AC$62=1,0,IFERROR(IF(B163<=0,0,B163*'Simulador Valora'!$Y$67),0))","v":0},null,{"$f":"IF(OR('Simulador Valora'!$AC$62=1,'Simulador Valora'!$AC$66=1),0,IFERROR(IF(B163<=0,0,IF('Simulador Valora'!$X$35=2,IF('Simulador Valora'!$K$24>0,'Simulador Valora'!$K$24,'Simulador Valora'!$K$41)*'Simulador Valora'!$Y$68,IF('Simulador Valora'!$X$35=1,IF('Simulador Valora'!$K$24>0,'Simulador Valora'!$K$24,'Simulador Valora'!$G$41)*'Simulador Valora'!$Y$68,0))),0))","v":0},null,{"$f":"F163*'Simulador Valora'!$X$59","v":0},null,"",null,null,null,12,5,0,0,0,"",0.17499999999999999,0,0,0,0,0,0,"",{"$f":"IF(AJ163<=0,0,IF('Simulador Valora'!$AC$62=1,0,AJ163*'Simulador Valora'!$Y$67+IF('Simulador Valora'!$X$35=2,'Simulador Valora'!$G$49,IF('Simulador Valora'!$X$35=1,'Simulador Valora'!$K$49,0))))","v":0},null,{"$f":"AL163*'Simulador Valora'!$X$59","v":0},0,0,"",0,149]
[150,0,null,0,null,0,null,0,null,null,null,{"$f":"IF('Simulador Valora'!$V$60=1,0,J164*'Simulador Valora'!$V$61*'Simulador Valora'!$W$59)","v":0},null,"",null,0,null,{"$f":"IF('Simulador Valora'!$AC$62=1,0,IFERROR(IF(B164<=0,0,B164*'Simulador Valora'!$Y$67),0))","v":0},null,{"$f":"IF(OR('Simulador Valora'!$AC$62=1,'Simulador Valora'!$AC$66=1),0,IFERROR(IF(B164<=0,0,IF('Simulador Valora'!$X$35=2,IF('Simulador Valora'!$K$24>0,'Simulador Valora'!$K$24,'Simulador Valora'!$K$41)*'Simulador Valora'!$Y$68,IF('Simulador Valora'!$X$35=1,IF('Simulador Valora'!$K$24>0,'Simulador Valora'!$K$24,'Simulador Valora'!$G$41)*'Simulador Valora'!$Y$68,0))),0))","v":0},null,{"$f":"F164*'Simulador Valora'!$X$59","v":0},null,"",null,null,null,12,6,0,0,0,"",0.17499999999999999,0,0,0,0,0,0,"",{"$f":"IF(AJ164<=0,0,IF('Simulador Valora'!$AC$62=1,0,AJ164*'Simulador Valora'!$Y$67+IF('Simulador Valora'!$X$35=2,'Simulador Valora'!$G$49,IF('Simulador Valora'!$X$35=1,'Simulador Valora'!$K$49,0))))","v":0},null,{"$f":"AL164*'Simulador Valora'!$X$59","v":0},0,0,"",0,150]
[151,0,null,0,null,0,null,0,null,null,null,{"$f":"IF('Simulador Valora'!$V$60=1,0,J165*'Simulador Valora'!$V$61*'Simulador Valora'!$W$59)","v":0},null,"",null,0,null,{"$f":"IF('Simulador Valora'!$AC$62=1,0,IFERROR(IF(B165<=0,0,B165*'Simulador Valora'!$Y$67),0))","v":0},null,{"$f":"IF(OR('Simulador Valora'!$AC$62=1,'Simulador Valora'!$AC$66=1),0,IFERROR(IF(B165<=0,0,IF('Simulador Valora'!$X$35=2,IF('Simulador Valora'!$K$24>0,'Simulador Valora'!$K$24,'Simulador Valora'!$K$41)*'Simulador Valora'!$Y$68,IF('Simulador Valora'!$X$35=1,IF('Simulador Valora'!$K$24>0,'Simulador Valora'!$K$24,'Simulador Valora'!$G$41)*'Simulador Valora'!$Y$68,0))),0))","v":0},null,{"$f":"F165*'Simulador Valora'!$X$59","v":0},null,"",null,null,null,12,7,0,0,0,"",0.17499999999999999,0,0,0,0,0,0,"",{"$f":"IF(AJ165<=0,0,IF('Simulador Valora'!$AC$62=1,0,AJ165*'Simulador Valora'!$Y$67+IF('Simulador Valora'!$X$35=2,'Simulador Valora'!$G$49,IF('Simulador Valora'!$X$35=1,'Simulador Valora'!$K$49,0))))","v":0},null,{"$f":"AL165*'Simulador Valora'!$X$59","v":0},0,0,"",0,151]
[152,0,null,0,null,0,null,0,null,null,null,{"$f":"IF('Simulador Valora'!$V$60=1,0,J166*'Simulador Valora'!$V$61*'Simulador Valora'!$W$59)","v":0},null,"",null,0,null,{"$f":"IF('Simulador Valora'!$AC$62=1,0,IFERROR(IF(B166<=0,0,B166*'Simulador Valora'!$Y$67),0))","v":0},null,{"$f":"IF(OR('Simulador Valora'!$AC$62=1,'Simulador Valora'!$AC$66=1),0,IFERROR(IF(B166<=0,0,IF('Simulador Valora'!$X$35=2,IF('Simulador Valora'!$K$24>0,'Simulador Valora'!$K$24,'Simulador Valora'!$K$41)*'Simulador Valora'!$Y$68,IF('Simulador Valora'!$X$35=1,IF('Simulador Valora'!$K$24>0,'Simulador Valora'!$K$24,'Simulador Valora'!$G$41)*'Simulador Valora'!$Y$68,0))),0))","v":0},null,{"$f":"F166*'Simulador Valora'!$X$59","v":0},null,"",null,null,null,12,8,0,0,0,"",0.17499999999999999,0,0,0,0,0,0,"",{"$f":"IF(AJ166<=0,0,IF('Simulador Valora'!$AC$62=1,0,AJ166*'Simulador Valora'!$Y$67+IF('Simulador Valora'!$X$35=2,'Simulador Valora'!$G$49,IF('Simulador Valora'!$X$35=1,'Simulador Valora'!$K$49,0))))","v":0},null,{"$f":"AL166*'Simulador Valora'!$X$59","v":0},0,0,"",0,152]
[153,0,null,0,null,0,null,0,null,null,null,{"$f":"IF('Simulador Valora'!$V$60=1,0,J167*'Simulador Valora'!$V$61*'Simulador Valora'!$W$59)","v":0},null,"",null,0,null,{"$f":"IF('Simulador Valora'!$AC$62=1,0,IFERROR(IF(B167<=0,0,B167*'Simulador Valora'!$Y$67),0))","v":0},null,{"$f":"IF(OR('Simulador Valora'!$AC$62=1,'Simulador Valora'!$AC$66=1),0,IFERROR(IF(B167<=0,0,IF('Simulador Valora'!$X$35=2,IF('Simulador Valora'!$K$24>0,'Simulador Valora'!$K$24,'Simulador Valora'!$K$41)*'Simulador Valora'!$Y$68,IF('Simulador Valora'!$X$35=1,IF('Simulador Valora'!$K$24>0,'Simulador Valora'!$K$24,'Simulador Valora'!$G$41)*'Simulador Valora'!$Y$68,0))),0))","v":0},null,{"$f":"F167*'Simulador Valora'!$X$59","v":0},null,"",null,null,null,12,9,0,0,0,"",0.17499999999999999,0,0,0,0,0,0,"",{"$f":"IF(AJ167<=0,0,IF('Simulador Valora'!$AC$62=1,0,AJ167*'Simulador Valora'!$Y$67+IF('Simulador Valora'!$X$35=2,'Simulador Valora'!$G$49,IF('Simulador Valora'!$X$35=1,'Simulador Valora'!$K$49,0))))","v":0},null,{"$f":"AL167*'Simulador Valora'!$X$59","v":0},0,0,"",0,153]
[154,0,null,0,null,0,null,0,null,null,null,{"$f":"IF('Simulador Valora'!$V$60=1,0,J168*'Simulador Valora'!$V$61*'Simulador Valora'!$W$59)","v":0},null,"",null,0,null,{"$f":"IF('Simulador Valora'!$AC$62=1,0,IFERROR(IF(B168<=0,0,B168*'Simulador Valora'!$Y$67),0))","v":0},null,{"$f":"IF(OR('Simulador Valora'!$AC$62=1,'Simulador Valora'!$AC$66=1),0,IFERROR(IF(B168<=0,0,IF('Simulador Valora'!$X$35=2,IF('Simulador Valora'!$K$24>0,'Simulador Valora'!$K$24,'Simulador Valora'!$K$41)*'Simulador Valora'!$Y$68,IF('Simulador Valora'!$X$35=1,IF('Simulador Valora'!$K$24>0,'Simulador Valora'!$K$24,'Simulador Valora'!$G$41)*'Simulador Valora'!$Y$68,0))),0))","v":0},null,{"$f":"F168*'Simulador Valora'!$X$59","v":0},null,"",null,null,null,12,10,0,0,0,"",0.17499999999999999,0,0,0,0,0,0,"",{"$f":"IF(AJ168<=0,0,IF('Simulador Valora'!$AC$62=1,0,AJ168*'Simulador Valora'!$Y$67+IF('Simulador Valora'!$X$35=2,'Simulador Valora'!$G$49,IF('Simulador Valora'!$X$35=1,'Simulador Valora'!$K$49,0))))","v":0},null,{"$f":"AL168*'Simulador Valora'!$X$59","v":0},0,0,"",0,154]
[155,0,null,0,null,0,null,0,null,null,null,{"$f":"IF('Simulador Valora'!$V$60=1,0,J169*'Simulador Valora'!$V$61*'Simulador Valora'!$W$59)","v":0},null,"",null,0,null,{"$f":"IF('Simulador Valora'!$AC$62=1,0,IFERROR(IF(B169<=0,0,B169*'Simulador Valora'!$Y$67),0))","v":0},null,{"$f":"IF(OR('Simulador Valora'!$AC$62=1,'Simulador Valora'!$AC$66=1),0,IFERROR(IF(B169<=0,0,IF('Simulador Valora'!$X$35=2,IF('Simulador Valora'!$K$24>0,'Simulador Valora'!$K$24,'Simulador Valora'!$K$41)*'Simulador Valora'!$Y$68,IF('Simulador Valora'!$X$35=1,IF('Simulador Valora'!$K$24>0,'Simulador Valora'!$K$24,'Simulador Valora'!$G$41)*'Simulador Valora'!$Y$68,0))),0))","v":0},null,{"$f":"F169*'Simulador Valora'!$X$59","v":0},null,"",null,null,null,12,11,0,0,0,"",0.17499999999999999,0,0,0,0,0,0,"",{"$f":"IF(AJ169<=0,0,IF('Simulador Valora'!$AC$62=1,0,AJ169*'Simulador Valora'!$Y$67+IF('Simulador Valora'!$X$35=2,'Simulador Valora'!$G$49,IF('Simulador Valora'!$X$35=1,'Simulador Valora'!$K$49,0))))","v":0},null,{"$f":"AL169*'Simulador Valora'!$X$59","v":0},0,0,"",0,155]
[156,0,null,0,null,0,null,0,null,null,null,{"$f":"IF('Simulador Valora'!$V$60=1,0,J170*'Simulador Valora'!$V$61*'Simulador Valora'!$W$59)","v":0},null,"",null,0,null,{"$f":"IF('Simulador Valora'!$AC$62=1,0,IFERROR(IF(B170<=0,0,B170*'Simulador Valora'!$Y$67),0))","v":0},null,{"$f":"IF(OR('Simulador Valora'!$AC$62=1,'Simulador Valora'!$AC$66=1),0,IFERROR(IF(B170<=0,0,IF('Simulador Valora'!$X$35=2,IF('Simulador Valora'!$K$24>0,'Simulador Valora'!$K$24,'Simulador Valora'!$K$41)*'Simulador Valora'!$Y$68,IF('Simulador Valora'!$X$35=1,IF('Simulador Valora'!$K$24>0,'Simulador Valora'!$K$24,'Simulador Valora'!$G$41)*'Simulador Valora'!$Y$68,0))),0))","v":0},null,{"$f":"F170*'Simulador Valora'!$X$59","v":0},null,"",null,null,null,13,0,0,0,0,"",0.17499999999999999,0,0,0,0,0,0,"",{"$f":"IF(AJ170<=0,0,IF('Simulador Valora'!$AC$62=1,0,AJ170*'Simulador Valora'!$Y$67+IF('Simulador Valora'!$X$35=2,'Simulador Valora'!$G$49,IF('Simulador Valora'!$X$35=1,'Simulador Valora'!$K$49,0))))","v":0},null,{"$f":"AL170*'Simulador Valora'!$X$59","v":0},0,0,"",0,156]
[157,0,null,0,null,0,null,0,null,null,null,{"$f":"IF('Simulador Valora'!$V$60=1,0,J171*'Simulador Valora'!$V$61*'Simulador Valora'!$W$59)","v":0},null,"",null,0,null,{"$f":"IF('Simulador Valora'!$AC$62=1,0,IFERROR(IF(B171<=0,0,B171*'Simulador Valora'!$Y$67),0))","v":0},null,{"$f":"IF(OR('Simulador Valora'!$AC$62=1,'Simulador Valora'!$AC$66=1),0,IFERROR(IF(B171<=0,0,IF('Simulador Valora'!$X$35=2,IF('Simulador Valora'!$K$24>0,'Simulador Valora'!$K$24,'Simulador Valora'!$K$41)*'Simulador Valora'!$Y$68,IF('Simulador Valora'!$X$35=1,IF('Simulador Valora'!$K$24>0,'Simulador Valora'!$K$24,'Simulador Valora'!$G$41)*'Simulador Valora'!$Y$68,0))),0))","v":0},null,{"$f":"F171*'Simulador Valora'!$X$59","v":0},null,"",null,{"$f":"IF(B171<=0,0,IF(AND('Simulador Valora'!$V$40=2,'Simulador Valora'!$X$35=4),0,'Simulador Valora'!$AM$48))","v":0},null,13,1,0,0,0,"",{"$f":"IF(AH170=$AO$3,$AO$3,IF(AH170=$AO$3,AH170,IF(AH170-0.25%<=$AO$3,$AO$3,AH170-0.25%)))","v":0.17499999999999999},0,0,0,0,0,0,"",{"$f":"IF(AJ171<=0,0,IF('Simulador Valora'!$AC$62=1,0,AJ171*'Simulador Valora'!$Y$67+IF('Simulador Valora'!$X$35=2,'Simulador Valora'!$G$49,IF('Simulador Valora'!$X$35=1,'Simulador Valora'!$K$49,0))))","v":0},{"$f":"IF(AJ171<=0,0,$AQ$27)","v":0},{"$f":"AL171*'Simulador Valora'!$X$59","v":0},0,0,"",0,157]
[158,0,null,0,null,0,null,0,null,null,null,{"$f":"IF('Simulador Valora'!$V$60=1,0,J172*'Simulador Valora'!$V$61*'Simulador Valora'!$W$59)","v":0},null,"",null,0,null,{"$f":"IF('Simulador Valora'!$AC$62=1,0,IFERROR(IF(B172<=0,0,B172*'Simulador Valora'!$Y$67),0))","v":0},null,{"$f":"IF(OR('Simulador Valora'!$AC$62=1,'Simulador Valora'!$AC$66=1),0,IFERROR(IF(B172<=0,0,IF('Simulador Valora'!$X$35=2,IF('Simulador Valora'!$K$24>0,'Simulador Valora'!$K$24,'Simulador Valora'!$K$41)*'Simulador Valora'!$Y$68,IF('Simulador Valora'!$X$35=1,IF('Simulador Valora'!$K$24>0,'Simulador Valora'!$K$24,'Simulador Valora'!$G$41)*'Simulador Valora'!$Y$68,0))),0))","v":0},null,{"$f":"F172*'Simulador Valora'!$X$59","v":0},null,"",null,null,null,13,2,0,0,0,"",{"$f":"AH171","v":0.17499999999999999},0,0,0,0,0,0,"",{"$f":"IF(AJ172<=0,0,IF('Simulador Valora'!$AC$62=1,0,AJ172*'Simulador Valora'!$Y$67+IF('Simulador Valora'!$X$35=2,'Simulador Valora'!$G$49,IF('Simulador Valora'!$X$35=1,'Simulador Valora'!$K$49,0))))","v":0},null,{"$f":"AL172*'Simulador Valora'!$X$59","v":0},0,0,"",0,158]
[159,0,null,0,null,0,null,0,null,null,null,{"$f":"IF('Simulador Valora'!$V$60=1,0,J173*'Simulador Valora'!$V$61*'Simulador Valora'!$W$59)","v":0},null,"",null,0,null,{"$f":"IF('Simulador Valora'!$AC$62=1,0,IFERROR(IF(B173<=0,0,B173*'Simulador Valora'!$Y$67),0))","v":0},null,{"$f":"IF(OR('Simulador Valora'!$AC$62=1,'Simulador Valora'!$AC$66=1),0,IFERROR(IF(B173<=0,0,IF('Simulador Valora'!$X$35=2,IF('Simulador Valora'!$K$24>0,'Simulador Valora'!$K$24,'Simulador Valora'!$K$41)*'Simulador Valora'!$Y$68,IF('Simulador Valora'!$X$35=1,IF('Simulador Valora'!$K$24>0,'Simulador Valora'!$K$24,'Simulador Valora'!$G$41)*'Simulador Valora'!$Y$68,0))),0))","v":0},null,{"$f":"F173*'Simulador Valora'!$X$59","v":0},null,"",null,null,null,13,3,0,0,0,"",{"$f":"AH172","v":0.17499999999999999},0,0,0,0,0,0,"",{"$f":"IF(AJ173<=0,0,IF('Simulador Valora'!$AC$62=1,0,AJ173*'Simulador Valora'!$Y$67+IF('Simulador Valora'!$X$35=2,'Simulador Valora'!$G$49,IF('Simulador Valora'!$X$35=1,'Simulador Valora'!$K$49,0))))","v":0},null,{"$f":"AL173*'Simulador Valora'!$X$59","v":0},0,0,"",0,159]
[160,0,null,0,null,0,null,0,null,null,null,{"$f":"IF('Simulador Valora'!$V$60=1,0,J174*'Simulador Valora'!$V$61*'Simulador Valora'!$W$59)","v":0},null,"",null,0,null,{"$f":"IF('Simulador Valora'!$AC$62=1,0,IFERROR(IF(B174<=0,0,B174*'Simulador Valora'!$Y$67),0))","v":0},null,{"$f":"IF(OR('Simulador Valora'!$AC$62=1,'Simulador Valora'!$AC$66=1),0,IFERROR(IF(B174<=0,0,IF('Simulador Valora'!$X$35=2,IF('Simulador Valora'!$K$24>0,'Simulador Valora'!$K$24,'Simulador Valora'!$K$41)*'Simulador Valora'!$Y$68,IF('Simulador Valora'!$X$35=1,IF('Simulador Valora'!$K$24>0,'Simulador Valora'!$K$24,'Simulador Valora'!$G$41)*'Simulador Valora'!$Y$68,0))),0))","v":0},null,{"$f":"F174*'Simulador Valora'!$X$59","v":0},null,"",null,null,null,13,4,0,0,0,"",0.17499999999999999,0,0,0,0,0,0,"",{"$f":"IF(AJ174<=0,0,IF('Simulador Valora'!$AC$62=1,0,AJ174*'Simulador Valora'!$Y$67+IF('Simulador Valora'!$X$35=2,'Simulador Valora'!$G$49,IF('Simulador Valora'!$X$35=1,'Simulador Valora'!$K$49,0))))","v":0},null,{"$f":"AL174*'Simulador Valora'!$X$59","v":0},0,0,"",0,160]
[161,0,null,0,null,0,null,0,null,null,null,{"$f":"IF('Simulador Valora'!$V$60=1,0,J175*'Simulador Valora'!$V$61*'Simulador Valora'!$W$59)","v":0},null,"",null,0,null,{"$f":"IF('Simulador Valora'!$AC$62=1,0,IFERROR(IF(B175<=0,0,B175*'Simulador Valora'!$Y$67),0))","v":0},null,{"$f":"IF(OR('Simulador Valora'!$AC$62=1,'Simulador Valora'!$AC$66=1),0,IFERROR(IF(B175<=0,0,IF('Simulador Valora'!$X$35=2,IF('Simulador Valora'!$K$24>0,'Simulador Valora'!$K$24,'Simulador Valora'!$K$41)*'Simulador Valora'!$Y$68,IF('Simulador Valora'!$X$35=1,IF('Simulador Valora'!$K$24>0,'Simulador Valora'!$K$24,'Simulador Valora'!$G$41)*'Simulador Valora'!$Y$68,0))),0))","v":0},null,{"$f":"F175*'Simulador Valora'!$X$59","v":0},null,"",null,null,null,13,5,0,0,0,"",0.17499999999999999,0,0,0,0,0,0,"",{"$f":"IF(AJ175<=0,0,IF('Simulador Valora'!$AC$62=1,0,AJ175*'Simulador Valora'!$Y$67+IF('Simulador Valora'!$X$35=2,'Simulador Valora'!$G$49,IF('Simulador Valora'!$X$35=1,'Simulador Valora'!$K$49,0))))","v":0},null,{"$f":"AL175*'Simulador Valora'!$X$59","v":0},0,0,"",0,161]
[162,0,null,0,null,0,null,0,null,null,null,{"$f":"IF('Simulador Valora'!$V$60=1,0,J176*'Simulador Valora'!$V$61*'Simulador Valora'!$W$59)","v":0},null,"",null,0,null,{"$f":"IF('Simulador Valora'!$AC$62=1,0,IFERROR(IF(B176<=0,0,B176*'Simulador Valora'!$Y$67),0))","v":0},null,{"$f":"IF(OR('Simulador Valora'!$AC$62=1,'Simulador Valora'!$AC$66=1),0,IFERROR(IF(B176<=0,0,IF('Simulador Valora'!$X$35=2,IF('Simulador Valora'!$K$24>0,'Simulador Valora'!$K$24,'Simulador Valora'!$K$41)*'Simulador Valora'!$Y$68,IF('Simulador Valora'!$X$35=1,IF('Simulador Valora'!$K$24>0,'Simulador Valora'!$K$24,'Simulador Valora'!$G$41)*'Simulador Valora'!$Y$68,0))),0))","v":0},null,{"$f":"F176*'Simulador Valora'!$X$59","v":0},null,"",null,null,null,13,6,0,0,0,"",0.17499999999999999,0,0,0,0,0,0,"",{"$f":"IF(AJ176<=0,0,IF('Simulador Valora'!$AC$62=1,0,AJ176*'Simulador Valora'!$Y$67+IF('Simulador Valora'!$X$35=2,'Simulador Valora'!$G$49,IF('Simulador Valora'!$X$35=1,'Simulador Valora'!$K$49,0))))","v":0},null,{"$f":"AL176*'Simulador Valora'!$X$59","v":0},0,0,"",0,162]
[163,0,null,0,null,0,null,0,null,null,null,{"$f":"IF('Simulador Valora'!$V$60=1,0,J177*'Simulador Valora'!$V$61*'Simulador Valora'!$W$59)","v":0},null,"",null,0,null,{"$f":"IF('Simulador Valora'!$AC$62=1,0,IFERROR(IF(B177<=0,0,B177*'Simulador Valora'!$Y$67),0))","v":0},null,{"$f":"IF(OR('Simulador Valora'!$AC$62=1,'Simulador Valora'!$AC$66=1),0,IFERROR(IF(B177<=0,0,IF('Simulador Valora'!$X$35=2,IF('Simulador Valora'!$K$24>0,'Simulador Valora'!$K$24,'Simulador Valora'!$K$41)*'Simulador Valora'!$Y$68,IF('Simulador Valora'!$X$35=1,IF('Simulador Valora'!$K$24>0,'Simulador Valora'!$K$24,'Simulador Valora'!$G$41)*'Simulador Valora'!$Y$68,0))),0))","v":0},null,{"$f":"F177*'Simulador Valora'!$X$59","v":0},null,"",null,null,null,13,7,0,0,0,"",0.17499999999999999,0,0,0,0,0,0,"",{"$f":"IF(AJ177<=0,0,IF('Simulador Valora'!$AC$62=1,0,AJ177*'Simulador Valora'!$Y$67+IF('Simulador Valora'!$X$35=2,'Simulador Valora'!$G$49,IF('Simulador Valora'!$X$35=1,'Simulador Valora'!$K$49,0))))","v":0},null,{"$f":"AL177*'Simulador Valora'!$X$59","v":0},0,0,"",0,163]
[164,0,null,0,null,0,null,0,null,null,null,{"$f":"IF('Simulador Valora'!$V$60=1,0,J178*'Simulador Valora'!$V$61*'Simulador Valora'!$W$59)","v":0},null,"",null,0,null,{"$f":"IF('Simulador Valora'!$AC$62=1,0,IFERROR(IF(B178<=0,0,B178*'Simulador Valora'!$Y$67),0))","v":0},null,{"$f":"IF(OR('Simulador Valora'!$AC$62=1,'Simulador Valora'!$AC$66=1),0,IFERROR(IF(B178<=0,0,IF('Simulador Valora'!$X$35=2,IF('Simulador Valora'!$K$24>0,'Simulador Valora'!$K$24,'Simulador Valora'!$K$41)*'Simulador Valora'!$Y$68,IF('Simulador Valora'!$X$35=1,IF('Simulador Valora'!$K$24>0,'Simulador Valora'!$K$24,'Simulador Valora'!$G$41)*'Simulador Valora'!$Y$68,0))),0))","v":0},null,{"$f":"F178*'Simulador Valora'!$X$59","v":0},null,"",null,null,null,13,8,0,0,0,"",0.17499999999999999,0,0,0,0,0,0,"",{"$f":"IF(AJ178<=0,0,IF('Simulador Valora'!$AC$62=1,0,AJ178*'Simulador Valora'!$Y$67+IF('Simulador Valora'!$X$35=2,'Simulador Valora'!$G$49,IF('Simulador Valora'!$X$35=1,'Simulador Valora'!$K$49,0))))","v":0},null,{"$f":"AL178*'Simulador Valora'!$X$59","v":0},0,0,"",0,164]
[165,0,null,0,null,0,null,0,null,null,null,{"$f":"IF('Simulador Valora'!$V$60=1,0,J179*'Simulador Valora'!$V$61*'Simulador Valora'!$W$59)","v":0},null,"",null,0,null,{"$f":"IF('Simulador Valora'!$AC$62=1,0,IFERROR(IF(B179<=0,0,B179*'Simulador Valora'!$Y$67),0))","v":0},null,{"$f":"IF(OR('Simulador Valora'!$AC$62=1,'Simulador Valora'!$AC$66=1),0,IFERROR(IF(B179<=0,0,IF('Simulador Valora'!$X$35=2,IF('Simulador Valora'!$K$24>0,'Simulador Valora'!$K$24,'Simulador Valora'!$K$41)*'Simulador Valora'!$Y$68,IF('Simulador Valora'!$X$35=1,IF('Simulador Valora'!$K$24>0,'Simulador Valora'!$K$24,'Simulador Valora'!$G$41)*'Simulador Valora'!$Y$68,0))),0))","v":0},null,{"$f":"F179*'Simulador Valora'!$X$59","v":0},null,"",null,null,null,13,9,0,0,0,"",0.17499999999999999,0,0,0,0,0,0,"",{"$f":"IF(AJ179<=0,0,IF('Simulador Valora'!$AC$62=1,0,AJ179*'Simulador Valora'!$Y$67+IF('Simulador Valora'!$X$35=2,'Simulador Valora'!$G$49,IF('Simulador Valora'!$X$35=1,'Simulador Valora'!$K$49,0))))","v":0},null,{"$f":"AL179*'Simulador Valora'!$X$59","v":0},0,0,"",0,165]
[166,0,null,0,null,0,null,0,null,null,null,{"$f":"IF('Simulador Valora'!$V$60=1,0,J180*'Simulador Valora'!$V$61*'Simulador Valora'!$W$59)","v":0},null,"",null,0,null,{"$f":"IF('Simulador Valora'!$AC$62=1,0,IFERROR(IF(B180<=0,0,B180*'Simulador Valora'!$Y$67),0))","v":0},null,{"$f":"IF(OR('Simulador Valora'!$AC$62=1,'Simulador Valora'!$AC$66=1),0,IFERROR(IF(B180<=0,0,IF('Simulador Valora'!$X$35=2,IF('Simulador Valora'!$K$24>0,'Simulador Valora'!$K$24,'Simulador Valora'!$K$41)*'Simulador Valora'!$Y$68,IF('Simulador Valora'!$X$35=1,IF('Simulador Valora'!$K$24>0,'Simulador Valora'!$K$24,'Simulador Valora'!$G$41)*'Simulador Valora'!$Y$68,0))),0))","v":0},null,{"$f":"F180*'Simulador Valora'!$X$59","v":0},null,"",null,null,null,13,10,0,0,0,"",0.17499999999999999,0,0,0,0,0,0,"",{"$f":"IF(AJ180<=0,0,IF('Simulador Valora'!$AC$62=1,0,AJ180*'Simulador Valora'!$Y$67+IF('Simulador Valora'!$X$35=2,'Simulador Valora'!$G$49,IF('Simulador Valora'!$X$35=1,'Simulador Valora'!$K$49,0))))","v":0},null,{"$f":"AL180*'Simulador Valora'!$X$59","v":0},0,0,"",0,166]
[167,0,null,0,null,0,null,0,null,null,null,{"$f":"IF('Simulador Valora'!$V$60=1,0,J181*'Simulador Valora'!$V$61*'Simulador Valora'!$W$59)","v":0},null,"",null,0,null,{"$f":"IF('Simulador Valora'!$AC$62=1,0,IFERROR(IF(B181<=0,0,B181*'Simulador Valora'!$Y$67),0))","v":0},null,{"$f":"IF(OR('Simulador Valora'!$AC$62=1,'Simulador Valora'!$AC$66=1),0,IFERROR(IF(B181<=0,0,IF('Simulador Valora'!$X$35=2,IF('Simulador Valora'!$K$24>0,'Simulador Valora'!$K$24,'Simulador Valora'!$K$41)*'Simulador Valora'!$Y$68,IF('Simulador Valora'!$X$35=1,IF('Simulador Valora'!$K$24>0,'Simulador Valora'!$K$24,'Simulador Valora'!$G$41)*'Simulador Valora'!$Y$68,0))),0))","v":0},null,{"$f":"F181*'Simulador Valora'!$X$59","v":0},null,"",null,null,null,13,11,0,0,0,"",0.17499999999999999,0,0,0,0,0,0,"",{"$f":"IF(AJ181<=0,0,IF('Simulador Valora'!$AC$62=1,0,AJ181*'Simulador Valora'!$Y$67+IF('Simulador Valora'!$X$35=2,'Simulador Valora'!$G$49,IF('Simulador Valora'!$X$35=1,'Simulador Valora'!$K$49,0))))","v":0},null,{"$f":"AL181*'Simulador Valora'!$X$59","v":0},0,0,"",0,167]
[168,0,null,0,null,0,null,0,null,null,null,{"$f":"IF('Simulador Valora'!$V$60=1,0,J182*'Simulador Valora'!$V$61*'Simulador Valora'!$W$59)","v":0},null,"",null,0,null,{"$f":"IF('Simulador Valora'!$AC$62=1,0,IFERROR(IF(B182<=0,0,B182*'Simulador Valora'!$Y$67),0))","v":0},null,{"$f":"IF(OR('Simulador Valora'!$AC$62=1,'Simulador Valora'!$AC$66=1),0,IFERROR(IF(B182<=0,0,IF('Simulador Valora'!$X$35=2,IF('Simulador Valora'!$K$24>0,'Simulador Valora'!$K$24,'Simulador Valora'!$K$41)*'Simulador Valora'!$Y$68,IF('Simulador Valora'!$X$35=1,IF('Simulador Valora'!$K$24>0,'Simulador Valora'!$K$24,'Simulador Valora'!$G$41)*'Simulador Valora'!$Y$68,0))),0))","v":0},null,{"$f":"F182*'Simulador Valora'!$X$59","v":0},null,"",null,null,null,14,0,0,0,0,"",0.17499999999999999,0,0,0,0,0,0,"",{"$f":"IF(AJ182<=0,0,IF('Simulador Valora'!$AC$62=1,0,AJ182*'Simulador Valora'!$Y$67+IF('Simulador Valora'!$X$35=2,'Simulador Valora'!$G$49,IF('Simulador Valora'!$X$35=1,'Simulador Valora'!$K$49,0))))","v":0},null,{"$f":"AL182*'Simulador Valora'!$X$59","v":0},0,0,"",0,168]
[169,0,null,0,null,0,null,0,null,null,null,{"$f":"IF('Simulador Valora'!$V$60=1,0,J183*'Simulador Valora'!$V$61*'Simulador Valora'!$W$59)","v":0},null,"",null,0,null,{"$f":"IF('Simulador Valora'!$AC$62=1,0,IFERROR(IF(B183<=0,0,B183*'Simulador Valora'!$Y$67),0))","v":0},null,{"$f":"IF(OR('Simulador Valora'!$AC$62=1,'Simulador Valora'!$AC$66=1),0,IFERROR(IF(B183<=0,0,IF('Simulador Valora'!$X$35=2,IF('Simulador Valora'!$K$24>0,'Simulador Valora'!$K$24,'Simulador Valora'!$K$41)*'Simulador Valora'!$Y$68,IF('Simulador Valora'!$X$35=1,IF('Simulador Valora'!$K$24>0,'Simulador Valora'!$K$24,'Simulador Valora'!$G$41)*'Simulador Valora'!$Y$68,0))),0))","v":0},null,{"$f":"F183*'Simulador Valora'!$X$59","v":0},null,"",null,{"$f":"IF(B183<=0,0,IF(AND('Simulador Valora'!$V$40=2,'Simulador Valora'!$X$35=4),0,'Simulador Valora'!$AM$48))","v":0},null,14,1,0,0,0,"",{"$f":"IF(AH182=$AO$3,$AO$3,IF(AH182=$AO$3,AH182,IF(AH182-0.25%<=$AO$3,$AO$3,AH182-0.25%)))","v":0.17499999999999999},0,0,0,0,0,0,"",{"$f":"IF(AJ183<=0,0,IF('Simulador Valora'!$AC$62=1,0,AJ183*'Simulador Valora'!$Y$67+IF('Simulador Valora'!$X$35=2,'Simulador Valora'!$G$49,IF('Simulador Valora'!$X$35=1,'Simulador Valora'!$K$49,0))))","v":0},{"$f":"IF(AJ183<=0,0,$AQ$27)","v":0},{"$f":"AL183*'Simulador Valora'!$X$59","v":0},0,0,"",0,169]
[170,0,null,0,null,0,null,0,null,null,null,{"$f":"IF('Simulador Valora'!$V$60=1,0,J184*'Simulador Valora'!$V$61*'Simulador Valora'!$W$59)","v":0},null,"",null,0,null,{"$f":"IF('Simulador Valora'!$AC$62=1,0,IFERROR(IF(B184<=0,0,B184*'Simulador Valora'!$Y$67),0))","v":0},null,{"$f":"IF(OR('Simulador Valora'!$AC$62=1,'Simulador Valora'!$AC$66=1),0,IFERROR(IF(B184<=0,0,IF('Simulador Valora'!$X$35=2,IF('Simulador Valora'!$K$24>0,'Simulador Valora'!$K$24,'Simulador Valora'!$K$41)*'Simulador Valora'!$Y$68,IF('Simulador Valora'!$X$35=1,IF('Simulador Valora'!$K$24>0,'Simulador Valora'!$K$24,'Simulador Valora'!$G$41)*'Simulador Valora'!$Y$68,0))),0))","v":0},null,{"$f":"F184*'Simulador Valora'!$X$59","v":0},null,"",null,null,null,14,2,0,0,0,"",{"$f":"AH183","v":0.17499999999999999},0,0,0,0,0,0,"",{"$f":"IF(AJ184<=0,0,IF('Simulador Valora'!$AC$62=1,0,AJ184*'Simulador Valora'!$Y$67+IF('Simulador Valora'!$X$35=2,'Simulador Valora'!$G$49,IF('Simulador Valora'!$X$35=1,'Simulador Valora'!$K$49,0))))","v":0},null,{"$f":"AL184*'Simulador Valora'!$X$59","v":0},0,0,"",0,170]
[171,0,null,0,null,{"$f":"IFERROR(IF(B185=0,0,N185/360*AV185*B185),0)","v":0},null,0,null,null,null,{"$f":"IF('Simulador Valora'!$V$60=1,0,J185*'Simulador Valora'!$V$61*'Simulador Valora'!$W$59)","v":0},null,"",null,0,null,{"$f":"IF('Simulador Valora'!$AC$62=1,0,IFERROR(IF(B185<=0,0,B185*'Simulador Valora'!$Y$67),0))","v":0},null,{"$f":"IF(OR('Simulador Valora'!$AC$62=1,'Simulador Valora'!$AC$66=1),0,IFERROR(IF(B185<=0,0,IF('Simulador Valora'!$X$35=2,IF('Simulador Valora'!$K$24>0,'Simulador Valora'!$K$24,'Simulador Valora'!$K$41)*'Simulador Valora'!$Y$68,IF('Simulador Valora'!$X$35=1,IF('Simulador Valora'!$K$24>0,'Simulador Valora'!$K$24,'Simulador Valora'!$G$41)*'Simulador Valora'!$Y$68,0))),0))","v":0},null,{"$f":"F185*'Simulador Valora'!$X$59","v":0},null,"",null,null,null,14,3,0,0,0,"",{"$f":"AH184","v":0.17499999999999999},0,0,0,0,0,0,"",{"$f":"IF(AJ185<=0,0,IF('Simulador Valora'!$AC$62=1,0,AJ185*'Simulador Valora'!$Y$67+IF('Simulador Valora'!$X$35=2,'Simulador Valora'!$G$49,IF('Simulador Valora'!$X$35=1,'Simulador Valora'!$K$49,0))))","v":0},null,{"$f":"AL185*'Simulador Valora'!$X$59","v":0},0,0,"",0,171]
[172,0,null,0,null,0,null,0,null,null,null,{"$f":"IF('Simulador Valora'!$V$60=1,0,J186*'Simulador Valora'!$V$61*'Simulador Valora'!$W$59)","v":0},null,"",null,0,null,{"$f":"IF('Simulador Valora'!$AC$62=1,0,IFERROR(IF(B186<=0,0,B186*'Simulador Valora'!$Y$67),0))","v":0},null,{"$f":"IF(OR('Simulador Valora'!$AC$62=1,'Simulador Valora'!$AC$66=1),0,IFERROR(IF(B186<=0,0,IF('Simulador Valora'!$X$35=2,IF('Simulador Valora'!$K$24>0,'Simulador Valora'!$K$24,'Simulador Valora'!$K$41)*'Simulador Valora'!$Y$68,IF('Simulador Valora'!$X$35=1,IF('Simulador Valora'!$K$24>0,'Simulador Valora'!$K$24,'Simulador Valora'!$G$41)*'Simulador Valora'!$Y$68,0))),0))","v":0},null,{"$f":"F186*'Simulador Valora'!$X$59","v":0},null,"",null,null,null,14,4,0,0,0,"",0.17499999999999999,0,0,0,0,0,0,"",{"$f":"IF(AJ186<=0,0,IF('Simulador Valora'!$AC$62=1,0,AJ186*'Simulador Valora'!$Y$67+IF('Simulador Valora'!$X$35=2,'Simulador Valora'!$G$49,IF('Simulador Valora'!$X$35=1,'Simulador Valora'!$K$49,0))))","v":0},null,{"$f":"AL186*'Simulador Valora'!$X$59","v":0},0,0,"",0,172]
[173,0,null,0,null,0,null,0,null,null,null,{"$f":"IF('Simulador Valora'!$V$60=1,0,J187*'Simulador Valora'!$V$61*'Simulador Valora'!$W$59)","v":0},null,"",null,0,null,{"$f":"IF('Simulador Valora'!$AC$62=1,0,IFERROR(IF(B187<=0,0,B187*'Simulador Valora'!$Y$67),0))","v":0},null,{"$f":"IF(OR('Simulador Valora'!$AC$62=1,'Simulador Valora'!$AC$66=1),0,IFERROR(IF(B187<=0,0,IF('Simulador Valora'!$X$35=2,IF('Simulador Valora'!$K$24>0,'Simulador Valora'!$K$24,'Simulador Valora'!$K$41)*'Simulador Valora'!$Y$68,IF('Simulador Valora'!$X$35=1,IF('Simulador Valora'!$K$24>0,'Simulador Valora'!$K$24,'Simulador Valora'!$G$41)*'Simulador Valora'!$Y$68,0))),0))","v":0},null,{"$f":"F187*'Simulador Valora'!$X$59","v":0},null,"",null,null,null,14,5,0,0,0,"",0.17499999999999999,0,0,0,0,0,0,"",{"$f":"IF(AJ187<=0,0,IF('Simulador Valora'!$AC$62=1,0,AJ187*'Simulador Valora'!$Y$67+IF('Simulador Valora'!$X$35=2,'Simulador Valora'!$G$49,IF('Simulador Valora'!$X$35=1,'Simulador Valora'!$K$49,0))))","v":0},null,{"$f":"AL187*'Simulador Valora'!$X$59","v":0},0,0,"",0,173]
[174,0,null,0,null,0,null,0,null,null,null,{"$f":"IF('Simulador Valora'!$V$60=1,0,J188*'Simulador Valora'!$V$61*'Simulador Valora'!$W$59)","v":0},null,"",null,0,null,{"$f":"IF('Simulador Valora'!$AC$62=1,0,IFERROR(IF(B188<=0,0,B188*'Simulador Valora'!$Y$67),0))","v":0},null,{"$f":"IF(OR('Simulador Valora'!$AC$62=1,'Simulador Valora'!$AC$66=1),0,IFERROR(IF(B188<=0,0,IF('Simulador Valora'!$X$35=2,IF('Simulador Valora'!$K$24>0,'Simulador Valora'!$K$24,'Simulador Valora'!$K$41)*'Simulador Valora'!$Y$68,IF('Simulador Valora'!$X$35=1,IF('Simulador Valora'!$K$24>0,'Simulador Valora'!$K$24,'Simulador Valora'!$G$41)*'Simulador Valora'!$Y$68,0))),0))","v":0},null,{"$f":"F188*'Simulador Valora'!$X$59","v":0},null,"",null,null,null,14,6,0,0,0,"",0.17499999999999999,0,0,0,0,0,0,"",{"$f":"IF(AJ188<=0,0,IF('Simulador Valora'!$AC$62=1,0,AJ188*'Simulador Valora'!$Y$67+IF('Simulador Valora'!$X$35=2,'Simulador Valora'!$G$49,IF('Simulador Valora'!$X$35=1,'Simulador Valora'!$K$49,0))))","v":0},null,{"$f":"AL188*'Simulador Valora'!$X$59","v":0},0,0,"",0,174]
[175,0,null,0,null,0,null,0,null,null,null,{"$f":"IF('Simulador Valora'!$V$60=1,0,J189*'Simulador Valora'!$V$61*'Simulador Valora'!$W$59)","v":0},null,"",null,0,null,{"$f":"IF('Simulador Valora'!$AC$62=1,0,IFERROR(IF(B189<=0,0,B189*'Simulador Valora'!$Y$67),0))","v":0},null,{"$f":"IF(OR('Simulador Valora'!$AC$62=1,'Simulador Valora'!$AC$66=1),0,IFERROR(IF(B189<=0,0,IF('Simulador Valora'!$X$35=2,IF('Simulador Valora'!$K$24>0,'Simulador Valora'!$K$24,'Simulador Valora'!$K$41)*'Simulador Valora'!$Y$68,IF('Simulador Valora'!$X$35=1,IF('Simulador Valora'!$K$24>0,'Simulador Valora'!$K$24,'Simulador Valora'!$G$41)*'Simulador Valora'!$Y$68,0))),0))","v":0},null,{"$f":"F189*'Simulador Valora'!$X$59","v":0},null,"",null,null,null,14,7,0,0,0,"",0.17499999999999999,0,0,0,0,0,0,"",{"$f":"IF(AJ189<=0,0,IF('Simulador Valora'!$AC$62=1,0,AJ189*'Simulador Valora'!$Y$67+IF('Simulador Valora'!$X$35=2,'Simulador Valora'!$G$49,IF('Simulador Valora'!$X$35=1,'Simulador Valora'!$K$49,0))))","v":0},null,{"$f":"AL189*'Simulador Valora'!$X$59","v":0},0,0,"",0,175]
[176,0,null,0,null,0,null,0,null,null,null,{"$f":"IF('Simulador Valora'!$V$60=1,0,J190*'Simulador Valora'!$V$61*'Simulador Valora'!$W$59)","v":0},null,"",null,0,null,{"$f":"IF('Simulador Valora'!$AC$62=1,0,IFERROR(IF(B190<=0,0,B190*'Simulador Valora'!$Y$67),0))","v":0},null,{"$f":"IF(OR('Simulador Valora'!$AC$62=1,'Simulador Valora'!$AC$66=1),0,IFERROR(IF(B190<=0,0,IF('Simulador Valora'!$X$35=2,IF('Simulador Valora'!$K$24>0,'Simulador Valora'!$K$24,'Simulador Valora'!$K$41)*'Simulador Valora'!$Y$68,IF('Simulador Valora'!$X$35=1,IF('Simulador Valora'!$K$24>0,'Simulador Valora'!$K$24,'Simulador Valora'!$G$41)*'Simulador Valora'!$Y$68,0))),0))","v":0},null,{"$f":"F190*'Simulador Valora'!$X$59","v":0},null,"",null,null,null,14,8,0,0,0,"",0.17499999999999999,0,0,0,0,0,0,"",{"$f":"IF(AJ190<=0,0,IF('Simulador Valora'!$AC$62=1,0,AJ190*'Simulador Valora'!$Y$67+IF('Simulador Valora'!$X$35=2,'Simulador Valora'!$G$49,IF('Simulador Valora'!$X$35=1,'Simulador Valora'!$K$49,0))))","v":0},null,{"$f":"AL190*'Simulador Valora'!$X$59","v":0},0,0,"",0,176]
[177,0,null,0,null,0,null,0,null,null,null,{"$f":"IF('Simulador Valora'!$V$60=1,0,J191*'Simulador Valora'!$V$61*'Simulador Valora'!$W$59)","v":0},null,"",null,0,null,{"$f":"IF('Simulador Valora'!$AC$62=1,0,IFERROR(IF(B191<=0,0,B191*'Simulador Valora'!$Y$67),0))","v":0},null,{"$f":"IF(OR('Simulador Valora'!$AC$62=1,'Simulador Valora'!$AC$66=1),0,IFERROR(IF(B191<=0,0,IF('Simulador Valora'!$X$35=2,IF('Simulador Valora'!$K$24>0,'Simulador Valora'!$K$24,'Simulador Valora'!$K$41)*'Simulador Valora'!$Y$68,IF('Simulador Valora'!$X$35=1,IF('Simulador Valora'!$K$24>0,'Simulador Valora'!$K$24,'Simulador Valora'!$G$41)*'Simulador Valora'!$Y$68,0))),0))","v":0},null,{"$f":"F191*'Simulador Valora'!$X$59","v":0},null,"",null,null,null,14,9,0,0,0,"",0.17499999999999999,0,0,0,0,0,0,"",{"$f":"IF(AJ191<=0,0,IF('Simulador Valora'!$AC$62=1,0,AJ191*'Simulador Valora'!$Y$67+IF('Simulador Valora'!$X$35=2,'Simulador Valora'!$G$49,IF('Simulador Valora'!$X$35=1,'Simulador Valora'!$K$49,0))))","v":0},null,{"$f":"AL191*'Simulador Valora'!$X$59","v":0},0,0,"",0,177]
[178,0,null,0,null,0,null,0,null,null,null,{"$f":"IF('Simulador Valora'!$V$60=1,0,J192*'Simulador Valora'!$V$61*'Simulador Valora'!$W$59)","v":0},null,"",null,0,null,{"$f":"IF('Simulador Valora'!$AC$62=1,0,IFERROR(IF(B192<=0,0,B192*'Simulador Valora'!$Y$67),0))","v":0},null,{"$f":"IF(OR('Simulador Valora'!$AC$62=1,'Simulador Valora'!$AC$66=1),0,IFERROR(IF(B192<=0,0,IF('Simulador Valora'!$X$35=2,IF('Simulador Valora'!$K$24>0,'Simulador Valora'!$K$24,'Simulador Valora'!$K$41)*'Simulador Valora'!$Y$68,IF('Simulador Valora'!$X$35=1,IF('Simulador Valora'!$K$24>0,'Simulador Valora'!$K$24,'Simulador Valora'!$G$41)*'Simulador Valora'!$Y$68,0))),0))","v":0},null,{"$f":"F192*'Simulador Valora'!$X$59","v":0},null,"",null,null,null,14,10,0,0,0,"",0.17499999999999999,0,0,0,0,0,0,"",{"$f":"IF(AJ192<=0,0,IF('Simulador Valora'!$AC$62=1,0,AJ192*'Simulador Valora'!$Y$67+IF('Simulador Valora'!$X$35=2,'Simulador Valora'!$G$49,IF('Simulador Valora'!$X$35=1,'Simulador Valora'!$K$49,0))))","v":0},null,{"$f":"AL192*'Simulador Valora'!$X$59","v":0},0,0,"",0,178]
[179,0,null,0,null,0,null,0,null,null,null,{"$f":"IF('Simulador Valora'!$V$60=1,0,J193*'Simulador Valora'!$V$61*'Simulador Valora'!$W$59)","v":0},null,"",null,0,null,{"$f":"IF('Simulador Valora'!$AC$62=1,0,IFERROR(IF(B193<=0,0,B193*'Simulador Valora'!$Y$67),0))","v":0},null,{"$f":"IF(OR('Simulador Valora'!$AC$62=1,'Simulador Valora'!$AC$66=1),0,IFERROR(IF(B193<=0,0,IF('Simulador Valora'!$X$35=2,IF('Simulador Valora'!$K$24>0,'Simulador Valora'!$K$24,'Simulador Valora'!$K$41)*'Simulador Valora'!$Y$68,IF('Simulador Valora'!$X$35=1,IF('Simulador Valora'!$K$24>0,'Simulador Valora'!$K$24,'Simulador Valora'!$G$41)*'Simulador Valora'!$Y$68,0))),0))","v":0},null,{"$f":"F193*'Simulador Valora'!$X$59","v":0},null,"",null,null,null,14,11,0,0,0,"",0.17499999999999999,0,0,0,0,0,0,"",{"$f":"IF(AJ193<=0,0,IF('Simulador Valora'!$AC$62=1,0,AJ193*'Simulador Valora'!$Y$67+IF('Simulador Valora'!$X$35=2,'Simulador Valora'!$G$49,IF('Simulador Valora'!$X$35=1,'Simulador Valora'!$K$49,0))))","v":0},null,{"$f":"AL193*'Simulador Valora'!$X$59","v":0},0,0,"",0,179]
[180,0,null,0,null,0,null,0,null,null,null,{"$f":"IF('Simulador Valora'!$V$60=1,0,J194*'Simulador Valora'!$V$61*'Simulador Valora'!$W$59)","v":0},null,"",null,0,null,{"$f":"IF('Simulador Valora'!$AC$62=1,0,IFERROR(IF(B194<=0,0,B194*'Simulador Valora'!$Y$67),0))","v":0},null,{"$f":"IF(OR('Simulador Valora'!$AC$62=1,'Simulador Valora'!$AC$66=1),0,IFERROR(IF(B194<=0,0,IF('Simulador Valora'!$X$35=2,IF('Simulador Valora'!$K$24>0,'Simulador Valora'!$K$24,'Simulador Valora'!$K$41)*'Simulador Valora'!$Y$68,IF('Simulador Valora'!$X$35=1,IF('Simulador Valora'!$K$24>0,'Simulador Valora'!$K$24,'Simulador Valora'!$G$41)*'Simulador Valora'!$Y$68,0))),0))","v":0},null,{"$f":"F194*'Simulador Valora'!$X$59","v":0},null,"",null,null,null,15,0,0,0,0,"",0.17499999999999999,0,0,0,0,0,0,"",{"$f":"IF(AJ194<=0,0,IF('Simulador Valora'!$AC$62=1,0,AJ194*'Simulador Valora'!$Y$67+IF('Simulador Valora'!$X$35=2,'Simulador Valora'!$G$49,IF('Simulador Valora'!$X$35=1,'Simulador Valora'!$K$49,0))))","v":0},null,{"$f":"AL194*'Simulador Valora'!$X$59","v":0},0,0,"",0,180]
[181,0,null,0,null,0,null,0,null,null,null,{"$f":"IF('Simulador Valora'!$V$60=1,0,J195*'Simulador Valora'!$V$61*'Simulador Valora'!$W$59)","v":0},null,"",null,0,null,{"$f":"IF('Simulador Valora'!$AC$62=1,0,IFERROR(IF(B195<=0,0,B195*'Simulador Valora'!$Y$67),0))","v":0},null,{"$f":"IF('Simulador Valora'!$AC$62=1,0,IFERROR(IF(B195<=0,0,IF('Simulador Valora'!$X$35=2,IF('Simulador Valora'!$K$24>0,'Simulador Valora'!$K$24,'Simulador Valora'!$K$41)*'Simulador Valora'!$Y$68,IF('Simulador Valora'!$X$35=3,IF('Simulador Valora'!$K$24>0,'Simulador Valora'!$K$24,'Simulador Valora'!$G$41)*'Simulador Valora'!$Y$68,0))),0))","v":0},null,{"$f":"F195*'Simulador Valora'!$X$59","v":0},null,"",null,{"$f":"IF(B195<=0,0,IF(AND('Simulador Valora'!$V$40=2,'Simulador Valora'!$X$35=4),0,'Simulador Valora'!$AM$48))","v":0},null,15,1,0,0,0,"",{"$f":"IF(AH194=$AO$3,AH194,IF(AH194-0.25%<=$AO$3,$AO$3,AH194-0.25%))","v":0.17499999999999999},0,0,0,0,0,0,"",{"$f":"IF(AJ195<=0,0,IF('Simulador Valora'!$AC$62=1,0,AJ195*'Simulador Valora'!$Y$67+IF('Simulador Valora'!$X$35=3,'Simulador Valora'!$G$49,IF('Simulador Valora'!$X$35=2,'Simulador Valora'!$K$49,0))))","v":0},{"$f":"IF(AJ195<=0,0,$AQ$27)","v":0},{"$f":"AL195*'Simulador Valora'!$X$59","v":0},{"$f":"AL195+AM195+AP195","v":0},0,"",0,181]
[182,0,null,0,null,0,null,0,null,null,null,{"$f":"IF('Simulador Valora'!$V$60=1,0,J196*'Simulador Valora'!$V$61*'Simulador Valora'!$W$59)","v":0},null,"",null,0,null,{"$f":"IF('Simulador Valora'!$AC$62=1,0,IFERROR(IF(B196<=0,0,B196*'Simulador Valora'!$Y$67),0))","v":0},null,{"$f":"IF('Simulador Valora'!$AC$62=1,0,IFERROR(IF(B196<=0,0,IF('Simulador Valora'!$X$35=2,IF('Simulador Valora'!$K$24>0,'Simulador Valora'!$K$24,'Simulador Valora'!$K$41)*'Simulador Valora'!$Y$68,IF('Simulador Valora'!$X$35=3,IF('Simulador Valora'!$K$24>0,'Simulador Valora'!$K$24,'Simulador Valora'!$G$41)*'Simulador Valora'!$Y$68,0))),0))","v":0},null,{"$f":"F196*'Simulador Valora'!$X$59","v":0},null,"",null,null,null,15,2,0,0,0,"",{"$f":"AH195","v":0.17499999999999999},0,0,0,0,0,0,"",{"$f":"IF(AJ196<=0,0,IF('Simulador Valora'!$AC$62=1,0,AJ196*'Simulador Valora'!$Y$67+IF('Simulador Valora'!$X$35=3,'Simulador Valora'!$G$49,IF('Simulador Valora'!$X$35=2,'Simulador Valora'!$K$49,0))))","v":0},null,{"$f":"AL196*'Simulador Valora'!$X$59","v":0},0,0,"",0,182]
[183,0,null,0,null,0,null,0,null,null,null,{"$f":"IF('Simulador Valora'!$V$60=1,0,J197*'Simulador Valora'!$V$61*'Simulador Valora'!$W$59)","v":0},null,"",null,0,null,{"$f":"IF('Simulador Valora'!$AC$62=1,0,IFERROR(IF(B197<=0,0,B197*'Simulador Valora'!$Y$67),0))","v":0},null,{"$f":"IF('Simulador Valora'!$AC$62=1,0,IFERROR(IF(B197<=0,0,IF('Simulador Valora'!$X$35=2,IF('Simulador Valora'!$K$24>0,'Simulador Valora'!$K$24,'Simulador Valora'!$K$41)*'Simulador Valora'!$Y$68,IF('Simulador Valora'!$X$35=3,IF('Simulador Valora'!$K$24>0,'Simulador Valora'!$K$24,'Simulador Valora'!$G$41)*'Simulador Valora'!$Y$68,0))),0))","v":0},null,{"$f":"F197*'Simulador Valora'!$X$59","v":0},null,"",null,null,null,15,3,0,0,0,"",{"$f":"AH196","v":0.17499999999999999},0,0,0,0,0,0,"",{"$f":"IF(AJ197<=0,0,IF('Simulador Valora'!$AC$62=1,0,AJ197*'Simulador Valora'!$Y$67+IF('Simulador Valora'!$X$35=3,'Simulador Valora'!$G$49,IF('Simulador Valora'!$X$35=2,'Simulador Valora'!$K$49,0))))","v":0},null,{"$f":"AL197*'Simulador Valora'!$X$59","v":0},0,0,"",0,183]
[184,0,null,0,null,0,null,0,null,null,null,{"$f":"IF('Simulador Valora'!$V$60=1,0,J198*'Simulador Valora'!$V$61*'Simulador Valora'!$W$59)","v":0},null,"",null,0,null,{"$f":"IF('Simulador Valora'!$AC$62=1,0,IFERROR(IF(B198<=0,0,B198*'Simulador Valora'!$Y$67),0))","v":0},null,{"$f":"IF('Simulador Valora'!$AC$62=1,0,IFERROR(IF(B198<=0,0,IF('Simulador Valora'!$X$35=2,IF('Simulador Valora'!$K$24>0,'Simulador Valora'!$K$24,'Simulador Valora'!$K$41)*'Simulador Valora'!$Y$68,IF('Simulador Valora'!$X$35=3,IF('Simulador Valora'!$K$24>0,'Simulador Valora'!$K$24,'Simulador Valora'!$G$41)*'Simulador Valora'!$Y$68,0))),0))","v":0},null,{"$f":"F198*'Simulador Valora'!$X$59","v":0},null,"",null,null,null,15,4,0,0,0,"",0.17499999999999999,0,0,0,0,0,0,"",{"$f":"IF(AJ198<=0,0,IF('Simulador Valora'!$AC$62=1,0,AJ198*'Simulador Valora'!$Y$67+IF('Simulador Valora'!$X$35=3,'Simulador Valora'!$G$49,IF('Simulador Valora'!$X$35=2,'Simulador Valora'!$K$49,0))))","v":0},null,{"$f":"AL198*'Simulador Valora'!$X$59","v":0},0,0,"",0,184]
[185,0,null,0,null,0,null,0,null,null,null,{"$f":"IF('Simulador Valora'!$V$60=1,0,J199*'Simulador Valora'!$V$61*'Simulador Valora'!$W$59)","v":0},null,"",null,0,null,{"$f":"IF('Simulador Valora'!$AC$62=1,0,IFERROR(IF(B199<=0,0,B199*'Simulador Valora'!$Y$67),0))","v":0},null,{"$f":"IF('Simulador Valora'!$AC$62=1,0,IFERROR(IF(B199<=0,0,IF('Simulador Valora'!$X$35=2,IF('Simulador Valora'!$K$24>0,'Simulador Valora'!$K$24,'Simulador Valora'!$K$41)*'Simulador Valora'!$Y$68,IF('Simulador Valora'!$X$35=3,IF('Simulador Valora'!$K$24>0,'Simulador Valora'!$K$24,'Simulador Valora'!$G$41)*'Simulador Valora'!$Y$68,0))),0))","v":0},null,{"$f":"F199*'Simulador Valora'!$X$59","v":0},null,"",null,null,null,15,5,0,0,0,"",0.17499999999999999,0,0,0,0,0,0,"",{"$f":"IF(AJ199<=0,0,IF('Simulador Valora'!$AC$62=1,0,AJ199*'Simulador Valora'!$Y$67+IF('Simulador Valora'!$X$35=3,'Simulador Valora'!$G$49,IF('Simulador Valora'!$X$35=2,'Simulador Valora'!$K$49,0))))","v":0},null,{"$f":"AL199*'Simulador Valora'!$X$59","v":0},0,0,"",0,185]
[186,0,null,0,null,0,null,0,null,null,null,{"$f":"IF('Simulador Valora'!$V$60=1,0,J200*'Simulador Valora'!$V$61*'Simulador Valora'!$W$59)","v":0},null,"",null,0,null,{"$f":"IF('Simulador Valora'!$AC$62=1,0,IFERROR(IF(B200<=0,0,B200*'Simulador Valora'!$Y$67),0))","v":0},null,{"$f":"IF('Simulador Valora'!$AC$62=1,0,IFERROR(IF(B200<=0,0,IF('Simulador Valora'!$X$35=2,IF('Simulador Valora'!$K$24>0,'Simulador Valora'!$K$24,'Simulador Valora'!$K$41)*'Simulador Valora'!$Y$68,IF('Simulador Valora'!$X$35=3,IF('Simulador Valora'!$K$24>0,'Simulador Valora'!$K$24,'Simulador Valora'!$G$41)*'Simulador Valora'!$Y$68,0))),0))","v":0},null,{"$f":"F200*'Simulador Valora'!$X$59","v":0},null,"",null,null,null,15,6,0,0,0,"",0.17499999999999999,0,0,0,0,0,0,"",{"$f":"IF(AJ200<=0,0,IF('Simulador Valora'!$AC$62=1,0,AJ200*'Simulador Valora'!$Y$67+IF('Simulador Valora'!$X$35=3,'Simulador Valora'!$G$49,IF('Simulador Valora'!$X$35=2,'Simulador Valora'!$K$49,0))))","v":0},null,{"$f":"AL200*'Simulador Valora'!$X$59","v":0},0,{"$f":"IFERROR(IF(AK200<=0.01,0,AT199-1),0)","v":0},"",0,186]
[187,0,null,0,null,0,null,0,null,null,null,{"$f":"IF('Simulador Valora'!$V$60=1,0,J201*'Simulador Valora'!$V$61*'Simulador Valora'!$W$59)","v":0},null,"",null,0,null,{"$f":"IF('Simulador Valora'!$AC$62=1,0,IFERROR(IF(B201<=0,0,B201*'Simulador Valora'!$Y$67),0))","v":0},null,{"$f":"IF('Simulador Valora'!$AC$62=1,0,IFERROR(IF(B201<=0,0,IF('Simulador Valora'!$X$35=2,IF('Simulador Valora'!$K$24>0,'Simulador Valora'!$K$24,'Simulador Valora'!$K$41)*'Simulador Valora'!$Y$68,IF('Simulador Valora'!$X$35=3,IF('Simulador Valora'!$K$24>0,'Simulador Valora'!$K$24,'Simulador Valora'!$G$41)*'Simulador Valora'!$Y$68,0))),0))","v":0},null,{"$f":"F201*'Simulador Valora'!$X$59","v":0},null,"",null,null,null,15,7,0,0,0,"",0.17499999999999999,0,0,0,0,0,0,"",{"$f":"IF(AJ201<=0,0,IF('Simulador Valora'!$AC$62=1,0,AJ201*'Simulador Valora'!$Y$67+IF('Simulador Valora'!$X$35=3,'Simulador Valora'!$G$49,IF('Simulador Valora'!$X$35=2,'Simulador Valora'!$K$49,0))))","v":0},null,{"$f":"AL201*'Simulador Valora'!$X$59","v":0},0,0,"",0,187]
[188,0,null,0,null,0,null,0,null,null,null,{"$f":"IF('Simulador Valora'!$V$60=1,0,J202*'Simulador Valora'!$V$61*'Simulador Valora'!$W$59)","v":0},null,"",null,0,null,{"$f":"IF('Simulador Valora'!$AC$62=1,0,IFERROR(IF(B202<=0,0,B202*'Simulador Valora'!$Y$67),0))","v":0},null,{"$f":"IF('Simulador Valora'!$AC$62=1,0,IFERROR(IF(B202<=0,0,IF('Simulador Valora'!$X$35=2,IF('Simulador Valora'!$K$24>0,'Simulador Valora'!$K$24,'Simulador Valora'!$K$41)*'Simulador Valora'!$Y$68,IF('Simulador Valora'!$X$35=3,IF('Simulador Valora'!$K$24>0,'Simulador Valora'!$K$24,'Simulador Valora'!$G$41)*'Simulador Valora'!$Y$68,0))),0))","v":0},null,{"$f":"F202*'Simulador Valora'!$X$59","v":0},null,"",null,null,null,15,8,0,0,0,"",0.17499999999999999,0,0,0,0,0,0,"",{"$f":"IF(AJ202<=0,0,IF('Simulador Valora'!$AC$62=1,0,AJ202*'Simulador Valora'!$Y$67+IF('Simulador Valora'!$X$35=3,'Simulador Valora'!$G$49,IF('Simulador Valora'!$X$35=2,'Simulador Valora'!$K$49,0))))","v":0},null,{"$f":"AL202*'Simulador Valora'!$X$59","v":0},0,0,"",0,188]
[189,0,null,0,null,0,null,0,null,null,null,{"$f":"IF('Simulador Valora'!$V$60=1,0,J203*'Simulador Valora'!$V$61*'Simulador Valora'!$W$59)","v":0},null,"",null,0,null,{"$f":"IF('Simulador Valora'!$AC$62=1,0,IFERROR(IF(B203<=0,0,B203*'Simulador Valora'!$Y$67),0))","v":0},null,{"$f":"IF('Simulador Valora'!$AC$62=1,0,IFERROR(IF(B203<=0,0,IF('Simulador Valora'!$X$35=2,IF('Simulador Valora'!$K$24>0,'Simulador Valora'!$K$24,'Simulador Valora'!$K$41)*'Simulador Valora'!$Y$68,IF('Simulador Valora'!$X$35=3,IF('Simulador Valora'!$K$24>0,'Simulador Valora'!$K$24,'Simulador Valora'!$G$41)*'Simulador Valora'!$Y$68,0))),0))","v":0},null,{"$f":"F203*'Simulador Valora'!$X$59","v":0},null,"",null,null,null,15,9,0,0,0,"",0.17499999999999999,0,0,0,0,0,0,"",{"$f":"IF(AJ203<=0,0,IF('Simulador Valora'!$AC$62=1,0,AJ203*'Simulador Valora'!$Y$67+IF('Simulador Valora'!$X$35=3,'Simulador Valora'!$G$49,IF('Simulador Valora'!$X$35=2,'Simulador Valora'!$K$49,0))))","v":0},null,{"$f":"AL203*'Simulador Valora'!$X$59","v":0},0,0,"",0,189]
[190,0,null,0,null,0,null,0,null,null,null,{"$f":"IF('Simulador Valora'!$V$60=1,0,J204*'Simulador Valora'!$V$61*'Simulador Valora'!$W$59)","v":0},null,"",null,0,null,{"$f":"IF('Simulador Valora'!$AC$62=1,0,IFERROR(IF(B204<=0,0,B204*'Simulador Valora'!$Y$67),0))","v":0},null,{"$f":"IF('Simulador Valora'!$AC$62=1,0,IFERROR(IF(B204<=0,0,IF('Simulador Valora'!$X$35=2,IF('Simulador Valora'!$K$24>0,'Simulador Valora'!$K$24,'Simulador Valora'!$K$41)*'Simulador Valora'!$Y$68,IF('Simulador Valora'!$X$35=3,IF('Simulador Valora'!$K$24>0,'Simulador Valora'!$K$24,'Simulador Valora'!$G$41)*'Simulador Valora'!$Y$68,0))),0))","v":0},null,{"$f":"F204*'Simulador Valora'!$X$59","v":0},null,"",null,null,null,15,10,0,0,0,"",0.17499999999999999,0,0,0,0,0,0,"",{"$f":"IF(AJ204<=0,0,IF('Simulador Valora'!$AC$62=1,0,AJ204*'Simulador Valora'!$Y$67+IF('Simulador Valora'!$X$35=3,'Simulador Valora'!$G$49,IF('Simulador Valora'!$X$35=2,'Simulador Valora'!$K$49,0))))","v":0},null,{"$f":"AL204*'Simulador Valora'!$X$59","v":0},0,0,"",0,190]
[191,0,null,0,null,0,null,0,null,null,null,{"$f":"IF('Simulador Valora'!$V$60=1,0,J205*'Simulador Valora'!$V$61*'Simulador Valora'!$W$59)","v":0},null,"",null,0,null,{"$f":"IF('Simulador Valora'!$AC$62=1,0,IFERROR(IF(B205<=0,0,B205*'Simulador Valora'!$Y$67),0))","v":0},null,{"$f":"IF('Simulador Valora'!$AC$62=1,0,IFERROR(IF(B205<=0,0,IF('Simulador Valora'!$X$35=2,IF('Simulador Valora'!$K$24>0,'Simulador Valora'!$K$24,'Simulador Valora'!$K$41)*'Simulador Valora'!$Y$68,IF('Simulador Valora'!$X$35=3,IF('Simulador Valora'!$K$24>0,'Simulador Valora'!$K$24,'Simulador Valora'!$G$41)*'Simulador Valora'!$Y$68,0))),0))","v":0},null,{"$f":"F205*'Simulador Valora'!$X$59","v":0},null,"",null,null,null,15,11,0,0,0,"",0.17499999999999999,0,0,0,0,0,0,"",{"$f":"IF(AJ205<=0,0,IF('Simulador Valora'!$AC$62=1,0,AJ205*'Simulador Valora'!$Y$67+IF('Simulador Valora'!$X$35=3,'Simulador Valora'!$G$49,IF('Simulador Valora'!$X$35=2,'Simulador Valora'!$K$49,0))))","v":0},null,{"$f":"AL205*'Simulador Valora'!$X$59","v":0},0,0,"",0,191]
[192,0,null,0,null,0,null,0,null,null,null,{"$f":"IF('Simulador Valora'!$V$60=1,0,J206*'Simulador Valora'!$V$61*'Simulador Valora'!$W$59)","v":0},null,"",null,0,null,{"$f":"IF('Simulador Valora'!$AC$62=1,0,IFERROR(IF(B206<=0,0,B206*'Simulador Valora'!$Y$67),0))","v":0},null,{"$f":"IF('Simulador Valora'!$AC$62=1,0,IFERROR(IF(B206<=0,0,IF('Simulador Valora'!$X$35=2,IF('Simulador Valora'!$K$24>0,'Simulador Valora'!$K$24,'Simulador Valora'!$K$41)*'Simulador Valora'!$Y$68,IF('Simulador Valora'!$X$35=3,IF('Simulador Valora'!$K$24>0,'Simulador Valora'!$K$24,'Simulador Valora'!$G$41)*'Simulador Valora'!$Y$68,0))),0))","v":0},null,{"$f":"F206*'Simulador Valora'!$X$59","v":0},null,"",null,null,null,16,0,0,0,0,"",0.17499999999999999,0,0,0,0,0,0,"",{"$f":"IF(AJ206<=0,0,IF('Simulador Valora'!$AC$62=1,0,AJ206*'Simulador Valora'!$Y$67+IF('Simulador Valora'!$X$35=3,'Simulador Valora'!$G$49,IF('Simulador Valora'!$X$35=2,'Simulador Valora'!$K$49,0))))","v":0},null,{"$f":"AL206*'Simulador Valora'!$X$59","v":0},0,0,"",0,192]
[193,0,null,0,null,0,null,0,null,null,null,{"$f":"IF('Simulador Valora'!$V$60=1,0,J207*'Simulador Valora'!$V$61*'Simulador Valora'!$W$59)","v":0},null,"",null,0,null,{"$f":"IF('Simulador Valora'!$AC$62=1,0,IFERROR(IF(B207<=0,0,B207*'Simulador Valora'!$Y$67),0))","v":0},null,{"$f":"IF('Simulador Valora'!$AC$62=1,0,IFERROR(IF(B207<=0,0,IF('Simulador Valora'!$X$35=2,IF('Simulador Valora'!$K$24>0,'Simulador Valora'!$K$24,'Simulador Valora'!$K$41)*'Simulador Valora'!$Y$68,IF('Simulador Valora'!$X$35=3,IF('Simulador Valora'!$K$24>0,'Simulador Valora'!$K$24,'Simulador Valora'!$G$41)*'Simulador Valora'!$Y$68,0))),0))","v":0},null,{"$f":"F207*'Simulador Valora'!$X$59","v":0},null,"",null,{"$f":"IF(B207<=0,0,IF(AND('Simulador Valora'!$V$40=2,'Simulador Valora'!$X$35=4),0,'Simulador Valora'!$AM$48))","v":0},null,16,1,0,0,0,"",{"$f":"IF(AH206=$AO$3,AH206,IF(AH206-0.25%<=$AO$3,$AO$3,AH206-0.25%))","v":0.17499999999999999},0,0,0,0,{"$f":"+AK207-AL207","v":0},{"$f":"+AJ207-AM207","v":0},"",{"$f":"IF(AJ207<=0,0,IF('Simulador Valora'!$AC$62=1,0,AJ207*'Simulador Valora'!$Y$67+IF('Simulador Valora'!$X$35=3,'Simulador Valora'!$G$49,IF('Simulador Valora'!$X$35=2,'Simulador Valora'!$K$49,0))))","v":0},{"$f":"IF(AJ207<=0,0,$AQ$27)","v":0},{"$f":"AL207*'Simulador Valora'!$X$59","v":0},0,0,"",0,193]
[194,0,null,0,null,{"$f":"IFERROR(IF(B208=0,0,N208/360*AV208*B208),0)","v":0},null,0,null,null,null,{"$f":"IF('Simulador Valora'!$V$60=1,0,J208*'Simulador Valora'!$V$61*'Simulador Valora'!$W$59)","v":0},null,{"$f":"IF(B208=0,\"\",AH208)","v":""},null,{"$f":"B208-H208-J208+L208","v":0},null,{"$f":"IF('Simulador Valora'!$AC$62=1,0,IFERROR(IF(B208<=0,0,B208*'Simulador Valora'!$Y$67),0))","v":0},null,{"$f":"IF('Simulador Valora'!$AC$62=1,0,IFERROR(IF(B208<=0,0,IF('Simulador Valora'!$X$35=2,IF('Simulador Valora'!$K$24>0,'Simulador Valora'!$K$24,'Simulador Valora'!$K$41)*'Simulador Valora'!$Y$68,IF('Simulador Valora'!$X$35=3,IF('Simulador Valora'!$K$24>0,'Simulador Valora'!$K$24,'Simulador Valora'!$G$41)*'Simulador Valora'!$Y$68,0))),0))","v":0},null,{"$f":"F208*'Simulador Valora'!$X$59","v":0},null,{"$f":"IF(B208<=0,\"\",(D208+J208+R208+V208+T208))","v":""},null,null,null,16,2,{"$f":"+IF(P208<=0,IF(P207>0,+A208,0),0)","v":0},{"$f":"+IF(AD208>0,+AB208,0)","v":0},{"$f":"+IF(AD208>0,+AC208,0)","v":0},{"$f":"X208","v":""},{"$f":"AH207","v":0.17499999999999999},{"$f":"IFERROR(AK208/AJ208,0)","v":0},0,{"$f":"IFERROR((IF(AJ208+AL208-AK207<0, AJ208+AL208, AK207*(1+AQ208))),0)","v":0},{"$f":"IFERROR((AO208/360*AV208*AJ208),0)","v":0},0,0,{"$f":"IF(AJ208=0,\"\",AH208)","v":""},{"$f":"IF(AJ208<=0,0,IF('Simulador Valora'!$AC$62=1,0,AJ208*'Simulador Valora'!$Y$67+IF('Simulador Valora'!$X$35=3,'Simulador Valora'!$G$49,IF('Simulador Valora'!$X$35=2,'Simulador Valora'!$K$49,0))))","v":0},null,{"$f":"AL208*'Simulador Valora'!$X$59","v":0},{"$f":"AL208+AM208+AP208","v":0},0,"",{"$f":"IFERROR(DAY(DATE(YEAR(AU208),MONTH(AU208)+1,0)),0)","v":0},194]
[195,{"$f":"IF(P208<=0,0,P208)","v":0},null,{"$f":"IF(B209+F209-D208<=0,B209+F209,IF(J208=0,D208*(1+Z209),IF($AS$2=2,B209*AI209,D208*(1+Z209))))","v":0},null,0,null,{"$f":"D209-F209","v":0},null,null,null,{"$f":"IF('Simulador Valora'!$V$60=1,0,J209*'Simulador Valora'!$V$61*'Simulador Valora'!$W$59)","v":0},null,"",null,0,null,{"$f":"IF('Simulador Valora'!$AC$62=1,0,IFERROR(IF(B209<=0,0,B209*'Simulador Valora'!$Y$67),0))","v":0},null,{"$f":"IF('Simulador Valora'!$AC$62=1,0,IFERROR(IF(B209<=0,0,IF('Simulador Valora'!$X$35=2,IF('Simulador Valora'!$K$24>0,'Simulador Valora'!$K$24,'Simulador Valora'!$K$41)*'Simulador Valora'!$Y$68,IF('Simulador Valora'!$X$35=3,IF('Simulador Valora'!$K$24>0,'Simulador Valora'!$K$24,'Simulador Valora'!$G$41)*'Simulador Valora'!$Y$68,0))),0))","v":0},null,{"$f":"F209*'Simulador Valora'!$X$59","v":0},null,"",null,null,null,16,3,0,0,0,"",{"$f":"AH208","v":0.17499999999999999},0,{"$f":"AN208","v":0},0,0,0,0,"",{"$f":"IF(AJ209<=0,0,IF('Simulador Valora'!$AC$62=1,0,AJ209*'Simulador Valora'!$Y$67+IF('Simulador Valora'!$X$35=3,'Simulador Valora'!$G$49,IF('Simulador Valora'!$X$35=2,'Simulador Valora'!$K$49,0))))","v":0},null,{"$f":"AL209*'Simulador Valora'!$X$59","v":0},0,0,{"$f":"IF(AJ209=0,\"\",DATE(YEAR(AU208),MONTH(AU208)+1,1))","v":""},0,195]
[196,0,null,0,null,0,null,0,null,null,null,{"$f":"IF('Simulador Valora'!$V$60=1,0,J210*'Simulador Valora'!$V$61*'Simulador Valora'!$W$59)","v":0},null,"",null,0,null,{"$f":"IF('Simulador Valora'!$AC$62=1,0,IFERROR(IF(B210<=0,0,B210*'Simulador Valora'!$Y$67),0))","v":0},null,{"$f":"IF('Simulador Valora'!$AC$62=1,0,IFERROR(IF(B210<=0,0,IF('Simulador Valora'!$X$35=2,IF('Simulador Valora'!$K$24>0,'Simulador Valora'!$K$24,'Simulador Valora'!$K$41)*'Simulador Valora'!$Y$68,IF('Simulador Valora'!$X$35=3,IF('Simulador Valora'!$K$24>0,'Simulador Valora'!$K$24,'Simulador Valora'!$G$41)*'Simulador Valora'!$Y$68,0))),0))","v":0},null,{"$f":"F210*'Simulador Valora'!$X$59","v":0},null,"",null,null,null,16,4,0,0,0,"",0.17499999999999999,0,0,0,0,0,0,"",{"$f":"IF(AJ210<=0,0,IF('Simulador Valora'!$AC$62=1,0,AJ210*'Simulador Valora'!$Y$67+IF('Simulador Valora'!$X$35=3,'Simulador Valora'!$G$49,IF('Simulador Valora'!$X$35=2,'Simulador Valora'!$K$49,0))))","v":0},null,{"$f":"AL210*'Simulador Valora'!$X$59","v":0},0,0,"",0,196]
[197,0,null,0,null,0,null,0,null,null,null,{"$f":"IF('Simulador Valora'!$V$60=1,0,J211*'Simulador Valora'!$V$61*'Simulador Valora'!$W$59)","v":0},null,"",null,0,null,{"$f":"IF('Simulador Valora'!$AC$62=1,0,IFERROR(IF(B211<=0,0,B211*'Simulador Valora'!$Y$67),0))","v":0},null,{"$f":"IF('Simulador Valora'!$AC$62=1,0,IFERROR(IF(B211<=0,0,IF('Simulador Valora'!$X$35=2,IF('Simulador Valora'!$K$24>0,'Simulador Valora'!$K$24,'Simulador Valora'!$K$41)*'Simulador Valora'!$Y$68,IF('Simulador Valora'!$X$35=3,IF('Simulador Valora'!$K$24>0,'Simulador Valora'!$K$24,'Simulador Valora'!$G$41)*'Simulador Valora'!$Y$68,0))),0))","v":0},null,{"$f":"F211*'Simulador Valora'!$X$59","v":0},null,"",null,null,null,16,5,0,0,0,"",0.17499999999999999,0,0,0,0,0,0,"",{"$f":"IF(AJ211<=0,0,IF('Simulador Valora'!$AC$62=1,0,AJ211*'Simulador Valora'!$Y$67+IF('Simulador Valora'!$X$35=3,'Simulador Valora'!$G$49,IF('Simulador Valora'!$X$35=2,'Simulador Valora'!$K$49,0))))","v":0},null,{"$f":"AL211*'Simulador Valora'!$X$59","v":0},0,0,"",0,197]
[198,0,null,0,null,0,null,0,null,null,null,{"$f":"IF('Simulador Valora'!$V$60=1,0,J212*'Simulador Valora'!$V$61*'Simulador Valora'!$W$59)","v":0},null,"",null,0,null,{"$f":"IF('Simulador Valora'!$AC$62=1,0,IFERROR(IF(B212<=0,0,B212*'Simulador Valora'!$Y$67),0))","v":0},null,{"$f":"IF('Simulador Valora'!$AC$62=1,0,IFERROR(IF(B212<=0,0,IF('Simulador Valora'!$X$35=2,IF('Simulador Valora'!$K$24>0,'Simulador Valora'!$K$24,'Simulador Valora'!$K$41)*'Simulador Valora'!$Y$68,IF('Simulador Valora'!$X$35=3,IF('Simulador Valora'!$K$24>0,'Simulador Valora'!$K$24,'Simulador Valora'!$G$41)*'Simulador Valora'!$Y$68,0))),0))","v":0},null,{"$f":"F212*'Simulador Valora'!$X$59","v":0},null,"",null,null,null,16,6,0,0,0,"",0.17499999999999999,0,0,0,0,0,0,"",{"$f":"IF(AJ212<=0,0,IF('Simulador Valora'!$AC$62=1,0,AJ212*'Simulador Valora'!$Y$67+IF('Simulador Valora'!$X$35=3,'Simulador Valora'!$G$49,IF('Simulador Valora'!$X$35=2,'Simulador Valora'!$K$49,0))))","v":0},null,{"$f":"AL212*'Simulador Valora'!$X$59","v":0},0,0,"",0,198]
[199,0,null,0,null,0,null,0,null,null,null,{"$f":"IF('Simulador Valora'!$V$60=1,0,J213*'Simulador Valora'!$V$61*'Simulador Valora'!$W$59)","v":0},null,"",null,0,null,{"$f":"IF('Simulador Valora'!$AC$62=1,0,IFERROR(IF(B213<=0,0,B213*'Simulador Valora'!$Y$67),0))","v":0},null,{"$f":"IF('Simulador Valora'!$AC$62=1,0,IFERROR(IF(B213<=0,0,IF('Simulador Valora'!$X$35=2,IF('Simulador Valora'!$K$24>0,'Simulador Valora'!$K$24,'Simulador Valora'!$K$41)*'Simulador Valora'!$Y$68,IF('Simulador Valora'!$X$35=3,IF('Simulador Valora'!$K$24>0,'Simulador Valora'!$K$24,'Simulador Valora'!$G$41)*'Simulador Valora'!$Y$68,0))),0))","v":0},null,{"$f":"F213*'Simulador Valora'!$X$59","v":0},null,"",null,null,null,16,7,0,0,0,"",0.17499999999999999,0,0,0,0,0,0,"",{"$f":"IF(AJ213<=0,0,IF('Simulador Valora'!$AC$62=1,0,AJ213*'Simulador Valora'!$Y$67+IF('Simulador Valora'!$X$35=3,'Simulador Valora'!$G$49,IF('Simulador Valora'!$X$35=2,'Simulador Valora'!$K$49,0))))","v":0},null,{"$f":"AL213*'Simulador Valora'!$X$59","v":0},0,0,"",0,199]
[200,0,null,0,null,0,null,0,null,null,null,{"$f":"IF('Simulador Valora'!$V$60=1,0,J214*'Simulador Valora'!$V$61*'Simulador Valora'!$W$59)","v":0},null,"",null,0,null,{"$f":"IF('Simulador Valora'!$AC$62=1,0,IFERROR(IF(B214<=0,0,B214*'Simulador Valora'!$Y$67),0))","v":0},null,{"$f":"IF('Simulador Valora'!$AC$62=1,0,IFERROR(IF(B214<=0,0,IF('Simulador Valora'!$X$35=2,IF('Simulador Valora'!$K$24>0,'Simulador Valora'!$K$24,'Simulador Valora'!$K$41)*'Simulador Valora'!$Y$68,IF('Simulador Valora'!$X$35=3,IF('Simulador Valora'!$K$24>0,'Simulador Valora'!$K$24,'Simulador Valora'!$G$41)*'Simulador Valora'!$Y$68,0))),0))","v":0},null,{"$f":"F214*'Simulador Valora'!$X$59","v":0},null,"",null,null,null,16,8,0,0,0,"",0.17499999999999999,0,0,0,0,0,0,"",{"$f":"IF(AJ214<=0,0,IF('Simulador Valora'!$AC$62=1,0,AJ214*'Simulador Valora'!$Y$67+IF('Simulador Valora'!$X$35=3,'Simulador Valora'!$G$49,IF('Simulador Valora'!$X$35=2,'Simulador Valora'!$K$49,0))))","v":0},null,{"$f":"AL214*'Simulador Valora'!$X$59","v":0},0,0,"",0,200]
[201,0,null,0,null,0,null,0,null,null,null,{"$f":"IF('Simulador Valora'!$V$60=1,0,J215*'Simulador Valora'!$V$61*'Simulador Valora'!$W$59)","v":0},null,"",null,0,null,{"$f":"IF('Simulador Valora'!$AC$62=1,0,IFERROR(IF(B215<=0,0,B215*'Simulador Valora'!$Y$67),0))","v":0},null,{"$f":"IF('Simulador Valora'!$AC$62=1,0,IFERROR(IF(B215<=0,0,IF('Simulador Valora'!$X$35=2,IF('Simulador Valora'!$K$24>0,'Simulador Valora'!$K$24,'Simulador Valora'!$K$41)*'Simulador Valora'!$Y$68,IF('Simulador Valora'!$X$35=3,IF('Simulador Valora'!$K$24>0,'Simulador Valora'!$K$24,'Simulador Valora'!$G$41)*'Simulador Valora'!$Y$68,0))),0))","v":0},null,{"$f":"F215*'Simulador Valora'!$X$59","v":0},null,"",null,null,null,16,9,0,0,0,"",0.17499999999999999,0,0,0,0,0,0,"",{"$f":"IF(AJ215<=0,0,IF('Simulador Valora'!$AC$62=1,0,AJ215*'Simulador Valora'!$Y$67+IF('Simulador Valora'!$X$35=3,'Simulador Valora'!$G$49,IF('Simulador Valora'!$X$35=2,'Simulador Valora'!$K$49,0))))","v":0},null,{"$f":"AL215*'Simulador Valora'!$X$59","v":0},0,0,"",0,201]
[202,0,null,0,null,0,null,0,null,null,null,{"$f":"IF('Simulador Valora'!$V$60=1,0,J216*'Simulador Valora'!$V$61*'Simulador Valora'!$W$59)","v":0},null,"",null,0,null,{"$f":"IF('Simulador Valora'!$AC$62=1,0,IFERROR(IF(B216<=0,0,B216*'Simulador Valora'!$Y$67),0))","v":0},null,{"$f":"IF('Simulador Valora'!$AC$62=1,0,IFERROR(IF(B216<=0,0,IF('Simulador Valora'!$X$35=2,IF('Simulador Valora'!$K$24>0,'Simulador Valora'!$K$24,'Simulador Valora'!$K$41)*'Simulador Valora'!$Y$68,IF('Simulador Valora'!$X$35=3,IF('Simulador Valora'!$K$24>0,'Simulador Valora'!$K$24,'Simulador Valora'!$G$41)*'Simulador Valora'!$Y$68,0))),0))","v":0},null,{"$f":"F216*'Simulador Valora'!$X$59","v":0},null,"",null,null,null,16,10,0,0,0,"",0.17499999999999999,0,0,0,0,0,0,"",{"$f":"IF(AJ216<=0,0,IF('Simulador Valora'!$AC$62=1,0,AJ216*'Simulador Valora'!$Y$67+IF('Simulador Valora'!$X$35=3,'Simulador Valora'!$G$49,IF('Simulador Valora'!$X$35=2,'Simulador Valora'!$K$49,0))))","v":0},null,{"$f":"AL216*'Simulador Valora'!$X$59","v":0},0,0,"",0,202]
[203,0,null,0,null,0,null,0,null,null,null,{"$f":"IF('Simulador Valora'!$V$60=1,0,J217*'Simulador Valora'!$V$61*'Simulador Valora'!$W$59)","v":0},null,"",null,0,null,{"$f":"IF('Simulador Valora'!$AC$62=1,0,IFERROR(IF(B217<=0,0,B217*'Simulador Valora'!$Y$67),0))","v":0},null,{"$f":"IF('Simulador Valora'!$AC$62=1,0,IFERROR(IF(B217<=0,0,IF('Simulador Valora'!$X$35=2,IF('Simulador Valora'!$K$24>0,'Simulador Valora'!$K$24,'Simulador Valora'!$K$41)*'Simulador Valora'!$Y$68,IF('Simulador Valora'!$X$35=3,IF('Simulador Valora'!$K$24>0,'Simulador Valora'!$K$24,'Simulador Valora'!$G$41)*'Simulador Valora'!$Y$68,0))),0))","v":0},null,{"$f":"F217*'Simulador Valora'!$X$59","v":0},null,"",null,null,null,16,11,0,0,0,"",0.17499999999999999,0,0,0,0,0,0,"",{"$f":"IF(AJ217<=0,0,IF('Simulador Valora'!$AC$62=1,0,AJ217*'Simulador Valora'!$Y$67+IF('Simulador Valora'!$X$35=3,'Simulador Valora'!$G$49,IF('Simulador Valora'!$X$35=2,'Simulador Valora'!$K$49,0))))","v":0},null,{"$f":"AL217*'Simulador Valora'!$X$59","v":0},0,0,"",0,203]
[204,0,null,0,null,0,null,0,null,null,null,{"$f":"IF('Simulador Valora'!$V$60=1,0,J218*'Simulador Valora'!$V$61*'Simulador Valora'!$W$59)","v":0},null,"",null,0,null,{"$f":"IF('Simulador Valora'!$AC$62=1,0,IFERROR(IF(B218<=0,0,B218*'Simulador Valora'!$Y$67),0))","v":0},null,{"$f":"IF('Simulador Valora'!$AC$62=1,0,IFERROR(IF(B218<=0,0,IF('Simulador Valora'!$X$35=2,IF('Simulador Valora'!$K$24>0,'Simulador Valora'!$K$24,'Simulador Valora'!$K$41)*'Simulador Valora'!$Y$68,IF('Simulador Valora'!$X$35=3,IF('Simulador Valora'!$K$24>0,'Simulador Valora'!$K$24,'Simulador Valora'!$G$41)*'Simulador Valora'!$Y$68,0))),0))","v":0},null,{"$f":"F218*'Simulador Valora'!$X$59","v":0},null,"",null,null,null,17,0,0,0,0,"",0.17499999999999999,0,0,0,0,0,0,"",{"$f":"IF(AJ218<=0,0,IF('Simulador Valora'!$AC$62=1,0,AJ218*'Simulador Valora'!$Y$67+IF('Simulador Valora'!$X$35=3,'Simulador Valora'!$G$49,IF('Simulador Valora'!$X$35=2,'Simulador Valora'!$K$49,0))))","v":0},null,{"$f":"AL218*'Simulador Valora'!$X$59","v":0},0,0,"",0,204]
[205,0,null,0,null,0,null,0,null,null,null,{"$f":"IF('Simulador Valora'!$V$60=1,0,J219*'Simulador Valora'!$V$61*'Simulador Valora'!$W$59)","v":0},null,"",null,0,null,{"$f":"IF('Simulador Valora'!$AC$62=1,0,IFERROR(IF(B219<=0,0,B219*'Simulador Valora'!$Y$67),0))","v":0},null,{"$f":"IF('Simulador Valora'!$AC$62=1,0,IFERROR(IF(B219<=0,0,IF('Simulador Valora'!$X$35=2,IF('Simulador Valora'!$K$24>0,'Simulador Valora'!$K$24,'Simulador Valora'!$K$41)*'Simulador Valora'!$Y$68,IF('Simulador Valora'!$X$35=3,IF('Simulador Valora'!$K$24>0,'Simulador Valora'!$K$24,'Simulador Valora'!$G$41)*'Simulador Valora'!$Y$68,0))),0))","v":0},null,{"$f":"F219*'Simulador Valora'!$X$59","v":0},null,"",null,{"$f":"IF(B219<=0,0,IF(AND('Simulador Valora'!$V$40=2,'Simulador Valora'!$X$35=4),0,'Simulador Valora'!$AM$48))","v":0},null,17,1,0,0,0,"",{"$f":"IF(AH218=$AO$3,AH218,IF(AH218-0.25%<=$AO$3,$AO$3,AH218-0.25%))","v":0.17499999999999999},0,0,0,0,0,0,"",{"$f":"IF(AJ219<=0,0,IF('Simulador Valora'!$AC$62=1,0,AJ219*'Simulador Valora'!$Y$67+IF('Simulador Valora'!$X$35=3,'Simulador Valora'!$G$49,IF('Simulador Valora'!$X$35=2,'Simulador Valora'!$K$49,0))))","v":0},{"$f":"IF(AJ219<=0,0,$AQ$27)","v":0},{"$f":"AL219*'Simulador Valora'!$X$59","v":0},0,0,"",0,205]
[206,0,null,0,null,0,null,0,null,null,null,{"$f":"IF('Simulador Valora'!$V$60=1,0,J220*'Simulador Valora'!$V$61*'Simulador Valora'!$W$59)","v":0},null,"",null,0,null,{"$f":"IF('Simulador Valora'!$AC$62=1,0,IFERROR(IF(B220<=0,0,B220*'Simulador Valora'!$Y$67),0))","v":0},null,{"$f":"IF('Simulador Valora'!$AC$62=1,0,IFERROR(IF(B220<=0,0,IF('Simulador Valora'!$X$35=2,IF('Simulador Valora'!$K$24>0,'Simulador Valora'!$K$24,'Simulador Valora'!$K$41)*'Simulador Valora'!$Y$68,IF('Simulador Valora'!$X$35=3,IF('Simulador Valora'!$K$24>0,'Simulador Valora'!$K$24,'Simulador Valora'!$G$41)*'Simulador Valora'!$Y$68,0))),0))","v":0},null,{"$f":"F220*'Simulador Valora'!$X$59","v":0},null,"",null,null,null,17,2,0,0,0,"",{"$f":"AH219","v":0.17499999999999999},0,0,0,0,0,0,"",{"$f":"IF(AJ220<=0,0,IF('Simulador Valora'!$AC$62=1,0,AJ220*'Simulador Valora'!$Y$67+IF('Simulador Valora'!$X$35=3,'Simulador Valora'!$G$49,IF('Simulador Valora'!$X$35=2,'Simulador Valora'!$K$49,0))))","v":0},null,{"$f":"AL220*'Simulador Valora'!$X$59","v":0},0,0,"",0,206]
[207,0,null,0,null,0,null,0,null,null,null,{"$f":"IF('Simulador Valora'!$V$60=1,0,J221*'Simulador Valora'!$V$61*'Simulador Valora'!$W$59)","v":0},null,"",null,0,null,{"$f":"IF('Simulador Valora'!$AC$62=1,0,IFERROR(IF(B221<=0,0,B221*'Simulador Valora'!$Y$67),0))","v":0},null,{"$f":"IF('Simulador Valora'!$AC$62=1,0,IFERROR(IF(B221<=0,0,IF('Simulador Valora'!$X$35=2,IF('Simulador Valora'!$K$24>0,'Simulador Valora'!$K$24,'Simulador Valora'!$K$41)*'Simulador Valora'!$Y$68,IF('Simulador Valora'!$X$35=3,IF('Simulador Valora'!$K$24>0,'Simulador Valora'!$K$24,'Simulador Valora'!$G$41)*'Simulador Valora'!$Y$68,0))),0))","v":0},null,{"$f":"F221*'Simulador Valora'!$X$59","v":0},null,"",null,null,null,17,3,0,0,0,"",{"$f":"AH220","v":0.17499999999999999},0,0,0,0,0,0,"",{"$f":"IF(AJ221<=0,0,IF('Simulador Valora'!$AC$62=1,0,AJ221*'Simulador Valora'!$Y$67+IF('Simulador Valora'!$X$35=3,'Simulador Valora'!$G$49,IF('Simulador Valora'!$X$35=2,'Simulador Valora'!$K$49,0))))","v":0},null,{"$f":"AL221*'Simulador Valora'!$X$59","v":0},0,0,"",0,207]
[208,0,null,0,null,0,null,0,null,null,null,{"$f":"IF('Simulador Valora'!$V$60=1,0,J222*'Simulador Valora'!$V$61*'Simulador Valora'!$W$59)","v":0},null,"",null,0,null,{"$f":"IF('Simulador Valora'!$AC$62=1,0,IFERROR(IF(B222<=0,0,B222*'Simulador Valora'!$Y$67),0))","v":0},null,{"$f":"IF('Simulador Valora'!$AC$62=1,0,IFERROR(IF(B222<=0,0,IF('Simulador Valora'!$X$35=2,IF('Simulador Valora'!$K$24>0,'Simulador Valora'!$K$24,'Simulador Valora'!$K$41)*'Simulador Valora'!$Y$68,IF('Simulador Valora'!$X$35=3,IF('Simulador Valora'!$K$24>0,'Simulador Valora'!$K$24,'Simulador Valora'!$G$41)*'Simulador Valora'!$Y$68,0))),0))","v":0},null,{"$f":"F222*'Simulador Valora'!$X$59","v":0},null,"",null,null,null,17,4,0,0,0,"",0.17499999999999999,0,0,0,0,0,0,"",{"$f":"IF(AJ222<=0,0,IF('Simulador Valora'!$AC$62=1,0,AJ222*'Simulador Valora'!$Y$67+IF('Simulador Valora'!$X$35=3,'Simulador Valora'!$G$49,IF('Simulador Valora'!$X$35=2,'Simulador Valora'!$K$49,0))))","v":0},null,{"$f":"AL222*'Simulador Valora'!$X$59","v":0},0,0,"",0,208]
[209,0,null,0,null,0,null,0,null,null,null,{"$f":"IF('Simulador Valora'!$V$60=1,0,J223*'Simulador Valora'!$V$61*'Simulador Valora'!$W$59)","v":0},null,"",null,0,null,{"$f":"IF('Simulador Valora'!$AC$62=1,0,IFERROR(IF(B223<=0,0,B223*'Simulador Valora'!$Y$67),0))","v":0},null,{"$f":"IF('Simulador Valora'!$AC$62=1,0,IFERROR(IF(B223<=0,0,IF('Simulador Valora'!$X$35=2,IF('Simulador Valora'!$K$24>0,'Simulador Valora'!$K$24,'Simulador Valora'!$K$41)*'Simulador Valora'!$Y$68,IF('Simulador Valora'!$X$35=3,IF('Simulador Valora'!$K$24>0,'Simulador Valora'!$K$24,'Simulador Valora'!$G$41)*'Simulador Valora'!$Y$68,0))),0))","v":0},null,{"$f":"F223*'Simulador Valora'!$X$59","v":0},null,"",null,null,null,17,5,0,0,0,"",0.17499999999999999,0,0,0,0,0,0,"",{"$f":"IF(AJ223<=0,0,IF('Simulador Valora'!$AC$62=1,0,AJ223*'Simulador Valora'!$Y$67+IF('Simulador Valora'!$X$35=3,'Simulador Valora'!$G$49,IF('Simulador Valora'!$X$35=2,'Simulador Valora'!$K$49,0))))","v":0},null,{"$f":"AL223*'Simulador Valora'!$X$59","v":0},0,0,"",0,209]
[210,0,null,0,null,0,null,0,null,null,null,{"$f":"IF('Simulador Valora'!$V$60=1,0,J224*'Simulador Valora'!$V$61*'Simulador Valora'!$W$59)","v":0},null,"",null,0,null,{"$f":"IF('Simulador Valora'!$AC$62=1,0,IFERROR(IF(B224<=0,0,B224*'Simulador Valora'!$Y$67),0))","v":0},null,{"$f":"IF('Simulador Valora'!$AC$62=1,0,IFERROR(IF(B224<=0,0,IF('Simulador Valora'!$X$35=2,IF('Simulador Valora'!$K$24>0,'Simulador Valora'!$K$24,'Simulador Valora'!$K$41)*'Simulador Valora'!$Y$68,IF('Simulador Valora'!$X$35=3,IF('Simulador Valora'!$K$24>0,'Simulador Valora'!$K$24,'Simulador Valora'!$G$41)*'Simulador Valora'!$Y$68,0))),0))","v":0},null,{"$f":"F224*'Simulador Valora'!$X$59","v":0},null,"",null,null,null,17,6,0,0,0,"",0.17499999999999999,0,0,0,0,0,0,"",{"$f":"IF(AJ224<=0,0,IF('Simulador Valora'!$AC$62=1,0,AJ224*'Simulador Valora'!$Y$67+IF('Simulador Valora'!$X$35=3,'Simulador Valora'!$G$49,IF('Simulador Valora'!$X$35=2,'Simulador Valora'!$K$49,0))))","v":0},null,{"$f":"AL224*'Simulador Valora'!$X$59","v":0},0,0,"",0,210]
[211,0,null,0,null,0,null,0,null,null,null,{"$f":"IF('Simulador Valora'!$V$60=1,0,J225*'Simulador Valora'!$V$61*'Simulador Valora'!$W$59)","v":0},null,"",null,0,null,{"$f":"IF('Simulador Valora'!$AC$62=1,0,IFERROR(IF(B225<=0,0,B225*'Simulador Valora'!$Y$67),0))","v":0},null,{"$f":"IF('Simulador Valora'!$AC$62=1,0,IFERROR(IF(B225<=0,0,IF('Simulador Valora'!$X$35=2,IF('Simulador Valora'!$K$24>0,'Simulador Valora'!$K$24,'Simulador Valora'!$K$41)*'Simulador Valora'!$Y$68,IF('Simulador Valora'!$X$35=3,IF('Simulador Valora'!$K$24>0,'Simulador Valora'!$K$24,'Simulador Valora'!$G$41)*'Simulador Valora'!$Y$68,0))),0))","v":0},null,{"$f":"F225*'Simulador Valora'!$X$59","v":0},null,"",null,null,null,17,7,0,0,0,"",0.17499999999999999,0,0,0,0,0,0,"",{"$f":"IF(AJ225<=0,0,IF('Simulador Valora'!$AC$62=1,0,AJ225*'Simulador Valora'!$Y$67+IF('Simulador Valora'!$X$35=3,'Simulador Valora'!$G$49,IF('Simulador Valora'!$X$35=2,'Simulador Valora'!$K$49,0))))","v":0},null,{"$f":"AL225*'Simulador Valora'!$X$59","v":0},0,0,"",0,211]
[212,0,null,0,null,0,null,0,null,null,null,{"$f":"IF('Simulador Valora'!$V$60=1,0,J226*'Simulador Valora'!$V$61*'Simulador Valora'!$W$59)","v":0},null,"",null,0,null,{"$f":"IF('Simulador Valora'!$AC$62=1,0,IFERROR(IF(B226<=0,0,B226*'Simulador Valora'!$Y$67),0))","v":0},null,{"$f":"IF('Simulador Valora'!$AC$62=1,0,IFERROR(IF(B226<=0,0,IF('Simulador Valora'!$X$35=2,IF('Simulador Valora'!$K$24>0,'Simulador Valora'!$K$24,'Simulador Valora'!$K$41)*'Simulador Valora'!$Y$68,IF('Simulador Valora'!$X$35=3,IF('Simulador Valora'!$K$24>0,'Simulador Valora'!$K$24,'Simulador Valora'!$G$41)*'Simulador Valora'!$Y$68,0))),0))","v":0},null,{"$f":"F226*'Simulador Valora'!$X$59","v":0},null,"",null,null,null,17,8,0,0,0,"",0.17499999999999999,0,0,0,0,0,0,"",{"$f":"IF(AJ226<=0,0,IF('Simulador Valora'!$AC$62=1,0,AJ226*'Simulador Valora'!$Y$67+IF('Simulador Valora'!$X$35=3,'Simulador Valora'!$G$49,IF('Simulador Valora'!$X$35=2,'Simulador Valora'!$K$49,0))))","v":0},null,{"$f":"AL226*'Simulador Valora'!$X$59","v":0},0,0,"",0,212]
[213,0,null,0,null,0,null,0,null,null,null,{"$f":"IF('Simulador Valora'!$V$60=1,0,J227*'Simulador Valora'!$V$61*'Simulador Valora'!$W$59)","v":0},null,"",null,0,null,{"$f":"IF('Simulador Valora'!$AC$62=1,0,IFERROR(IF(B227<=0,0,B227*'Simulador Valora'!$Y$67),0))","v":0},null,{"$f":"IF('Simulador Valora'!$AC$62=1,0,IFERROR(IF(B227<=0,0,IF('Simulador Valora'!$X$35=2,IF('Simulador Valora'!$K$24>0,'Simulador Valora'!$K$24,'Simulador Valora'!$K$41)*'Simulador Valora'!$Y$68,IF('Simulador Valora'!$X$35=3,IF('Simulador Valora'!$K$24>0,'Simulador Valora'!$K$24,'Simulador Valora'!$G$41)*'Simulador Valora'!$Y$68,0))),0))","v":0},null,{"$f":"F227*'Simulador Valora'!$X$59","v":0},null,"",null,null,null,17,9,0,0,0,"",0.17499999999999999,0,0,0,0,0,0,"",{"$f":"IF(AJ227<=0,0,IF('Simulador Valora'!$AC$62=1,0,AJ227*'Simulador Valora'!$Y$67+IF('Simulador Valora'!$X$35=3,'Simulador Valora'!$G$49,IF('Simulador Valora'!$X$35=2,'Simulador Valora'!$K$49,0))))","v":0},null,{"$f":"AL227*'Simulador Valora'!$X$59","v":0},0,0,"",0,213]
[214,0,null,0,null,0,null,0,null,null,null,{"$f":"IF('Simulador Valora'!$V$60=1,0,J228*'Simulador Valora'!$V$61*'Simulador Valora'!$W$59)","v":0},null,"",null,0,null,{"$f":"IF('Simulador Valora'!$AC$62=1,0,IFERROR(IF(B228<=0,0,B228*'Simulador Valora'!$Y$67),0))","v":0},null,{"$f":"IF('Simulador Valora'!$AC$62=1,0,IFERROR(IF(B228<=0,0,IF('Simulador Valora'!$X$35=2,IF('Simulador Valora'!$K$24>0,'Simulador Valora'!$K$24,'Simulador Valora'!$K$41)*'Simulador Valora'!$Y$68,IF('Simulador Valora'!$X$35=3,IF('Simulador Valora'!$K$24>0,'Simulador Valora'!$K$24,'Simulador Valora'!$G$41)*'Simulador Valora'!$Y$68,0))),0))","v":0},null,{"$f":"F228*'Simulador Valora'!$X$59","v":0},null,"",null,null,null,17,10,0,0,0,"",0.17499999999999999,0,0,0,0,0,0,"",{"$f":"IF(AJ228<=0,0,IF('Simulador Valora'!$AC$62=1,0,AJ228*'Simulador Valora'!$Y$67+IF('Simulador Valora'!$X$35=3,'Simulador Valora'!$G$49,IF('Simulador Valora'!$X$35=2,'Simulador Valora'!$K$49,0))))","v":0},null,{"$f":"AL228*'Simulador Valora'!$X$59","v":0},0,0,"",0,214]
[215,0,null,0,null,0,null,0,null,null,null,{"$f":"IF('Simulador Valora'!$V$60=1,0,J229*'Simulador Valora'!$V$61*'Simulador Valora'!$W$59)","v":0},null,"",null,0,null,{"$f":"IF('Simulador Valora'!$AC$62=1,0,IFERROR(IF(B229<=0,0,B229*'Simulador Valora'!$Y$67),0))","v":0},null,{"$f":"IF('Simulador Valora'!$AC$62=1,0,IFERROR(IF(B229<=0,0,IF('Simulador Valora'!$X$35=2,IF('Simulador Valora'!$K$24>0,'Simulador Valora'!$K$24,'Simulador Valora'!$K$41)*'Simulador Valora'!$Y$68,IF('Simulador Valora'!$X$35=3,IF('Simulador Valora'!$K$24>0,'Simulador Valora'!$K$24,'Simulador Valora'!$G$41)*'Simulador Valora'!$Y$68,0))),0))","v":0},null,{"$f":"F229*'Simulador Valora'!$X$59","v":0},null,"",null,null,null,17,11,0,0,0,"",0.17499999999999999,0,0,0,0,0,0,"",{"$f":"IF(AJ229<=0,0,IF('Simulador Valora'!$AC$62=1,0,AJ229*'Simulador Valora'!$Y$67+IF('Simulador Valora'!$X$35=3,'Simulador Valora'!$G$49,IF('Simulador Valora'!$X$35=2,'Simulador Valora'!$K$49,0))))","v":0},null,{"$f":"AL229*'Simulador Valora'!$X$59","v":0},0,0,"",0,215]
[216,0,null,0,null,0,null,0,null,null,null,{"$f":"IF('Simulador Valora'!$V$60=1,0,J230*'Simulador Valora'!$V$61*'Simulador Valora'!$W$59)","v":0},null,"",null,0,null,{"$f":"IF('Simulador Valora'!$AC$62=1,0,IFERROR(IF(B230<=0,0,B230*'Simulador Valora'!$Y$67),0))","v":0},null,{"$f":"IF('Simulador Valora'!$AC$62=1,0,IFERROR(IF(B230<=0,0,IF('Simulador Valora'!$X$35=2,IF('Simulador Valora'!$K$24>0,'Simulador Valora'!$K$24,'Simulador Valora'!$K$41)*'Simulador Valora'!$Y$68,IF('Simulador Valora'!$X$35=3,IF('Simulador Valora'!$K$24>0,'Simulador Valora'!$K$24,'Simulador Valora'!$G$41)*'Simulador Valora'!$Y$68,0))),0))","v":0},null,{"$f":"F230*'Simulador Valora'!$X$59","v":0},null,"",null,null,null,18,0,0,0,0,"",0.17499999999999999,0,0,0,0,0,0,"",{"$f":"IF(AJ230<=0,0,IF('Simulador Valora'!$AC$62=1,0,AJ230*'Simulador Valora'!$Y$67+IF('Simulador Valora'!$X$35=3,'Simulador Valora'!$G$49,IF('Simulador Valora'!$X$35=2,'Simulador Valora'!$K$49,0))))","v":0},null,{"$f":"AL230*'Simulador Valora'!$X$59","v":0},0,0,"",0,216]
[217,0,null,0,null,0,null,0,null,null,null,{"$f":"IF('Simulador Valora'!$V$60=1,0,J231*'Simulador Valora'!$V$61*'Simulador Valora'!$W$59)","v":0},null,"",null,0,null,{"$f":"IF('Simulador Valora'!$AC$62=1,0,IFERROR(IF(B231<=0,0,B231*'Simulador Valora'!$Y$67),0))","v":0},null,{"$f":"IF('Simulador Valora'!$AC$62=1,0,IFERROR(IF(B231<=0,0,IF('Simulador Valora'!$X$35=2,IF('Simulador Valora'!$K$24>0,'Simulador Valora'!$K$24,'Simulador Valora'!$K$41)*'Simulador Valora'!$Y$68,IF('Simulador Valora'!$X$35=3,IF('Simulador Valora'!$K$24>0,'Simulador Valora'!$K$24,'Simulador Valora'!$G$41)*'Simulador Valora'!$Y$68,0))),0))","v":0},null,{"$f":"F231*'Simulador Valora'!$X$59","v":0},null,"",null,{"$f":"IF(B231<=0,0,IF(AND('Simulador Valora'!$V$40=2,'Simulador Valora'!$X$35=4),0,'Simulador Valora'!$AM$48))","v":0},null,18,1,0,0,0,"",{"$f":"IF(AH230=$AO$3,AH230,IF(AH230-0.25%<=$AO$3,$AO$3,AH230-0.25%))","v":0.17499999999999999},0,0,0,0,0,0,"",{"$f":"IF(AJ231<=0,0,IF('Simulador Valora'!$AC$62=1,0,AJ231*'Simulador Valora'!$Y$67+IF('Simulador Valora'!$X$35=3,'Simulador Valora'!$G$49,IF('Simulador Valora'!$X$35=2,'Simulador Valora'!$K$49,0))))","v":0},{"$f":"IF(AJ231<=0,0,$AQ$27)","v":0},{"$f":"AL231*'Simulador Valora'!$X$59","v":0},0,0,"",0,217]
[218,0,null,0,null,0,null,0,null,null,null,{"$f":"IF('Simulador Valora'!$V$60=1,0,J232*'Simulador Valora'!$V$61*'Simulador Valora'!$W$59)","v":0},null,"",null,0,null,{"$f":"IF('Simulador Valora'!$AC$62=1,0,IFERROR(IF(B232<=0,0,B232*'Simulador Valora'!$Y$67),0))","v":0},null,{"$f":"IF('Simulador Valora'!$AC$62=1,0,IFERROR(IF(B232<=0,0,IF('Simulador Valora'!$X$35=2,IF('Simulador Valora'!$K$24>0,'Simulador Valora'!$K$24,'Simulador Valora'!$K$41)*'Simulador Valora'!$Y$68,IF('Simulador Valora'!$X$35=3,IF('Simulador Valora'!$K$24>0,'Simulador Valora'!$K$24,'Simulador Valora'!$G$41)*'Simulador Valora'!$Y$68,0))),0))","v":0},null,{"$f":"F232*'Simulador Valora'!$X$59","v":0},null,"",null,null,null,18,2,0,0,0,"",{"$f":"AH231","v":0.17499999999999999},0,0,0,0,0,0,"",{"$f":"IF(AJ232<=0,0,IF('Simulador Valora'!$AC$62=1,0,AJ232*'Simulador Valora'!$Y$67+IF('Simulador Valora'!$X$35=3,'Simulador Valora'!$G$49,IF('Simulador Valora'!$X$35=2,'Simulador Valora'!$K$49,0))))","v":0},null,{"$f":"AL232*'Simulador Valora'!$X$59","v":0},0,0,"",0,218]
[219,0,null,0,null,0,null,0,null,null,null,{"$f":"IF('Simulador Valora'!$V$60=1,0,J233*'Simulador Valora'!$V$61*'Simulador Valora'!$W$59)","v":0},null,"",null,0,null,{"$f":"IF('Simulador Valora'!$AC$62=1,0,IFERROR(IF(B233<=0,0,B233*'Simulador Valora'!$Y$67),0))","v":0},null,{"$f":"IF('Simulador Valora'!$AC$62=1,0,IFERROR(IF(B233<=0,0,IF('Simulador Valora'!$X$35=2,IF('Simulador Valora'!$K$24>0,'Simulador Valora'!$K$24,'Simulador Valora'!$K$41)*'Simulador Valora'!$Y$68,IF('Simulador Valora'!$X$35=3,IF('Simulador Valora'!$K$24>0,'Simulador Valora'!$K$24,'Simulador Valora'!$G$41)*'Simulador Valora'!$Y$68,0))),0))","v":0},null,{"$f":"F233*'Simulador Valora'!$X$59","v":0},null,"",null,null,null,18,3,0,0,0,"",{"$f":"AH232","v":0.17499999999999999},0,0,0,0,0,0,"",{"$f":"IF(AJ233<=0,0,IF('Simulador Valora'!$AC$62=1,0,AJ233*'Simulador Valora'!$Y$67+IF('Simulador Valora'!$X$35=3,'Simulador Valora'!$G$49,IF('Simulador Valora'!$X$35=2,'Simulador Valora'!$K$49,0))))","v":0},null,{"$f":"AL233*'Simulador Valora'!$X$59","v":0},0,0,"",0,219]
[220,0,null,0,null,0,null,0,null,null,null,{"$f":"IF('Simulador Valora'!$V$60=1,0,J234*'Simulador Valora'!$V$61*'Simulador Valora'!$W$59)","v":0},null,"",null,0,null,{"$f":"IF('Simulador Valora'!$AC$62=1,0,IFERROR(IF(B234<=0,0,B234*'Simulador Valora'!$Y$67),0))","v":0},null,{"$f":"IF('Simulador Valora'!$AC$62=1,0,IFERROR(IF(B234<=0,0,IF('Simulador Valora'!$X$35=2,IF('Simulador Valora'!$K$24>0,'Simulador Valora'!$K$24,'Simulador Valora'!$K$41)*'Simulador Valora'!$Y$68,IF('Simulador Valora'!$X$35=3,IF('Simulador Valora'!$K$24>0,'Simulador Valora'!$K$24,'Simulador Valora'!$G$41)*'Simulador Valora'!$Y$68,0))),0))","v":0},null,{"$f":"F234*'Simulador Valora'!$X$59","v":0},null,"",null,null,null,18,4,0,0,0,"",0.17499999999999999,0,0,0,0,0,0,"",{"$f":"IF(AJ234<=0,0,IF('Simulador Valora'!$AC$62=1,0,AJ234*'Simulador Valora'!$Y$67+IF('Simulador Valora'!$X$35=3,'Simulador Valora'!$G$49,IF('Simulador Valora'!$X$35=2,'Simulador Valora'!$K$49,0))))","v":0},null,{"$f":"AL234*'Simulador Valora'!$X$59","v":0},0,0,"",0,220]
[221,0,null,0,null,0,null,0,null,null,null,{"$f":"IF('Simulador Valora'!$V$60=1,0,J235*'Simulador Valora'!$V$61*'Simulador Valora'!$W$59)","v":0},null,"",null,0,null,{"$f":"IF('Simulador Valora'!$AC$62=1,0,IFERROR(IF(B235<=0,0,B235*'Simulador Valora'!$Y$67),0))","v":0},null,{"$f":"IF('Simulador Valora'!$AC$62=1,0,IFERROR(IF(B235<=0,0,IF('Simulador Valora'!$X$35=2,IF('Simulador Valora'!$K$24>0,'Simulador Valora'!$K$24,'Simulador Valora'!$K$41)*'Simulador Valora'!$Y$68,IF('Simulador Valora'!$X$35=3,IF('Simulador Valora'!$K$24>0,'Simulador Valora'!$K$24,'Simulador Valora'!$G$41)*'Simulador Valora'!$Y$68,0))),0))","v":0},null,{"$f":"F235*'Simulador Valora'!$X$59","v":0},null,"",null,null,null,18,5,0,0,0,"",0.17499999999999999,0,0,0,0,0,0,"",{"$f":"IF(AJ235<=0,0,IF('Simulador Valora'!$AC$62=1,0,AJ235*'Simulador Valora'!$Y$67+IF('Simulador Valora'!$X$35=3,'Simulador Valora'!$G$49,IF('Simulador Valora'!$X$35=2,'Simulador Valora'!$K$49,0))))","v":0},null,{"$f":"AL235*'Simulador Valora'!$X$59","v":0},0,0,"",0,221]
[222,0,null,0,null,0,null,0,null,null,null,{"$f":"IF('Simulador Valora'!$V$60=1,0,J236*'Simulador Valora'!$V$61*'Simulador Valora'!$W$59)","v":0},null,"",null,0,null,{"$f":"IF('Simulador Valora'!$AC$62=1,0,IFERROR(IF(B236<=0,0,B236*'Simulador Valora'!$Y$67),0))","v":0},null,{"$f":"IF('Simulador Valora'!$AC$62=1,0,IFERROR(IF(B236<=0,0,IF('Simulador Valora'!$X$35=2,IF('Simulador Valora'!$K$24>0,'Simulador Valora'!$K$24,'Simulador Valora'!$K$41)*'Simulador Valora'!$Y$68,IF('Simulador Valora'!$X$35=3,IF('Simulador Valora'!$K$24>0,'Simulador Valora'!$K$24,'Simulador Valora'!$G$41)*'Simulador Valora'!$Y$68,0))),0))","v":0},null,{"$f":"F236*'Simulador Valora'!$X$59","v":0},null,"",null,null,null,18,6,0,0,0,"",0.17499999999999999,0,0,0,0,0,0,"",{"$f":"IF(AJ236<=0,0,IF('Simulador Valora'!$AC$62=1,0,AJ236*'Simulador Valora'!$Y$67+IF('Simulador Valora'!$X$35=3,'Simulador Valora'!$G$49,IF('Simulador Valora'!$X$35=2,'Simulador Valora'!$K$49,0))))","v":0},null,{"$f":"AL236*'Simulador Valora'!$X$59","v":0},0,0,"",0,222]
[223,0,null,0,null,0,null,0,null,null,null,{"$f":"IF('Simulador Valora'!$V$60=1,0,J237*'Simulador Valora'!$V$61*'Simulador Valora'!$W$59)","v":0},null,"",null,0,null,{"$f":"IF('Simulador Valora'!$AC$62=1,0,IFERROR(IF(B237<=0,0,B237*'Simulador Valora'!$Y$67),0))","v":0},null,{"$f":"IF('Simulador Valora'!$AC$62=1,0,IFERROR(IF(B237<=0,0,IF('Simulador Valora'!$X$35=2,IF('Simulador Valora'!$K$24>0,'Simulador Valora'!$K$24,'Simulador Valora'!$K$41)*'Simulador Valora'!$Y$68,IF('Simulador Valora'!$X$35=3,IF('Simulador Valora'!$K$24>0,'Simulador Valora'!$K$24,'Simulador Valora'!$G$41)*'Simulador Valora'!$Y$68,0))),0))","v":0},null,{"$f":"F237*'Simulador Valora'!$X$59","v":0},null,"",null,null,null,18,7,0,0,0,"",0.17499999999999999,0,0,0,0,0,0,"",{"$f":"IF(AJ237<=0,0,IF('Simulador Valora'!$AC$62=1,0,AJ237*'Simulador Valora'!$Y$67+IF('Simulador Valora'!$X$35=3,'Simulador Valora'!$G$49,IF('Simulador Valora'!$X$35=2,'Simulador Valora'!$K$49,0))))","v":0},null,{"$f":"AL237*'Simulador Valora'!$X$59","v":0},0,0,"",0,223]
[224,0,null,0,null,0,null,0,null,null,null,{"$f":"IF('Simulador Valora'!$V$60=1,0,J238*'Simulador Valora'!$V$61*'Simulador Valora'!$W$59)","v":0},null,"",null,0,null,{"$f":"IF('Simulador Valora'!$AC$62=1,0,IFERROR(IF(B238<=0,0,B238*'Simulador Valora'!$Y$67),0))","v":0},null,{"$f":"IF('Simulador Valora'!$AC$62=1,0,IFERROR(IF(B238<=0,0,IF('Simulador Valora'!$X$35=2,IF('Simulador Valora'!$K$24>0,'Simulador Valora'!$K$24,'Simulador Valora'!$K$41)*'Simulador Valora'!$Y$68,IF('Simulador Valora'!$X$35=3,IF('Simulador Valora'!$K$24>0,'Simulador Valora'!$K$24,'Simulador Valora'!$G$41)*'Simulador Valora'!$Y$68,0))),0))","v":0},null,{"$f":"F238*'Simulador Valora'!$X$59","v":0},null,"",null,null,null,18,8,0,0,0,"",0.17499999999999999,0,0,0,0,0,0,"",{"$f":"IF(AJ238<=0,0,IF('Simulador Valora'!$AC$62=1,0,AJ238*'Simulador Valora'!$Y$67+IF('Simulador Valora'!$X$35=3,'Simulador Valora'!$G$49,IF('Simulador Valora'!$X$35=2,'Simulador Valora'!$K$49,0))))","v":0},null,{"$f":"AL238*'Simulador Valora'!$X$59","v":0},0,0,"",0,224]
[225,0,null,0,null,0,null,0,null,null,null,{"$f":"IF('Simulador Valora'!$V$60=1,0,J239*'Simulador Valora'!$V$61*'Simulador Valora'!$W$59)","v":0},null,"",null,0,null,{"$f":"IF('Simulador Valora'!$AC$62=1,0,IFERROR(IF(B239<=0,0,B239*'Simulador Valora'!$Y$67),0))","v":0},null,{"$f":"IF('Simulador Valora'!$AC$62=1,0,IFERROR(IF(B239<=0,0,IF('Simulador Valora'!$X$35=2,IF('Simulador Valora'!$K$24>0,'Simulador Valora'!$K$24,'Simulador Valora'!$K$41)*'Simulador Valora'!$Y$68,IF('Simulador Valora'!$X$35=3,IF('Simulador Valora'!$K$24>0,'Simulador Valora'!$K$24,'Simulador Valora'!$G$41)*'Simulador Valora'!$Y$68,0))),0))","v":0},null,{"$f":"F239*'Simulador Valora'!$X$59","v":0},null,"",null,null,null,18,9,0,0,0,"",0.17499999999999999,0,0,0,0,0,0,"",{"$f":"IF(AJ239<=0,0,IF('Simulador Valora'!$AC$62=1,0,AJ239*'Simulador Valora'!$Y$67+IF('Simulador Valora'!$X$35=3,'Simulador Valora'!$G$49,IF('Simulador Valora'!$X$35=2,'Simulador Valora'!$K$49,0))))","v":0},null,{"$f":"AL239*'Simulador Valora'!$X$59","v":0},0,0,"",0,225]
[226,0,null,0,null,0,null,0,null,null,null,{"$f":"IF('Simulador Valora'!$V$60=1,0,J240*'Simulador Valora'!$V$61*'Simulador Valora'!$W$59)","v":0},null,"",null,0,null,{"$f":"IF('Simulador Valora'!$AC$62=1,0,IFERROR(IF(B240<=0,0,B240*'Simulador Valora'!$Y$67),0))","v":0},null,{"$f":"IF('Simulador Valora'!$AC$62=1,0,IFERROR(IF(B240<=0,0,IF('Simulador Valora'!$X$35=2,IF('Simulador Valora'!$K$24>0,'Simulador Valora'!$K$24,'Simulador Valora'!$K$41)*'Simulador Valora'!$Y$68,IF('Simulador Valora'!$X$35=3,IF('Simulador Valora'!$K$24>0,'Simulador Valora'!$K$24,'Simulador Valora'!$G$41)*'Simulador Valora'!$Y$68,0))),0))","v":0},null,{"$f":"F240*'Simulador Valora'!$X$59","v":0},null,"",null,null,null,18,10,0,0,0,"",0.17499999999999999,0,0,0,0,0,0,"",{"$f":"IF(AJ240<=0,0,IF('Simulador Valora'!$AC$62=1,0,AJ240*'Simulador Valora'!$Y$67+IF('Simulador Valora'!$X$35=3,'Simulador Valora'!$G$49,IF('Simulador Valora'!$X$35=2,'Simulador Valora'!$K$49,0))))","v":0},null,{"$f":"AL240*'Simulador Valora'!$X$59","v":0},0,0,"",0,226]
[227,0,null,0,null,0,null,0,null,null,null,{"$f":"IF('Simulador Valora'!$V$60=1,0,J241*'Simulador Valora'!$V$61*'Simulador Valora'!$W$59)","v":0},null,"",null,0,null,{"$f":"IF('Simulador Valora'!$AC$62=1,0,IFERROR(IF(B241<=0,0,B241*'Simulador Valora'!$Y$67),0))","v":0},null,{"$f":"IF('Simulador Valora'!$AC$62=1,0,IFERROR(IF(B241<=0,0,IF('Simulador Valora'!$X$35=2,IF('Simulador Valora'!$K$24>0,'Simulador Valora'!$K$24,'Simulador Valora'!$K$41)*'Simulador Valora'!$Y$68,IF('Simulador Valora'!$X$35=3,IF('Simulador Valora'!$K$24>0,'Simulador Valora'!$K$24,'Simulador Valora'!$G$41)*'Simulador Valora'!$Y$68,0))),0))","v":0},null,{"$f":"F241*'Simulador Valora'!$X$59","v":0},null,"",null,null,null,18,11,0,0,0,"",0.17499999999999999,0,0,0,0,0,0,"",{"$f":"IF(AJ241<=0,0,IF('Simulador Valora'!$AC$62=1,0,AJ241*'Simulador Valora'!$Y$67+IF('Simulador Valora'!$X$35=3,'Simulador Valora'!$G$49,IF('Simulador Valora'!$X$35=2,'Simulador Valora'!$K$49,0))))","v":0},null,{"$f":"AL241*'Simulador Valora'!$X$59","v":0},0,0,"",0,227]
[228,0,null,0,null,0,null,0,null,null,null,{"$f":"IF('Simulador Valora'!$V$60=1,0,J242*'Simulador Valora'!$V$61*'Simulador Valora'!$W$59)","v":0},null,"",null,0,null,{"$f":"IF('Simulador Valora'!$AC$62=1,0,IFERROR(IF(B242<=0,0,B242*'Simulador Valora'!$Y$67),0))","v":0},null,{"$f":"IF('Simulador Valora'!$AC$62=1,0,IFERROR(IF(B242<=0,0,IF('Simulador Valora'!$X$35=2,IF('Simulador Valora'!$K$24>0,'Simulador Valora'!$K$24,'Simulador Valora'!$K$41)*'Simulador Valora'!$Y$68,IF('Simulador Valora'!$X$35=3,IF('Simulador Valora'!$K$24>0,'Simulador Valora'!$K$24,'Simulador Valora'!$G$41)*'Simulador Valora'!$Y$68,0))),0))","v":0},null,{"$f":"F242*'Simulador Valora'!$X$59","v":0},null,"",null,null,null,19,0,0,0,0,"",0.17499999999999999,0,0,0,0,0,0,"",{"$f":"IF(AJ242<=0,0,IF('Simulador Valora'!$AC$62=1,0,AJ242*'Simulador Valora'!$Y$67+IF('Simulador Valora'!$X$35=3,'Simulador Valora'!$G$49,IF('Simulador Valora'!$X$35=2,'Simulador Valora'!$K$49,0))))","v":0},null,{"$f":"AL242*'Simulador Valora'!$X$59","v":0},0,0,"",0,228]
[229,0,null,0,null,0,null,0,null,null,null,{"$f":"IF('Simulador Valora'!$V$60=1,0,J243*'Simulador Valora'!$V$61*'Simulador Valora'!$W$59)","v":0},null,"",null,0,null,{"$f":"IF('Simulador Valora'!$AC$62=1,0,IFERROR(IF(B243<=0,0,B243*'Simulador Valora'!$Y$67),0))","v":0},null,{"$f":"IF('Simulador Valora'!$AC$62=1,0,IFERROR(IF(B243<=0,0,IF('Simulador Valora'!$X$35=2,IF('Simulador Valora'!$K$24>0,'Simulador Valora'!$K$24,'Simulador Valora'!$K$41)*'Simulador Valora'!$Y$68,IF('Simulador Valora'!$X$35=3,IF('Simulador Valora'!$K$24>0,'Simulador Valora'!$K$24,'Simulador Valora'!$G$41)*'Simulador Valora'!$Y$68,0))),0))","v":0},null,{"$f":"F243*'Simulador Valora'!$X$59","v":0},null,"",null,{"$f":"IF(B243<=0,0,IF(AND('Simulador Valora'!$V$40=2,'Simulador Valora'!$X$35=4),0,'Simulador Valora'!$AM$48))","v":0},null,19,1,0,0,0,"",{"$f":"IF(AH242=$AO$3,AH242,IF(AH242-0.25%<=$AO$3,$AO$3,AH242-0.25%))","v":0.17499999999999999},0,0,0,0,0,0,"",{"$f":"IF(AJ243<=0,0,IF('Simulador Valora'!$AC$62=1,0,AJ243*'Simulador Valora'!$Y$67+IF('Simulador Valora'!$X$35=3,'Simulador Valora'!$G$49,IF('Simulador Valora'!$X$35=2,'Simulador Valora'!$K$49,0))))","v":0},{"$f":"IF(AJ243<=0,0,$AQ$27)","v":0},{"$f":"AL243*'Simulador Valora'!$X$59","v":0},0,0,"",0,229]
[230,0,null,0,null,0,null,0,null,null,null,{"$f":"IF('Simulador Valora'!$V$60=1,0,J244*'Simulador Valora'!$V$61*'Simulador Valora'!$W$59)","v":0},null,"",null,0,null,{"$f":"IF('Simulador Valora'!$AC$62=1,0,IFERROR(IF(B244<=0,0,B244*'Simulador Valora'!$Y$67),0))","v":0},null,{"$f":"IF('Simulador Valora'!$AC$62=1,0,IFERROR(IF(B244<=0,0,IF('Simulador Valora'!$X$35=2,IF('Simulador Valora'!$K$24>0,'Simulador Valora'!$K$24,'Simulador Valora'!$K$41)*'Simulador Valora'!$Y$68,IF('Simulador Valora'!$X$35=3,IF('Simulador Valora'!$K$24>0,'Simulador Valora'!$K$24,'Simulador Valora'!$G$41)*'Simulador Valora'!$Y$68,0))),0))","v":0},null,{"$f":"F244*'Simulador Valora'!$X$59","v":0},null,"",null,null,null,19,2,0,0,0,"",{"$f":"AH243","v":0.17499999999999999},0,0,0,0,0,0,"",{"$f":"IF(AJ244<=0,0,IF('Simulador Valora'!$AC$62=1,0,AJ244*'Simulador Valora'!$Y$67+IF('Simulador Valora'!$X$35=3,'Simulador Valora'!$G$49,IF('Simulador Valora'!$X$35=2,'Simulador Valora'!$K$49,0))))","v":0},null,{"$f":"AL244*'Simulador Valora'!$X$59","v":0},0,0,"",0,230]
[231,0,null,0,null,0,null,0,null,null,null,{"$f":"IF('Simulador Valora'!$V$60=1,0,J245*'Simulador Valora'!$V$61*'Simulador Valora'!$W$59)","v":0},null,"",null,0,null,{"$f":"IF('Simulador Valora'!$AC$62=1,0,IFERROR(IF(B245<=0,0,B245*'Simulador Valora'!$Y$67),0))","v":0},null,{"$f":"IF('Simulador Valora'!$AC$62=1,0,IFERROR(IF(B245<=0,0,IF('Simulador Valora'!$X$35=2,IF('Simulador Valora'!$K$24>0,'Simulador Valora'!$K$24,'Simulador Valora'!$K$41)*'Simulador Valora'!$Y$68,IF('Simulador Valora'!$X$35=3,IF('Simulador Valora'!$K$24>0,'Simulador Valora'!$K$24,'Simulador Valora'!$G$41)*'Simulador Valora'!$Y$68,0))),0))","v":0},null,{"$f":"F245*'Simulador Valora'!$X$59","v":0},null,"",null,null,null,19,3,0,0,0,"",{"$f":"AH244","v":0.17499999999999999},0,0,0,0,0,0,"",{"$f":"IF(AJ245<=0,0,IF('Simulador Valora'!$AC$62=1,0,AJ245*'Simulador Valora'!$Y$67+IF('Simulador Valora'!$X$35=3,'Simulador Valora'!$G$49,IF('Simulador Valora'!$X$35=2,'Simulador Valora'!$K$49,0))))","v":0},null,{"$f":"AL245*'Simulador Valora'!$X$59","v":0},0,0,"",0,231]
[232,0,null,0,null,0,null,0,null,null,null,{"$f":"IF('Simulador Valora'!$V$60=1,0,J246*'Simulador Valora'!$V$61*'Simulador Valora'!$W$59)","v":0},null,"",null,0,null,{"$f":"IF('Simulador Valora'!$AC$62=1,0,IFERROR(IF(B246<=0,0,B246*'Simulador Valora'!$Y$67),0))","v":0},null,{"$f":"IF('Simulador Valora'!$AC$62=1,0,IFERROR(IF(B246<=0,0,IF('Simulador Valora'!$X$35=2,IF('Simulador Valora'!$K$24>0,'Simulador Valora'!$K$24,'Simulador Valora'!$K$41)*'Simulador Valora'!$Y$68,IF('Simulador Valora'!$X$35=3,IF('Simulador Valora'!$K$24>0,'Simulador Valora'!$K$24,'Simulador Valora'!$G$41)*'Simulador Valora'!$Y$68,0))),0))","v":0},null,{"$f":"F246*'Simulador Valora'!$X$59","v":0},null,"",null,null,null,19,4,0,0,0,"",0.17499999999999999,0,0,0,0,0,0,"",{"$f":"IF(AJ246<=0,0,IF('Simulador Valora'!$AC$62=1,0,AJ246*'Simulador Valora'!$Y$67+IF('Simulador Valora'!$X$35=3,'Simulador Valora'!$G$49,IF('Simulador Valora'!$X$35=2,'Simulador Valora'!$K$49,0))))","v":0},null,{"$f":"AL246*'Simulador Valora'!$X$59","v":0},0,0,"",0,232]
[233,0,null,0,null,0,null,0,null,null,null,{"$f":"IF('Simulador Valora'!$V$60=1,0,J247*'Simulador Valora'!$V$61*'Simulador Valora'!$W$59)","v":0},null,"",null,0,null,{"$f":"IF('Simulador Valora'!$AC$62=1,0,IFERROR(IF(B247<=0,0,B247*'Simulador Valora'!$Y$67),0))","v":0},null,{"$f":"IF('Simulador Valora'!$AC$62=1,0,IFERROR(IF(B247<=0,0,IF('Simulador Valora'!$X$35=2,IF('Simulador Valora'!$K$24>0,'Simulador Valora'!$K$24,'Simulador Valora'!$K$41)*'Simulador Valora'!$Y$68,IF('Simulador Valora'!$X$35=3,IF('Simulador Valora'!$K$24>0,'Simulador Valora'!$K$24,'Simulador Valora'!$G$41)*'Simulador Valora'!$Y$68,0))),0))","v":0},null,{"$f":"F247*'Simulador Valora'!$X$59","v":0},null,"",null,null,null,19,5,0,0,0,"",0.17499999999999999,0,0,0,0,0,0,"",{"$f":"IF(AJ247<=0,0,IF('Simulador Valora'!$AC$62=1,0,AJ247*'Simulador Valora'!$Y$67+IF('Simulador Valora'!$X$35=3,'Simulador Valora'!$G$49,IF('Simulador Valora'!$X$35=2,'Simulador Valora'!$K$49,0))))","v":0},null,{"$f":"AL247*'Simulador Valora'!$X$59","v":0},0,0,"",0,233]
[234,0,null,0,null,0,null,0,null,null,null,{"$f":"IF('Simulador Valora'!$V$60=1,0,J248*'Simulador Valora'!$V$61*'Simulador Valora'!$W$59)","v":0},null,"",null,0,null,{"$f":"IF('Simulador Valora'!$AC$62=1,0,IFERROR(IF(B248<=0,0,B248*'Simulador Valora'!$Y$67),0))","v":0},null,{"$f":"IF('Simulador Valora'!$AC$62=1,0,IFERROR(IF(B248<=0,0,IF('Simulador Valora'!$X$35=2,IF('Simulador Valora'!$K$24>0,'Simulador Valora'!$K$24,'Simulador Valora'!$K$41)*'Simulador Valora'!$Y$68,IF('Simulador Valora'!$X$35=3,IF('Simulador Valora'!$K$24>0,'Simulador Valora'!$K$24,'Simulador Valora'!$G$41)*'Simulador Valora'!$Y$68,0))),0))","v":0},null,{"$f":"F248*'Simulador Valora'!$X$59","v":0},null,"",null,null,null,19,6,0,0,0,"",0.17499999999999999,0,0,0,0,0,0,"",{"$f":"IF(AJ248<=0,0,IF('Simulador Valora'!$AC$62=1,0,AJ248*'Simulador Valora'!$Y$67+IF('Simulador Valora'!$X$35=3,'Simulador Valora'!$G$49,IF('Simulador Valora'!$X$35=2,'Simulador Valora'!$K$49,0))))","v":0},null,{"$f":"AL248*'Simulador Valora'!$X$59","v":0},0,0,"",0,234]
[235,0,null,0,null,0,null,0,null,null,null,{"$f":"IF('Simulador Valora'!$V$60=1,0,J249*'Simulador Valora'!$V$61*'Simulador Valora'!$W$59)","v":0},null,"",null,0,null,{"$f":"IF('Simulador Valora'!$AC$62=1,0,IFERROR(IF(B249<=0,0,B249*'Simulador Valora'!$Y$67),0))","v":0},null,{"$f":"IF('Simulador Valora'!$AC$62=1,0,IFERROR(IF(B249<=0,0,IF('Simulador Valora'!$X$35=2,IF('Simulador Valora'!$K$24>0,'Simulador Valora'!$K$24,'Simulador Valora'!$K$41)*'Simulador Valora'!$Y$68,IF('Simulador Valora'!$X$35=3,IF('Simulador Valora'!$K$24>0,'Simulador Valora'!$K$24,'Simulador Valora'!$G$41)*'Simulador Valora'!$Y$68,0))),0))","v":0},null,{"$f":"F249*'Simulador Valora'!$X$59","v":0},null,"",null,null,null,19,7,0,0,0,"",0.17499999999999999,0,0,0,0,0,0,"",{"$f":"IF(AJ249<=0,0,IF('Simulador Valora'!$AC$62=1,0,AJ249*'Simulador Valora'!$Y$67+IF('Simulador Valora'!$X$35=3,'Simulador Valora'!$G$49,IF('Simulador Valora'!$X$35=2,'Simulador Valora'!$K$49,0))))","v":0},null,{"$f":"AL249*'Simulador Valora'!$X$59","v":0},0,0,"",0,235]
[236,0,null,0,null,0,null,0,null,null,null,{"$f":"IF('Simulador Valora'!$V$60=1,0,J250*'Simulador Valora'!$V$61*'Simulador Valora'!$W$59)","v":0},null,"",null,0,null,{"$f":"IF('Simulador Valora'!$AC$62=1,0,IFERROR(IF(B250<=0,0,B250*'Simulador Valora'!$Y$67),0))","v":0},null,{"$f":"IF('Simulador Valora'!$AC$62=1,0,IFERROR(IF(B250<=0,0,IF('Simulador Valora'!$X$35=2,IF('Simulador Valora'!$K$24>0,'Simulador Valora'!$K$24,'Simulador Valora'!$K$41)*'Simulador Valora'!$Y$68,IF('Simulador Valora'!$X$35=3,IF('Simulador Valora'!$K$24>0,'Simulador Valora'!$K$24,'Simulador Valora'!$G$41)*'Simulador Valora'!$Y$68,0))),0))","v":0},null,{"$f":"F250*'Simulador Valora'!$X$59","v":0},null,"",null,null,null,19,8,0,0,0,"",0.17499999999999999,0,0,0,0,0,0,"",{"$f":"IF(AJ250<=0,0,IF('Simulador Valora'!$AC$62=1,0,AJ250*'Simulador Valora'!$Y$67+IF('Simulador Valora'!$X$35=3,'Simulador Valora'!$G$49,IF('Simulador Valora'!$X$35=2,'Simulador Valora'!$K$49,0))))","v":0},null,{"$f":"AL250*'Simulador Valora'!$X$59","v":0},0,0,"",0,236]
[237,0,null,0,null,0,null,0,null,null,null,{"$f":"IF('Simulador Valora'!$V$60=1,0,J251*'Simulador Valora'!$V$61*'Simulador Valora'!$W$59)","v":0},null,"",null,0,null,{"$f":"IF('Simulador Valora'!$AC$62=1,0,IFERROR(IF(B251<=0,0,B251*'Simulador Valora'!$Y$67),0))","v":0},null,{"$f":"IF('Simulador Valora'!$AC$62=1,0,IFERROR(IF(B251<=0,0,IF('Simulador Valora'!$X$35=2,IF('Simulador Valora'!$K$24>0,'Simulador Valora'!$K$24,'Simulador Valora'!$K$41)*'Simulador Valora'!$Y$68,IF('Simulador Valora'!$X$35=3,IF('Simulador Valora'!$K$24>0,'Simulador Valora'!$K$24,'Simulador Valora'!$G$41)*'Simulador Valora'!$Y$68,0))),0))","v":0},null,{"$f":"F251*'Simulador Valora'!$X$59","v":0},null,"",null,null,null,19,9,0,0,0,"",0.17499999999999999,0,0,0,0,0,0,"",{"$f":"IF(AJ251<=0,0,IF('Simulador Valora'!$AC$62=1,0,AJ251*'Simulador Valora'!$Y$67+IF('Simulador Valora'!$X$35=3,'Simulador Valora'!$G$49,IF('Simulador Valora'!$X$35=2,'Simulador Valora'!$K$49,0))))","v":0},null,{"$f":"AL251*'Simulador Valora'!$X$59","v":0},0,0,"",0,237]
[238,0,null,0,null,0,null,0,null,null,null,{"$f":"IF('Simulador Valora'!$V$60=1,0,J252*'Simulador Valora'!$V$61*'Simulador Valora'!$W$59)","v":0},null,"",null,0,null,{"$f":"IF('Simulador Valora'!$AC$62=1,0,IFERROR(IF(B252<=0,0,B252*'Simulador Valora'!$Y$67),0))","v":0},null,{"$f":"IF('Simulador Valora'!$AC$62=1,0,IFERROR(IF(B252<=0,0,IF('Simulador Valora'!$X$35=2,IF('Simulador Valora'!$K$24>0,'Simulador Valora'!$K$24,'Simulador Valora'!$K$41)*'Simulador Valora'!$Y$68,IF('Simulador Valora'!$X$35=3,IF('Simulador Valora'!$K$24>0,'Simulador Valora'!$K$24,'Simulador Valora'!$G$41)*'Simulador Valora'!$Y$68,0))),0))","v":0},null,{"$f":"F252*'Simulador Valora'!$X$59","v":0},null,"",null,null,null,19,10,0,0,0,"",0.17499999999999999,0,0,0,0,0,0,"",{"$f":"IF(AJ252<=0,0,IF('Simulador Valora'!$AC$62=1,0,AJ252*'Simulador Valora'!$Y$67+IF('Simulador Valora'!$X$35=3,'Simulador Valora'!$G$49,IF('Simulador Valora'!$X$35=2,'Simulador Valora'!$K$49,0))))","v":0},null,{"$f":"AL252*'Simulador Valora'!$X$59","v":0},0,0,"",0,238]
[239,0,null,0,null,0,null,0,null,null,null,{"$f":"IF('Simulador Valora'!$V$60=1,0,J253*'Simulador Valora'!$V$61*'Simulador Valora'!$W$59)","v":0},null,"",null,0,null,{"$f":"IF('Simulador Valora'!$AC$62=1,0,IFERROR(IF(B253<=0,0,B253*'Simulador Valora'!$Y$67),0))","v":0},null,{"$f":"IF('Simulador Valora'!$AC$62=1,0,IFERROR(IF(B253<=0,0,IF('Simulador Valora'!$X$35=2,IF('Simulador Valora'!$K$24>0,'Simulador Valora'!$K$24,'Simulador Valora'!$K$41)*'Simulador Valora'!$Y$68,IF('Simulador Valora'!$X$35=3,IF('Simulador Valora'!$K$24>0,'Simulador Valora'!$K$24,'Simulador Valora'!$G$41)*'Simulador Valora'!$Y$68,0))),0))","v":0},null,{"$f":"F253*'Simulador Valora'!$X$59","v":0},null,"",null,null,null,19,11,0,0,0,"",0.17499999999999999,0,0,0,0,0,0,"",{"$f":"IF(AJ253<=0,0,IF('Simulador Valora'!$AC$62=1,0,AJ253*'Simulador Valora'!$Y$67+IF('Simulador Valora'!$X$35=3,'Simulador Valora'!$G$49,IF('Simulador Valora'!$X$35=2,'Simulador Valora'!$K$49,0))))","v":0},null,{"$f":"AL253*'Simulador Valora'!$X$59","v":0},0,0,"",0,239]
[240,0,null,0,null,0,null,0,null,null,null,{"$f":"IF('Simulador Valora'!$V$60=1,0,J254*'Simulador Valora'!$V$61*'Simulador Valora'!$W$59)","v":0},null,"",null,0,null,{"$f":"IF('Simulador Valora'!$AC$62=1,0,IFERROR(IF(B254<=0,0,B254*'Simulador Valora'!$Y$67),0))","v":0},null,{"$f":"IF('Simulador Valora'!$AC$62=1,0,IFERROR(IF(B254<=0,0,IF('Simulador Valora'!$X$35=2,IF('Simulador Valora'!$K$24>0,'Simulador Valora'!$K$24,'Simulador Valora'!$K$41)*'Simulador Valora'!$Y$68,IF('Simulador Valora'!$X$35=3,IF('Simulador Valora'!$K$24>0,'Simulador Valora'!$K$24,'Simulador Valora'!$G$41)*'Simulador Valora'!$Y$68,0))),0))","v":0},null,{"$f":"F254*'Simulador Valora'!$X$59","v":0},null,"",null,null,null,20,0,0,0,0,"",0.17499999999999999,0,0,0,0,0,0,"",{"$f":"IF(AJ254<=0,0,IF('Simulador Valora'!$AC$62=1,0,AJ254*'Simulador Valora'!$Y$67+IF('Simulador Valora'!$X$35=3,'Simulador Valora'!$G$49,IF('Simulador Valora'!$X$35=2,'Simulador Valora'!$K$49,0))))","v":0},null,{"$f":"AL254*'Simulador Valora'!$X$59","v":0},0,0,"",0,240]
[null,null,null,"Erogación \n(a+b)",null,"Interés \n(a)",null,"Amortización (b)",null,"Prepagos a capital (c)",null,null,null,null,null,null,null,"Seguro de \nvida (d)",null,"Seguro de daños \n(e)",null,"IVA Intereses (f)",null,"Pago Mensual (a+b+c+d+e+f)"]
[null,null,null,{"$f":"SUM(D15:D194)","v":0},null,{"$f":"SUM(F15:F194)","v":0},null,{"$f":"SUM(H15:H194)","v":0},null,{"$f":"SUM(J15:J194)","v":0},null,null,null,null,null,null,null,{"$f":"SUM(R15:R194)","v":0},null,{"$f":"SUM(T15:T194)","v":0},null,{"$f":"SUM(V15:V194)","v":0},null,{"$f":"SUM(X15:X194)","v":0}]
[null,null,null,null,null,null,null,null,null,null,null,null,null,null,null,null,null,null,null,null,null,null,null,null,{"$f":"SUM(Y15:Y256)","v":0}]
[null,null,null,null,null,null,null,null,null,null,null,null,null,null,null,null,null,null,null,null,null,null,null,{"$f":"SUM(X15:Y255)","v":0}]

{"sheet":"Módulo1","index":2,"n_rows":0,"n_cols":0,"rows_kept":0,"cut":false,"hidden":true,"merged":[]}

{"sheet":"Carat_cont_VA","index":3,"n_rows":44,"n_cols":4,"rows_kept":44,"cut":false,"hidden":false,"merged":[[40,0,40,3],[33,0,33,3],[41,0,41,3],[42,0,42,3],[43,0,43,3],[35,0,35,3],[36,0,36,3],[37,0,37,3],[38,0,38,3],[39,0,39,3],[34,0,34,3],[26,0,26,3],[30,2,32,3],[17,1,17,3],[18,0,18,3],[19,0,19,1],[19,2,19,3],[20,0,20,1],[20,2,20,3],[21,0,21,3],[22,0,22,3],[23,0,23,3],[24,0,24,3],[25,0,25,3],[16,1,16,3],[1,0,1,3],[6,1,6,3],[7,0,7,3],[8,0,8,3],[11,1,14,1]]}
[]
["Carátula de Crédito "]
[null,null,null,"Nombre del Acreditado y/o Coacreditado:"]
[null,null,null,{"$f":"IF('Simulador Valora'!C13=\"\",\"\",'Simulador Valora'!C13)","v":""}]
[null,null,null,"Número de Crédito:"]
[]
["Nombre comercial del producto:",{"$f":"\"LIQUIDEZ LIBRE VALORA\"&\" \"&A18","v":"LIQUIDEZ LIBRE VALORA 15 Años"}]
[]
["Tipo de Crédito: Crédito Hipotecario "]
["CAT","TASA DE INTERES","MONTO O LINEA DE","MONTO TOTAL A PAGAR O"]
["(Costo Anual Total)","ANUAL ORDINARIA","CRÉDITO","MINIMO A PAGAR"]
[{"$f":"'Tabla Valora'!B11","v":0},{"$f":"IFERROR(IF('Simulador Valora'!$I$22=0,0,IF('Simulador Valora'!$X$35=1,'Simulador Valora'!$Z$21,IF('Simulador Valora'!$X$35=2,'Simulador Valora'!$AF$21,0))),\"\")","v":0},{"$f":"'Simulador Valora'!$Z$41","v":0},{"$f":"IFERROR(SUM('Tabla Valora'!$X$15:$X$254),0)","v":0}]
["Sin IVA",null,null,"Moneda en"]
["Para fines",null,null,"Pesos"]
["informativos y de",null,null,"Mexicanos "]
["comparación","Tasa Fija"]
["PLAZO DEL CRÉDITO:","Fecha Límite de pago: \nSi tu fecha de corte es el día 3, tu fecha de pago es el día 3 de cada mes. \nSi tu fecha de corte es el día 17, tu fecha de pago es el día 17 de cada mes. "]
[{"$f":"IF('Simulador Valora'!$X$35=1,'Simulador Valora'!$AB$13,IF('Simulador Valora'!$X$35=2,'Simulador Valora'!$AH$13,0))/12&\" Años\"","v":"15 Años"},"Fecha de corte: \nSi tu fecha de disposición es entre el dia 3 y 16, tu fecha de corte será el día 3 de cada mes. \nSi tu fecha de disposición es entre el día 17 y 2, tu fecha de corte será el día 17 de cada mes."]
["COMISIONES RELEVANTES"]
[{"$f":"\"Apertura: \"&TEXT(IF('Simulador Valora'!$X$35=3,'Simulador Valora'!$G$59,IF('Simulador Valora'!$X$35=2,'Simulador Valora'!$K$59,0)),\"$###,###.00\")&\"  más IVA\"","v":"Apertura: $.00  más IVA"},null,"Cobranza: $500.00 más IVA por pago tardío "]
[{"$f":"\"Prepago: \"&IF('Simulador Valora'!$V$60=1,\"0% \",\"3% \")&\"más IVA sobre el monto anticipado\"","v":"Prepago: 0% más IVA sobre el monto anticipado"},null,"Para otras comisiones consulte la cláusula décimo tercera"]
["ADVERTENCIAS"]
[]
["Incumplir tus obligaciones te puede generar comisiones e intereses moratorios. "]
["Contratar créditos que excedan tu capacidad de pago afecta tu historial crediticio. "]
["El avalista, obligado solidario o coacreditado responderá como obligado principal por el total del pago frente a la Institución Financiera. "]
["SEGUROS"]
["Seguros Obligatorios:","Aseguradora:","Cláusulas:"]
[]
["Vida","Cardif México Seguros de Vida,          S.A. de C.V.","Vigésima Cuarta"]
[null,null,"Scotiabank Inverlat le ofrece al acreditado y/o coacreditado, la posibilidad de contratar a nombre de este (os) último(s) los seguros establecidos en la cláusula vigésima cuarta. Lo anterior sin perjuicio del derecho innegable que el cliente tiene de contratarlos a través de terceros."]
["Daños, Responsabilidad Civil y           Desempleo","Cardif México Seguros Generales, S.A. de C.V."]
[]
["ESTADO DE CUENTA"]
["Envío a Domicilio ü              Consulta vía Internet ___            Envío por Correo Electrónico ___"]
["Aclaraciones y reclamaciones:"]
["Unidad Especializada de Aclaraciones:"]
["Domicilio: Río Usumacinta S/N, esq. con Fernando Montes de Oca, Col. La Presita, Municipio de Cuautitlán Izcalli, Estado de México, C.P. 54763"]
["Teléfono: (55) 5123 0990"]
["Correo electrónico: une@scotiabank.com.mx"]
["Página de Internet: www.scotiabank.com.mx "]
[{"$f":"\"Registro de Contratos de Adhesión Núm:  \"&IF('Simulador Valora'!I22=0,\"\",IFERROR(VLOOKUP('Simulador Valora'!$V$40&\"-1-1\",RECAS!$A$3:$D$5,4,0),\"Revisa los datos ingresados\"))","v":"Registro de Contratos de Adhesión Núm:  "}]
["Comisión Nacional para la Protección y Defensa de los Usuarios de Servicios Financieros (CONDUSEF):"]
["Teléfono: 800 999 8080 y (55) 5340 0999. Página de Internet. www.condusef.gob.mx "]

{"sheet":"Simulador Pagos Oportunos","index":4,"n_rows":106,"n_cols":52,"rows_kept":106,"cut":false,"hidden":false,"merged":[[15,2,15,4],[31,43,32,43],[31,44,32,44],[45,43,46,43],[45,44,46,44],[32,8,32,12],[2,2,2,16],[3,2,3,16],[9,2,9,6],[9,8,9,12],[12,2,12,6],[12,8,12,12]]}
[null,null,null,null,null,null,null,null,null,null,null,null,null,null,null,null,null,null,"-",null,null,null,null,null,null,null,null,null,null,null,null,null,null,null,null,null,null,null,null,null,null,null,null,null,null,null,null,null,null,null,null,"-"]
[]
[null,null,"SIMULADOR CREDITO HIPOTECARIO"]
[null,null,"FINANCIAMIENTO LIQUIDEZ LIBRE PAGOS OPORTUNOS"]
[]
[]
[null,null,{"$f":"TODAY()","v":"2022-11-10"}]
[]
[null,null,"Lugar",null,null,null,null,null,"Sucursal"]
[]
[]
[null,null,"Nombre del cliente / Conyuge en su caso.",null,null,null,null,null,"Ejecutivo/Broker que le atendió"]
[]
[]
[null,null,"Telefonos del cliente",null,null,null,null,null,"Teléfonos del ejecutivo"]
[]
[]
[]
[]
[null,null,"Paso 1",null,null,null,null,null,"Paso 2"]
[null,null,"Escoja su base de cálculo",null,null,null,null,null,"Teclee la cantidad correspondiente:"]
[null,null,null,null,null,null,null,null,null,null,{"$f":"IF($AD$40=1,\"Valor del inmueble\",\"Ingresos Brutos Mensuales\")","v":"Valor del inmueble"}]
[null,null,"Paso 3",null,null,null,null,null,null,null,{"$f":"IF($AD$40=1,\"Monto solictado\",\"\")","v":"Monto solictado"}]
[null,null,"Tipo de comisión",null,null,null,null,null,"Valor Destructible"]
[null,null,{"$f":"IF(AND(V40=1,I23>I22),\"El enganche es mayor que el valor del inmueble\",IF(AND(V40=2,I23>I22),\"El saldo es mayor que el valor del inmueble\",\"\"))","v":""}]
[null,null,{"$f":"IF(AND($AD$40=1,$Y$40>$V$34),\"El monto solicitado es mayor al \"&TEXT(V34,\"##0%\")&\" del valor del inmueble\",IF(AND($AD$40=1,$I$23<$X$34),\"El monto solicitado debe ser >= $\"&TEXT($X$34,\"#,##0\"),\"\"))","v":"El monto solicitado debe ser >= $100,000"}]
[null,null,{"$f":"IFERROR(IF(AND($AD$40=2,$I$22<$W$34),\"Los ingresos mínimos requeridos son $\"&TEXT($W$34,\"#,##0\"),\"\"),\"\")","v":""}]
[]
[]
[]
[]
[null,null,null,null,null,null,null,null,null,null,null,null,null,null,null,null,null,null,null,null,null,null,null,null,null,null,null,null,84,120,180,null,null,null,null,null,null,null,null,null,null,null,"Producto","Fecha de Registro","Numero de registro RECA"]
[null,null,null,null,null,null,null,null,"PAGOS OPORTUNOS",null,null,null,null,null,null,null,null,null,null,"Com Apert","Coms. prepago","LTV","Ingresos min.","Monto min.","Monto max","Valor min. viv.","PTI","Plazo",7,10,15]
[null,null,null,null,null,null,null,null,null,null,null,null,null,null,null,null,null,null,null,0.02,0.03,0.7,20000,100000,2500000,1000000,0.2,"Pxm",21.64,18.600000000000001,17.04,"<- cambiar pago por mil",null,null,null,null,null,null,null,null,null,null,"CrediResidencial Valora 20 años","2008-09-10","0319-138-003323/01-04108-0908"]
[null,null,"Plazo",null,null,null,null,null,"7 AÑOS",null,"10 AÑOS",null,"15 AÑOS",null,null,null,null,null,null,null,"Esquemas","Plazo",null,5,null,null,null,"1° Año",0.185,0.186,0.19,"<- Sólo cambiar tasa 1er año",null,null,null,null,null,null,null,null,null,null,"CrediResidencial Valora 20 años con Apoyo Infonavit","2008-09-10","0319-138-003324/01-04109-0908"]
[null,null,null,null,null,null,null,null,null,null,null,null,null,null,null,null,null,null,null,null,null,"Pago 9.9",null,null,null,null,null,"2° Año",{"$f":"+AC35-0.2%","v":0.183},{"$f":"+AD35-0.2%","v":0.184},0.188,null,null,null,null,null,null,null,null,null,null,null,"Pasivo Hipotecario Valora 20 años","2008-09-10","0319-138-003325/01-04110-0908"]
[null,null,"Tasa de Interés",null,null,null,null,null,{"$f":"+AF37","v":"1 año / 18.50% \n2 año / 18.30%\n3 año / 18.10%\n4 año / 17.90%\n5 al 7 / 17.75%"},null,{"$f":"+AG37","v":"1 año / 18.60% \n2 año / 18.40%\n3 año / 18.20%\n4 año / 18.00%\n5 al 10 / 17.85%"},null,{"$f":"+AH37","v":"1 año / 19.00% \n2 año / 18.80%\n3 año / 18.60%\n4 año / 18.40%\n5 al 15 / 18.25%"},null,null,null,null,null,null,null,null,"Tasa 1234",null,null,null,null,null,"3° Año",{"$f":"+AC36-0.2%","v":0.18099999999999999},0.182,0.186,{"$f":"\"1 año / \"&TEXT(AC35,\"0.00%\")&\" \n2 año / \"&TEXT(AC36,\"0.00%\")&\"\n3 año / \"&TEXT(AC37,\"0.00%\")&\"\n4 año / \"&TEXT(AC38,\"0.00%\")&\"\n5 al 7 / \"&TEXT(AC39,\"0.00%\")","v":"1 año / 18.50% \n2 año / 18.30%\n3 año / 18.10%\n4 año / 17.90%\n5 al 7 / 17.75%"},{"$f":"\"1 año / \"&TEXT(AD35,\"0.00%\")&\" \n2 año / \"&TEXT(AD36,\"0.00%\")&\"\n3 año / \"&TEXT(AD37,\"0.00%\")&\"\n4 año / \"&TEXT(AD38,\"0.00%\")&\"\n5 al 10 / \"&TEXT(AD39,\"0.00%\")","v":"1 año / 18.60% \n2 año / 18.40%\n3 año / 18.20%\n4 año / 18.00%\n5 al 10 / 17.85%"},{"$f":"\"1 año / \"&TEXT(AE35,\"0.00%\")&\" \n2 año / \"&TEXT(AE36,\"0.00%\")&\"\n3 año / \"&TEXT(AE37,\"0.00%\")&\"\n4 año / \"&TEXT(AE38,\"0.00%\")&\"\n5 al 15 / \"&TEXT(AE39,\"0.00%\")","v":"1 año / 19.00% \n2 año / 18.80%\n3 año / 18.60%\n4 año / 18.40%\n5 al 15 / 18.25%"},null,null,null,null,null,null,null,null,"Preventa Valora 20 años","2008-09-10","0319-138-003326/01-04111-0908"]
[null,null,null,null,null,null,null,null,null,null,null,null,null,null,null,null,null,null,null,null,null,"Tasa Fija Pago Red 15",null,null,"Cambio de etiqueta",{"$f":"IF(AD40=1,\"Valor del inmueble\",\"Ingresos Brutos Mensuales\")","v":"Valor del inmueble"},null,"4° Año",{"$f":"+AC37-0.2%","v":0.17899999999999999},0.18,0.184,null,null,null,null,null,null,null,null,null,null,null,"Preventa Valora 20 años con Apoyo Infonavit","2008-09-10","0319-138-003327/01-04112-0908"]
[null,null,"% máximo de financiamiento",null,null,null,null,null,{"$f":"IF($V$40=1,\"\",$V$34)","v":0.7},null,{"$f":"IF($V$40=1,\"\",$V$34)","v":0.7},null,{"$f":"IF($V$40=1,\"\",$V$34)","v":0.7},null,null,null,null,null,null,null,null,"Pagos reducidos 20 años",null,null,null,null,null,"5° Año",{"$f":"+AC38-0.15%","v":0.17749999999999999},{"$f":"+AD38-0.15%","v":0.17849999999999999},{"$f":"+AE38-0.15%","v":0.1825},null,null,null,null,null,null,null,null,null,null,null,"CrediConstrucción Valora 20 años ","2008-09-10","0319-138-003328/01-04113-0908"]
[null,null,null,null,null,null,null,null,null,null,null,null,null,null,null,null,null,null,null,null,"Destino Vivienda",2,null,"% de aforo",{"$f":"IF(I22=0,0,IF(I23/I22>1,0,I23/I22))","v":0},{"$f":"IF(V40=2,\" \",\"Monto a Financiar\")","v":" "},null,null,"Por Valor del Inmueble",1,1,null,null,null,null,1,null,null,null,null,null,null,"CrediConstrucción Valora 20 años con Apoyo Infonavit","2008-09-10","0319-138-003329/01-04114-0908"]
[null,null,"Valor de la vivienda",null,null,null,null,null,{"$f":"IFERROR(IF($AD$40=1,$I$22,I43/$V$34),0)","v":0},null,{"$f":"IFERROR(IF($AD$40=1,$I$22,K43/$V$34),0)","v":0},null,{"$f":"IFERROR(IF($AD$40=1,$I$22,M43/$V$34),0)","v":0},null,null,null,null,null,null,null,"Destino Libre",null,"Cambio de pasivo o adquisi",null,{"$f":"IF(AD40=1,\"Importe a financiar\",\"\")","v":"Importe a financiar"},{"$f":"IF($X$35=3,$I$43,IF($X$35=4,$K$43,IF($X$35=5,$M$43,0)))","v":0},null,null,"Por Ingresos",null,null,null,null,null,null,null,null,null,null,null,null,null,"Crediliquidez Vivienda Valora 20 años","2008-09-10","0319-138-003330/01-04115-0908"]
[null,null,null,null,null,null,null,null,null,null,null,null,null,null,null,null,null,null,null,null,null,null,null,null,null,null,null,null,null,null,null,null,null,null,null,null,null,null,null,null,null,null,"Cofinanciamiento Fovissste Alia2 Valora 20 años","2008-09-10","0319-138-003331/01-04116-0908"]
[null,null,"Monto del crédito",null,null,null,null,null,{"$f":"IFERROR(IF(AND($AD$40=1,$Y$40<=$V$34),$I$23,IF($AD$40=2,$I$45/$AC$34*1000,0)),0)","v":0},null,{"$f":"IFERROR(IF(AND($AD$40=1,$Y$40<=$V$34),$I$23,IF($AD$40=2,$K$45/$AC$34*1000,0)),0)","v":0},null,{"$f":"IFERROR(IF(AND($AD$40=1,$Y$40<=$V$34),$I$23,IF($AD$40=2,$M$45/$AC$34*1000,0)),0)","v":0},null,null,null,null,null,null,null,null,null,"Pag Red 10.90",null,"Pag Red 10.90",null,"Pagos oportunos","Pagos oportunos",null,"Pagos oportunos","Pagos oportunos","Pagos oportunos",null,"Pagos Reducidos Liq libre",null,"Tasa Mixta Liq Viv",null,null,null,null,null,null,"Cofinanciamiento Fovissste Respalda2 Valora 20 años","2008-09-10","0319-138-003332/01-04117-0908"]
[null,null,null,null,null,null,null,null,null,null,null,null,null,null,null,null,null,null,null,"Plazo",null,null,15,null,20,null,7,10,null,15,20,30,null,20,null,20,null,null,null,null,null,null,"Cofinanciamiento Infonavit Valora 20 años","2008-09-10","0319-138-003333/01-04118-0908"]
[null,null,"Erogación inicial",null,null,null,null,null,{"$f":"IF($V$40=1,\"\",IF($AD$40=1,I43/1000*$AC$34,$I$22*$AA$34))","v":0},null,{"$f":"IF($V$40=1,\"\",IF($AD$40=1,K43/1000*$AD$34,$I$22*$AA$34))","v":0},null,{"$f":"IF($V$40=1,\"\",IF($AD$40=1,M43/1000*$AE$34,$I$22*$AA$34))","v":0}]
[null,null,null,null,null,null,null,null,null,null,null,null,null,null,null,null,null,null,null,"Pago x mil",null,null,10.25,null,10.55,null,16.48,13.08,null,15.4,9.65,11.46,null,10.6,null,13,null,null,{"$f":"IF(AND($X$35=3,$V$40=2),$AC$34*$I$43/1000,IF(AND($X$35=4,$V$40=2),$AD$34*$K$43/1000,IF(AND($X$35=5,$V$40=2),$AE$34*$M$43/1000,0)))","v":0},null,null,null,"Producto","Fecha de Registro","Numero de registro RECA"]
[null,null,"Seguro de vida",null,null,null,null,null,{"$f":"IFERROR(I43*$Y$67,0)","v":0},null,{"$f":"IFERROR(K43*$Y$67,0)","v":0},null,{"$f":"IFERROR(M43*$Y$67,0)","v":0}]
[null,null,null,null,null,null,null,null,null,null,null,null,null,null,null,null,null,null,null,"Incremento anual ",null,null,0.03,null,2.1000000000000001E-2,null,0,0,null,0,0,0,null,1.7999999999999999E-2,null,0.01,null,null,0,null,null,null,"CrediResidencial Valora 20 años con Seguro de Crédito a la Vivienda","2008-09-11","0319-138-003342/01-04165-0908"]
[null,null,"Seguro de daños",null,null,null,null,null,{"$f":"IF($K$24>0,$K$24,I41)*IF($AC$62=1,0,$Y$68)","v":0},null,{"$f":"IF($K$24>0,$K$24,K41)*IF($AC$62=1,0,$Y$68)","v":0},null,{"$f":"IF($K$24>0,$K$24,M41)*IF($AC$62=1,0,$Y$68)","v":0},null,null,null,null,null,null,"Tasa de int.",null,null,0.109,0.13900000000000001,0.109,0.13900000000000001,9.7500000000000003E-2,9.7500000000000003E-2,null,0.1,0.1,0.125,null,0.14899999999999999,0.16900000000000001,0.14499999999999999,"TIIE + 8",null,null,null,null,null,"CrediResidencial Valora 20 años con Apoyo Infonavit Seguro de Crédito a la Vivienda","2008-09-11","0319-138-003343/01-04166-0908"]
[null,null,null,null,null,null,null,null,null,null,null,null,null,null,null,null,null,null,null,null,null,null,null,null,null,null,null,null,null,null,null,null,null,null,null,null,null,null,null,null,null,null,"Crediliquidez Vivienda Valora 20 años Seguro de Crédito a la Vivienda","2008-09-11","0319-138-003344/01-04167-0908"]
[null,null,"IVA Intereses",null,null,null,null,null,{"$f":"IFERROR($AC$35/360*'Tabla Pagos Oportunos'!$BA$15*'Simulador Pagos Oportunos'!I43,0)*$X$59","v":0},null,{"$f":"IFERROR($AD$35/360*'Tabla Pagos Oportunos'!$BA$15*'Simulador Pagos Oportunos'!K43,0)*$X$59","v":0},null,{"$f":"IFERROR($AE$35/360*'Tabla Pagos Oportunos'!$BA$15*'Simulador Pagos Oportunos'!M43,0)*$X$59","v":0},null,null,null,null,null,null,"Monto a financiar adquisición",null,null,null,null,null,null,null,null,null,null,null,null,null,null,null,null,null,null,null,null,null,null,"Cofinanciamiento Fovissste Alia2 Valora 20 años Seguro de Crédito a la Vivienda","2008-09-11","0319-138-003345/01-04168-0908"]
[null,null,null,null,null,null,null,null,null,null,null,null,null,null,null,null,null,null,null,"Monto a financiar adquisición",null,null,null,null,null,null,null,null,null,null,null,null,null,null,null,null,null,null,null,null,null,null,"Cofinanciamiento Fovissste Respalda2 Valora 20 años Seguro de Crédito a la Vivienda","2008-09-11","0319-138-003346/01-04169-0908"]
[null,null,"Total mensualidad inicial",null,null,null,null,null,{"$f":"IFERROR(I49+I47+I45+I51,0)","v":0},null,{"$f":"IFERROR(K49+K47+K45+K51,0)","v":0},null,{"$f":"IFERROR(M49+M47+M45+M51,0)","v":0},null,null,null,null,null,null,"erogación adquisición",null,null,null,null,null,null,null,null,null,null,null,null,null,null,null,null,null,null,null,null,null,null,"Cofinanciamiento Infonavit Valora 20 años Seguro de Crédito a la Vivienda","2008-09-11","0319-138-003347/01-04170-0908"]
[null,null,null,null,null,null,null,null,null,null,null,null,null,null,null,null,null,null,null,"Monto a financiar pasivo"]
[null,null,"Incremento anual del pago",null,null,null,null,null,"No aplica",null,"No aplica",null,"No aplica",null,null,null,null,null,null,"Monto a financiar pasivo"]
[null,null,null,null,null,null,null,null,null,null,null,null,null,null,null,null,null,null,null,"Desición de monto a financiar"]
[null,null,"Ingresos brutos por comprobar",null,null,null,null,null,{"$f":"IF($V$40=1,\"\",IF($AD$40=1,I45/$AA$34,$I$22))","v":0},null,{"$f":"IF($V$40=1,\"\",IF($AD$40=1,K45/$AA$34,$I$22))","v":0},null,{"$f":"IF($V$40=1,\"\",IF($AD$40=1,M45/$AA$34,$I$22))","v":0}]
[null,null,null,null,null,null,null,null,null,null,null,null,null,null,null,null,null,null,null,"Frontera","NO"]
[null,null,"Comisión por apertura",null,null,null,null,null,{"$f":"IF($V$60=2,0,I43*$T$34)","v":0},null,{"$f":"IF($V$60=2,0,K43*$T$34)","v":0},null,{"$f":"IF($V$60=2,0,M43*$T$34)","v":0},null,null,null,null,null,null,"IVA","SI",1,{"$f":"IF(V59=1,1.16,1.11)","v":1.1599999999999999},{"$f":"IF(V59=1,0.16,0.11)","v":0.16}]
[null,null,"IVA / Comisión por apertura",null,null,null,null,null,{"$f":"I59*$X$59","v":0},null,{"$f":"K59*$X$59","v":0},null,{"$f":"M59*$X$59","v":0},null,null,null,null,null,null,"Apertura",null,1,{"$f":"IF(V40=1,\"Comisión por apertura 2.50% y comisión por prepago 0%\",\"Comisión por apertura 2.5% más IVA\")","v":"Comisión por apertura 2.5% más IVA"},null,null,null,null,null,null,"Tasas PAR"]
[null,null,{"$f":"\"Avalúo     \"&IF($V$40=2,\"\",IF(I41>$U$85,\"'Favor de Cotizar'. Val. apróx.\",\"\"))","v":"Avalúo     "},null,null,null,null,null,{"$f":"IF($V$40=1,\"\",IFERROR(V106,0))","v":0},null,{"$f":"IF($V$40=1,\"\",IFERROR(V106,0))","v":0},null,{"$f":"IF($V$40=1,\"\",IFERROR(V106,0))","v":0},null,null,null,null,null,null,"Prepago",null,{"$f":"IF(V60=2,3%,\"NO APLICA\")","v":"NO APLICA"},{"$f":"IF(V40=1,\"Comisión por apertura 0% y comisión por prepago 3.50% más IVA\",\"\")","v":""},null,null,null,null,"Contratación de Seguros",null,0.105,9,2.5399999999999999E-2,1]
[null,null,null,null,null,null,null,null,null,null,null,null,null,null,null,null,null,null,null,"Com Aut Dif",250,250,250,250,250,{"$f":"IF(AND(V40=1,X35=1),250,IF(AND(V40=1,X35=2),0,IF(AND(V40=2,X35=4),500,0)))","v":0},null,"SI ",2,0.1075,9.15,2.5399999999999999E-2,{"$f":"IF($AG$61=1,AE61,IF($AG$61=2,AE62,IF($AG$61=3,AE63,IF($AG$61=4,AE64,IF($AG$61=5,AE65,IF($AG$61=6,AE66,AE67))))))","v":9}]
[null,null,"Comisión por pagos anticipados",null,null,null,null,null,{"$f":"IF($V$60=2,$V$61,\"NO APLICA\")","v":"NO APLICA"},null,{"$f":"IF($V$60=2,$V$61,\"NO APLICA\")","v":"NO APLICA"},null,{"$f":"IF($V$60=2,$V$61,\"NO APLICA\")","v":"NO APLICA"},null,null,null,null,null,null,"AVALUO",null,null,null,null,null,null,null,"NO",null,0.115,9.6999999999999993,2.5399999999999999E-2,{"$f":"IF($AG$61=1,AF61,IF($AG$61=2,AF62,IF($AG$61=3,AF63,IF($AG$61=4,AF64,IF($AG$61=5,AF65,IF($AG$61=6,AF66,AF67))))))","v":2.5399999999999999E-2}]
[null,null,null,null,null,null,null,null,null,null,null,null,null,null,null,null,null,null,null,"Mayor a","Hasta a","Importe","Switch",null,null,null,null,null,null,0.12,10.199999999999999,1.9599999999999999E-2,{"$f":"IF($AG$61=1,AD61,IF($AG$61=2,AD62,IF($AG$61=3,AD63,IF($AG$61=4,AD64,IF($AG$61=5,AD65,IF($AG$61=6,AD66,AD67))))))","v":0.105}]
[null,null,null,null,null,null,null,null,null,null,null,null,null,null,null,null,null,null,null,0.01,500000,1900,1253,null,null,null,null,null,null,0.125,{"$f":"IF(Y40<=65%,10.6,10.55)","v":10.6},{"$f":"IF(Y40<=65%,1.72%,1.96%)","v":1.72E-2}]
[null,null,"Ver tabla de amortización",null,null,null,null,null,null,null,null,null,null,null,null,null,null,null,null,500001,1000000,3300,1740,"Seguros",null,null,null,null,null,0.13,11,{"$f":"IF(Y40<=65%,1.45%,1.72%)","v":1.4499999999999999E-2}]
[null,null,null,null,null,null,null,null,null,null,null,null,null,null,null,null,null,null,null,1000001,1500000,4500,1740,"Vida",5.5599999999999996E-4,5.5599999999999996E-4,null,null,null,0.13500000000000001,11.45,{"$f":"IF(Y40<=65%,1%,1.45%)","v":0.01}]
[null,null,null,null,null,null,null,null,null,null,null,null,null,null,null,null,null,null,null,1500001,2000000,5750,2784,"Daños",3.0160000000000001E-4,3.0160000000000001E-4]
[null,null,"Observaciones:",null,null,null,null,null,null,null,null,null,null,null,null,null,null,null,null,2000001,2500000,7000,2784]
[null,null,"-No se incluyen los gastos notariales, los cuales se pagaran al momento de la firma del crédito",null,null,null,null,null,null,null,null,null,null,null,null,null,null,null,null,2500001,3000000,8200,4664,null,null,null,null,null,null,"Valor del inmueble",{"$f":"IF($X$35=2,G41,IF($X$35=6,I41,IF($X$35=3,K41,IF($X$35=4,M41,IF($X$35=5,O41,IF($X$35=7,#REF!))))))","v":0}]
[null,null,"-  En caso de que aplique, la comisión por pagos anticipados causa I.V.A.",null,null,null,null,null,null,null,null,null,null,null,null,null,null,null,null,3000001,4000000,11000,6683,null,null,null,null,null,null,"Pago por mil",{"$f":"IF($X$35=6,AA46,IF($X$35=3,AB46,IF($X$35=4,AD46,IF($X$35=5,AE46))))","v":9.65}]
[null,null,"-  Scotiabank se reserva el derecho de solicitar información adicional y/o restringir parámetros de enganche, monto, plazo o tasa en función de las características específicas del solicitante",null,null,null,null,null,null,null,null,null,null,null,null,null,null,null,null,4000001,5000000,13900,8562,null,null,null,null,null,null,"Plazo",{"$f":"IF($X$35=2,\"20 Años\",IF($X$35=6,\"7 Años\",IF($X$35=3,\"10 Años\",IF($X$35=4,\"15 Años\",IF($X$35=5,\"20 Años\",IF($X$35=7,\"30 Años\"))))))","v":"20 Años"}]
[null,null,"    y del inmueble objeto de la operación.",null,null,null,null,null,null,null,null,null,null,null,null,null,null,null,null,5000001,6000000,15500,8562]
[null,null,"- Esta cotización tiene carácter informativo, Scotiabank se reserva el derecho de cambiar cualquier condición sin previo aviso.",null,null,null,null,null,null,null,null,null,null,null,null,null,null,null,null,6000001,7000000,19000,8562]
[null,null,"- Este documento NO implica que el crédito ha sido autorizado, ni establece obligación alguna para Scotiabank.",null,null,null,null,null,null,null,null,null,null,null,null,null,null,null,null,7000001,8000000,20000,11973]
[null,null,"- Para los esquemas de \"Pagos Oportunos\" y \"Valora\" en Crediliquidez destino vivienda se deberá cumplir con las reglas establecidas en los programas para la disminución de la tasa de interés",null,null,null,null,null,null,null,null,null,null,null,null,null,null,null,null,8000001,9000000,20100,11973]
[null,null,null,null,null,null,null,null,null,null,null,null,null,null,{"$f":"'Simulador Valora'!O77","v":"v2022.11"},null,null,null,null,9000001,10000000,22500,11973]
[null,null,null,null,null,null,null,null,null,null,null,null,null,null,null,null,null,null,null,10000001,11000000,27000,13781]
[null,null,null,null,null,null,null,null,null,null,null,null,null,null,null,null,null,null,null,11000001,12000000,28000,13781]
[null,null,null,null,null,null,null,null,null,null,null,null,null,null,null,null,null,null,null,12000001,13000000,30000,13781]
[null,null,null,null,null,null,null,null,null,null,null,null,null,null,null,null,null,null,null,13000001,14000000,32000,13781]
[null,null,null,null,null,null,null,null,null,null,null,null,null,null,null,null,null,null,null,14000001,15000000,34000,14616]
[null,null,null,null,null,null,null,null,null,null,null,null,null,null,null,null,null,null,null,15000001,20000000,37000,18096]
[null,null,null,null,null,null,null,null,null,null,null,null,null,null,null,null,null,null,null,20000001,25000000,39000,19140]
[null,null,null,null,null,null,null,null,null,null,null,null,null,null,null,null,null,null,null,25000001,30000000,40000,20880]
[null,null,null,null,null,null,null,null,null,null,null,null,null,null,null,null,null,null,null,30000001,30000000,40000,20880]
[]
[]
[]
[null,null,null,null,null,null,null,null,null,null,null,null,null,null,null,null,null,null,null,"TOPUP/LiqLibre"]
[null,null,null,null,null,null,null,null,null,null,null,null,null,null,null,null,null,null,null,"Mayor a","Hasta a","Importe"]
[null,null,null,null,null,null,null,null,null,null,null,null,null,null,null,null,null,null,null,0.01,500000,1253]
[null,null,null,null,null,null,null,null,null,null,null,null,null,null,null,null,null,null,null,{"$f":"U92+1","v":500001},1000000,1740]
[null,null,null,null,null,null,null,null,null,null,null,null,null,null,null,null,null,null,null,{"$f":"U93+1","v":1000001},2000000,2784]
[null,null,null,null,null,null,null,null,null,null,null,null,null,null,null,null,null,null,null,2000001,3000000,4663]
[null,null,null,null,null,null,null,null,null,null,null,null,null,null,null,null,null,null,null,3000001,4000000,5000]
[null,null,null,null,null,null,null,null,null,null,null,null,null,null,null,null,null,null,null,4000001,5000000,5000]
[null,null,null,null,null,null,null,null,null,null,null,null,null,null,null,null,null,null,null,5000001,8000000,5000]
[null,null,null,null,null,null,null,null,null,null,null,null,null,null,null,null,null,null,null,8000001,11000000,5000]
[null,null,null,null,null,null,null,null,null,null,null,null,null,null,null,null,null,null,null,11000001,15000000,5000]
[null,null,null,null,null,null,null,null,null,null,null,null,null,null,null,null,null,null,null,15000001,20000000,5000]
[null,null,null,null,null,null,null,null,null,null,null,null,null,null,null,null,null,null,null,20000001,25000000,5000]
[null,null,null,null,null,null,null,null,null,null,null,null,null,null,null,null,null,null,null,25000001,30000000,5000]
[null,null,null,null,null,null,null,null,null,null,null,null,null,null,null,null,null,null,null,30000001,30000000,5000]
[]
[null,null,null,null,null,null,null,null,null,null,null,null,null,null,null,null,null,null,null,null,null,{"$f":"+IF(I41<=$U$95,VLOOKUP(I41,$T$90:$V$101,3),V96)","v":{"$error":"#N/A"}}]

{"sheet":"Tabla Pagos Oportunos","index":5,"n_rows":258,"n_cols":63,"rows_kept":258,"cut":false,"hidden":false,"merged":[[10,22,10,23],[11,22,11,23],[0,0,0,26],[1,0,1,26],[2,0,2,26],[3,0,3,26]]}
["SIMULADOR CREDITO HIPOTECARIO",null,null,null,null,null,null,null,null,null,null,null,null,null,null,null,null,null,null,null,null,null,null,null,null,null,null,null,null,null,null,null,null,null,null,null,null,null,null,null,null,null,null,null,null,null,null,null,null,null,null,null,null,null,null,null,null,null,null,null,null,null,"-"]
["FINANCIAMIENTO LIQUIDEZ LIBRE SCOTIABANK",null,null,null,null,null,null,null,null,null,null,null,null,null,null,null,null,null,null,null,null,null,null,null,null,null,null,null,null,null,null,null,null,null,null,"Comisión por apertura",null,{"$f":"IF('Simulador Pagos Oportunos'!$X$35=3,'Simulador Pagos Oportunos'!I59,IF('Simulador Pagos Oportunos'!$X$35=4,'Simulador Pagos Oportunos'!$K$59,IF('Simulador Pagos Oportunos'!$X$35=5,'Simulador Pagos Oportunos'!$M$59,0)))","v":0},null,null,null,null,null,2]
[{"$f":"IF('Simulador Pagos Oportunos'!X35=3,\"PAGOS OPORTUNOS 7 AÑOS\",IF('Simulador Pagos Oportunos'!X35=4,\"PAGOS OPORTUNOS 10 AÑOS\",\"PAGOS OPORTUNOS 15 AÑOS\"))","v":"PAGOS OPORTUNOS 15 AÑOS"},null,null,null,null,null,null,null,null,null,null,null,null,null,null,null,null,null,null,null,null,null,null,null,null,null,null,null,null,null,null,null,null,null,null,"avaluo",null,{"$f":"IF('Simulador Pagos Oportunos'!$X$35=3,'Simulador Pagos Oportunos'!I61,IF('Simulador Pagos Oportunos'!$X$35=4,'Simulador Pagos Oportunos'!$K$61,IF('Simulador Pagos Oportunos'!$X$35=5,'Simulador Pagos Oportunos'!$M$61,0)))","v":0},null,null,null,null,null,"Disminución de plazo"]
[null,null,null,null,null,null,null,null,null,null,null,null,null,null,null,null,null,null,null,null,null,null,null,null,null,null,null,null,null,null,null,null,null,null,null,null,null,null,null,null,null,null,null,"Disminución de pago"]
["Observaciones",null,null,null,null,null,null,null,null,null,null,null,null,null,null,null,null,null,null,null,null,null,null,{"$f":"TODAY()","v":"2022-11-10"},null,null,null,null,null,null,null,null,null,null,null,"total",null,{"$f":"SUM(AL2:AL4)","v":0}]
["- La comisión por prepagos causa IVA y en la corrida ya lo incluye"]
["- El escenario que se presenta en la tabla de amortización siempre es considerando que se paga de manera puntual el crédito."]
["- Para los esquemas \"Pagos Oportunos\" y \"Valora\"  se deberá cumplir con las reglas establecidas en los programas para la disminución de la tasa de interés",null,null,null,null,null,null,null,null,null,null,null,null,null,null,null,null,null,null,null,null,null,null,null,null,null,null,null,null,null,null,null,null,null,null,null,null,null,null,null,null,null,null,null,null,null,null,null,null,{"$f":"AX12*12","v":0}]
["- Esta cotización tiene carácter informativo, Scotiabank se reserva el derecho de cambiar cualquier condición sin previo aviso.",null,null,null,null,null,null,null,null,null,null,null,null,null,null,null,null,null,null,null,null,null,null,null,null,null,null,null,null,null,null,null,null,null,null,null,null,null,null,null,null,null,null,null,null,null,null,null,null,{"$f":"((1+AX12)^12)-1","v":0}]
["- Este documento NO implica que el crédito ha sido autorizado, ni establece obligación alguna para Scotiabank.",null,null,null,null,null,null,null,null,null,null,null,null,null,null,null,null,null,null,null,null,null,null,null,null,null,null,null,null,null,null,null,null,null,null,null,null,null,null,null,null,null,null,null,null,null,null,null,null,"Corrida para CAT"]
["- CAT =.",{"$f":"AX9","v":0},"\"Para fines informativos de comparación exclusivamente, sin IVA\"",null,null,null,null,null,null,null,null,null,null,null,null,"El crédito se liquida",null,null,null,{"$f":"AA15","v":0},"Años",null,{"$f":"AE14","v":0},null,"Años",null,null,null,null,null,null,null,null,null,null,null,null,null,null,null,null,null,null,null,null,null,null,null,null,"TIR"]
["- En caso de anticipos a capital escoja la opción:",null,null,null,null,null,null,null,null,null,null,null,null,null,null,"por pago puntual en:",null,null,null,{"$f":"AB15","v":0},"Meses",null,{"$f":"AF14","v":0},null,"Meses",null,null,null,null,null,null,null,null,null,null,null,null,null,null,null,null,null,null,null,null,null,null,null,null,{"$f":"IFERROR(IRR(AX13:AX254,0),0)","v":0}]
[null,null,null,null,null,null,null,null,null,null,null,null,null,null,null,null,null,null,null,null,null,null,null,null,null,null,null,null,null,null,null,null,null,null,null,null,null,null,null,null,null,null,null,null,null,null,null,null,null,{"$f":"AL5-AO15","v":0}]
["Período","Saldo Inicial",null,"Erogación",null,"Interés",null,"Amortización",null,"Prepagos a capital",null,"Comisión por prepagos",null,"Tasa aplicada",null,"Saldo Final",null,"Seguro de vida",null,"Seguro de daños",null,"Com. Aut. Dif.","IVA Ints","Pago Mensual",null,"Inc. Pago",null,"años","meses",{"$f":"SUM(AD15:AD254)","v":1},{"$f":"SUM(AE15:AE254)","v":0},{"$f":"SUM(AF15:AF254)","v":0},{"$f":"AN2-H4","v":0},"Tasa Aplic.","7 años","10 años","15 años","20 años","30 años","Factor de pago","Saldo Inicial","Erogación","Interés","Amortización","Saldo Final","Tasa Aplic.","Seguros","Incremento Pago","IVA Intereses","Pago Mensual","Plazo","Fecha","Dias","Período","Año actual","Mes actual","Día actual","Dia/corte","sumar a mes"]
[1,{"$f":"'Simulador Pagos Oportunos'!Z41","v":0},null,{"$f":"'Simulador Pagos Oportunos'!AM46","v":0},null,{"$f":"IFERROR((N15/360*BA15*B15),0)","v":0},null,{"$f":"D15-F15","v":0},null,null,null,{"$f":"IF('Simulador Pagos Oportunos'!$V$60=1,0,J15*'Simulador Pagos Oportunos'!$O$63*'Simulador Pagos Oportunos'!$W$59)","v":0},null,{"$f":"IF(B15=0,\"\",AH15)","v":""},null,{"$f":"B15-H15-J15+L15","v":0},null,{"$f":"IFERROR(IF(B15<=0,0,B15*'Simulador Pagos Oportunos'!$Y$67),0)","v":0},null,{"$f":"IFERROR(IF(B15<=0,0,IF('Simulador Pagos Oportunos'!$X$35=3,'Simulador Pagos Oportunos'!$I$49,IF('Simulador Pagos Oportunos'!$X$35=4,'Simulador Pagos Oportunos'!$K$49,IF('Simulador Pagos Oportunos'!$X$35=5,'Simulador Pagos Oportunos'!$M$49,0)))),0)","v":0},null,{"$f":"IF(B15<=0,\"\",IF('Simulador Pagos Oportunos'!$V$40=1,'Simulador Pagos Oportunos'!$Z$62,'Simulador Pagos Oportunos'!$Z$62*'Simulador Pagos Oportunos'!$W$59))","v":""},{"$f":"F15*'Simulador Pagos Oportunos'!$X$59","v":0},{"$f":"IF(B15<=0,\"\",D15+J15+R15+V15+T15+W15)","v":""},null,null,null,0,{"$f":"IF(B15=0,0,1)","v":0},{"$f":"+IF(P15<=0,IF(P14>0,+A15,0),0)","v":1},{"$f":"+IF(AD15>0,+AB15,0)","v":0},{"$f":"+IF(AD15>0,+AC15,0)","v":0},{"$f":"X15","v":""},{"$f":"IF('Simulador Pagos Oportunos'!$X$35=3,AI15,IF('Simulador Pagos Oportunos'!$X$35=4,AJ15,IF('Simulador Pagos Oportunos'!$X$35=5,AK15,0)))","v":0.19},{"$f":"'Simulador Pagos Oportunos'!AC35","v":0.185},{"$f":"'Simulador Pagos Oportunos'!AD35","v":0.186},{"$f":"'Simulador Pagos Oportunos'!AE35","v":0.19},0,0,{"$f":"IFERROR(AP15/AO15,0)","v":0},{"$f":"B15","v":0},{"$f":"D15","v":0},{"$f":"IFERROR((AT15/360*BA15*AO15),0)","v":0},{"$f":"+AP15-AQ15","v":0},{"$f":"+AO15-AR15","v":0},{"$f":"IF('Simulador Pagos Oportunos'!$X$35=3,AI15,IF('Simulador Pagos Oportunos'!$X$35=4,AJ15,IF('Simulador Pagos Oportunos'!$X$35=5,AK15,0)))","v":0.19},{"$f":"IF(AO15<=0,0,IF('Simulador Pagos Oportunos'!$AC$62=1,0,AO15*'Simulador Pagos Oportunos'!$Y$67+IF('Simulador Pagos Oportunos'!$X$35=3,'Simulador Pagos Oportunos'!$I$49,IF('Simulador Pagos Oportunos'!$X$35=4,'Simulador Pagos Oportunos'!$K$49,IF('Simulador Pagos Oportunos'!$X$35=5,'Simulador Pagos Oportunos'!$M$49,0)))))","v":0},null,{"$f":"AQ15*'Simulador Pagos Oportunos'!$X$59","v":0},{"$f":"AQ15+AR15+AU15","v":0},{"$f":"IF('Simulador Pagos Oportunos'!$X$35=3,'Simulador Pagos Oportunos'!$AC$32,IF('Simulador Pagos Oportunos'!$X$35=4,'Simulador Pagos Oportunos'!$AD$32,IF('Simulador Pagos Oportunos'!$X$35=5,'Simulador Pagos Oportunos'!$AE$32,0)))","v":180},{"$f":"IF(AO15=0,\"\",DATE(BC15,BD15+BG15,BF15))","v":""},{"$f":"IFERROR(DAY(DATE(YEAR(AZ15),MONTH(AZ15)+1,0)),0)","v":0},1,{"$f":"IFERROR(YEAR('Simulador Pagos Oportunos'!C7),YEAR('Simulador Pagos Oportunos'!C7))","v":2022},{"$f":"IFERROR(MONTH('Simulador Pagos Oportunos'!C7),MONTH('Simulador Pagos Oportunos'!C7))","v":11},{"$f":"IFERROR(DAY('Simulador Pagos Oportunos'!C7),DAY('Simulador Pagos Oportunos'!C7))","v":10},{"$f":"IF(AND(DAY('Simulador Pagos Oportunos'!C7)>=3,DAY('Simulador Pagos Oportunos'!C7)<=16),3,17)","v":3},{"$f":"IF(BE15>BF15,1,0)","v":1}]
[2,{"$f":"IF(P15<=0,0,P15)","v":0},null,{"$f":"IF(B16+F16-D15<=0,B16+F16,IF(AND($AR$2=2,J15>0),B16*AV16,D15*(1+Z16)))","v":0},null,{"$f":"IFERROR((N16/360*BA16*B16),0)","v":0},null,{"$f":"D16-F16","v":0},null,null,null,{"$f":"IF('Simulador Pagos Oportunos'!$V$60=1,0,J16*'Simulador Pagos Oportunos'!$O$63*'Simulador Pagos Oportunos'!$W$59)","v":0},null,{"$f":"IF(B16=0,\"\",AH16)","v":""},null,{"$f":"B16-H16-J16+L16","v":0},null,{"$f":"IFERROR(IF(B16<=0,0,B16*'Simulador Pagos Oportunos'!$Y$67),0)","v":0},null,{"$f":"IFERROR(IF(B16<=0,0,IF('Simulador Pagos Oportunos'!$X$35=3,'Simulador Pagos Oportunos'!$I$49,IF('Simulador Pagos Oportunos'!$X$35=4,'Simulador Pagos Oportunos'!$K$49,IF('Simulador Pagos Oportunos'!$X$35=5,'Simulador Pagos Oportunos'!$M$49,0)))),0)","v":0},null,{"$f":"IF(B16<=0,\"\",IF('Simulador Pagos Oportunos'!$V$40=1,'Simulador Pagos Oportunos'!$Z$62,'Simulador Pagos Oportunos'!$Z$62*'Simulador Pagos Oportunos'!$W$59))","v":""},{"$f":"F16*'Simulador Pagos Oportunos'!$X$59","v":0},{"$f":"IF(B16<=0,\"\",D16+J16+R16+V16+T16+W16)","v":""},null,null,null,0,2,{"$f":"+IF(P16<=0,IF(P15>0,+A16,0),0)","v":0},{"$f":"+IF(AD16>0,+AB16,0)","v":0},{"$f":"+IF(AD16>0,+AC16,0)","v":0},{"$f":"X16","v":""},{"$f":"IF('Simulador Pagos Oportunos'!$X$35=3,AI16,IF('Simulador Pagos Oportunos'!$X$35=4,AJ16,IF('Simulador Pagos Oportunos'!$X$35=5,AK16,0)))","v":0.19},{"$f":"AI15","v":0.185},{"$f":"AJ15","v":0.186},0.19,0,0,{"$f":"IFERROR(AP16/AO16,0)","v":0},{"$f":"AS15","v":0},{"$f":"IFERROR((IF(AO16+AQ16-AP15<0, AO16+AQ16, AP15*(1+AV16))),0)","v":0},{"$f":"IFERROR((AT16/360*BA16*AO16),0)","v":0},0,0,{"$f":"IF('Simulador Pagos Oportunos'!$X$35=3,AI16,IF('Simulador Pagos Oportunos'!$X$35=4,AJ16,IF('Simulador Pagos Oportunos'!$X$35=5,AK16,0)))","v":0.19},{"$f":"IF(AO16<=0,0,IF('Simulador Pagos Oportunos'!$AC$62=1,0,AO16*'Simulador Pagos Oportunos'!$Y$67+IF('Simulador Pagos Oportunos'!$X$35=3,'Simulador Pagos Oportunos'!$I$49,IF('Simulador Pagos Oportunos'!$X$35=4,'Simulador Pagos Oportunos'!$K$49,IF('Simulador Pagos Oportunos'!$X$35=5,'Simulador Pagos Oportunos'!$M$49,0)))))","v":0},null,{"$f":"AQ16*'Simulador Pagos Oportunos'!$X$59","v":0},{"$f":"AQ16+AR16+AU16","v":0},{"$f":"IFERROR(IF(AP16<=0.01,0,AY15-1),0)","v":0},{"$f":"IF(AO16=0,\"\",DATE(YEAR(AZ15),MONTH(AZ15)+1,1))","v":""},{"$f":"IFERROR(DAY(DATE(YEAR(AZ16),MONTH(AZ16)+1,0)),0)","v":0},2]
[3,{"$f":"IF(P16<=0,0,P16)","v":0},null,{"$f":"IF(B17+F17-D16<=0,B17+F17,IF(AND($AR$2=2,J16>0),B17*AN17,D16*(1+Z17)))","v":0},null,0,null,{"$f":"D17-F17","v":0},null,null,null,{"$f":"IF('Simulador Pagos Oportunos'!$V$60=1,0,J17*'Simulador Pagos Oportunos'!$O$63*'Simulador Pagos Oportunos'!$W$59)","v":0},null,"",null,0,null,{"$f":"IFERROR(IF(B17<=0,0,B17*'Simulador Pagos Oportunos'!$Y$67),0)","v":0},null,{"$f":"IFERROR(IF(B17<=0,0,IF('Simulador Pagos Oportunos'!$X$35=3,'Simulador Pagos Oportunos'!$I$49,IF('Simulador Pagos Oportunos'!$X$35=4,'Simulador Pagos Oportunos'!$K$49,IF('Simulador Pagos Oportunos'!$X$35=5,'Simulador Pagos Oportunos'!$M$49,0)))),0)","v":0},null,{"$f":"IF(B17<=0,\"\",IF('Simulador Pagos Oportunos'!$V$40=1,'Simulador Pagos Oportunos'!$Z$62,'Simulador Pagos Oportunos'!$Z$62*'Simulador Pagos Oportunos'!$W$59))","v":""},{"$f":"F17*'Simulador Pagos Oportunos'!$X$59","v":0},"",null,null,null,0,3,0,0,0,"",{"$f":"IF('Simulador Pagos Oportunos'!$X$35=3,AI17,IF('Simulador Pagos Oportunos'!$X$35=4,AJ17,IF('Simulador Pagos Oportunos'!$X$35=5,AK17,0)))","v":0.19},{"$f":"AI16","v":0.185},0.186,0.19,0,0,0,{"$f":"AS16","v":0},0,0,0,0,{"$f":"IF('Simulador Pagos Oportunos'!$X$35=3,AI17,IF('Simulador Pagos Oportunos'!$X$35=4,AJ17,IF('Simulador Pagos Oportunos'!$X$35=5,AK17,0)))","v":0.19},{"$f":"IF(AO17<=0,0,IF('Simulador Pagos Oportunos'!$AC$62=1,0,AO17*'Simulador Pagos Oportunos'!$Y$67+IF('Simulador Pagos Oportunos'!$X$35=3,'Simulador Pagos Oportunos'!$I$49,IF('Simulador Pagos Oportunos'!$X$35=4,'Simulador Pagos Oportunos'!$K$49,IF('Simulador Pagos Oportunos'!$X$35=5,'Simulador Pagos Oportunos'!$M$49,0)))))","v":0},null,{"$f":"AQ17*'Simulador Pagos Oportunos'!$X$59","v":0},0,0,{"$f":"IF(AO17=0,\"\",DATE(YEAR(AZ16),MONTH(AZ16)+1,1))","v":""},0,3,"Días/Mes",{"$f":"365.25/12","v":30.4375}]
[4,0,null,{"$f":"IF(B18+F18-D17<=0,B18+F18,IF(AND($AR$2=2,J17>0),B18*AN18,D17*(1+Z18)))","v":0},null,0,null,0,null,null,null,{"$f":"IF('Simulador Pagos Oportunos'!$V$60=1,0,J18*'Simulador Pagos Oportunos'!$O$63*'Simulador Pagos Oportunos'!$W$59)","v":0},null,"",null,0,null,{"$f":"IFERROR(IF(B18<=0,0,B18*'Simulador Pagos Oportunos'!$Y$67),0)","v":0},null,{"$f":"IFERROR(IF(B18<=0,0,IF('Simulador Pagos Oportunos'!$X$35=3,'Simulador Pagos Oportunos'!$I$49,IF('Simulador Pagos Oportunos'!$X$35=4,'Simulador Pagos Oportunos'!$K$49,IF('Simulador Pagos Oportunos'!$X$35=5,'Simulador Pagos Oportunos'!$M$49,0)))),0)","v":0},null,{"$f":"IF(B18<=0,\"\",IF('Simulador Pagos Oportunos'!$V$40=1,'Simulador Pagos Oportunos'!$Z$62,'Simulador Pagos Oportunos'!$Z$62*'Simulador Pagos Oportunos'!$W$59))","v":""},{"$f":"F18*'Simulador Pagos Oportunos'!$X$59","v":0},"",null,null,null,0,4,0,0,0,"",{"$f":"IF('Simulador Pagos Oportunos'!$X$35=3,AI18,IF('Simulador Pagos Oportunos'!$X$35=4,AJ18,IF('Simulador Pagos Oportunos'!$X$35=5,AK18,0)))","v":0.19},0.185,0.186,0.19,0,0,0,0,0,0,0,0,{"$f":"IF('Simulador Pagos Oportunos'!$X$35=3,AI18,IF('Simulador Pagos Oportunos'!$X$35=4,AJ18,IF('Simulador Pagos Oportunos'!$X$35=5,AK18,0)))","v":0.19},{"$f":"IF(AO18<=0,0,IF('Simulador Pagos Oportunos'!$AC$62=1,0,AO18*'Simulador Pagos Oportunos'!$Y$67+IF('Simulador Pagos Oportunos'!$X$35=3,'Simulador Pagos Oportunos'!$I$49,IF('Simulador Pagos Oportunos'!$X$35=4,'Simulador Pagos Oportunos'!$K$49,IF('Simulador Pagos Oportunos'!$X$35=5,'Simulador Pagos Oportunos'!$M$49,0)))))","v":0},null,{"$f":"AQ18*'Simulador Pagos Oportunos'!$X$59","v":0},0,0,"",0,4,null,"Interés mensual = Sdo inicial x tasa / 360 x # días del mes"]
[5,0,null,0,null,0,null,0,null,null,null,{"$f":"IF('Simulador Pagos Oportunos'!$V$60=1,0,J19*'Simulador Pagos Oportunos'!$O$63*'Simulador Pagos Oportunos'!$W$59)","v":0},null,"",null,0,null,{"$f":"IFERROR(IF(B19<=0,0,B19*'Simulador Pagos Oportunos'!$Y$67),0)","v":0},null,{"$f":"IFERROR(IF(B19<=0,0,IF('Simulador Pagos Oportunos'!$X$35=3,'Simulador Pagos Oportunos'!$I$49,IF('Simulador Pagos Oportunos'!$X$35=4,'Simulador Pagos Oportunos'!$K$49,IF('Simulador Pagos Oportunos'!$X$35=5,'Simulador Pagos Oportunos'!$M$49,0)))),0)","v":0},null,{"$f":"IF(B19<=0,\"\",IF('Simulador Pagos Oportunos'!$V$40=1,'Simulador Pagos Oportunos'!$Z$62,'Simulador Pagos Oportunos'!$Z$62*'Simulador Pagos Oportunos'!$W$59))","v":""},{"$f":"F19*'Simulador Pagos Oportunos'!$X$59","v":0},"",null,null,null,0,5,0,0,0,"",{"$f":"IF('Simulador Pagos Oportunos'!$X$35=3,AI19,IF('Simulador Pagos Oportunos'!$X$35=4,AJ19,IF('Simulador Pagos Oportunos'!$X$35=5,AK19,0)))","v":0.19},0.185,0.186,0.19,0,0,0,0,0,0,0,0,{"$f":"IF('Simulador Pagos Oportunos'!$X$35=3,AI19,IF('Simulador Pagos Oportunos'!$X$35=4,AJ19,IF('Simulador Pagos Oportunos'!$X$35=5,AK19,0)))","v":0.19},{"$f":"IF(AO19<=0,0,IF('Simulador Pagos Oportunos'!$AC$62=1,0,AO19*'Simulador Pagos Oportunos'!$Y$67+IF('Simulador Pagos Oportunos'!$X$35=3,'Simulador Pagos Oportunos'!$I$49,IF('Simulador Pagos Oportunos'!$X$35=4,'Simulador Pagos Oportunos'!$K$49,IF('Simulador Pagos Oportunos'!$X$35=5,'Simulador Pagos Oportunos'!$M$49,0)))))","v":0},null,{"$f":"AQ19*'Simulador Pagos Oportunos'!$X$59","v":0},0,0,"",0,5]
[6,0,null,0,null,0,null,0,null,null,null,{"$f":"IF('Simulador Pagos Oportunos'!$V$60=1,0,J20*'Simulador Pagos Oportunos'!$O$63*'Simulador Pagos Oportunos'!$W$59)","v":0},null,"",null,0,null,{"$f":"IFERROR(IF(B20<=0,0,B20*'Simulador Pagos Oportunos'!$Y$67),0)","v":0},null,{"$f":"IFERROR(IF(B20<=0,0,IF('Simulador Pagos Oportunos'!$X$35=3,'Simulador Pagos Oportunos'!$I$49,IF('Simulador Pagos Oportunos'!$X$35=4,'Simulador Pagos Oportunos'!$K$49,IF('Simulador Pagos Oportunos'!$X$35=5,'Simulador Pagos Oportunos'!$M$49,0)))),0)","v":0},null,{"$f":"IF(B20<=0,\"\",IF('Simulador Pagos Oportunos'!$V$40=1,'Simulador Pagos Oportunos'!$Z$62,'Simulador Pagos Oportunos'!$Z$62*'Simulador Pagos Oportunos'!$W$59))","v":""},{"$f":"F20*'Simulador Pagos Oportunos'!$X$59","v":0},"",null,null,null,0,6,0,0,0,"",{"$f":"IF('Simulador Pagos Oportunos'!$X$35=3,AI20,IF('Simulador Pagos Oportunos'!$X$35=4,AJ20,IF('Simulador Pagos Oportunos'!$X$35=5,AK20,0)))","v":0.19},0.185,0.186,0.19,0,0,0,0,0,0,0,0,{"$f":"IF('Simulador Pagos Oportunos'!$X$35=3,AI20,IF('Simulador Pagos Oportunos'!$X$35=4,AJ20,IF('Simulador Pagos Oportunos'!$X$35=5,AK20,0)))","v":0.19},{"$f":"IF(AO20<=0,0,IF('Simulador Pagos Oportunos'!$AC$62=1,0,AO20*'Simulador Pagos Oportunos'!$Y$67+IF('Simulador Pagos Oportunos'!$X$35=3,'Simulador Pagos Oportunos'!$I$49,IF('Simulador Pagos Oportunos'!$X$35=4,'Simulador Pagos Oportunos'!$K$49,IF('Simulador Pagos Oportunos'!$X$35=5,'Simulador Pagos Oportunos'!$M$49,0)))))","v":0},null,{"$f":"AQ20*'Simulador Pagos Oportunos'!$X$59","v":0},0,0,"",0,6]
[7,0,null,{"$f":"IF(B21+F21-D20<=0,B21+F21,IF(AND($AR$2=2,J20>0),B21*AN21,D20*(1+Z21)))","v":0},null,0,null,0,null,null,null,{"$f":"IF('Simulador Pagos Oportunos'!$V$60=1,0,J21*'Simulador Pagos Oportunos'!$O$63*'Simulador Pagos Oportunos'!$W$59)","v":0},null,"",null,0,null,{"$f":"IFERROR(IF(B21<=0,0,B21*'Simulador Pagos Oportunos'!$Y$67),0)","v":0},null,{"$f":"IFERROR(IF(B21<=0,0,IF('Simulador Pagos Oportunos'!$X$35=3,'Simulador Pagos Oportunos'!$I$49,IF('Simulador Pagos Oportunos'!$X$35=4,'Simulador Pagos Oportunos'!$K$49,IF('Simulador Pagos Oportunos'!$X$35=5,'Simulador Pagos Oportunos'!$M$49,0)))),0)","v":0},null,{"$f":"IF(B21<=0,\"\",IF('Simulador Pagos Oportunos'!$V$40=1,'Simulador Pagos Oportunos'!$Z$62,'Simulador Pagos Oportunos'!$Z$62*'Simulador Pagos Oportunos'!$W$59))","v":""},{"$f":"F21*'Simulador Pagos Oportunos'!$X$59","v":0},"",null,null,null,0,7,0,0,0,"",{"$f":"IF('Simulador Pagos Oportunos'!$X$35=3,AI21,IF('Simulador Pagos Oportunos'!$X$35=4,AJ21,IF('Simulador Pagos Oportunos'!$X$35=5,AK21,0)))","v":0.19},0.185,0.186,0.19,0,0,0,0,0,0,0,0,{"$f":"IF('Simulador Pagos Oportunos'!$X$35=3,AI21,IF('Simulador Pagos Oportunos'!$X$35=4,AJ21,IF('Simulador Pagos Oportunos'!$X$35=5,AK21,0)))","v":0.19},{"$f":"IF(AO21<=0,0,IF('Simulador Pagos Oportunos'!$AC$62=1,0,AO21*'Simulador Pagos Oportunos'!$Y$67+IF('Simulador Pagos Oportunos'!$X$35=3,'Simulador Pagos Oportunos'!$I$49,IF('Simulador Pagos Oportunos'!$X$35=4,'Simulador Pagos Oportunos'!$K$49,IF('Simulador Pagos Oportunos'!$X$35=5,'Simulador Pagos Oportunos'!$M$49,0)))))","v":0},null,{"$f":"AQ21*'Simulador Pagos Oportunos'!$X$59","v":0},0,0,"",0,7]
[8,0,null,0,null,0,null,0,null,null,null,{"$f":"IF('Simulador Pagos Oportunos'!$V$60=1,0,J22*'Simulador Pagos Oportunos'!$O$63*'Simulador Pagos Oportunos'!$W$59)","v":0},null,"",null,0,null,{"$f":"IFERROR(IF(B22<=0,0,B22*'Simulador Pagos Oportunos'!$Y$67),0)","v":0},null,{"$f":"IFERROR(IF(B22<=0,0,IF('Simulador Pagos Oportunos'!$X$35=3,'Simulador Pagos Oportunos'!$I$49,IF('Simulador Pagos Oportunos'!$X$35=4,'Simulador Pagos Oportunos'!$K$49,IF('Simulador Pagos Oportunos'!$X$35=5,'Simulador Pagos Oportunos'!$M$49,0)))),0)","v":0},null,{"$f":"IF(B22<=0,\"\",IF('Simulador Pagos Oportunos'!$V$40=1,'Simulador Pagos Oportunos'!$Z$62,'Simulador Pagos Oportunos'!$Z$62*'Simulador Pagos Oportunos'!$W$59))","v":""},{"$f":"F22*'Simulador Pagos Oportunos'!$X$59","v":0},"",null,null,null,0,8,0,0,0,"",{"$f":"IF('Simulador Pagos Oportunos'!$X$35=3,AI22,IF('Simulador Pagos Oportunos'!$X$35=4,AJ22,IF('Simulador Pagos Oportunos'!$X$35=5,AK22,0)))","v":0.19},0.185,0.186,0.19,0,0,0,0,0,0,0,0,{"$f":"IF('Simulador Pagos Oportunos'!$X$35=3,AI22,IF('Simulador Pagos Oportunos'!$X$35=4,AJ22,IF('Simulador Pagos Oportunos'!$X$35=5,AK22,0)))","v":0.19},{"$f":"IF(AO22<=0,0,IF('Simulador Pagos Oportunos'!$AC$62=1,0,AO22*'Simulador Pagos Oportunos'!$Y$67+IF('Simulador Pagos Oportunos'!$X$35=3,'Simulador Pagos Oportunos'!$I$49,IF('Simulador Pagos Oportunos'!$X$35=4,'Simulador Pagos Oportunos'!$K$49,IF('Simulador Pagos Oportunos'!$X$35=5,'Simulador Pagos Oportunos'!$M$49,0)))))","v":0},null,{"$f":"AQ22*'Simulador Pagos Oportunos'!$X$59","v":0},0,0,"",0,8]
[9,0,null,0,null,0,null,0,null,null,null,{"$f":"IF('Simulador Pagos Oportunos'!$V$60=1,0,J23*'Simulador Pagos Oportunos'!$O$63*'Simulador Pagos Oportunos'!$W$59)","v":0},null,"",null,0,null,{"$f":"IFERROR(IF(B23<=0,0,B23*'Simulador Pagos Oportunos'!$Y$67),0)","v":0},null,{"$f":"IFERROR(IF(B23<=0,0,IF('Simulador Pagos Oportunos'!$X$35=3,'Simulador Pagos Oportunos'!$I$49,IF('Simulador Pagos Oportunos'!$X$35=4,'Simulador Pagos Oportunos'!$K$49,IF('Simulador Pagos Oportunos'!$X$35=5,'Simulador Pagos Oportunos'!$M$49,0)))),0)","v":0},null,{"$f":"IF(B23<=0,\"\",IF('Simulador Pagos Oportunos'!$V$40=1,'Simulador Pagos Oportunos'!$Z$62,'Simulador Pagos Oportunos'!$Z$62*'Simulador Pagos Oportunos'!$W$59))","v":""},{"$f":"F23*'Simulador Pagos Oportunos'!$X$59","v":0},"",null,null,null,0,9,0,0,0,"",{"$f":"IF('Simulador Pagos Oportunos'!$X$35=3,AI23,IF('Simulador Pagos Oportunos'!$X$35=4,AJ23,IF('Simulador Pagos Oportunos'!$X$35=5,AK23,0)))","v":0.19},0.185,0.186,0.19,0,0,0,0,0,0,0,0,{"$f":"IF('Simulador Pagos Oportunos'!$X$35=3,AI23,IF('Simulador Pagos Oportunos'!$X$35=4,AJ23,IF('Simulador Pagos Oportunos'!$X$35=5,AK23,0)))","v":0.19},{"$f":"IF(AO23<=0,0,IF('Simulador Pagos Oportunos'!$AC$62=1,0,AO23*'Simulador Pagos Oportunos'!$Y$67+IF('Simulador Pagos Oportunos'!$X$35=3,'Simulador Pagos Oportunos'!$I$49,IF('Simulador Pagos Oportunos'!$X$35=4,'Simulador Pagos Oportunos'!$K$49,IF('Simulador Pagos Oportunos'!$X$35=5,'Simulador Pagos Oportunos'!$M$49,0)))))","v":0},null,{"$f":"AQ23*'Simulador Pagos Oportunos'!$X$59","v":0},0,0,"",0,9]
[10,0,null,0,null,0,null,0,null,null,null,{"$f":"IF('Simulador Pagos Oportunos'!$V$60=1,0,J24*'Simulador Pagos Oportunos'!$O$63*'Simulador Pagos Oportunos'!$W$59)","v":0},null,"",null,0,null,{"$f":"IFERROR(IF(B24<=0,0,B24*'Simulador Pagos Oportunos'!$Y$67),0)","v":0},null,{"$f":"IFERROR(IF(B24<=0,0,IF('Simulador Pagos Oportunos'!$X$35=3,'Simulador Pagos Oportunos'!$I$49,IF('Simulador Pagos Oportunos'!$X$35=4,'Simulador Pagos Oportunos'!$K$49,IF('Simulador Pagos Oportunos'!$X$35=5,'Simulador Pagos Oportunos'!$M$49,0)))),0)","v":0},null,{"$f":"IF(B24<=0,\"\",IF('Simulador Pagos Oportunos'!$V$40=1,'Simulador Pagos Oportunos'!$Z$62,'Simulador Pagos Oportunos'!$Z$62*'Simulador Pagos Oportunos'!$W$59))","v":""},{"$f":"F24*'Simulador Pagos Oportunos'!$X$59","v":0},"",null,null,null,0,10,0,0,0,"",{"$f":"IF('Simulador Pagos Oportunos'!$X$35=3,AI24,IF('Simulador Pagos Oportunos'!$X$35=4,AJ24,IF('Simulador Pagos Oportunos'!$X$35=5,AK24,0)))","v":0.19},0.185,0.186,0.19,0,0,0,0,0,0,0,0,{"$f":"IF('Simulador Pagos Oportunos'!$X$35=3,AI24,IF('Simulador Pagos Oportunos'!$X$35=4,AJ24,IF('Simulador Pagos Oportunos'!$X$35=5,AK24,0)))","v":0.19},{"$f":"IF(AO24<=0,0,IF('Simulador Pagos Oportunos'!$AC$62=1,0,AO24*'Simulador Pagos Oportunos'!$Y$67+IF('Simulador Pagos Oportunos'!$X$35=3,'Simulador Pagos Oportunos'!$I$49,IF('Simulador Pagos Oportunos'!$X$35=4,'Simulador Pagos Oportunos'!$K$49,IF('Simulador Pagos Oportunos'!$X$35=5,'Simulador Pagos Oportunos'!$M$49,0)))))","v":0},null,{"$f":"AQ24*'Simulador Pagos Oportunos'!$X$59","v":0},0,0,"",0,10]
[11,0,null,0,null,0,null,0,null,null,null,{"$f":"IF('Simulador Pagos Oportunos'!$V$60=1,0,J25*'Simulador Pagos Oportunos'!$O$63*'Simulador Pagos Oportunos'!$W$59)","v":0},null,"",null,0,null,{"$f":"IFERROR(IF(B25<=0,0,B25*'Simulador Pagos Oportunos'!$Y$67),0)","v":0},null,{"$f":"IFERROR(IF(B25<=0,0,IF('Simulador Pagos Oportunos'!$X$35=3,'Simulador Pagos Oportunos'!$I$49,IF('Simulador Pagos Oportunos'!$X$35=4,'Simulador Pagos Oportunos'!$K$49,IF('Simulador Pagos Oportunos'!$X$35=5,'Simulador Pagos Oportunos'!$M$49,0)))),0)","v":0},null,{"$f":"IF(B25<=0,\"\",IF('Simulador Pagos Oportunos'!$V$40=1,'Simulador Pagos Oportunos'!$Z$62,'Simulador Pagos Oportunos'!$Z$62*'Simulador Pagos Oportunos'!$W$59))","v":""},{"$f":"F25*'Simulador Pagos Oportunos'!$X$59","v":0},"",null,null,null,0,11,0,0,0,"",{"$f":"IF('Simulador Pagos Oportunos'!$X$35=3,AI25,IF('Simulador Pagos Oportunos'!$X$35=4,AJ25,IF('Simulador Pagos Oportunos'!$X$35=5,AK25,0)))","v":0.19},0.185,0.186,0.19,0,0,0,0,0,0,0,0,{"$f":"IF('Simulador Pagos Oportunos'!$X$35=3,AI25,IF('Simulador Pagos Oportunos'!$X$35=4,AJ25,IF('Simulador Pagos Oportunos'!$X$35=5,AK25,0)))","v":0.19},{"$f":"IF(AO25<=0,0,IF('Simulador Pagos Oportunos'!$AC$62=1,0,AO25*'Simulador Pagos Oportunos'!$Y$67+IF('Simulador Pagos Oportunos'!$X$35=3,'Simulador Pagos Oportunos'!$I$49,IF('Simulador Pagos Oportunos'!$X$35=4,'Simulador Pagos Oportunos'!$K$49,IF('Simulador Pagos Oportunos'!$X$35=5,'Simulador Pagos Oportunos'!$M$49,0)))))","v":0},null,{"$f":"AQ25*'Simulador Pagos Oportunos'!$X$59","v":0},0,0,"",0,11]
[12,0,null,0,null,0,null,0,null,null,null,{"$f":"IF('Simulador Pagos Oportunos'!$V$60=1,0,J26*'Simulador Pagos Oportunos'!$O$63*'Simulador Pagos Oportunos'!$W$59)","v":0},null,"",null,{"$f":"B26-H26-J26+L26","v":0},null,{"$f":"IFERROR(IF(B26<=0,0,B26*'Simulador Pagos Oportunos'!$Y$67),0)","v":0},null,{"$f":"IFERROR(IF(B26<=0,0,IF('Simulador Pagos Oportunos'!$X$35=3,'Simulador Pagos Oportunos'!$I$49,IF('Simulador Pagos Oportunos'!$X$35=4,'Simulador Pagos Oportunos'!$K$49,IF('Simulador Pagos Oportunos'!$X$35=5,'Simulador Pagos Oportunos'!$M$49,0)))),0)","v":0},null,{"$f":"IF(B26<=0,\"\",IF('Simulador Pagos Oportunos'!$V$40=1,'Simulador Pagos Oportunos'!$Z$62,'Simulador Pagos Oportunos'!$Z$62*'Simulador Pagos Oportunos'!$W$59))","v":""},{"$f":"F26*'Simulador Pagos Oportunos'!$X$59","v":0},"",null,null,null,1,0,0,0,0,"",{"$f":"IF('Simulador Pagos Oportunos'!$X$35=3,AI26,IF('Simulador Pagos Oportunos'!$X$35=4,AJ26,IF('Simulador Pagos Oportunos'!$X$35=5,AK26,0)))","v":0.19},0.185,0.186,0.19,0,0,0,0,0,0,0,0,{"$f":"IF('Simulador Pagos Oportunos'!$X$35=3,AI26,IF('Simulador Pagos Oportunos'!$X$35=4,AJ26,IF('Simulador Pagos Oportunos'!$X$35=5,AK26,0)))","v":0.19},{"$f":"IF(AO26<=0,0,IF('Simulador Pagos Oportunos'!$AC$62=1,0,AO26*'Simulador Pagos Oportunos'!$Y$67+IF('Simulador Pagos Oportunos'!$X$35=3,'Simulador Pagos Oportunos'!$I$49,IF('Simulador Pagos Oportunos'!$X$35=4,'Simulador Pagos Oportunos'!$K$49,IF('Simulador Pagos Oportunos'!$X$35=5,'Simulador Pagos Oportunos'!$M$49,0)))))","v":0},null,{"$f":"AQ26*'Simulador Pagos Oportunos'!$X$59","v":0},0,0,"",0,12]
[13,{"$f":"IF(P26<=0,0,P26)","v":0},null,0,null,0,null,{"$f":"D27-F27","v":0},null,null,null,{"$f":"IF('Simulador Pagos Oportunos'!$V$60=1,0,J27*'Simulador Pagos Oportunos'!$O$63*'Simulador Pagos Oportunos'!$W$59)","v":0},null,"",null,0,null,{"$f":"IFERROR(IF(B27<=0,0,B27*'Simulador Pagos Oportunos'!$Y$67),0)","v":0},null,{"$f":"IFERROR(IF(B27<=0,0,IF('Simulador Pagos Oportunos'!$X$35=3,'Simulador Pagos Oportunos'!$I$49,IF('Simulador Pagos Oportunos'!$X$35=4,'Simulador Pagos Oportunos'!$K$49,IF('Simulador Pagos Oportunos'!$X$35=5,'Simulador Pagos Oportunos'!$M$49,0)))),0)","v":0},null,{"$f":"IF(B27<=0,\"\",IF('Simulador Pagos Oportunos'!$V$40=1,'Simulador Pagos Oportunos'!$Z$62,'Simulador Pagos Oportunos'!$Z$62*'Simulador Pagos Oportunos'!$W$59))","v":""},{"$f":"F27*'Simulador Pagos Oportunos'!$X$59","v":0},"",null,{"$f":"IF(B27<=0,0,'Simulador Pagos Oportunos'!$AM$48)","v":0},null,1,1,0,0,0,"",{"$f":"IF('Simulador Pagos Oportunos'!$X$35=3,AI27,IF('Simulador Pagos Oportunos'!$X$35=4,AJ27,IF('Simulador Pagos Oportunos'!$X$35=5,AK27,0)))","v":0.188},{"$f":"AI26-0.2%","v":0.183},{"$f":"AJ26-0.2%","v":0.184},{"$f":"AK26-0.2%","v":0.188},0,0,0,0,0,0,0,0,{"$f":"IF('Simulador Pagos Oportunos'!$X$35=3,AI27,IF('Simulador Pagos Oportunos'!$X$35=4,AJ27,IF('Simulador Pagos Oportunos'!$X$35=5,AK27,0)))","v":0.188},{"$f":"IF(AO27<=0,0,IF('Simulador Pagos Oportunos'!$AC$62=1,0,AO27*'Simulador Pagos Oportunos'!$Y$67+IF('Simulador Pagos Oportunos'!$X$35=3,'Simulador Pagos Oportunos'!$I$49,IF('Simulador Pagos Oportunos'!$X$35=4,'Simulador Pagos Oportunos'!$K$49,IF('Simulador Pagos Oportunos'!$X$35=5,'Simulador Pagos Oportunos'!$M$49,0)))))","v":0},{"$f":"IF(AO27<=0,0,'Simulador Pagos Oportunos'!AM48)","v":0},{"$f":"AQ27*'Simulador Pagos Oportunos'!$X$59","v":0},0,0,"",0,13]
[14,0,null,0,null,0,null,0,null,null,null,{"$f":"IF('Simulador Pagos Oportunos'!$V$60=1,0,J28*'Simulador Pagos Oportunos'!$O$63*'Simulador Pagos Oportunos'!$W$59)","v":0},null,"",null,0,null,{"$f":"IFERROR(IF(B28<=0,0,B28*'Simulador Pagos Oportunos'!$Y$67),0)","v":0},null,{"$f":"IFERROR(IF(B28<=0,0,IF('Simulador Pagos Oportunos'!$X$35=3,'Simulador Pagos Oportunos'!$I$49,IF('Simulador Pagos Oportunos'!$X$35=4,'Simulador Pagos Oportunos'!$K$49,IF('Simulador Pagos Oportunos'!$X$35=5,'Simulador Pagos Oportunos'!$M$49,0)))),0)","v":0},null,{"$f":"IF(B28<=0,\"\",IF('Simulador Pagos Oportunos'!$V$40=1,'Simulador Pagos Oportunos'!$Z$62,'Simulador Pagos Oportunos'!$Z$62*'Simulador Pagos Oportunos'!$W$59))","v":""},{"$f":"F28*'Simulador Pagos Oportunos'!$X$59","v":0},"",null,null,null,1,2,0,0,0,"",{"$f":"IF('Simulador Pagos Oportunos'!$X$35=3,AI28,IF('Simulador Pagos Oportunos'!$X$35=4,AJ28,IF('Simulador Pagos Oportunos'!$X$35=5,AK28,0)))","v":0.188},{"$f":"AI27","v":0.183},{"$f":"AJ27","v":0.184},0.188,0,0,0,0,0,0,0,0,{"$f":"IF('Simulador Pagos Oportunos'!$X$35=3,AI28,IF('Simulador Pagos Oportunos'!$X$35=4,AJ28,IF('Simulador Pagos Oportunos'!$X$35=5,AK28,0)))","v":0.188},{"$f":"IF(AO28<=0,0,IF('Simulador Pagos Oportunos'!$AC$62=1,0,AO28*'Simulador Pagos Oportunos'!$Y$67+IF('Simulador Pagos Oportunos'!$X$35=3,'Simulador Pagos Oportunos'!$I$49,IF('Simulador Pagos Oportunos'!$X$35=4,'Simulador Pagos Oportunos'!$K$49,IF('Simulador Pagos Oportunos'!$X$35=5,'Simulador Pagos Oportunos'!$M$49,0)))))","v":0},null,{"$f":"AQ28*'Simulador Pagos Oportunos'!$X$59","v":0},0,0,"",0,14]
[15,0,null,0,null,0,null,0,null,null,null,{"$f":"IF('Simulador Pagos Oportunos'!$V$60=1,0,J29*'Simulador Pagos Oportunos'!$O$63*'Simulador Pagos Oportunos'!$W$59)","v":0},null,"",null,0,null,{"$f":"IFERROR(IF(B29<=0,0,B29*'Simulador Pagos Oportunos'!$Y$67),0)","v":0},null,{"$f":"IFERROR(IF(B29<=0,0,IF('Simulador Pagos Oportunos'!$X$35=3,'Simulador Pagos Oportunos'!$I$49,IF('Simulador Pagos Oportunos'!$X$35=4,'Simulador Pagos Oportunos'!$K$49,IF('Simulador Pagos Oportunos'!$X$35=5,'Simulador Pagos Oportunos'!$M$49,0)))),0)","v":0},null,{"$f":"IF(B29<=0,\"\",IF('Simulador Pagos Oportunos'!$V$40=1,'Simulador Pagos Oportunos'!$Z$62,'Simulador Pagos Oportunos'!$Z$62*'Simulador Pagos Oportunos'!$W$59))","v":""},{"$f":"F29*'Simulador Pagos Oportunos'!$X$59","v":0},"",null,null,null,1,3,0,0,0,"",{"$f":"IF('Simulador Pagos Oportunos'!$X$35=3,AI29,IF('Simulador Pagos Oportunos'!$X$35=4,AJ29,IF('Simulador Pagos Oportunos'!$X$35=5,AK29,0)))","v":0.188},{"$f":"AI28","v":0.183},0.184,0.188,0,0,0,0,0,0,0,0,{"$f":"IF('Simulador Pagos Oportunos'!$X$35=3,AI29,IF('Simulador Pagos Oportunos'!$X$35=4,AJ29,IF('Simulador Pagos Oportunos'!$X$35=5,AK29,0)))","v":0.188},{"$f":"IF(AO29<=0,0,IF('Simulador Pagos Oportunos'!$AC$62=1,0,AO29*'Simulador Pagos Oportunos'!$Y$67+IF('Simulador Pagos Oportunos'!$X$35=3,'Simulador Pagos Oportunos'!$I$49,IF('Simulador Pagos Oportunos'!$X$35=4,'Simulador Pagos Oportunos'!$K$49,IF('Simulador Pagos Oportunos'!$X$35=5,'Simulador Pagos Oportunos'!$M$49,0)))))","v":0},null,{"$f":"AQ29*'Simulador Pagos Oportunos'!$X$59","v":0},0,0,"",0,15]
[16,0,null,0,null,0,null,0,null,null,null,{"$f":"IF('Simulador Pagos Oportunos'!$V$60=1,0,J30*'Simulador Pagos Oportunos'!$O$63*'Simulador Pagos Oportunos'!$W$59)","v":0},null,"",null,0,null,{"$f":"IFERROR(IF(B30<=0,0,B30*'Simulador Pagos Oportunos'!$Y$67),0)","v":0},null,{"$f":"IFERROR(IF(B30<=0,0,IF('Simulador Pagos Oportunos'!$X$35=3,'Simulador Pagos Oportunos'!$I$49,IF('Simulador Pagos Oportunos'!$X$35=4,'Simulador Pagos Oportunos'!$K$49,IF('Simulador Pagos Oportunos'!$X$35=5,'Simulador Pagos Oportunos'!$M$49,0)))),0)","v":0},null,{"$f":"IF(B30<=0,\"\",IF('Simulador Pagos Oportunos'!$V$40=1,'Simulador Pagos Oportunos'!$Z$62,'Simulador Pagos Oportunos'!$Z$62*'Simulador Pagos Oportunos'!$W$59))","v":""},{"$f":"F30*'Simulador Pagos Oportunos'!$X$59","v":0},"",null,null,null,1,4,0,0,0,"",{"$f":"IF('Simulador Pagos Oportunos'!$X$35=3,AI30,IF('Simulador Pagos Oportunos'!$X$35=4,AJ30,IF('Simulador Pagos Oportunos'!$X$35=5,AK30,0)))","v":0.188},0.183,0.184,0.188,0,0,0,0,0,0,0,0,{"$f":"IF('Simulador Pagos Oportunos'!$X$35=3,AI30,IF('Simulador Pagos Oportunos'!$X$35=4,AJ30,IF('Simulador Pagos Oportunos'!$X$35=5,AK30,0)))","v":0.188},{"$f":"IF(AO30<=0,0,IF('Simulador Pagos Oportunos'!$AC$62=1,0,AO30*'Simulador Pagos Oportunos'!$Y$67+IF('Simulador Pagos Oportunos'!$X$35=3,'Simulador Pagos Oportunos'!$I$49,IF('Simulador Pagos Oportunos'!$X$35=4,'Simulador Pagos Oportunos'!$K$49,IF('Simulador Pagos Oportunos'!$X$35=5,'Simulador Pagos Oportunos'!$M$49,0)))))","v":0},null,{"$f":"AQ30*'Simulador Pagos Oportunos'!$X$59","v":0},0,0,"",0,16]
[17,0,null,0,null,0,null,0,null,null,null,{"$f":"IF('Simulador Pagos Oportunos'!$V$60=1,0,J31*'Simulador Pagos Oportunos'!$O$63*'Simulador Pagos Oportunos'!$W$59)","v":0},null,"",null,0,null,{"$f":"IFERROR(IF(B31<=0,0,B31*'Simulador Pagos Oportunos'!$Y$67),0)","v":0},null,{"$f":"IFERROR(IF(B31<=0,0,IF('Simulador Pagos Oportunos'!$X$35=3,'Simulador Pagos Oportunos'!$I$49,IF('Simulador Pagos Oportunos'!$X$35=4,'Simulador Pagos Oportunos'!$K$49,IF('Simulador Pagos Oportunos'!$X$35=5,'Simulador Pagos Oportunos'!$M$49,0)))),0)","v":0},null,{"$f":"IF(B31<=0,\"\",IF('Simulador Pagos Oportunos'!$V$40=1,'Simulador Pagos Oportunos'!$Z$62,'Simulador Pagos Oportunos'!$Z$62*'Simulador Pagos Oportunos'!$W$59))","v":""},{"$f":"F31*'Simulador Pagos Oportunos'!$X$59","v":0},"",null,null,null,1,5,0,0,0,"",{"$f":"IF('Simulador Pagos Oportunos'!$X$35=3,AI31,IF('Simulador Pagos Oportunos'!$X$35=4,AJ31,IF('Simulador Pagos Oportunos'!$X$35=5,AK31,0)))","v":0.188},0.183,0.184,0.188,0,0,0,0,0,0,0,0,{"$f":"IF('Simulador Pagos Oportunos'!$X$35=3,AI31,IF('Simulador Pagos Oportunos'!$X$35=4,AJ31,IF('Simulador Pagos Oportunos'!$X$35=5,AK31,0)))","v":0.188},{"$f":"IF(AO31<=0,0,IF('Simulador Pagos Oportunos'!$AC$62=1,0,AO31*'Simulador Pagos Oportunos'!$Y$67+IF('Simulador Pagos Oportunos'!$X$35=3,'Simulador Pagos Oportunos'!$I$49,IF('Simulador Pagos Oportunos'!$X$35=4,'Simulador Pagos Oportunos'!$K$49,IF('Simulador Pagos Oportunos'!$X$35=5,'Simulador Pagos Oportunos'!$M$49,0)))))","v":0},null,{"$f":"AQ31*'Simulador Pagos Oportunos'!$X$59","v":0},0,0,"",0,17]
[18,0,null,0,null,0,null,0,null,null,null,{"$f":"IF('Simulador Pagos Oportunos'!$V$60=1,0,J32*'Simulador Pagos Oportunos'!$O$63*'Simulador Pagos Oportunos'!$W$59)","v":0},null,"",null,0,null,{"$f":"IFERROR(IF(B32<=0,0,B32*'Simulador Pagos Oportunos'!$Y$67),0)","v":0},null,{"$f":"IFERROR(IF(B32<=0,0,IF('Simulador Pagos Oportunos'!$X$35=3,'Simulador Pagos Oportunos'!$I$49,IF('Simulador Pagos Oportunos'!$X$35=4,'Simulador Pagos Oportunos'!$K$49,IF('Simulador Pagos Oportunos'!$X$35=5,'Simulador Pagos Oportunos'!$M$49,0)))),0)","v":0},null,{"$f":"IF(B32<=0,\"\",IF('Simulador Pagos Oportunos'!$V$40=1,'Simulador Pagos Oportunos'!$Z$62,'Simulador Pagos Oportunos'!$Z$62*'Simulador Pagos Oportunos'!$W$59))","v":""},{"$f":"F32*'Simulador Pagos Oportunos'!$X$59","v":0},"",null,null,null,1,6,0,0,0,"",{"$f":"IF('Simulador Pagos Oportunos'!$X$35=3,AI32,IF('Simulador Pagos Oportunos'!$X$35=4,AJ32,IF('Simulador Pagos Oportunos'!$X$35=5,AK32,0)))","v":0.188},0.183,0.184,0.188,0,0,0,0,0,0,0,0,{"$f":"IF('Simulador Pagos Oportunos'!$X$35=3,AI32,IF('Simulador Pagos Oportunos'!$X$35=4,AJ32,IF('Simulador Pagos Oportunos'!$X$35=5,AK32,0)))","v":0.188},{"$f":"IF(AO32<=0,0,IF('Simulador Pagos Oportunos'!$AC$62=1,0,AO32*'Simulador Pagos Oportunos'!$Y$67+IF('Simulador Pagos Oportunos'!$X$35=3,'Simulador Pagos Oportunos'!$I$49,IF('Simulador Pagos Oportunos'!$X$35=4,'Simulador Pagos Oportunos'!$K$49,IF('Simulador Pagos Oportunos'!$X$35=5,'Simulador Pagos Oportunos'!$M$49,0)))))","v":0},null,{"$f":"AQ32*'Simulador Pagos Oportunos'!$X$59","v":0},0,0,"",0,18]
[19,0,null,0,null,0,null,0,null,null,null,{"$f":"IF('Simulador Pagos Oportunos'!$V$60=1,0,J33*'Simulador Pagos Oportunos'!$O$63*'Simulador Pagos Oportunos'!$W$59)","v":0},null,"",null,0,null,{"$f":"IFERROR(IF(B33<=0,0,B33*'Simulador Pagos Oportunos'!$Y$67),0)","v":0},null,{"$f":"IFERROR(IF(B33<=0,0,IF('Simulador Pagos Oportunos'!$X$35=3,'Simulador Pagos Oportunos'!$I$49,IF('Simulador Pagos Oportunos'!$X$35=4,'Simulador Pagos Oportunos'!$K$49,IF('Simulador Pagos Oportunos'!$X$35=5,'Simulador Pagos Oportunos'!$M$49,0)))),0)","v":0},null,{"$f":"IF(B33<=0,\"\",IF('Simulador Pagos Oportunos'!$V$40=1,'Simulador Pagos Oportunos'!$Z$62,'Simulador Pagos Oportunos'!$Z$62*'Simulador Pagos Oportunos'!$W$59))","v":""},{"$f":"F33*'Simulador Pagos Oportunos'!$X$59","v":0},"",null,null,null,1,7,0,0,0,"",{"$f":"IF('Simulador Pagos Oportunos'!$X$35=3,AI33,IF('Simulador Pagos Oportunos'!$X$35=4,AJ33,IF('Simulador Pagos Oportunos'!$X$35=5,AK33,0)))","v":0.188},0.183,0.184,0.188,0,0,0,0,0,0,0,0,{"$f":"IF('Simulador Pagos Oportunos'!$X$35=3,AI33,IF('Simulador Pagos Oportunos'!$X$35=4,AJ33,IF('Simulador Pagos Oportunos'!$X$35=5,AK33,0)))","v":0.188},{"$f":"IF(AO33<=0,0,IF('Simulador Pagos Oportunos'!$AC$62=1,0,AO33*'Simulador Pagos Oportunos'!$Y$67+IF('Simulador Pagos Oportunos'!$X$35=3,'Simulador Pagos Oportunos'!$I$49,IF('Simulador Pagos Oportunos'!$X$35=4,'Simulador Pagos Oportunos'!$K$49,IF('Simulador Pagos Oportunos'!$X$35=5,'Simulador Pagos Oportunos'!$M$49,0)))))","v":0},null,{"$f":"AQ33*'Simulador Pagos Oportunos'!$X$59","v":0},0,0,"",0,19]
[20,0,null,0,null,0,null,0,null,null,null,{"$f":"IF('Simulador Pagos Oportunos'!$V$60=1,0,J34*'Simulador Pagos Oportunos'!$O$63*'Simulador Pagos Oportunos'!$W$59)","v":0},null,"",null,0,null,{"$f":"IFERROR(IF(B34<=0,0,B34*'Simulador Pagos Oportunos'!$Y$67),0)","v":0},null,{"$f":"IFERROR(IF(B34<=0,0,IF('Simulador Pagos Oportunos'!$X$35=3,'Simulador Pagos Oportunos'!$I$49,IF('Simulador Pagos Oportunos'!$X$35=4,'Simulador Pagos Oportunos'!$K$49,IF('Simulador Pagos Oportunos'!$X$35=5,'Simulador Pagos Oportunos'!$M$49,0)))),0)","v":0},null,{"$f":"IF(B34<=0,\"\",IF('Simulador Pagos Oportunos'!$V$40=1,'Simulador Pagos Oportunos'!$Z$62,'Simulador Pagos Oportunos'!$Z$62*'Simulador Pagos Oportunos'!$W$59))","v":""},{"$f":"F34*'Simulador Pagos Oportunos'!$X$59","v":0},"",null,null,null,1,8,0,0,0,"",{"$f":"IF('Simulador Pagos Oportunos'!$X$35=3,AI34,IF('Simulador Pagos Oportunos'!$X$35=4,AJ34,IF('Simulador Pagos Oportunos'!$X$35=5,AK34,0)))","v":0.188},0.183,0.184,0.188,0,0,0,0,0,0,0,0,{"$f":"IF('Simulador Pagos Oportunos'!$X$35=3,AI34,IF('Simulador Pagos Oportunos'!$X$35=4,AJ34,IF('Simulador Pagos Oportunos'!$X$35=5,AK34,0)))","v":0.188},{"$f":"IF(AO34<=0,0,IF('Simulador Pagos Oportunos'!$AC$62=1,0,AO34*'Simulador Pagos Oportunos'!$Y$67+IF('Simulador Pagos Oportunos'!$X$35=3,'Simulador Pagos Oportunos'!$I$49,IF('Simulador Pagos Oportunos'!$X$35=4,'Simulador Pagos Oportunos'!$K$49,IF('Simulador Pagos Oportunos'!$X$35=5,'Simulador Pagos Oportunos'!$M$49,0)))))","v":0},null,{"$f":"AQ34*'Simulador Pagos Oportunos'!$X$59","v":0},0,0,"",0,20]
[21,0,null,0,null,0,null,0,null,null,null,{"$f":"IF('Simulador Pagos Oportunos'!$V$60=1,0,J35*'Simulador Pagos Oportunos'!$O$63*'Simulador Pagos Oportunos'!$W$59)","v":0},null,"",null,0,null,{"$f":"IFERROR(IF(B35<=0,0,B35*'Simulador Pagos Oportunos'!$Y$67),0)","v":0},null,{"$f":"IFERROR(IF(B35<=0,0,IF('Simulador Pagos Oportunos'!$X$35=3,'Simulador Pagos Oportunos'!$I$49,IF('Simulador Pagos Oportunos'!$X$35=4,'Simulador Pagos Oportunos'!$K$49,IF('Simulador Pagos Oportunos'!$X$35=5,'Simulador Pagos Oportunos'!$M$49,0)))),0)","v":0},null,{"$f":"IF(B35<=0,\"\",IF('Simulador Pagos Oportunos'!$V$40=1,'Simulador Pagos Oportunos'!$Z$62,'Simulador Pagos Oportunos'!$Z$62*'Simulador Pagos Oportunos'!$W$59))","v":""},{"$f":"F35*'Simulador Pagos Oportunos'!$X$59","v":0},"",null,null,null,1,9,0,0,0,"",{"$f":"IF('Simulador Pagos Oportunos'!$X$35=3,AI35,IF('Simulador Pagos Oportunos'!$X$35=4,AJ35,IF('Simulador Pagos Oportunos'!$X$35=5,AK35,0)))","v":0.188},0.183,0.184,0.188,0,0,0,0,0,0,0,0,{"$f":"IF('Simulador Pagos Oportunos'!$X$35=3,AI35,IF('Simulador Pagos Oportunos'!$X$35=4,AJ35,IF('Simulador Pagos Oportunos'!$X$35=5,AK35,0)))","v":0.188},{"$f":"IF(AO35<=0,0,IF('Simulador Pagos Oportunos'!$AC$62=1,0,AO35*'Simulador Pagos Oportunos'!$Y$67+IF('Simulador Pagos Oportunos'!$X$35=3,'Simulador Pagos Oportunos'!$I$49,IF('Simulador Pagos Oportunos'!$X$35=4,'Simulador Pagos Oportunos'!$K$49,IF('Simulador Pagos Oportunos'!$X$35=5,'Simulador Pagos Oportunos'!$M$49,0)))))","v":0},null,{"$f":"AQ35*'Simulador Pagos Oportunos'!$X$59","v":0},0,0,"",0,21]
[22,0,null,0,null,0,null,0,null,null,null,{"$f":"IF('Simulador Pagos Oportunos'!$V$60=1,0,J36*'Simulador Pagos Oportunos'!$O$63*'Simulador Pagos Oportunos'!$W$59)","v":0},null,"",null,0,null,{"$f":"IFERROR(IF(B36<=0,0,B36*'Simulador Pagos Oportunos'!$Y$67),0)","v":0},null,{"$f":"IFERROR(IF(B36<=0,0,IF('Simulador Pagos Oportunos'!$X$35=3,'Simulador Pagos Oportunos'!$I$49,IF('Simulador Pagos Oportunos'!$X$35=4,'Simulador Pagos Oportunos'!$K$49,IF('Simulador Pagos Oportunos'!$X$35=5,'Simulador Pagos Oportunos'!$M$49,0)))),0)","v":0},null,{"$f":"IF(B36<=0,\"\",IF('Simulador Pagos Oportunos'!$V$40=1,'Simulador Pagos Oportunos'!$Z$62,'Simulador Pagos Oportunos'!$Z$62*'Simulador Pagos Oportunos'!$W$59))","v":""},{"$f":"F36*'Simulador Pagos Oportunos'!$X$59","v":0},"",null,null,null,1,10,0,0,0,"",{"$f":"IF('Simulador Pagos Oportunos'!$X$35=3,AI36,IF('Simulador Pagos Oportunos'!$X$35=4,AJ36,IF('Simulador Pagos Oportunos'!$X$35=5,AK36,0)))","v":0.188},0.183,0.184,0.188,0,0,0,0,0,0,0,0,{"$f":"IF('Simulador Pagos Oportunos'!$X$35=3,AI36,IF('Simulador Pagos Oportunos'!$X$35=4,AJ36,IF('Simulador Pagos Oportunos'!$X$35=5,AK36,0)))","v":0.188},{"$f":"IF(AO36<=0,0,IF('Simulador Pagos Oportunos'!$AC$62=1,0,AO36*'Simulador Pagos Oportunos'!$Y$67+IF('Simulador Pagos Oportunos'!$X$35=3,'Simulador Pagos Oportunos'!$I$49,IF('Simulador Pagos Oportunos'!$X$35=4,'Simulador Pagos Oportunos'!$K$49,IF('Simulador Pagos Oportunos'!$X$35=5,'Simulador Pagos Oportunos'!$M$49,0)))))","v":0},null,{"$f":"AQ36*'Simulador Pagos Oportunos'!$X$59","v":0},0,0,"",0,22]
[23,0,null,0,null,0,null,0,null,null,null,{"$f":"IF('Simulador Pagos Oportunos'!$V$60=1,0,J37*'Simulador Pagos Oportunos'!$O$63*'Simulador Pagos Oportunos'!$W$59)","v":0},null,"",null,0,null,{"$f":"IFERROR(IF(B37<=0,0,B37*'Simulador Pagos Oportunos'!$Y$67),0)","v":0},null,{"$f":"IFERROR(IF(B37<=0,0,IF('Simulador Pagos Oportunos'!$X$35=3,'Simulador Pagos Oportunos'!$I$49,IF('Simulador Pagos Oportunos'!$X$35=4,'Simulador Pagos Oportunos'!$K$49,IF('Simulador Pagos Oportunos'!$X$35=5,'Simulador Pagos Oportunos'!$M$49,0)))),0)","v":0},null,{"$f":"IF(B37<=0,\"\",IF('Simulador Pagos Oportunos'!$V$40=1,'Simulador Pagos Oportunos'!$Z$62,'Simulador Pagos Oportunos'!$Z$62*'Simulador Pagos Oportunos'!$W$59))","v":""},{"$f":"F37*'Simulador Pagos Oportunos'!$X$59","v":0},"",null,null,null,1,11,0,0,0,"",{"$f":"IF('Simulador Pagos Oportunos'!$X$35=3,AI37,IF('Simulador Pagos Oportunos'!$X$35=4,AJ37,IF('Simulador Pagos Oportunos'!$X$35=5,AK37,0)))","v":0.188},0.183,0.184,0.188,0,0,0,0,0,0,0,0,{"$f":"IF('Simulador Pagos Oportunos'!$X$35=3,AI37,IF('Simulador Pagos Oportunos'!$X$35=4,AJ37,IF('Simulador Pagos Oportunos'!$X$35=5,AK37,0)))","v":0.188},{"$f":"IF(AO37<=0,0,IF('Simulador Pagos Oportunos'!$AC$62=1,0,AO37*'Simulador Pagos Oportunos'!$Y$67+IF('Simulador Pagos Oportunos'!$X$35=3,'Simulador Pagos Oportunos'!$I$49,IF('Simulador Pagos Oportunos'!$X$35=4,'Simulador Pagos Oportunos'!$K$49,IF('Simulador Pagos Oportunos'!$X$35=5,'Simulador Pagos Oportunos'!$M$49,0)))))","v":0},null,{"$f":"AQ37*'Simulador Pagos Oportunos'!$X$59","v":0},0,0,"",0,23]
[24,0,null,0,null,0,null,0,null,null,null,{"$f":"IF('Simulador Pagos Oportunos'!$V$60=1,0,J38*'Simulador Pagos Oportunos'!$O$63*'Simulador Pagos Oportunos'!$W$59)","v":0},null,"",null,0,null,{"$f":"IFERROR(IF(B38<=0,0,B38*'Simulador Pagos Oportunos'!$Y$67),0)","v":0},null,{"$f":"IFERROR(IF(B38<=0,0,IF('Simulador Pagos Oportunos'!$X$35=3,'Simulador Pagos Oportunos'!$I$49,IF('Simulador Pagos Oportunos'!$X$35=4,'Simulador Pagos Oportunos'!$K$49,IF('Simulador Pagos Oportunos'!$X$35=5,'Simulador Pagos Oportunos'!$M$49,0)))),0)","v":0},null,{"$f":"IF(B38<=0,\"\",IF('Simulador Pagos Oportunos'!$V$40=1,'Simulador Pagos Oportunos'!$Z$62,'Simulador Pagos Oportunos'!$Z$62*'Simulador Pagos Oportunos'!$W$59))","v":""},{"$f":"F38*'Simulador Pagos Oportunos'!$X$59","v":0},"",null,null,null,2,0,0,0,0,"",{"$f":"IF('Simulador Pagos Oportunos'!$X$35=3,AI38,IF('Simulador Pagos Oportunos'!$X$35=4,AJ38,IF('Simulador Pagos Oportunos'!$X$35=5,AK38,0)))","v":0.188},0.183,0.184,0.188,0,0,0,0,0,0,0,0,{"$f":"IF('Simulador Pagos Oportunos'!$X$35=3,AI38,IF('Simulador Pagos Oportunos'!$X$35=4,AJ38,IF('Simulador Pagos Oportunos'!$X$35=5,AK38,0)))","v":0.188},{"$f":"IF(AO38<=0,0,IF('Simulador Pagos Oportunos'!$AC$62=1,0,AO38*'Simulador Pagos Oportunos'!$Y$67+IF('Simulador Pagos Oportunos'!$X$35=3,'Simulador Pagos Oportunos'!$I$49,IF('Simulador Pagos Oportunos'!$X$35=4,'Simulador Pagos Oportunos'!$K$49,IF('Simulador Pagos Oportunos'!$X$35=5,'Simulador Pagos Oportunos'!$M$49,0)))))","v":0},null,{"$f":"AQ38*'Simulador Pagos Oportunos'!$X$59","v":0},0,0,"",0,24]
[25,0,null,0,null,0,null,0,null,null,null,{"$f":"IF('Simulador Pagos Oportunos'!$V$60=1,0,J39*'Simulador Pagos Oportunos'!$O$63*'Simulador Pagos Oportunos'!$W$59)","v":0},null,"",null,0,null,{"$f":"IFERROR(IF(B39<=0,0,B39*'Simulador Pagos Oportunos'!$Y$67),0)","v":0},null,{"$f":"IFERROR(IF(B39<=0,0,IF('Simulador Pagos Oportunos'!$X$35=3,'Simulador Pagos Oportunos'!$I$49,IF('Simulador Pagos Oportunos'!$X$35=4,'Simulador Pagos Oportunos'!$K$49,IF('Simulador Pagos Oportunos'!$X$35=5,'Simulador Pagos Oportunos'!$M$49,0)))),0)","v":0},null,{"$f":"IF(B39<=0,\"\",IF('Simulador Pagos Oportunos'!$V$40=1,'Simulador Pagos Oportunos'!$Z$62,'Simulador Pagos Oportunos'!$Z$62*'Simulador Pagos Oportunos'!$W$59))","v":""},{"$f":"F39*'Simulador Pagos Oportunos'!$X$59","v":0},"",null,{"$f":"IF(B39<=0,0,'Simulador Pagos Oportunos'!$AM$48)","v":0},null,2,1,0,0,0,"",{"$f":"IF('Simulador Pagos Oportunos'!$X$35=3,AI39,IF('Simulador Pagos Oportunos'!$X$35=4,AJ39,IF('Simulador Pagos Oportunos'!$X$35=5,AK39,0)))","v":0.186},{"$f":"AI38-0.2%","v":0.18099999999999999},{"$f":"AJ38-0.2%","v":0.182},{"$f":"AK38-0.2%","v":0.186},0,0,0,0,0,0,0,0,{"$f":"IF('Simulador Pagos Oportunos'!$X$35=3,AI39,IF('Simulador Pagos Oportunos'!$X$35=4,AJ39,IF('Simulador Pagos Oportunos'!$X$35=5,AK39,0)))","v":0.186},{"$f":"IF(AO39<=0,0,IF('Simulador Pagos Oportunos'!$AC$62=1,0,AO39*'Simulador Pagos Oportunos'!$Y$67+IF('Simulador Pagos Oportunos'!$X$35=3,'Simulador Pagos Oportunos'!$I$49,IF('Simulador Pagos Oportunos'!$X$35=4,'Simulador Pagos Oportunos'!$K$49,IF('Simulador Pagos Oportunos'!$X$35=5,'Simulador Pagos Oportunos'!$M$49,0)))))","v":0},{"$f":"IF(AO39<=0,0,$AV$32)","v":0},{"$f":"AQ39*'Simulador Pagos Oportunos'!$X$59","v":0},0,0,"",0,25]
[26,0,null,0,null,0,null,0,null,null,null,{"$f":"IF('Simulador Pagos Oportunos'!$V$60=1,0,J40*'Simulador Pagos Oportunos'!$O$63*'Simulador Pagos Oportunos'!$W$59)","v":0},null,"",null,0,null,{"$f":"IFERROR(IF(B40<=0,0,B40*'Simulador Pagos Oportunos'!$Y$67),0)","v":0},null,{"$f":"IFERROR(IF(B40<=0,0,IF('Simulador Pagos Oportunos'!$X$35=3,'Simulador Pagos Oportunos'!$I$49,IF('Simulador Pagos Oportunos'!$X$35=4,'Simulador Pagos Oportunos'!$K$49,IF('Simulador Pagos Oportunos'!$X$35=5,'Simulador Pagos Oportunos'!$M$49,0)))),0)","v":0},null,{"$f":"IF(B40<=0,\"\",IF('Simulador Pagos Oportunos'!$V$40=1,'Simulador Pagos Oportunos'!$Z$62,'Simulador Pagos Oportunos'!$Z$62*'Simulador Pagos Oportunos'!$W$59))","v":""},{"$f":"F40*'Simulador Pagos Oportunos'!$X$59","v":0},"",null,null,null,2,2,0,0,0,"",{"$f":"IF('Simulador Pagos Oportunos'!$X$35=3,AI40,IF('Simulador Pagos Oportunos'!$X$35=4,AJ40,IF('Simulador Pagos Oportunos'!$X$35=5,AK40,0)))","v":0.186},{"$f":"AI39","v":0.18099999999999999},{"$f":"AJ39","v":0.182},0.186,0,0,0,0,0,0,0,0,{"$f":"IF('Simulador Pagos Oportunos'!$X$35=3,AI40,IF('Simulador Pagos Oportunos'!$X$35=4,AJ40,IF('Simulador Pagos Oportunos'!$X$35=5,AK40,0)))","v":0.186},{"$f":"IF(AO40<=0,0,IF('Simulador Pagos Oportunos'!$AC$62=1,0,AO40*'Simulador Pagos Oportunos'!$Y$67+IF('Simulador Pagos Oportunos'!$X$35=3,'Simulador Pagos Oportunos'!$I$49,IF('Simulador Pagos Oportunos'!$X$35=4,'Simulador Pagos Oportunos'!$K$49,IF('Simulador Pagos Oportunos'!$X$35=5,'Simulador Pagos Oportunos'!$M$49,0)))))","v":0},null,{"$f":"AQ40*'Simulador Pagos Oportunos'!$X$59","v":0},0,0,"",0,26]
[27,0,null,0,null,0,null,0,null,null,null,{"$f":"IF('Simulador Pagos Oportunos'!$V$60=1,0,J41*'Simulador Pagos Oportunos'!$O$63*'Simulador Pagos Oportunos'!$W$59)","v":0},null,"",null,0,null,{"$f":"IFERROR(IF(B41<=0,0,B41*'Simulador Pagos Oportunos'!$Y$67),0)","v":0},null,{"$f":"IFERROR(IF(B41<=0,0,IF('Simulador Pagos Oportunos'!$X$35=3,'Simulador Pagos Oportunos'!$I$49,IF('Simulador Pagos Oportunos'!$X$35=4,'Simulador Pagos Oportunos'!$K$49,IF('Simulador Pagos Oportunos'!$X$35=5,'Simulador Pagos Oportunos'!$M$49,0)))),0)","v":0},null,{"$f":"IF(B41<=0,\"\",IF('Simulador Pagos Oportunos'!$V$40=1,'Simulador Pagos Oportunos'!$Z$62,'Simulador Pagos Oportunos'!$Z$62*'Simulador Pagos Oportunos'!$W$59))","v":""},{"$f":"F41*'Simulador Pagos Oportunos'!$X$59","v":0},"",null,null,null,2,3,0,0,0,"",{"$f":"IF('Simulador Pagos Oportunos'!$X$35=3,AI41,IF('Simulador Pagos Oportunos'!$X$35=4,AJ41,IF('Simulador Pagos Oportunos'!$X$35=5,AK41,0)))","v":0.186},{"$f":"AI40","v":0.18099999999999999},0.182,0.186,0,0,0,0,0,0,0,0,{"$f":"IF('Simulador Pagos Oportunos'!$X$35=3,AI41,IF('Simulador Pagos Oportunos'!$X$35=4,AJ41,IF('Simulador Pagos Oportunos'!$X$35=5,AK41,0)))","v":0.186},{"$f":"IF(AO41<=0,0,IF('Simulador Pagos Oportunos'!$AC$62=1,0,AO41*'Simulador Pagos Oportunos'!$Y$67+IF('Simulador Pagos Oportunos'!$X$35=3,'Simulador Pagos Oportunos'!$I$49,IF('Simulador Pagos Oportunos'!$X$35=4,'Simulador Pagos Oportunos'!$K$49,IF('Simulador Pagos Oportunos'!$X$35=5,'Simulador Pagos Oportunos'!$M$49,0)))))","v":0},null,{"$f":"AQ41*'Simulador Pagos Oportunos'!$X$59","v":0},0,0,"",0,27]
[28,0,null,0,null,0,null,0,null,null,null,{"$f":"IF('Simulador Pagos Oportunos'!$V$60=1,0,J42*'Simulador Pagos Oportunos'!$O$63*'Simulador Pagos Oportunos'!$W$59)","v":0},null,"",null,0,null,{"$f":"IFERROR(IF(B42<=0,0,B42*'Simulador Pagos Oportunos'!$Y$67),0)","v":0},null,{"$f":"IFERROR(IF(B42<=0,0,IF('Simulador Pagos Oportunos'!$X$35=3,'Simulador Pagos Oportunos'!$I$49,IF('Simulador Pagos Oportunos'!$X$35=4,'Simulador Pagos Oportunos'!$K$49,IF('Simulador Pagos Oportunos'!$X$35=5,'Simulador Pagos Oportunos'!$M$49,0)))),0)","v":0},null,{"$f":"IF(B42<=0,\"\",IF('Simulador Pagos Oportunos'!$V$40=1,'Simulador Pagos Oportunos'!$Z$62,'Simulador Pagos Oportunos'!$Z$62*'Simulador Pagos Oportunos'!$W$59))","v":""},{"$f":"F42*'Simulador Pagos Oportunos'!$X$59","v":0},"",null,null,null,2,4,0,0,0,"",{"$f":"IF('Simulador Pagos Oportunos'!$X$35=3,AI42,IF('Simulador Pagos Oportunos'!$X$35=4,AJ42,IF('Simulador Pagos Oportunos'!$X$35=5,AK42,0)))","v":0.186},0.18099999999999999,0.182,0.186,0,0,0,0,0,0,0,0,{"$f":"IF('Simulador Pagos Oportunos'!$X$35=3,AI42,IF('Simulador Pagos Oportunos'!$X$35=4,AJ42,IF('Simulador Pagos Oportunos'!$X$35=5,AK42,0)))","v":0.186},{"$f":"IF(AO42<=0,0,IF('Simulador Pagos Oportunos'!$AC$62=1,0,AO42*'Simulador Pagos Oportunos'!$Y$67+IF('Simulador Pagos Oportunos'!$X$35=3,'Simulador Pagos Oportunos'!$I$49,IF('Simulador Pagos Oportunos'!$X$35=4,'Simulador Pagos Oportunos'!$K$49,IF('Simulador Pagos Oportunos'!$X$35=5,'Simulador Pagos Oportunos'!$M$49,0)))))","v":0},null,{"$f":"AQ42*'Simulador Pagos Oportunos'!$X$59","v":0},0,0,"",0,28]
[29,0,null,0,null,0,null,0,null,null,null,{"$f":"IF('Simulador Pagos Oportunos'!$V$60=1,0,J43*'Simulador Pagos Oportunos'!$O$63*'Simulador Pagos Oportunos'!$W$59)","v":0},null,"",null,0,null,{"$f":"IFERROR(IF(B43<=0,0,B43*'Simulador Pagos Oportunos'!$Y$67),0)","v":0},null,{"$f":"IFERROR(IF(B43<=0,0,IF('Simulador Pagos Oportunos'!$X$35=3,'Simulador Pagos Oportunos'!$I$49,IF('Simulador Pagos Oportunos'!$X$35=4,'Simulador Pagos Oportunos'!$K$49,IF('Simulador Pagos Oportunos'!$X$35=5,'Simulador Pagos Oportunos'!$M$49,0)))),0)","v":0},null,{"$f":"IF(B43<=0,\"\",IF('Simulador Pagos Oportunos'!$V$40=1,'Simulador Pagos Oportunos'!$Z$62,'Simulador Pagos Oportunos'!$Z$62*'Simulador Pagos Oportunos'!$W$59))","v":""},{"$f":"F43*'Simulador Pagos Oportunos'!$X$59","v":0},"",null,null,null,2,5,0,0,0,"",{"$f":"IF('Simulador Pagos Oportunos'!$X$35=3,AI43,IF('Simulador Pagos Oportunos'!$X$35=4,AJ43,IF('Simulador Pagos Oportunos'!$X$35=5,AK43,0)))","v":0.186},0.18099999999999999,0.182,0.186,0,0,0,0,0,0,0,0,{"$f":"IF('Simulador Pagos Oportunos'!$X$35=3,AI43,IF('Simulador Pagos Oportunos'!$X$35=4,AJ43,IF('Simulador Pagos Oportunos'!$X$35=5,AK43,0)))","v":0.186},{"$f":"IF(AO43<=0,0,IF('Simulador Pagos Oportunos'!$AC$62=1,0,AO43*'Simulador Pagos Oportunos'!$Y$67+IF('Simulador Pagos Oportunos'!$X$35=3,'Simulador Pagos Oportunos'!$I$49,IF('Simulador Pagos Oportunos'!$X$35=4,'Simulador Pagos Oportunos'!$K$49,IF('Simulador Pagos Oportunos'!$X$35=5,'Simulador Pagos Oportunos'!$M$49,0)))))","v":0},null,{"$f":"AQ43*'Simulador Pagos Oportunos'!$X$59","v":0},0,0,"",0,29]
[30,0,null,0,null,0,null,0,null,null,null,{"$f":"IF('Simulador Pagos Oportunos'!$V$60=1,0,J44*'Simulador Pagos Oportunos'!$O$63*'Simulador Pagos Oportunos'!$W$59)","v":0},null,"",null,0,null,{"$f":"IFERROR(IF(B44<=0,0,B44*'Simulador Pagos Oportunos'!$Y$67),0)","v":0},null,{"$f":"IFERROR(IF(B44<=0,0,IF('Simulador Pagos Oportunos'!$X$35=3,'Simulador Pagos Oportunos'!$I$49,IF('Simulador Pagos Oportunos'!$X$35=4,'Simulador Pagos Oportunos'!$K$49,IF('Simulador Pagos Oportunos'!$X$35=5,'Simulador Pagos Oportunos'!$M$49,0)))),0)","v":0},null,{"$f":"IF(B44<=0,\"\",IF('Simulador Pagos Oportunos'!$V$40=1,'Simulador Pagos Oportunos'!$Z$62,'Simulador Pagos Oportunos'!$Z$62*'Simulador Pagos Oportunos'!$W$59))","v":""},{"$f":"F44*'Simulador Pagos Oportunos'!$X$59","v":0},"",null,null,null,2,6,0,0,0,"",{"$f":"IF('Simulador Pagos Oportunos'!$X$35=3,AI44,IF('Simulador Pagos Oportunos'!$X$35=4,AJ44,IF('Simulador Pagos Oportunos'!$X$35=5,AK44,0)))","v":0.186},0.18099999999999999,0.182,0.186,0,0,0,0,0,0,0,0,{"$f":"IF('Simulador Pagos Oportunos'!$X$35=3,AI44,IF('Simulador Pagos Oportunos'!$X$35=4,AJ44,IF('Simulador Pagos Oportunos'!$X$35=5,AK44,0)))","v":0.186},{"$f":"IF(AO44<=0,0,IF('Simulador Pagos Oportunos'!$AC$62=1,0,AO44*'Simulador Pagos Oportunos'!$Y$67+IF('Simulador Pagos Oportunos'!$X$35=3,'Simulador Pagos Oportunos'!$I$49,IF('Simulador Pagos Oportunos'!$X$35=4,'Simulador Pagos Oportunos'!$K$49,IF('Simulador Pagos Oportunos'!$X$35=5,'Simulador Pagos Oportunos'!$M$49,0)))))","v":0},null,{"$f":"AQ44*'Simulador Pagos Oportunos'!$X$59","v":0},0,0,"",0,30]
[31,0,null,0,null,0,null,0,null,null,null,{"$f":"IF('Simulador Pagos Oportunos'!$V$60=1,0,J45*'Simulador Pagos Oportunos'!$O$63*'Simulador Pagos Oportunos'!$W$59)","v":0},null,"",null,0,null,{"$f":"IFERROR(IF(B45<=0,0,B45*'Simulador Pagos Oportunos'!$Y$67),0)","v":0},null,{"$f":"IFERROR(IF(B45<=0,0,IF('Simulador Pagos Oportunos'!$X$35=3,'Simulador Pagos Oportunos'!$I$49,IF('Simulador Pagos Oportunos'!$X$35=4,'Simulador Pagos Oportunos'!$K$49,IF('Simulador Pagos Oportunos'!$X$35=5,'Simulador Pagos Oportunos'!$M$49,0)))),0)","v":0},null,{"$f":"IF(B45<=0,\"\",IF('Simulador Pagos Oportunos'!$V$40=1,'Simulador Pagos Oportunos'!$Z$62,'Simulador Pagos Oportunos'!$Z$62*'Simulador Pagos Oportunos'!$W$59))","v":""},{"$f":"F45*'Simulador Pagos Oportunos'!$X$59","v":0},"",null,null,null,2,7,0,0,0,"",{"$f":"IF('Simulador Pagos Oportunos'!$X$35=3,AI45,IF('Simulador Pagos Oportunos'!$X$35=4,AJ45,IF('Simulador Pagos Oportunos'!$X$35=5,AK45,0)))","v":0.186},0.18099999999999999,0.182,0.186,0,0,0,0,0,0,0,0,{"$f":"IF('Simulador Pagos Oportunos'!$X$35=3,AI45,IF('Simulador Pagos Oportunos'!$X$35=4,AJ45,IF('Simulador Pagos Oportunos'!$X$35=5,AK45,0)))","v":0.186},{"$f":"IF(AO45<=0,0,IF('Simulador Pagos Oportunos'!$AC$62=1,0,AO45*'Simulador Pagos Oportunos'!$Y$67+IF('Simulador Pagos Oportunos'!$X$35=3,'Simulador Pagos Oportunos'!$I$49,IF('Simulador Pagos Oportunos'!$X$35=4,'Simulador Pagos Oportunos'!$K$49,IF('Simulador Pagos Oportunos'!$X$35=5,'Simulador Pagos Oportunos'!$M$49,0)))))","v":0},null,{"$f":"AQ45*'Simulador Pagos Oportunos'!$X$59","v":0},0,0,"",0,31]
[32,0,null,0,null,0,null,0,null,null,null,{"$f":"IF('Simulador Pagos Oportunos'!$V$60=1,0,J46*'Simulador Pagos Oportunos'!$O$63*'Simulador Pagos Oportunos'!$W$59)","v":0},null,"",null,0,null,{"$f":"IFERROR(IF(B46<=0,0,B46*'Simulador Pagos Oportunos'!$Y$67),0)","v":0},null,{"$f":"IFERROR(IF(B46<=0,0,IF('Simulador Pagos Oportunos'!$X$35=3,'Simulador Pagos Oportunos'!$I$49,IF('Simulador Pagos Oportunos'!$X$35=4,'Simulador Pagos Oportunos'!$K$49,IF('Simulador Pagos Oportunos'!$X$35=5,'Simulador Pagos Oportunos'!$M$49,0)))),0)","v":0},null,{"$f":"IF(B46<=0,\"\",IF('Simulador Pagos Oportunos'!$V$40=1,'Simulador Pagos Oportunos'!$Z$62,'Simulador Pagos Oportunos'!$Z$62*'Simulador Pagos Oportunos'!$W$59))","v":""},{"$f":"F46*'Simulador Pagos Oportunos'!$X$59","v":0},"",null,null,null,2,8,0,0,0,"",{"$f":"IF('Simulador Pagos Oportunos'!$X$35=3,AI46,IF('Simulador Pagos Oportunos'!$X$35=4,AJ46,IF('Simulador Pagos Oportunos'!$X$35=5,AK46,0)))","v":0.186},0.18099999999999999,0.182,0.186,0,0,0,0,0,0,0,0,{"$f":"IF('Simulador Pagos Oportunos'!$X$35=3,AI46,IF('Simulador Pagos Oportunos'!$X$35=4,AJ46,IF('Simulador Pagos Oportunos'!$X$35=5,AK46,0)))","v":0.186},{"$f":"IF(AO46<=0,0,IF('Simulador Pagos Oportunos'!$AC$62=1,0,AO46*'Simulador Pagos Oportunos'!$Y$67+IF('Simulador Pagos Oportunos'!$X$35=3,'Simulador Pagos Oportunos'!$I$49,IF('Simulador Pagos Oportunos'!$X$35=4,'Simulador Pagos Oportunos'!$K$49,IF('Simulador Pagos Oportunos'!$X$35=5,'Simulador Pagos Oportunos'!$M$49,0)))))","v":0},null,{"$f":"AQ46*'Simulador Pagos Oportunos'!$X$59","v":0},0,0,"",0,32]
[33,0,null,0,null,0,null,0,null,null,null,{"$f":"IF('Simulador Pagos Oportunos'!$V$60=1,0,J47*'Simulador Pagos Oportunos'!$O$63*'Simulador Pagos Oportunos'!$W$59)","v":0},null,"",null,0,null,{"$f":"IFERROR(IF(B47<=0,0,B47*'Simulador Pagos Oportunos'!$Y$67),0)","v":0},null,{"$f":"IFERROR(IF(B47<=0,0,IF('Simulador Pagos Oportunos'!$X$35=3,'Simulador Pagos Oportunos'!$I$49,IF('Simulador Pagos Oportunos'!$X$35=4,'Simulador Pagos Oportunos'!$K$49,IF('Simulador Pagos Oportunos'!$X$35=5,'Simulador Pagos Oportunos'!$M$49,0)))),0)","v":0},null,{"$f":"IF(B47<=0,\"\",IF('Simulador Pagos Oportunos'!$V$40=1,'Simulador Pagos Oportunos'!$Z$62,'Simulador Pagos Oportunos'!$Z$62*'Simulador Pagos Oportunos'!$W$59))","v":""},{"$f":"F47*'Simulador Pagos Oportunos'!$X$59","v":0},"",null,null,null,2,9,0,0,0,"",{"$f":"IF('Simulador Pagos Oportunos'!$X$35=3,AI47,IF('Simulador Pagos Oportunos'!$X$35=4,AJ47,IF('Simulador Pagos Oportunos'!$X$35=5,AK47,0)))","v":0.186},0.18099999999999999,0.182,0.186,0,0,0,0,0,0,0,0,{"$f":"IF('Simulador Pagos Oportunos'!$X$35=3,AI47,IF('Simulador Pagos Oportunos'!$X$35=4,AJ47,IF('Simulador Pagos Oportunos'!$X$35=5,AK47,0)))","v":0.186},{"$f":"IF(AO47<=0,0,IF('Simulador Pagos Oportunos'!$AC$62=1,0,AO47*'Simulador Pagos Oportunos'!$Y$67+IF('Simulador Pagos Oportunos'!$X$35=3,'Simulador Pagos Oportunos'!$I$49,IF('Simulador Pagos Oportunos'!$X$35=4,'Simulador Pagos Oportunos'!$K$49,IF('Simulador Pagos Oportunos'!$X$35=5,'Simulador Pagos Oportunos'!$M$49,0)))))","v":0},null,{"$f":"AQ47*'Simulador Pagos Oportunos'!$X$59","v":0},0,0,"",0,33]
[34,0,null,0,null,0,null,0,null,null,null,{"$f":"IF('Simulador Pagos Oportunos'!$V$60=1,0,J48*'Simulador Pagos Oportunos'!$O$63*'Simulador Pagos Oportunos'!$W$59)","v":0},null,"",null,0,null,{"$f":"IFERROR(IF(B48<=0,0,B48*'Simulador Pagos Oportunos'!$Y$67),0)","v":0},null,{"$f":"IFERROR(IF(B48<=0,0,IF('Simulador Pagos Oportunos'!$X$35=3,'Simulador Pagos Oportunos'!$I$49,IF('Simulador Pagos Oportunos'!$X$35=4,'Simulador Pagos Oportunos'!$K$49,IF('Simulador Pagos Oportunos'!$X$35=5,'Simulador Pagos Oportunos'!$M$49,0)))),0)","v":0},null,{"$f":"IF(B48<=0,\"\",IF('Simulador Pagos Oportunos'!$V$40=1,'Simulador Pagos Oportunos'!$Z$62,'Simulador Pagos Oportunos'!$Z$62*'Simulador Pagos Oportunos'!$W$59))","v":""},{"$f":"F48*'Simulador Pagos Oportunos'!$X$59","v":0},"",null,null,null,2,10,0,0,0,"",{"$f":"IF('Simulador Pagos Oportunos'!$X$35=3,AI48,IF('Simulador Pagos Oportunos'!$X$35=4,AJ48,IF('Simulador Pagos Oportunos'!$X$35=5,AK48,0)))","v":0.186},0.18099999999999999,0.182,0.186,0,0,0,0,0,0,0,0,{"$f":"IF('Simulador Pagos Oportunos'!$X$35=3,AI48,IF('Simulador Pagos Oportunos'!$X$35=4,AJ48,IF('Simulador Pagos Oportunos'!$X$35=5,AK48,0)))","v":0.186},{"$f":"IF(AO48<=0,0,IF('Simulador Pagos Oportunos'!$AC$62=1,0,AO48*'Simulador Pagos Oportunos'!$Y$67+IF('Simulador Pagos Oportunos'!$X$35=3,'Simulador Pagos Oportunos'!$I$49,IF('Simulador Pagos Oportunos'!$X$35=4,'Simulador Pagos Oportunos'!$K$49,IF('Simulador Pagos Oportunos'!$X$35=5,'Simulador Pagos Oportunos'!$M$49,0)))))","v":0},null,{"$f":"AQ48*'Simulador Pagos Oportunos'!$X$59","v":0},0,0,"",0,34]
[35,0,null,0,null,0,null,0,null,null,null,{"$f":"IF('Simulador Pagos Oportunos'!$V$60=1,0,J49*'Simulador Pagos Oportunos'!$O$63*'Simulador Pagos Oportunos'!$W$59)","v":0},null,"",null,0,null,{"$f":"IFERROR(IF(B49<=0,0,B49*'Simulador Pagos Oportunos'!$Y$67),0)","v":0},null,{"$f":"IFERROR(IF(B49<=0,0,IF('Simulador Pagos Oportunos'!$X$35=3,'Simulador Pagos Oportunos'!$I$49,IF('Simulador Pagos Oportunos'!$X$35=4,'Simulador Pagos Oportunos'!$K$49,IF('Simulador Pagos Oportunos'!$X$35=5,'Simulador Pagos Oportunos'!$M$49,0)))),0)","v":0},null,{"$f":"IF(B49<=0,\"\",IF('Simulador Pagos Oportunos'!$V$40=1,'Simulador Pagos Oportunos'!$Z$62,'Simulador Pagos Oportunos'!$Z$62*'Simulador Pagos Oportunos'!$W$59))","v":""},{"$f":"F49*'Simulador Pagos Oportunos'!$X$59","v":0},"",null,null,null,2,11,0,0,0,"",{"$f":"IF('Simulador Pagos Oportunos'!$X$35=3,AI49,IF('Simulador Pagos Oportunos'!$X$35=4,AJ49,IF('Simulador Pagos Oportunos'!$X$35=5,AK49,0)))","v":0.186},0.18099999999999999,0.182,0.186,0,0,0,0,0,0,0,0,{"$f":"IF('Simulador Pagos Oportunos'!$X$35=3,AI49,IF('Simulador Pagos Oportunos'!$X$35=4,AJ49,IF('Simulador Pagos Oportunos'!$X$35=5,AK49,0)))","v":0.186},{"$f":"IF(AO49<=0,0,IF('Simulador Pagos Oportunos'!$AC$62=1,0,AO49*'Simulador Pagos Oportunos'!$Y$67+IF('Simulador Pagos Oportunos'!$X$35=3,'Simulador Pagos Oportunos'!$I$49,IF('Simulador Pagos Oportunos'!$X$35=4,'Simulador Pagos Oportunos'!$K$49,IF('Simulador Pagos Oportunos'!$X$35=5,'Simulador Pagos Oportunos'!$M$49,0)))))","v":0},null,{"$f":"AQ49*'Simulador Pagos Oportunos'!$X$59","v":0},0,0,"",0,35]
[36,0,null,0,null,0,null,0,null,null,null,{"$f":"IF('Simulador Pagos Oportunos'!$V$60=1,0,J50*'Simulador Pagos Oportunos'!$O$63*'Simulador Pagos Oportunos'!$W$59)","v":0},null,"",null,0,null,{"$f":"IFERROR(IF(B50<=0,0,B50*'Simulador Pagos Oportunos'!$Y$67),0)","v":0},null,{"$f":"IFERROR(IF(B50<=0,0,IF('Simulador Pagos Oportunos'!$X$35=3,'Simulador Pagos Oportunos'!$I$49,IF('Simulador Pagos Oportunos'!$X$35=4,'Simulador Pagos Oportunos'!$K$49,IF('Simulador Pagos Oportunos'!$X$35=5,'Simulador Pagos Oportunos'!$M$49,0)))),0)","v":0},null,{"$f":"IF(B50<=0,\"\",IF('Simulador Pagos Oportunos'!$V$40=1,'Simulador Pagos Oportunos'!$Z$62,'Simulador Pagos Oportunos'!$Z$62*'Simulador Pagos Oportunos'!$W$59))","v":""},{"$f":"F50*'Simulador Pagos Oportunos'!$X$59","v":0},"",null,null,null,3,0,0,0,0,"",{"$f":"IF('Simulador Pagos Oportunos'!$X$35=3,AI50,IF('Simulador Pagos Oportunos'!$X$35=4,AJ50,IF('Simulador Pagos Oportunos'!$X$35=5,AK50,0)))","v":0.186},0.18099999999999999,0.182,0.186,0,0,0,0,0,0,0,0,{"$f":"IF('Simulador Pagos Oportunos'!$X$35=3,AI50,IF('Simulador Pagos Oportunos'!$X$35=4,AJ50,IF('Simulador Pagos Oportunos'!$X$35=5,AK50,0)))","v":0.186},{"$f":"IF(AO50<=0,0,IF('Simulador Pagos Oportunos'!$AC$62=1,0,AO50*'Simulador Pagos Oportunos'!$Y$67+IF('Simulador Pagos Oportunos'!$X$35=3,'Simulador Pagos Oportunos'!$I$49,IF('Simulador Pagos Oportunos'!$X$35=4,'Simulador Pagos Oportunos'!$K$49,IF('Simulador Pagos Oportunos'!$X$35=5,'Simulador Pagos Oportunos'!$M$49,0)))))","v":0},null,{"$f":"AQ50*'Simulador Pagos Oportunos'!$X$59","v":0},0,0,"",0,36]
[37,0,null,0,null,0,null,0,null,null,null,{"$f":"IF('Simulador Pagos Oportunos'!$V$60=1,0,J51*'Simulador Pagos Oportunos'!$O$63*'Simulador Pagos Oportunos'!$W$59)","v":0},null,"",null,0,null,{"$f":"IFERROR(IF(B51<=0,0,B51*'Simulador Pagos Oportunos'!$Y$67),0)","v":0},null,{"$f":"IFERROR(IF(B51<=0,0,IF('Simulador Pagos Oportunos'!$X$35=3,'Simulador Pagos Oportunos'!$I$49,IF('Simulador Pagos Oportunos'!$X$35=4,'Simulador Pagos Oportunos'!$K$49,IF('Simulador Pagos Oportunos'!$X$35=5,'Simulador Pagos Oportunos'!$M$49,0)))),0)","v":0},null,{"$f":"IF(B51<=0,\"\",IF('Simulador Pagos Oportunos'!$V$40=1,'Simulador Pagos Oportunos'!$Z$62,'Simulador Pagos Oportunos'!$Z$62*'Simulador Pagos Oportunos'!$W$59))","v":""},{"$f":"F51*'Simulador Pagos Oportunos'!$X$59","v":0},"",null,{"$f":"IF(B51<=0,0,'Simulador Pagos Oportunos'!$AM$48)","v":0},null,3,1,0,0,0,"",{"$f":"IF('Simulador Pagos Oportunos'!$X$35=3,AI51,IF('Simulador Pagos Oportunos'!$X$35=4,AJ51,IF('Simulador Pagos Oportunos'!$X$35=5,AK51,0)))","v":0.184},{"$f":"AI50-0.2%","v":0.17899999999999999},{"$f":"AJ50-0.2%","v":0.18},{"$f":"AK50-0.2%","v":0.184},0,0,0,0,0,0,0,0,{"$f":"IF('Simulador Pagos Oportunos'!$X$35=3,AI51,IF('Simulador Pagos Oportunos'!$X$35=4,AJ51,IF('Simulador Pagos Oportunos'!$X$35=5,AK51,0)))","v":0.184},{"$f":"IF(AO51<=0,0,IF('Simulador Pagos Oportunos'!$AC$62=1,0,AO51*'Simulador Pagos Oportunos'!$Y$67+IF('Simulador Pagos Oportunos'!$X$35=3,'Simulador Pagos Oportunos'!$I$49,IF('Simulador Pagos Oportunos'!$X$35=4,'Simulador Pagos Oportunos'!$K$49,IF('Simulador Pagos Oportunos'!$X$35=5,'Simulador Pagos Oportunos'!$M$49,0)))))","v":0},{"$f":"IF(AO51<=0,0,$AV$32)","v":0},{"$f":"AQ51*'Simulador Pagos Oportunos'!$X$59","v":0},0,0,"",0,37]
[38,0,null,0,null,0,null,0,null,null,null,{"$f":"IF('Simulador Pagos Oportunos'!$V$60=1,0,J52*'Simulador Pagos Oportunos'!$O$63*'Simulador Pagos Oportunos'!$W$59)","v":0},null,"",null,0,null,{"$f":"IFERROR(IF(B52<=0,0,B52*'Simulador Pagos Oportunos'!$Y$67),0)","v":0},null,{"$f":"IFERROR(IF(B52<=0,0,IF('Simulador Pagos Oportunos'!$X$35=3,'Simulador Pagos Oportunos'!$I$49,IF('Simulador Pagos Oportunos'!$X$35=4,'Simulador Pagos Oportunos'!$K$49,IF('Simulador Pagos Oportunos'!$X$35=5,'Simulador Pagos Oportunos'!$M$49,0)))),0)","v":0},null,{"$f":"IF(B52<=0,\"\",IF('Simulador Pagos Oportunos'!$V$40=1,'Simulador Pagos Oportunos'!$Z$62,'Simulador Pagos Oportunos'!$Z$62*'Simulador Pagos Oportunos'!$W$59))","v":""},{"$f":"F52*'Simulador Pagos Oportunos'!$X$59","v":0},"",null,null,null,3,2,0,0,0,"",{"$f":"IF('Simulador Pagos Oportunos'!$X$35=3,AI52,IF('Simulador Pagos Oportunos'!$X$35=4,AJ52,IF('Simulador Pagos Oportunos'!$X$35=5,AK52,0)))","v":0.184},{"$f":"AI51","v":0.17899999999999999},{"$f":"AJ51","v":0.18},0.184,0,0,0,0,0,0,0,0,{"$f":"IF('Simulador Pagos Oportunos'!$X$35=3,AI52,IF('Simulador Pagos Oportunos'!$X$35=4,AJ52,IF('Simulador Pagos Oportunos'!$X$35=5,AK52,0)))","v":0.184},{"$f":"IF(AO52<=0,0,IF('Simulador Pagos Oportunos'!$AC$62=1,0,AO52*'Simulador Pagos Oportunos'!$Y$67+IF('Simulador Pagos Oportunos'!$X$35=3,'Simulador Pagos Oportunos'!$I$49,IF('Simulador Pagos Oportunos'!$X$35=4,'Simulador Pagos Oportunos'!$K$49,IF('Simulador Pagos Oportunos'!$X$35=5,'Simulador Pagos Oportunos'!$M$49,0)))))","v":0},null,{"$f":"AQ52*'Simulador Pagos Oportunos'!$X$59","v":0},0,0,"",0,38]
[39,0,null,0,null,0,null,0,null,null,null,{"$f":"IF('Simulador Pagos Oportunos'!$V$60=1,0,J53*'Simulador Pagos Oportunos'!$O$63*'Simulador Pagos Oportunos'!$W$59)","v":0},null,"",null,0,null,{"$f":"IFERROR(IF(B53<=0,0,B53*'Simulador Pagos Oportunos'!$Y$67),0)","v":0},null,{"$f":"IFERROR(IF(B53<=0,0,IF('Simulador Pagos Oportunos'!$X$35=3,'Simulador Pagos Oportunos'!$I$49,IF('Simulador Pagos Oportunos'!$X$35=4,'Simulador Pagos Oportunos'!$K$49,IF('Simulador Pagos Oportunos'!$X$35=5,'Simulador Pagos Oportunos'!$M$49,0)))),0)","v":0},null,{"$f":"IF(B53<=0,\"\",IF('Simulador Pagos Oportunos'!$V$40=1,'Simulador Pagos Oportunos'!$Z$62,'Simulador Pagos Oportunos'!$Z$62*'Simulador Pagos Oportunos'!$W$59))","v":""},{"$f":"F53*'Simulador Pagos Oportunos'!$X$59","v":0},"",null,null,null,3,3,0,0,0,"",{"$f":"IF('Simulador Pagos Oportunos'!$X$35=3,AI53,IF('Simulador Pagos Oportunos'!$X$35=4,AJ53,IF('Simulador Pagos Oportunos'!$X$35=5,AK53,0)))","v":0.184},{"$f":"AI52","v":0.17899999999999999},0.18,0.184,0,0,0,0,0,0,0,0,{"$f":"IF('Simulador Pagos Oportunos'!$X$35=3,AI53,IF('Simulador Pagos Oportunos'!$X$35=4,AJ53,IF('Simulador Pagos Oportunos'!$X$35=5,AK53,0)))","v":0.184},{"$f":"IF(AO53<=0,0,IF('Simulador Pagos Oportunos'!$AC$62=1,0,AO53*'Simulador Pagos Oportunos'!$Y$67+IF('Simulador Pagos Oportunos'!$X$35=3,'Simulador Pagos Oportunos'!$I$49,IF('Simulador Pagos Oportunos'!$X$35=4,'Simulador Pagos Oportunos'!$K$49,IF('Simulador Pagos Oportunos'!$X$35=5,'Simulador Pagos Oportunos'!$M$49,0)))))","v":0},null,{"$f":"AQ53*'Simulador Pagos Oportunos'!$X$59","v":0},0,0,"",0,39]
[40,0,null,0,null,0,null,0,null,null,null,{"$f":"IF('Simulador Pagos Oportunos'!$V$60=1,0,J54*'Simulador Pagos Oportunos'!$O$63*'Simulador Pagos Oportunos'!$W$59)","v":0},null,"",null,0,null,{"$f":"IFERROR(IF(B54<=0,0,B54*'Simulador Pagos Oportunos'!$Y$67),0)","v":0},null,{"$f":"IFERROR(IF(B54<=0,0,IF('Simulador Pagos Oportunos'!$X$35=3,'Simulador Pagos Oportunos'!$I$49,IF('Simulador Pagos Oportunos'!$X$35=4,'Simulador Pagos Oportunos'!$K$49,IF('Simulador Pagos Oportunos'!$X$35=5,'Simulador Pagos Oportunos'!$M$49,0)))),0)","v":0},null,{"$f":"IF(B54<=0,\"\",IF('Simulador Pagos Oportunos'!$V$40=1,'Simulador Pagos Oportunos'!$Z$62,'Simulador Pagos Oportunos'!$Z$62*'Simulador Pagos Oportunos'!$W$59))","v":""},{"$f":"F54*'Simulador Pagos Oportunos'!$X$59","v":0},"",null,null,null,3,4,0,0,0,"",{"$f":"IF('Simulador Pagos Oportunos'!$X$35=3,AI54,IF('Simulador Pagos Oportunos'!$X$35=4,AJ54,IF('Simulador Pagos Oportunos'!$X$35=5,AK54,0)))","v":0.184},0.17899999999999999,0.18,0.184,0,0,0,0,0,0,0,0,{"$f":"IF('Simulador Pagos Oportunos'!$X$35=3,AI54,IF('Simulador Pagos Oportunos'!$X$35=4,AJ54,IF('Simulador Pagos Oportunos'!$X$35=5,AK54,0)))","v":0.184},{"$f":"IF(AO54<=0,0,IF('Simulador Pagos Oportunos'!$AC$62=1,0,AO54*'Simulador Pagos Oportunos'!$Y$67+IF('Simulador Pagos Oportunos'!$X$35=3,'Simulador Pagos Oportunos'!$I$49,IF('Simulador Pagos Oportunos'!$X$35=4,'Simulador Pagos Oportunos'!$K$49,IF('Simulador Pagos Oportunos'!$X$35=5,'Simulador Pagos Oportunos'!$M$49,0)))))","v":0},null,{"$f":"AQ54*'Simulador Pagos Oportunos'!$X$59","v":0},0,0,"",0,40]
[41,0,null,0,null,0,null,0,null,null,null,{"$f":"IF('Simulador Pagos Oportunos'!$V$60=1,0,J55*'Simulador Pagos Oportunos'!$O$63*'Simulador Pagos Oportunos'!$W$59)","v":0},null,"",null,0,null,{"$f":"IFERROR(IF(B55<=0,0,B55*'Simulador Pagos Oportunos'!$Y$67),0)","v":0},null,{"$f":"IFERROR(IF(B55<=0,0,IF('Simulador Pagos Oportunos'!$X$35=3,'Simulador Pagos Oportunos'!$I$49,IF('Simulador Pagos Oportunos'!$X$35=4,'Simulador Pagos Oportunos'!$K$49,IF('Simulador Pagos Oportunos'!$X$35=5,'Simulador Pagos Oportunos'!$M$49,0)))),0)","v":0},null,{"$f":"IF(B55<=0,\"\",IF('Simulador Pagos Oportunos'!$V$40=1,'Simulador Pagos Oportunos'!$Z$62,'Simulador Pagos Oportunos'!$Z$62*'Simulador Pagos Oportunos'!$W$59))","v":""},{"$f":"F55*'Simulador Pagos Oportunos'!$X$59","v":0},"",null,null,null,3,5,0,0,0,"",{"$f":"IF('Simulador Pagos Oportunos'!$X$35=3,AI55,IF('Simulador Pagos Oportunos'!$X$35=4,AJ55,IF('Simulador Pagos Oportunos'!$X$35=5,AK55,0)))","v":0.184},0.17899999999999999,0.18,0.184,0,0,0,0,0,0,0,0,{"$f":"IF('Simulador Pagos Oportunos'!$X$35=3,AI55,IF('Simulador Pagos Oportunos'!$X$35=4,AJ55,IF('Simulador Pagos Oportunos'!$X$35=5,AK55,0)))","v":0.184},{"$f":"IF(AO55<=0,0,IF('Simulador Pagos Oportunos'!$AC$62=1,0,AO55*'Simulador Pagos Oportunos'!$Y$67+IF('Simulador Pagos Oportunos'!$X$35=3,'Simulador Pagos Oportunos'!$I$49,IF('Simulador Pagos Oportunos'!$X$35=4,'Simulador Pagos Oportunos'!$K$49,IF('Simulador Pagos Oportunos'!$X$35=5,'Simulador Pagos Oportunos'!$M$49,0)))))","v":0},null,{"$f":"AQ55*'Simulador Pagos Oportunos'!$X$59","v":0},0,0,"",0,41]
[42,0,null,0,null,0,null,0,null,null,null,{"$f":"IF('Simulador Pagos Oportunos'!$V$60=1,0,J56*'Simulador Pagos Oportunos'!$O$63*'Simulador Pagos Oportunos'!$W$59)","v":0},null,"",null,0,null,{"$f":"IFERROR(IF(B56<=0,0,B56*'Simulador Pagos Oportunos'!$Y$67),0)","v":0},null,{"$f":"IFERROR(IF(B56<=0,0,IF('Simulador Pagos Oportunos'!$X$35=3,'Simulador Pagos Oportunos'!$I$49,IF('Simulador Pagos Oportunos'!$X$35=4,'Simulador Pagos Oportunos'!$K$49,IF('Simulador Pagos Oportunos'!$X$35=5,'Simulador Pagos Oportunos'!$M$49,0)))),0)","v":0},null,{"$f":"IF(B56<=0,\"\",IF('Simulador Pagos Oportunos'!$V$40=1,'Simulador Pagos Oportunos'!$Z$62,'Simulador Pagos Oportunos'!$Z$62*'Simulador Pagos Oportunos'!$W$59))","v":""},{"$f":"F56*'Simulador Pagos Oportunos'!$X$59","v":0},"",null,null,null,3,6,0,0,0,"",{"$f":"IF('Simulador Pagos Oportunos'!$X$35=3,AI56,IF('Simulador Pagos Oportunos'!$X$35=4,AJ56,IF('Simulador Pagos Oportunos'!$X$35=5,AK56,0)))","v":0.184},0.17899999999999999,0.18,0.184,0,0,0,0,0,0,0,0,{"$f":"IF('Simulador Pagos Oportunos'!$X$35=3,AI56,IF('Simulador Pagos Oportunos'!$X$35=4,AJ56,IF('Simulador Pagos Oportunos'!$X$35=5,AK56,0)))","v":0.184},{"$f":"IF(AO56<=0,0,IF('Simulador Pagos Oportunos'!$AC$62=1,0,AO56*'Simulador Pagos Oportunos'!$Y$67+IF('Simulador Pagos Oportunos'!$X$35=3,'Simulador Pagos Oportunos'!$I$49,IF('Simulador Pagos Oportunos'!$X$35=4,'Simulador Pagos Oportunos'!$K$49,IF('Simulador Pagos Oportunos'!$X$35=5,'Simulador Pagos Oportunos'!$M$49,0)))))","v":0},null,{"$f":"AQ56*'Simulador Pagos Oportunos'!$X$59","v":0},0,0,"",0,42]
[43,0,null,0,null,0,null,0,null,null,null,{"$f":"IF('Simulador Pagos Oportunos'!$V$60=1,0,J57*'Simulador Pagos Oportunos'!$O$63*'Simulador Pagos Oportunos'!$W$59)","v":0},null,"",null,0,null,{"$f":"IFERROR(IF(B57<=0,0,B57*'Simulador Pagos Oportunos'!$Y$67),0)","v":0},null,{"$f":"IFERROR(IF(B57<=0,0,IF('Simulador Pagos Oportunos'!$X$35=3,'Simulador Pagos Oportunos'!$I$49,IF('Simulador Pagos Oportunos'!$X$35=4,'Simulador Pagos Oportunos'!$K$49,IF('Simulador Pagos Oportunos'!$X$35=5,'Simulador Pagos Oportunos'!$M$49,0)))),0)","v":0},null,{"$f":"IF(B57<=0,\"\",IF('Simulador Pagos Oportunos'!$V$40=1,'Simulador Pagos Oportunos'!$Z$62,'Simulador Pagos Oportunos'!$Z$62*'Simulador Pagos Oportunos'!$W$59))","v":""},{"$f":"F57*'Simulador Pagos Oportunos'!$X$59","v":0},"",null,null,null,3,7,0,0,0,"",{"$f":"IF('Simulador Pagos Oportunos'!$X$35=3,AI57,IF('Simulador Pagos Oportunos'!$X$35=4,AJ57,IF('Simulador Pagos Oportunos'!$X$35=5,AK57,0)))","v":0.184},0.17899999999999999,0.18,0.184,0,0,0,0,0,0,0,0,{"$f":"IF('Simulador Pagos Oportunos'!$X$35=3,AI57,IF('Simulador Pagos Oportunos'!$X$35=4,AJ57,IF('Simulador Pagos Oportunos'!$X$35=5,AK57,0)))","v":0.184},{"$f":"IF(AO57<=0,0,IF('Simulador Pagos Oportunos'!$AC$62=1,0,AO57*'Simulador Pagos Oportunos'!$Y$67+IF('Simulador Pagos Oportunos'!$X$35=3,'Simulador Pagos Oportunos'!$I$49,IF('Simulador Pagos Oportunos'!$X$35=4,'Simulador Pagos Oportunos'!$K$49,IF('Simulador Pagos Oportunos'!$X$35=5,'Simulador Pagos Oportunos'!$M$49,0)))))","v":0},null,{"$f":"AQ57*'Simulador Pagos Oportunos'!$X$59","v":0},0,0,"",0,43]
[44,0,null,0,null,0,null,0,null,null,null,{"$f":"IF('Simulador Pagos Oportunos'!$V$60=1,0,J58*'Simulador Pagos Oportunos'!$O$63*'Simulador Pagos Oportunos'!$W$59)","v":0},null,"",null,0,null,{"$f":"IFERROR(IF(B58<=0,0,B58*'Simulador Pagos Oportunos'!$Y$67),0)","v":0},null,{"$f":"IFERROR(IF(B58<=0,0,IF('Simulador Pagos Oportunos'!$X$35=3,'Simulador Pagos Oportunos'!$I$49,IF('Simulador Pagos Oportunos'!$X$35=4,'Simulador Pagos Oportunos'!$K$49,IF('Simulador Pagos Oportunos'!$X$35=5,'Simulador Pagos Oportunos'!$M$49,0)))),0)","v":0},null,{"$f":"IF(B58<=0,\"\",IF('Simulador Pagos Oportunos'!$V$40=1,'Simulador Pagos Oportunos'!$Z$62,'Simulador Pagos Oportunos'!$Z$62*'Simulador Pagos Oportunos'!$W$59))","v":""},{"$f":"F58*'Simulador Pagos Oportunos'!$X$59","v":0},"",null,null,null,3,8,0,0,0,"",{"$f":"IF('Simulador Pagos Oportunos'!$X$35=3,AI58,IF('Simulador Pagos Oportunos'!$X$35=4,AJ58,IF('Simulador Pagos Oportunos'!$X$35=5,AK58,0)))","v":0.184},0.17899999999999999,0.18,0.184,0,0,0,0,0,0,0,0,{"$f":"IF('Simulador Pagos Oportunos'!$X$35=3,AI58,IF('Simulador Pagos Oportunos'!$X$35=4,AJ58,IF('Simulador Pagos Oportunos'!$X$35=5,AK58,0)))","v":0.184},{"$f":"IF(AO58<=0,0,IF('Simulador Pagos Oportunos'!$AC$62=1,0,AO58*'Simulador Pagos Oportunos'!$Y$67+IF('Simulador Pagos Oportunos'!$X$35=3,'Simulador Pagos Oportunos'!$I$49,IF('Simulador Pagos Oportunos'!$X$35=4,'Simulador Pagos Oportunos'!$K$49,IF('Simulador Pagos Oportunos'!$X$35=5,'Simulador Pagos Oportunos'!$M$49,0)))))","v":0},null,{"$f":"AQ58*'Simulador Pagos Oportunos'!$X$59","v":0},0,0,"",0,44]
[45,0,null,0,null,0,null,0,null,null,null,{"$f":"IF('Simulador Pagos Oportunos'!$V$60=1,0,J59*'Simulador Pagos Oportunos'!$O$63*'Simulador Pagos Oportunos'!$W$59)","v":0},null,"",null,0,null,{"$f":"IFERROR(IF(B59<=0,0,B59*'Simulador Pagos Oportunos'!$Y$67),0)","v":0},null,{"$f":"IFERROR(IF(B59<=0,0,IF('Simulador Pagos Oportunos'!$X$35=3,'Simulador Pagos Oportunos'!$I$49,IF('Simulador Pagos Oportunos'!$X$35=4,'Simulador Pagos Oportunos'!$K$49,IF('Simulador Pagos Oportunos'!$X$35=5,'Simulador Pagos Oportunos'!$M$49,0)))),0)","v":0},null,{"$f":"IF(B59<=0,\"\",IF('Simulador Pagos Oportunos'!$V$40=1,'Simulador Pagos Oportunos'!$Z$62,'Simulador Pagos Oportunos'!$Z$62*'Simulador Pagos Oportunos'!$W$59))","v":""},{"$f":"F59*'Simulador Pagos Oportunos'!$X$59","v":0},"",null,null,null,3,9,0,0,0,"",{"$f":"IF('Simulador Pagos Oportunos'!$X$35=3,AI59,IF('Simulador Pagos Oportunos'!$X$35=4,AJ59,IF('Simulador Pagos Oportunos'!$X$35=5,AK59,0)))","v":0.184},0.17899999999999999,0.18,0.184,0,0,0,0,0,0,0,0,{"$f":"IF('Simulador Pagos Oportunos'!$X$35=3,AI59,IF('Simulador Pagos Oportunos'!$X$35=4,AJ59,IF('Simulador Pagos Oportunos'!$X$35=5,AK59,0)))","v":0.184},{"$f":"IF(AO59<=0,0,IF('Simulador Pagos Oportunos'!$AC$62=1,0,AO59*'Simulador Pagos Oportunos'!$Y$67+IF('Simulador Pagos Oportunos'!$X$35=3,'Simulador Pagos Oportunos'!$I$49,IF('Simulador Pagos Oportunos'!$X$35=4,'Simulador Pagos Oportunos'!$K$49,IF('Simulador Pagos Oportunos'!$X$35=5,'Simulador Pagos Oportunos'!$M$49,0)))))","v":0},null,{"$f":"AQ59*'Simulador Pagos Oportunos'!$X$59","v":0},0,0,"",0,45]
[46,0,null,0,null,0,null,0,null,null,null,{"$f":"IF('Simulador Pagos Oportunos'!$V$60=1,0,J60*'Simulador Pagos Oportunos'!$O$63*'Simulador Pagos Oportunos'!$W$59)","v":0},null,"",null,0,null,{"$f":"IFERROR(IF(B60<=0,0,B60*'Simulador Pagos Oportunos'!$Y$67),0)","v":0},null,{"$f":"IFERROR(IF(B60<=0,0,IF('Simulador Pagos Oportunos'!$X$35=3,'Simulador Pagos Oportunos'!$I$49,IF('Simulador Pagos Oportunos'!$X$35=4,'Simulador Pagos Oportunos'!$K$49,IF('Simulador Pagos Oportunos'!$X$35=5,'Simulador Pagos Oportunos'!$M$49,0)))),0)","v":0},null,{"$f":"IF(B60<=0,\"\",IF('Simulador Pagos Oportunos'!$V$40=1,'Simulador Pagos Oportunos'!$Z$62,'Simulador Pagos Oportunos'!$Z$62*'Simulador Pagos Oportunos'!$W$59))","v":""},{"$f":"F60*'Simulador Pagos Oportunos'!$X$59","v":0},"",null,null,null,3,10,0,0,0,"",{"$f":"IF('Simulador Pagos Oportunos'!$X$35=3,AI60,IF('Simulador Pagos Oportunos'!$X$35=4,AJ60,IF('Simulador Pagos Oportunos'!$X$35=5,AK60,0)))","v":0.184},0.17899999999999999,0.18,0.184,0,0,0,0,0,0,0,0,{"$f":"IF('Simulador Pagos Oportunos'!$X$35=3,AI60,IF('Simulador Pagos Oportunos'!$X$35=4,AJ60,IF('Simulador Pagos Oportunos'!$X$35=5,AK60,0)))","v":0.184},{"$f":"IF(AO60<=0,0,IF('Simulador Pagos Oportunos'!$AC$62=1,0,AO60*'Simulador Pagos Oportunos'!$Y$67+IF('Simulador Pagos Oportunos'!$X$35=3,'Simulador Pagos Oportunos'!$I$49,IF('Simulador Pagos Oportunos'!$X$35=4,'Simulador Pagos Oportunos'!$K$49,IF('Simulador Pagos Oportunos'!$X$35=5,'Simulador Pagos Oportunos'!$M$49,0)))))","v":0},null,{"$f":"AQ60*'Simulador Pagos Oportunos'!$X$59","v":0},0,0,"",0,46]
[47,0,null,0,null,0,null,0,null,null,null,{"$f":"IF('Simulador Pagos Oportunos'!$V$60=1,0,J61*'Simulador Pagos Oportunos'!$O$63*'Simulador Pagos Oportunos'!$W$59)","v":0},null,"",null,0,null,{"$f":"IFERROR(IF(B61<=0,0,B61*'Simulador Pagos Oportunos'!$Y$67),0)","v":0},null,{"$f":"IFERROR(IF(B61<=0,0,IF('Simulador Pagos Oportunos'!$X$35=3,'Simulador Pagos Oportunos'!$I$49,IF('Simulador Pagos Oportunos'!$X$35=4,'Simulador Pagos Oportunos'!$K$49,IF('Simulador Pagos Oportunos'!$X$35=5,'Simulador Pagos Oportunos'!$M$49,0)))),0)","v":0},null,{"$f":"IF(B61<=0,\"\",IF('Simulador Pagos Oportunos'!$V$40=1,'Simulador Pagos Oportunos'!$Z$62,'Simulador Pagos Oportunos'!$Z$62*'Simulador Pagos Oportunos'!$W$59))","v":""},{"$f":"F61*'Simulador Pagos Oportunos'!$X$59","v":0},"",null,null,null,3,11,0,0,0,"",{"$f":"IF('Simulador Pagos Oportunos'!$X$35=3,AI61,IF('Simulador Pagos Oportunos'!$X$35=4,AJ61,IF('Simulador Pagos Oportunos'!$X$35=5,AK61,0)))","v":0.184},0.17899999999999999,0.18,0.184,0,0,0,0,0,0,0,0,{"$f":"IF('Simulador Pagos Oportunos'!$X$35=3,AI61,IF('Simulador Pagos Oportunos'!$X$35=4,AJ61,IF('Simulador Pagos Oportunos'!$X$35=5,AK61,0)))","v":0.184},{"$f":"IF(AO61<=0,0,IF('Simulador Pagos Oportunos'!$AC$62=1,0,AO61*'Simulador Pagos Oportunos'!$Y$67+IF('Simulador Pagos Oportunos'!$X$35=3,'Simulador Pagos Oportunos'!$I$49,IF('Simulador Pagos Oportunos'!$X$35=4,'Simulador Pagos Oportunos'!$K$49,IF('Simulador Pagos Oportunos'!$X$35=5,'Simulador Pagos Oportunos'!$M$49,0)))))","v":0},null,{"$f":"AQ61*'Simulador Pagos Oportunos'!$X$59","v":0},0,0,"",0,47]
[48,0,null,0,null,0,null,0,null,null,null,{"$f":"IF('Simulador Pagos Oportunos'!$V$60=1,0,J62*'Simulador Pagos Oportunos'!$O$63*'Simulador Pagos Oportunos'!$W$59)","v":0},null,"",null,0,null,{"$f":"IFERROR(IF(B62<=0,0,B62*'Simulador Pagos Oportunos'!$Y$67),0)","v":0},null,{"$f":"IFERROR(IF(B62<=0,0,IF('Simulador Pagos Oportunos'!$X$35=3,'Simulador Pagos Oportunos'!$I$49,IF('Simulador Pagos Oportunos'!$X$35=4,'Simulador Pagos Oportunos'!$K$49,IF('Simulador Pagos Oportunos'!$X$35=5,'Simulador Pagos Oportunos'!$M$49,0)))),0)","v":0},null,{"$f":"IF(B62<=0,\"\",IF('Simulador Pagos Oportunos'!$V$40=1,'Simulador Pagos Oportunos'!$Z$62,'Simulador Pagos Oportunos'!$Z$62*'Simulador Pagos Oportunos'!$W$59))","v":""},{"$f":"F62*'Simulador Pagos Oportunos'!$X$59","v":0},"",null,null,null,4,0,0,0,0,"",{"$f":"IF('Simulador Pagos Oportunos'!$X$35=3,AI62,IF('Simulador Pagos Oportunos'!$X$35=4,AJ62,IF('Simulador Pagos Oportunos'!$X$35=5,AK62,0)))","v":0.184},0.17899999999999999,0.18,0.184,0,0,0,0,0,0,0,0,{"$f":"IF('Simulador Pagos Oportunos'!$X$35=3,AI62,IF('Simulador Pagos Oportunos'!$X$35=4,AJ62,IF('Simulador Pagos Oportunos'!$X$35=5,AK62,0)))","v":0.184},{"$f":"IF(AO62<=0,0,IF('Simulador Pagos Oportunos'!$AC$62=1,0,AO62*'Simulador Pagos Oportunos'!$Y$67+IF('Simulador Pagos Oportunos'!$X$35=3,'Simulador Pagos Oportunos'!$I$49,IF('Simulador Pagos Oportunos'!$X$35=4,'Simulador Pagos Oportunos'!$K$49,IF('Simulador Pagos Oportunos'!$X$35=5,'Simulador Pagos Oportunos'!$M$49,0)))))","v":0},null,{"$f":"AQ62*'Simulador Pagos Oportunos'!$X$59","v":0},0,0,"",0,48]
[49,0,null,0,null,0,null,0,null,null,null,{"$f":"IF('Simulador Pagos Oportunos'!$V$60=1,0,J63*'Simulador Pagos Oportunos'!$O$63*'Simulador Pagos Oportunos'!$W$59)","v":0},null,"",null,0,null,{"$f":"IFERROR(IF(B63<=0,0,B63*'Simulador Pagos Oportunos'!$Y$67),0)","v":0},null,{"$f":"IFERROR(IF(B63<=0,0,IF('Simulador Pagos Oportunos'!$X$35=3,'Simulador Pagos Oportunos'!$I$49,IF('Simulador Pagos Oportunos'!$X$35=4,'Simulador Pagos Oportunos'!$K$49,IF('Simulador Pagos Oportunos'!$X$35=5,'Simulador Pagos Oportunos'!$M$49,0)))),0)","v":0},null,{"$f":"IF(B63<=0,\"\",IF('Simulador Pagos Oportunos'!$V$40=1,'Simulador Pagos Oportunos'!$Z$62,'Simulador Pagos Oportunos'!$Z$62*'Simulador Pagos Oportunos'!$W$59))","v":""},{"$f":"F63*'Simulador Pagos Oportunos'!$X$59","v":0},"",null,{"$f":"IF(B63<=0,0,'Simulador Pagos Oportunos'!$AM$48)","v":0},null,4,1,0,0,0,"",{"$f":"IF('Simulador Pagos Oportunos'!$X$35=3,AI63,IF('Simulador Pagos Oportunos'!$X$35=4,AJ63,IF('Simulador Pagos Oportunos'!$X$35=5,AK63,0)))","v":0.1825},{"$f":"AI62-0.15%","v":0.17749999999999999},{"$f":"AJ62-0.15%","v":0.17849999999999999},{"$f":"AK62-0.15%","v":0.1825},0,0,0,0,0,0,0,0,{"$f":"IF('Simulador Pagos Oportunos'!$X$35=3,AI63,IF('Simulador Pagos Oportunos'!$X$35=4,AJ63,IF('Simulador Pagos Oportunos'!$X$35=5,AK63,0)))","v":0.1825},{"$f":"IF(AO63<=0,0,IF('Simulador Pagos Oportunos'!$AC$62=1,0,AO63*'Simulador Pagos Oportunos'!$Y$67+IF('Simulador Pagos Oportunos'!$X$35=3,'Simulador Pagos Oportunos'!$I$49,IF('Simulador Pagos Oportunos'!$X$35=4,'Simulador Pagos Oportunos'!$K$49,IF('Simulador Pagos Oportunos'!$X$35=5,'Simulador Pagos Oportunos'!$M$49,0)))))","v":0},{"$f":"IF(AO63<=0,0,$AV$32)","v":0},{"$f":"AQ63*'Simulador Pagos Oportunos'!$X$59","v":0},0,0,"",0,49]
[50,0,null,0,null,0,null,0,null,null,null,{"$f":"IF('Simulador Pagos Oportunos'!$V$60=1,0,J64*'Simulador Pagos Oportunos'!$O$63*'Simulador Pagos Oportunos'!$W$59)","v":0},null,"",null,0,null,{"$f":"IFERROR(IF(B64<=0,0,B64*'Simulador Pagos Oportunos'!$Y$67),0)","v":0},null,{"$f":"IFERROR(IF(B64<=0,0,IF('Simulador Pagos Oportunos'!$X$35=3,'Simulador Pagos Oportunos'!$I$49,IF('Simulador Pagos Oportunos'!$X$35=4,'Simulador Pagos Oportunos'!$K$49,IF('Simulador Pagos Oportunos'!$X$35=5,'Simulador Pagos Oportunos'!$M$49,0)))),0)","v":0},null,{"$f":"IF(B64<=0,\"\",IF('Simulador Pagos Oportunos'!$V$40=1,'Simulador Pagos Oportunos'!$Z$62,'Simulador Pagos Oportunos'!$Z$62*'Simulador Pagos Oportunos'!$W$59))","v":""},{"$f":"F64*'Simulador Pagos Oportunos'!$X$59","v":0},"",null,null,null,4,2,0,0,0,"",{"$f":"IF('Simulador Pagos Oportunos'!$X$35=3,AI64,IF('Simulador Pagos Oportunos'!$X$35=4,AJ64,IF('Simulador Pagos Oportunos'!$X$35=5,AK64,0)))","v":0.1825},{"$f":"AI63","v":0.17749999999999999},0.17849999999999999,0.1825,0,0,0,0,0,0,0,0,{"$f":"IF('Simulador Pagos Oportunos'!$X$35=3,AI64,IF('Simulador Pagos Oportunos'!$X$35=4,AJ64,IF('Simulador Pagos Oportunos'!$X$35=5,AK64,0)))","v":0.1825},{"$f":"IF(AO64<=0,0,IF('Simulador Pagos Oportunos'!$AC$62=1,0,AO64*'Simulador Pagos Oportunos'!$Y$67+IF('Simulador Pagos Oportunos'!$X$35=3,'Simulador Pagos Oportunos'!$I$49,IF('Simulador Pagos Oportunos'!$X$35=4,'Simulador Pagos Oportunos'!$K$49,IF('Simulador Pagos Oportunos'!$X$35=5,'Simulador Pagos Oportunos'!$M$49,0)))))","v":0},null,{"$f":"AQ64*'Simulador Pagos Oportunos'!$X$59","v":0},0,0,"",0,50]
[51,0,null,0,null,0,null,0,null,null,null,{"$f":"IF('Simulador Pagos Oportunos'!$V$60=1,0,J65*'Simulador Pagos Oportunos'!$O$63*'Simulador Pagos Oportunos'!$W$59)","v":0},null,"",null,0,null,{"$f":"IFERROR(IF(B65<=0,0,B65*'Simulador Pagos Oportunos'!$Y$67),0)","v":0},null,{"$f":"IFERROR(IF(B65<=0,0,IF('Simulador Pagos Oportunos'!$X$35=3,'Simulador Pagos Oportunos'!$I$49,IF('Simulador Pagos Oportunos'!$X$35=4,'Simulador Pagos Oportunos'!$K$49,IF('Simulador Pagos Oportunos'!$X$35=5,'Simulador Pagos Oportunos'!$M$49,0)))),0)","v":0},null,{"$f":"IF(B65<=0,\"\",IF('Simulador Pagos Oportunos'!$V$40=1,'Simulador Pagos Oportunos'!$Z$62,'Simulador Pagos Oportunos'!$Z$62*'Simulador Pagos Oportunos'!$W$59))","v":""},{"$f":"F65*'Simulador Pagos Oportunos'!$X$59","v":0},"",null,null,null,4,3,0,0,0,"",{"$f":"IF('Simulador Pagos Oportunos'!$X$35=3,AI65,IF('Simulador Pagos Oportunos'!$X$35=4,AJ65,IF('Simulador Pagos Oportunos'!$X$35=5,AK65,0)))","v":0.1825},0.17749999999999999,0.17849999999999999,0.1825,0,0,0,0,0,0,0,0,{"$f":"IF('Simulador Pagos Oportunos'!$X$35=3,AI65,IF('Simulador Pagos Oportunos'!$X$35=4,AJ65,IF('Simulador Pagos Oportunos'!$X$35=5,AK65,0)))","v":0.1825},{"$f":"IF(AO65<=0,0,IF('Simulador Pagos Oportunos'!$AC$62=1,0,AO65*'Simulador Pagos Oportunos'!$Y$67+IF('Simulador Pagos Oportunos'!$X$35=3,'Simulador Pagos Oportunos'!$I$49,IF('Simulador Pagos Oportunos'!$X$35=4,'Simulador Pagos Oportunos'!$K$49,IF('Simulador Pagos Oportunos'!$X$35=5,'Simulador Pagos Oportunos'!$M$49,0)))))","v":0},null,{"$f":"AQ65*'Simulador Pagos Oportunos'!$X$59","v":0},0,0,"",0,51]
[52,0,null,0,null,0,null,0,null,null,null,{"$f":"IF('Simulador Pagos Oportunos'!$V$60=1,0,J66*'Simulador Pagos Oportunos'!$O$63*'Simulador Pagos Oportunos'!$W$59)","v":0},null,"",null,0,null,{"$f":"IFERROR(IF(B66<=0,0,B66*'Simulador Pagos Oportunos'!$Y$67),0)","v":0},null,{"$f":"IFERROR(IF(B66<=0,0,IF('Simulador Pagos Oportunos'!$X$35=3,'Simulador Pagos Oportunos'!$I$49,IF('Simulador Pagos Oportunos'!$X$35=4,'Simulador Pagos Oportunos'!$K$49,IF('Simulador Pagos Oportunos'!$X$35=5,'Simulador Pagos Oportunos'!$M$49,0)))),0)","v":0},null,{"$f":"IF(B66<=0,\"\",IF('Simulador Pagos Oportunos'!$V$40=1,'Simulador Pagos Oportunos'!$Z$62,'Simulador Pagos Oportunos'!$Z$62*'Simulador Pagos Oportunos'!$W$59))","v":""},{"$f":"F66*'Simulador Pagos Oportunos'!$X$59","v":0},"",null,null,null,4,4,0,0,0,"",{"$f":"IF('Simulador Pagos Oportunos'!$X$35=3,AI66,IF('Simulador Pagos Oportunos'!$X$35=4,AJ66,IF('Simulador Pagos Oportunos'!$X$35=5,AK66,0)))","v":0.1825},0.17749999999999999,0.17849999999999999,0.1825,0,0,0,0,0,0,0,0,{"$f":"IF('Simulador Pagos Oportunos'!$X$35=3,AI66,IF('Simulador Pagos Oportunos'!$X$35=4,AJ66,IF('Simulador Pagos Oportunos'!$X$35=5,AK66,0)))","v":0.1825},{"$f":"IF(AO66<=0,0,IF('Simulador Pagos Oportunos'!$AC$62=1,0,AO66*'Simulador Pagos Oportunos'!$Y$67+IF('Simulador Pagos Oportunos'!$X$35=3,'Simulador Pagos Oportunos'!$I$49,IF('Simulador Pagos Oportunos'!$X$35=4,'Simulador Pagos Oportunos'!$K$49,IF('Simulador Pagos Oportunos'!$X$35=5,'Simulador Pagos Oportunos'!$M$49,0)))))","v":0},null,{"$f":"AQ66*'Simulador Pagos Oportunos'!$X$59","v":0},0,0,"",0,52]
[53,0,null,0,null,0,null,0,null,null,null,{"$f":"IF('Simulador Pagos Oportunos'!$V$60=1,0,J67*'Simulador Pagos Oportunos'!$O$63*'Simulador Pagos Oportunos'!$W$59)","v":0},null,"",null,0,null,{"$f":"IFERROR(IF(B67<=0,0,B67*'Simulador Pagos Oportunos'!$Y$67),0)","v":0},null,{"$f":"IFERROR(IF(B67<=0,0,IF('Simulador Pagos Oportunos'!$X$35=3,'Simulador Pagos Oportunos'!$I$49,IF('Simulador Pagos Oportunos'!$X$35=4,'Simulador Pagos Oportunos'!$K$49,IF('Simulador Pagos Oportunos'!$X$35=5,'Simulador Pagos Oportunos'!$M$49,0)))),0)","v":0},null,{"$f":"IF(B67<=0,\"\",IF('Simulador Pagos Oportunos'!$V$40=1,'Simulador Pagos Oportunos'!$Z$62,'Simulador Pagos Oportunos'!$Z$62*'Simulador Pagos Oportunos'!$W$59))","v":""},{"$f":"F67*'Simulador Pagos Oportunos'!$X$59","v":0},"",null,null,null,4,5,0,0,0,"",{"$f":"IF('Simulador Pagos Oportunos'!$X$35=3,AI67,IF('Simulador Pagos Oportunos'!$X$35=4,AJ67,IF('Simulador Pagos Oportunos'!$X$35=5,AK67,0)))","v":0.1825},0.17749999999999999,0.17849999999999999,0.1825,0,0,0,0,0,0,0,0,{"$f":"IF('Simulador Pagos Oportunos'!$X$35=3,AI67,IF('Simulador Pagos Oportunos'!$X$35=4,AJ67,IF('Simulador Pagos Oportunos'!$X$35=5,AK67,0)))","v":0.1825},{"$f":"IF(AO67<=0,0,IF('Simulador Pagos Oportunos'!$AC$62=1,0,AO67*'Simulador Pagos Oportunos'!$Y$67+IF('Simulador Pagos Oportunos'!$X$35=3,'Simulador Pagos Oportunos'!$I$49,IF('Simulador Pagos Oportunos'!$X$35=4,'Simulador Pagos Oportunos'!$K$49,IF('Simulador Pagos Oportunos'!$X$35=5,'Simulador Pagos Oportunos'!$M$49,0)))))","v":0},null,{"$f":"AQ67*'Simulador Pagos Oportunos'!$X$59","v":0},0,0,"",0,53]
[54,0,null,0,null,0,null,0,null,null,null,{"$f":"IF('Simulador Pagos Oportunos'!$V$60=1,0,J68*'Simulador Pagos Oportunos'!$O$63*'Simulador Pagos Oportunos'!$W$59)","v":0},null,"",null,0,null,{"$f":"IFERROR(IF(B68<=0,0,B68*'Simulador Pagos Oportunos'!$Y$67),0)","v":0},null,{"$f":"IFERROR(IF(B68<=0,0,IF('Simulador Pagos Oportunos'!$X$35=3,'Simulador Pagos Oportunos'!$I$49,IF('Simulador Pagos Oportunos'!$X$35=4,'Simulador Pagos Oportunos'!$K$49,IF('Simulador Pagos Oportunos'!$X$35=5,'Simulador Pagos Oportunos'!$M$49,0)))),0)","v":0},null,{"$f":"IF(B68<=0,\"\",IF('Simulador Pagos Oportunos'!$V$40=1,'Simulador Pagos Oportunos'!$Z$62,'Simulador Pagos Oportunos'!$Z$62*'Simulador Pagos Oportunos'!$W$59))","v":""},{"$f":"F68*'Simulador Pagos Oportunos'!$X$59","v":0},"",null,null,null,4,6,0,0,0,"",{"$f":"IF('Simulador Pagos Oportunos'!$X$35=3,AI68,IF('Simulador Pagos Oportunos'!$X$35=4,AJ68,IF('Simulador Pagos Oportunos'!$X$35=5,AK68,0)))","v":0.1825},0.17749999999999999,0.17849999999999999,0.1825,0,0,0,0,0,0,0,0,{"$f":"IF('Simulador Pagos Oportunos'!$X$35=3,AI68,IF('Simulador Pagos Oportunos'!$X$35=4,AJ68,IF('Simulador Pagos Oportunos'!$X$35=5,AK68,0)))","v":0.1825},{"$f":"IF(AO68<=0,0,IF('Simulador Pagos Oportunos'!$AC$62=1,0,AO68*'Simulador Pagos Oportunos'!$Y$67+IF('Simulador Pagos Oportunos'!$X$35=3,'Simulador Pagos Oportunos'!$I$49,IF('Simulador Pagos Oportunos'!$X$35=4,'Simulador Pagos Oportunos'!$K$49,IF('Simulador Pagos Oportunos'!$X$35=5,'Simulador Pagos Oportunos'!$M$49,0)))))","v":0},null,{"$f":"AQ68*'Simulador Pagos Oportunos'!$X$59","v":0},0,0,"",0,54]
[55,0,null,0,null,0,null,0,null,null,null,{"$f":"IF('Simulador Pagos Oportunos'!$V$60=1,0,J69*'Simulador Pagos Oportunos'!$O$63*'Simulador Pagos Oportunos'!$W$59)","v":0},null,"",null,0,null,{"$f":"IFERROR(IF(B69<=0,0,B69*'Simulador Pagos Oportunos'!$Y$67),0)","v":0},null,{"$f":"IFERROR(IF(B69<=0,0,IF('Simulador Pagos Oportunos'!$X$35=3,'Simulador Pagos Oportunos'!$I$49,IF('Simulador Pagos Oportunos'!$X$35=4,'Simulador Pagos Oportunos'!$K$49,IF('Simulador Pagos Oportunos'!$X$35=5,'Simulador Pagos Oportunos'!$M$49,0)))),0)","v":0},null,{"$f":"IF(B69<=0,\"\",IF('Simulador Pagos Oportunos'!$V$40=1,'Simulador Pagos Oportunos'!$Z$62,'Simulador Pagos Oportunos'!$Z$62*'Simulador Pagos Oportunos'!$W$59))","v":""},{"$f":"F69*'Simulador Pagos Oportunos'!$X$59","v":0},"",null,null,null,4,7,0,0,0,"",{"$f":"IF('Simulador Pagos Oportunos'!$X$35=3,AI69,IF('Simulador Pagos Oportunos'!$X$35=4,AJ69,IF('Simulador Pagos Oportunos'!$X$35=5,AK69,0)))","v":0.1825},0.17749999999999999,0.17849999999999999,0.1825,0,0,0,0,0,0,0,0,{"$f":"IF('Simulador Pagos Oportunos'!$X$35=3,AI69,IF('Simulador Pagos Oportunos'!$X$35=4,AJ69,IF('Simulador Pagos Oportunos'!$X$35=5,AK69,0)))","v":0.1825},{"$f":"IF(AO69<=0,0,IF('Simulador Pagos Oportunos'!$AC$62=1,0,AO69*'Simulador Pagos Oportunos'!$Y$67+IF('Simulador Pagos Oportunos'!$X$35=3,'Simulador Pagos Oportunos'!$I$49,IF('Simulador Pagos Oportunos'!$X$35=4,'Simulador Pagos Oportunos'!$K$49,IF('Simulador Pagos Oportunos'!$X$35=5,'Simulador Pagos Oportunos'!$M$49,0)))))","v":0},null,{"$f":"AQ69*'Simulador Pagos Oportunos'!$X$59","v":0},0,0,"",0,55]
[56,0,null,0,null,0,null,0,null,null,null,{"$f":"IF('Simulador Pagos Oportunos'!$V$60=1,0,J70*'Simulador Pagos Oportunos'!$O$63*'Simulador Pagos Oportunos'!$W$59)","v":0},null,"",null,0,null,{"$f":"IFERROR(IF(B70<=0,0,B70*'Simulador Pagos Oportunos'!$Y$67),0)","v":0},null,{"$f":"IFERROR(IF(B70<=0,0,IF('Simulador Pagos Oportunos'!$X$35=3,'Simulador Pagos Oportunos'!$I$49,IF('Simulador Pagos Oportunos'!$X$35=4,'Simulador Pagos Oportunos'!$K$49,IF('Simulador Pagos Oportunos'!$X$35=5,'Simulador Pagos Oportunos'!$M$49,0)))),0)","v":0},null,{"$f":"IF(B70<=0,\"\",IF('Simulador Pagos Oportunos'!$V$40=1,'Simulador Pagos Oportunos'!$Z$62,'Simulador Pagos Oportunos'!$Z$62*'Simulador Pagos Oportunos'!$W$59))","v":""},{"$f":"F70*'Simulador Pagos Oportunos'!$X$59","v":0},"",null,null,null,4,8,0,0,0,"",{"$f":"IF('Simulador Pagos Oportunos'!$X$35=3,AI70,IF('Simulador Pagos Oportunos'!$X$35=4,AJ70,IF('Simulador Pagos Oportunos'!$X$35=5,AK70,0)))","v":0.1825},0.17749999999999999,0.17849999999999999,0.1825,0,0,0,0,0,0,0,0,{"$f":"IF('Simulador Pagos Oportunos'!$X$35=3,AI70,IF('Simulador Pagos Oportunos'!$X$35=4,AJ70,IF('Simulador Pagos Oportunos'!$X$35=5,AK70,0)))","v":0.1825},{"$f":"IF(AO70<=0,0,IF('Simulador Pagos Oportunos'!$AC$62=1,0,AO70*'Simulador Pagos Oportunos'!$Y$67+IF('Simulador Pagos Oportunos'!$X$35=3,'Simulador Pagos Oportunos'!$I$49,IF('Simulador Pagos Oportunos'!$X$35=4,'Simulador Pagos Oportunos'!$K$49,IF('Simulador Pagos Oportunos'!$X$35=5,'Simulador Pagos Oportunos'!$M$49,0)))))","v":0},null,{"$f":"AQ70*'Simulador Pagos Oportunos'!$X$59","v":0},0,0,"",0,56]
[57,0,null,0,null,0,null,0,null,null,null,{"$f":"IF('Simulador Pagos Oportunos'!$V$60=1,0,J71*'Simulador Pagos Oportunos'!$O$63*'Simulador Pagos Oportunos'!$W$59)","v":0},null,"",null,0,null,{"$f":"IFERROR(IF(B71<=0,0,B71*'Simulador Pagos Oportunos'!$Y$67),0)","v":0},null,{"$f":"IFERROR(IF(B71<=0,0,IF('Simulador Pagos Oportunos'!$X$35=3,'Simulador Pagos Oportunos'!$I$49,IF('Simulador Pagos Oportunos'!$X$35=4,'Simulador Pagos Oportunos'!$K$49,IF('Simulador Pagos Oportunos'!$X$35=5,'Simulador Pagos Oportunos'!$M$49,0)))),0)","v":0},null,{"$f":"IF(B71<=0,\"\",IF('Simulador Pagos Oportunos'!$V$40=1,'Simulador Pagos Oportunos'!$Z$62,'Simulador Pagos Oportunos'!$Z$62*'Simulador Pagos Oportunos'!$W$59))","v":""},{"$f":"F71*'Simulador Pagos Oportunos'!$X$59","v":0},"",null,null,null,4,9,0,0,0,"",{"$f":"IF('Simulador Pagos Oportunos'!$X$35=3,AI71,IF('Simulador Pagos Oportunos'!$X$35=4,AJ71,IF('Simulador Pagos Oportunos'!$X$35=5,AK71,0)))","v":0.1825},0.17749999999999999,0.17849999999999999,0.1825,0,0,0,0,0,0,0,0,{"$f":"IF('Simulador Pagos Oportunos'!$X$35=3,AI71,IF('Simulador Pagos Oportunos'!$X$35=4,AJ71,IF('Simulador Pagos Oportunos'!$X$35=5,AK71,0)))","v":0.1825},{"$f":"IF(AO71<=0,0,IF('Simulador Pagos Oportunos'!$AC$62=1,0,AO71*'Simulador Pagos Oportunos'!$Y$67+IF('Simulador Pagos Oportunos'!$X$35=3,'Simulador Pagos Oportunos'!$I$49,IF('Simulador Pagos Oportunos'!$X$35=4,'Simulador Pagos Oportunos'!$K$49,IF('Simulador Pagos Oportunos'!$X$35=5,'Simulador Pagos Oportunos'!$M$49,0)))))","v":0},null,{"$f":"AQ71*'Simulador Pagos Oportunos'!$X$59","v":0},0,0,"",0,57]
[58,0,null,0,null,0,null,0,null,null,null,{"$f":"IF('Simulador Pagos Oportunos'!$V$60=1,0,J72*'Simulador Pagos Oportunos'!$O$63*'Simulador Pagos Oportunos'!$W$59)","v":0},null,"",null,0,null,{"$f":"IFERROR(IF(B72<=0,0,B72*'Simulador Pagos Oportunos'!$Y$67),0)","v":0},null,{"$f":"IFERROR(IF(B72<=0,0,IF('Simulador Pagos Oportunos'!$X$35=3,'Simulador Pagos Oportunos'!$I$49,IF('Simulador Pagos Oportunos'!$X$35=4,'Simulador Pagos Oportunos'!$K$49,IF('Simulador Pagos Oportunos'!$X$35=5,'Simulador Pagos Oportunos'!$M$49,0)))),0)","v":0},null,{"$f":"IF(B72<=0,\"\",IF('Simulador Pagos Oportunos'!$V$40=1,'Simulador Pagos Oportunos'!$Z$62,'Simulador Pagos Oportunos'!$Z$62*'Simulador Pagos Oportunos'!$W$59))","v":""},{"$f":"F72*'Simulador Pagos Oportunos'!$X$59","v":0},"",null,null,null,4,10,0,0,0,"",{"$f":"IF('Simulador Pagos Oportunos'!$X$35=3,AI72,IF('Simulador Pagos Oportunos'!$X$35=4,AJ72,IF('Simulador Pagos Oportunos'!$X$35=5,AK72,0)))","v":0.1825},0.17749999999999999,0.17849999999999999,0.1825,0,0,0,0,0,0,0,0,{"$f":"IF('Simulador Pagos Oportunos'!$X$35=3,AI72,IF('Simulador Pagos Oportunos'!$X$35=4,AJ72,IF('Simulador Pagos Oportunos'!$X$35=5,AK72,0)))","v":0.1825},{"$f":"IF(AO72<=0,0,IF('Simulador Pagos Oportunos'!$AC$62=1,0,AO72*'Simulador Pagos Oportunos'!$Y$67+IF('Simulador Pagos Oportunos'!$X$35=3,'Simulador Pagos Oportunos'!$I$49,IF('Simulador Pagos Oportunos'!$X$35=4,'Simulador Pagos Oportunos'!$K$49,IF('Simulador Pagos Oportunos'!$X$35=5,'Simulador Pagos Oportunos'!$M$49,0)))))","v":0},null,{"$f":"AQ72*'Simulador Pagos Oportunos'!$X$59","v":0},0,0,"",0,58]
[59,0,null,0,null,0,null,0,null,null,null,{"$f":"IF('Simulador Pagos Oportunos'!$V$60=1,0,J73*'Simulador Pagos Oportunos'!$O$63*'Simulador Pagos Oportunos'!$W$59)","v":0},null,"",null,0,null,{"$f":"IFERROR(IF(B73<=0,0,B73*'Simulador Pagos Oportunos'!$Y$67),0)","v":0},null,{"$f":"IFERROR(IF(B73<=0,0,IF('Simulador Pagos Oportunos'!$X$35=3,'Simulador Pagos Oportunos'!$I$49,IF('Simulador Pagos Oportunos'!$X$35=4,'Simulador Pagos Oportunos'!$K$49,IF('Simulador Pagos Oportunos'!$X$35=5,'Simulador Pagos Oportunos'!$M$49,0)))),0)","v":0},null,{"$f":"IF(B73<=0,\"\",IF('Simulador Pagos Oportunos'!$V$40=1,'Simulador Pagos Oportunos'!$Z$62,'Simulador Pagos Oportunos'!$Z$62*'Simulador Pagos Oportunos'!$W$59))","v":""},{"$f":"F73*'Simulador Pagos Oportunos'!$X$59","v":0},"",null,null,null,4,11,0,0,0,"",{"$f":"IF('Simulador Pagos Oportunos'!$X$35=3,AI73,IF('Simulador Pagos Oportunos'!$X$35=4,AJ73,IF('Simulador Pagos Oportunos'!$X$35=5,AK73,0)))","v":0.1825},0.17749999999999999,0.17849999999999999,0.1825,0,0,0,0,0,0,0,0,{"$f":"IF('Simulador Pagos Oportunos'!$X$35=3,AI73,IF('Simulador Pagos Oportunos'!$X$35=4,AJ73,IF('Simulador Pagos Oportunos'!$X$35=5,AK73,0)))","v":0.1825},{"$f":"IF(AO73<=0,0,IF('Simulador Pagos Oportunos'!$AC$62=1,0,AO73*'Simulador Pagos Oportunos'!$Y$67+IF('Simulador Pagos Oportunos'!$X$35=3,'Simulador Pagos Oportunos'!$I$49,IF('Simulador Pagos Oportunos'!$X$35=4,'Simulador Pagos Oportunos'!$K$49,IF('Simulador Pagos Oportunos'!$X$35=5,'Simulador Pagos Oportunos'!$M$49,0)))))","v":0},null,{"$f":"AQ73*'Simulador Pagos Oportunos'!$X$59","v":0},0,0,"",0,59]
[60,0,null,0,null,0,null,0,null,null,null,{"$f":"IF('Simulador Pagos Oportunos'!$V$60=1,0,J74*'Simulador Pagos Oportunos'!$O$63*'Simulador Pagos Oportunos'!$W$59)","v":0},null,"",null,0,null,{"$f":"IFERROR(IF(B74<=0,0,B74*'Simulador Pagos Oportunos'!$Y$67),0)","v":0},null,{"$f":"IFERROR(IF(B74<=0,0,IF('Simulador Pagos Oportunos'!$X$35=3,'Simulador Pagos Oportunos'!$I$49,IF('Simulador Pagos Oportunos'!$X$35=4,'Simulador Pagos Oportunos'!$K$49,IF('Simulador Pagos Oportunos'!$X$35=5,'Simulador Pagos Oportunos'!$M$49,0)))),0)","v":0},null,{"$f":"IF(B74<=0,\"\",IF('Simulador Pagos Oportunos'!$V$40=1,'Simulador Pagos Oportunos'!$Z$62,'Simulador Pagos Oportunos'!$Z$62*'Simulador Pagos Oportunos'!$W$59))","v":""},{"$f":"F74*'Simulador Pagos Oportunos'!$X$59","v":0},"",null,null,null,5,0,0,0,0,"",{"$f":"IF('Simulador Pagos Oportunos'!$X$35=3,AI74,IF('Simulador Pagos Oportunos'!$X$35=4,AJ74,IF('Simulador Pagos Oportunos'!$X$35=5,AK74,0)))","v":0.1825},0.17749999999999999,0.17849999999999999,0.1825,0,0,0,0,0,0,0,0,{"$f":"IF('Simulador Pagos Oportunos'!$X$35=3,AI74,IF('Simulador Pagos Oportunos'!$X$35=4,AJ74,IF('Simulador Pagos Oportunos'!$X$35=5,AK74,0)))","v":0.1825},{"$f":"IF(AO74<=0,0,IF('Simulador Pagos Oportunos'!$AC$62=1,0,AO74*'Simulador Pagos Oportunos'!$Y$67+IF('Simulador Pagos Oportunos'!$X$35=3,'Simulador Pagos Oportunos'!$I$49,IF('Simulador Pagos Oportunos'!$X$35=4,'Simulador Pagos Oportunos'!$K$49,IF('Simulador Pagos Oportunos'!$X$35=5,'Simulador Pagos Oportunos'!$M$49,0)))))","v":0},null,{"$f":"AQ74*'Simulador Pagos Oportunos'!$X$59","v":0},0,0,"",0,60]
[61,0,null,0,null,0,null,0,null,null,null,{"$f":"IF('Simulador Pagos Oportunos'!$V$60=1,0,J75*'Simulador Pagos Oportunos'!$O$63*'Simulador Pagos Oportunos'!$W$59)","v":0},null,"",null,0,null,{"$f":"IFERROR(IF(B75<=0,0,B75*'Simulador Pagos Oportunos'!$Y$67),0)","v":0},null,{"$f":"IFERROR(IF(B75<=0,0,IF('Simulador Pagos Oportunos'!$X$35=3,'Simulador Pagos Oportunos'!$I$49,IF('Simulador Pagos Oportunos'!$X$35=4,'Simulador Pagos Oportunos'!$K$49,IF('Simulador Pagos Oportunos'!$X$35=5,'Simulador Pagos Oportunos'!$M$49,0)))),0)","v":0},null,{"$f":"IF(B75<=0,\"\",IF('Simulador Pagos Oportunos'!$V$40=1,'Simulador Pagos Oportunos'!$Z$62,'Simulador Pagos Oportunos'!$Z$62*'Simulador Pagos Oportunos'!$W$59))","v":""},{"$f":"F75*'Simulador Pagos Oportunos'!$X$59","v":0},"",null,{"$f":"IF(B75<=0,0,'Simulador Pagos Oportunos'!$AM$48)","v":0},null,5,1,0,0,0,"",{"$f":"IF('Simulador Pagos Oportunos'!$X$35=3,AI75,IF('Simulador Pagos Oportunos'!$X$35=4,AJ75,IF('Simulador Pagos Oportunos'!$X$35=5,AK75,0)))","v":0.1825},0.17749999999999999,0.17849999999999999,0.1825,0,0,0,0,0,0,0,0,{"$f":"IF('Simulador Pagos Oportunos'!$X$35=3,AI75,IF('Simulador Pagos Oportunos'!$X$35=4,AJ75,IF('Simulador Pagos Oportunos'!$X$35=5,AK75,0)))","v":0.1825},{"$f":"IF(AO75<=0,0,IF('Simulador Pagos Oportunos'!$AC$62=1,0,AO75*'Simulador Pagos Oportunos'!$Y$67+IF('Simulador Pagos Oportunos'!$X$35=3,'Simulador Pagos Oportunos'!$I$49,IF('Simulador Pagos Oportunos'!$X$35=4,'Simulador Pagos Oportunos'!$K$49,IF('Simulador Pagos Oportunos'!$X$35=5,'Simulador Pagos Oportunos'!$M$49,0)))))","v":0},{"$f":"IF(AO75<=0,0,$AV$32)","v":0},{"$f":"AQ75*'Simulador Pagos Oportunos'!$X$59","v":0},0,0,"",0,61]
[62,0,null,0,null,0,null,0,null,null,null,{"$f":"IF('Simulador Pagos Oportunos'!$V$60=1,0,J76*'Simulador Pagos Oportunos'!$O$63*'Simulador Pagos Oportunos'!$W$59)","v":0},null,"",null,0,null,{"$f":"IFERROR(IF(B76<=0,0,B76*'Simulador Pagos Oportunos'!$Y$67),0)","v":0},null,{"$f":"IFERROR(IF(B76<=0,0,IF('Simulador Pagos Oportunos'!$X$35=3,'Simulador Pagos Oportunos'!$I$49,IF('Simulador Pagos Oportunos'!$X$35=4,'Simulador Pagos Oportunos'!$K$49,IF('Simulador Pagos Oportunos'!$X$35=5,'Simulador Pagos Oportunos'!$M$49,0)))),0)","v":0},null,{"$f":"IF(B76<=0,\"\",IF('Simulador Pagos Oportunos'!$V$40=1,'Simulador Pagos Oportunos'!$Z$62,'Simulador Pagos Oportunos'!$Z$62*'Simulador Pagos Oportunos'!$W$59))","v":""},{"$f":"F76*'Simulador Pagos Oportunos'!$X$59","v":0},"",null,null,null,5,2,0,0,0,"",{"$f":"IF('Simulador Pagos Oportunos'!$X$35=3,AI76,IF('Simulador Pagos Oportunos'!$X$35=4,AJ76,IF('Simulador Pagos Oportunos'!$X$35=5,AK76,0)))","v":0.1825},0.17749999999999999,0.17849999999999999,0.1825,0,0,0,0,0,0,0,0,{"$f":"IF('Simulador Pagos Oportunos'!$X$35=3,AI76,IF('Simulador Pagos Oportunos'!$X$35=4,AJ76,IF('Simulador Pagos Oportunos'!$X$35=5,AK76,0)))","v":0.1825},{"$f":"IF(AO76<=0,0,IF('Simulador Pagos Oportunos'!$AC$62=1,0,AO76*'Simulador Pagos Oportunos'!$Y$67+IF('Simulador Pagos Oportunos'!$X$35=3,'Simulador Pagos Oportunos'!$I$49,IF('Simulador Pagos Oportunos'!$X$35=4,'Simulador Pagos Oportunos'!$K$49,IF('Simulador Pagos Oportunos'!$X$35=5,'Simulador Pagos Oportunos'!$M$49,0)))))","v":0},null,{"$f":"AQ76*'Simulador Pagos Oportunos'!$X$59","v":0},0,0,"",0,62]
[63,0,null,0,null,0,null,0,null,null,null,{"$f":"IF('Simulador Pagos Oportunos'!$V$60=1,0,J77*'Simulador Pagos Oportunos'!$O$63*'Simulador Pagos Oportunos'!$W$59)","v":0},null,"",null,0,null,{"$f":"IFERROR(IF(B77<=0,0,B77*'Simulador Pagos Oportunos'!$Y$67),0)","v":0},null,{"$f":"IFERROR(IF(B77<=0,0,IF('Simulador Pagos Oportunos'!$X$35=3,'Simulador Pagos Oportunos'!$I$49,IF('Simulador Pagos Oportunos'!$X$35=4,'Simulador Pagos Oportunos'!$K$49,IF('Simulador Pagos Oportunos'!$X$35=5,'Simulador Pagos Oportunos'!$M$49,0)))),0)","v":0},null,{"$f":"IF(B77<=0,\"\",IF('Simulador Pagos Oportunos'!$V$40=1,'Simulador Pagos Oportunos'!$Z$62,'Simulador Pagos Oportunos'!$Z$62*'Simulador Pagos Oportunos'!$W$59))","v":""},{"$f":"F77*'Simulador Pagos Oportunos'!$X$59","v":0},"",null,null,null,5,3,0,0,0,"",{"$f":"IF('Simulador Pagos Oportunos'!$X$35=3,AI77,IF('Simulador Pagos Oportunos'!$X$35=4,AJ77,IF('Simulador Pagos Oportunos'!$X$35=5,AK77,0)))","v":0.1825},0.17749999999999999,0.17849999999999999,0.1825,0,0,0,0,0,0,0,0,{"$f":"IF('Simulador Pagos Oportunos'!$X$35=3,AI77,IF('Simulador Pagos Oportunos'!$X$35=4,AJ77,IF('Simulador Pagos Oportunos'!$X$35=5,AK77,0)))","v":0.1825},{"$f":"IF(AO77<=0,0,IF('Simulador Pagos Oportunos'!$AC$62=1,0,AO77*'Simulador Pagos Oportunos'!$Y$67+IF('Simulador Pagos Oportunos'!$X$35=3,'Simulador Pagos Oportunos'!$I$49,IF('Simulador Pagos Oportunos'!$X$35=4,'Simulador Pagos Oportunos'!$K$49,IF('Simulador Pagos Oportunos'!$X$35=5,'Simulador Pagos Oportunos'!$M$49,0)))))","v":0},null,{"$f":"AQ77*'Simulador Pagos Oportunos'!$X$59","v":0},0,0,"",0,63]
[64,0,null,0,null,0,null,0,null,null,null,{"$f":"IF('Simulador Pagos Oportunos'!$V$60=1,0,J78*'Simulador Pagos Oportunos'!$O$63*'Simulador Pagos Oportunos'!$W$59)","v":0},null,"",null,0,null,{"$f":"IFERROR(IF(B78<=0,0,B78*'Simulador Pagos Oportunos'!$Y$67),0)","v":0},null,{"$f":"IFERROR(IF(B78<=0,0,IF('Simulador Pagos Oportunos'!$X$35=3,'Simulador Pagos Oportunos'!$I$49,IF('Simulador Pagos Oportunos'!$X$35=4,'Simulador Pagos Oportunos'!$K$49,IF('Simulador Pagos Oportunos'!$X$35=5,'Simulador Pagos Oportunos'!$M$49,0)))),0)","v":0},null,{"$f":"IF(B78<=0,\"\",IF('Simulador Pagos Oportunos'!$V$40=1,'Simulador Pagos Oportunos'!$Z$62,'Simulador Pagos Oportunos'!$Z$62*'Simulador Pagos Oportunos'!$W$59))","v":""},{"$f":"F78*'Simulador Pagos Oportunos'!$X$59","v":0},"",null,null,null,5,4,0,0,0,"",{"$f":"IF('Simulador Pagos Oportunos'!$X$35=3,AI78,IF('Simulador Pagos Oportunos'!$X$35=4,AJ78,IF('Simulador Pagos Oportunos'!$X$35=5,AK78,0)))","v":0.1825},0.17749999999999999,0.17849999999999999,0.1825,0,0,0,0,0,0,0,0,{"$f":"IF('Simulador Pagos Oportunos'!$X$35=3,AI78,IF('Simulador Pagos Oportunos'!$X$35=4,AJ78,IF('Simulador Pagos Oportunos'!$X$35=5,AK78,0)))","v":0.1825},{"$f":"IF(AO78<=0,0,IF('Simulador Pagos Oportunos'!$AC$62=1,0,AO78*'Simulador Pagos Oportunos'!$Y$67+IF('Simulador Pagos Oportunos'!$X$35=3,'Simulador Pagos Oportunos'!$I$49,IF('Simulador Pagos Oportunos'!$X$35=4,'Simulador Pagos Oportunos'!$K$49,IF('Simulador Pagos Oportunos'!$X$35=5,'Simulador Pagos Oportunos'!$M$49,0)))))","v":0},null,{"$f":"AQ78*'Simulador Pagos Oportunos'!$X$59","v":0},0,0,"",0,64]
[65,0,null,0,null,0,null,0,null,null,null,{"$f":"IF('Simulador Pagos Oportunos'!$V$60=1,0,J79*'Simulador Pagos Oportunos'!$O$63*'Simulador Pagos Oportunos'!$W$59)","v":0},null,"",null,0,null,{"$f":"IFERROR(IF(B79<=0,0,B79*'Simulador Pagos Oportunos'!$Y$67),0)","v":0},null,{"$f":"IFERROR(IF(B79<=0,0,IF('Simulador Pagos Oportunos'!$X$35=3,'Simulador Pagos Oportunos'!$I$49,IF('Simulador Pagos Oportunos'!$X$35=4,'Simulador Pagos Oportunos'!$K$49,IF('Simulador Pagos Oportunos'!$X$35=5,'Simulador Pagos Oportunos'!$M$49,0)))),0)","v":0},null,{"$f":"IF(B79<=0,\"\",IF('Simulador Pagos Oportunos'!$V$40=1,'Simulador Pagos Oportunos'!$Z$62,'Simulador Pagos Oportunos'!$Z$62*'Simulador Pagos Oportunos'!$W$59))","v":""},{"$f":"F79*'Simulador Pagos Oportunos'!$X$59","v":0},"",null,null,null,5,5,0,0,0,"",{"$f":"IF('Simulador Pagos Oportunos'!$X$35=3,AI79,IF('Simulador Pagos Oportunos'!$X$35=4,AJ79,IF('Simulador Pagos Oportunos'!$X$35=5,AK79,0)))","v":0.1825},0.17749999999999999,0.17849999999999999,0.1825,0,0,0,0,0,0,{"$f":"+AP79-AQ79","v":0},{"$f":"+AO79-AR79","v":0},{"$f":"IF('Simulador Pagos Oportunos'!$X$35=3,AI79,IF('Simulador Pagos Oportunos'!$X$35=4,AJ79,IF('Simulador Pagos Oportunos'!$X$35=5,AK79,0)))","v":0.1825},{"$f":"IF(AO79<=0,0,IF('Simulador Pagos Oportunos'!$AC$62=1,0,AO79*'Simulador Pagos Oportunos'!$Y$67+IF('Simulador Pagos Oportunos'!$X$35=3,'Simulador Pagos Oportunos'!$I$49,IF('Simulador Pagos Oportunos'!$X$35=4,'Simulador Pagos Oportunos'!$K$49,IF('Simulador Pagos Oportunos'!$X$35=5,'Simulador Pagos Oportunos'!$M$49,0)))))","v":0},null,{"$f":"AQ79*'Simulador Pagos Oportunos'!$X$59","v":0},0,0,"",0,65]
[66,0,null,0,null,{"$f":"IFERROR((N80/360*BA80*B80),0)","v":0},null,0,null,null,null,{"$f":"IF('Simulador Pagos Oportunos'!$V$60=1,0,J80*'Simulador Pagos Oportunos'!$O$63*'Simulador Pagos Oportunos'!$W$59)","v":0},null,{"$f":"IF(B80=0,\"\",AH80)","v":""},null,{"$f":"B80-H80-J80+L80","v":0},null,{"$f":"IFERROR(IF(B80<=0,0,B80*'Simulador Pagos Oportunos'!$Y$67),0)","v":0},null,{"$f":"IFERROR(IF(B80<=0,0,IF('Simulador Pagos Oportunos'!$X$35=3,'Simulador Pagos Oportunos'!$I$49,IF('Simulador Pagos Oportunos'!$X$35=4,'Simulador Pagos Oportunos'!$K$49,IF('Simulador Pagos Oportunos'!$X$35=5,'Simulador Pagos Oportunos'!$M$49,0)))),0)","v":0},null,{"$f":"IF(B80<=0,\"\",IF('Simulador Pagos Oportunos'!$V$40=1,'Simulador Pagos Oportunos'!$Z$62,'Simulador Pagos Oportunos'!$Z$62*'Simulador Pagos Oportunos'!$W$59))","v":""},{"$f":"F80*'Simulador Pagos Oportunos'!$X$59","v":0},{"$f":"IF(B80<=0,\"\",D80+J80+R80+V80+T80+W80)","v":""},null,null,null,5,6,{"$f":"+IF(P80<=0,IF(P79>0,+A80,0),0)","v":0},{"$f":"+IF(AD80>0,+AB80,0)","v":0},{"$f":"+IF(AD80>0,+AC80,0)","v":0},{"$f":"X80","v":""},{"$f":"IF('Simulador Pagos Oportunos'!$X$35=3,AI80,IF('Simulador Pagos Oportunos'!$X$35=4,AJ80,IF('Simulador Pagos Oportunos'!$X$35=5,AK80,0)))","v":0.1825},{"$f":"AI79","v":0.17749999999999999},{"$f":"AJ79","v":0.17849999999999999},{"$f":"AK79","v":0.1825},0,0,{"$f":"IFERROR(AP80/AO80,0)","v":0},0,{"$f":"IFERROR((IF(AO80+AQ80-AP79<0, AO80+AQ80, AP79*(1+AV80))),0)","v":0},{"$f":"IFERROR((AT80/360*BA80*AO80),0)","v":0},0,0,{"$f":"IF('Simulador Pagos Oportunos'!$X$35=3,AI80,IF('Simulador Pagos Oportunos'!$X$35=4,AJ80,IF('Simulador Pagos Oportunos'!$X$35=5,AK80,0)))","v":0.1825},{"$f":"IF(AO80<=0,0,IF('Simulador Pagos Oportunos'!$AC$62=1,0,AO80*'Simulador Pagos Oportunos'!$Y$67+IF('Simulador Pagos Oportunos'!$X$35=3,'Simulador Pagos Oportunos'!$I$49,IF('Simulador Pagos Oportunos'!$X$35=4,'Simulador Pagos Oportunos'!$K$49,IF('Simulador Pagos Oportunos'!$X$35=5,'Simulador Pagos Oportunos'!$M$49,0)))))","v":0},null,{"$f":"AQ80*'Simulador Pagos Oportunos'!$X$59","v":0},{"$f":"AQ80+AR80+AU80","v":0},{"$f":"IFERROR(IF(AP80<=0.01,0,AY79-1),0)","v":0},"",{"$f":"IFERROR(DAY(DATE(YEAR(AZ80),MONTH(AZ80)+1,0)),0)","v":0},66]
[67,{"$f":"IF(P80<=0,0,P80)","v":0},null,0,null,0,null,{"$f":"D81-F81","v":0},null,null,null,{"$f":"IF('Simulador Pagos Oportunos'!$V$60=1,0,J81*'Simulador Pagos Oportunos'!$O$63*'Simulador Pagos Oportunos'!$W$59)","v":0},null,"",null,0,null,{"$f":"IFERROR(IF(B81<=0,0,B81*'Simulador Pagos Oportunos'!$Y$67),0)","v":0},null,{"$f":"IFERROR(IF(B81<=0,0,IF('Simulador Pagos Oportunos'!$X$35=3,'Simulador Pagos Oportunos'!$I$49,IF('Simulador Pagos Oportunos'!$X$35=4,'Simulador Pagos Oportunos'!$K$49,IF('Simulador Pagos Oportunos'!$X$35=5,'Simulador Pagos Oportunos'!$M$49,0)))),0)","v":0},null,{"$f":"IF(B81<=0,\"\",IF('Simulador Pagos Oportunos'!$V$40=1,'Simulador Pagos Oportunos'!$Z$62,'Simulador Pagos Oportunos'!$Z$62*'Simulador Pagos Oportunos'!$W$59))","v":""},{"$f":"F81*'Simulador Pagos Oportunos'!$X$59","v":0},"",null,null,null,5,7,0,0,0,"",{"$f":"IF('Simulador Pagos Oportunos'!$X$35=3,AI81,IF('Simulador Pagos Oportunos'!$X$35=4,AJ81,IF('Simulador Pagos Oportunos'!$X$35=5,AK81,0)))","v":0.1825},0.17749999999999999,0.17849999999999999,0.1825,0,0,0,{"$f":"AS80","v":0},0,0,0,0,{"$f":"IF('Simulador Pagos Oportunos'!$X$35=3,AI81,IF('Simulador Pagos Oportunos'!$X$35=4,AJ81,IF('Simulador Pagos Oportunos'!$X$35=5,AK81,0)))","v":0.1825},{"$f":"IF(AO81<=0,0,IF('Simulador Pagos Oportunos'!$AC$62=1,0,AO81*'Simulador Pagos Oportunos'!$Y$67+IF('Simulador Pagos Oportunos'!$X$35=3,'Simulador Pagos Oportunos'!$I$49,IF('Simulador Pagos Oportunos'!$X$35=4,'Simulador Pagos Oportunos'!$K$49,IF('Simulador Pagos Oportunos'!$X$35=5,'Simulador Pagos Oportunos'!$M$49,0)))))","v":0},null,{"$f":"AQ81*'Simulador Pagos Oportunos'!$X$59","v":0},0,0,{"$f":"IF(AO81=0,\"\",DATE(YEAR(AZ80),MONTH(AZ80)+1,1))","v":""},0,67]
[68,0,null,{"$f":"IF(B82+F82-D81<=0,B82+F82,IF(AND($AR$2=2,J81>0),B82*AN82,D81*(1+Z82)))","v":0},null,0,null,0,null,null,null,{"$f":"IF('Simulador Pagos Oportunos'!$V$60=1,0,J82*'Simulador Pagos Oportunos'!$O$63*'Simulador Pagos Oportunos'!$W$59)","v":0},null,"",null,0,null,{"$f":"IFERROR(IF(B82<=0,0,B82*'Simulador Pagos Oportunos'!$Y$67),0)","v":0},null,{"$f":"IFERROR(IF(B82<=0,0,IF('Simulador Pagos Oportunos'!$X$35=3,'Simulador Pagos Oportunos'!$I$49,IF('Simulador Pagos Oportunos'!$X$35=4,'Simulador Pagos Oportunos'!$K$49,IF('Simulador Pagos Oportunos'!$X$35=5,'Simulador Pagos Oportunos'!$M$49,0)))),0)","v":0},null,{"$f":"IF(B82<=0,\"\",IF('Simulador Pagos Oportunos'!$V$40=1,'Simulador Pagos Oportunos'!$Z$62,'Simulador Pagos Oportunos'!$Z$62*'Simulador Pagos Oportunos'!$W$59))","v":""},{"$f":"F82*'Simulador Pagos Oportunos'!$X$59","v":0},"",null,null,null,5,8,0,0,0,"",{"$f":"IF('Simulador Pagos Oportunos'!$X$35=3,AI82,IF('Simulador Pagos Oportunos'!$X$35=4,AJ82,IF('Simulador Pagos Oportunos'!$X$35=5,AK82,0)))","v":0.1825},0.17749999999999999,0.17849999999999999,0.1825,0,0,0,0,0,0,0,0,{"$f":"IF('Simulador Pagos Oportunos'!$X$35=3,AI82,IF('Simulador Pagos Oportunos'!$X$35=4,AJ82,IF('Simulador Pagos Oportunos'!$X$35=5,AK82,0)))","v":0.1825},{"$f":"IF(AO82<=0,0,IF('Simulador Pagos Oportunos'!$AC$62=1,0,AO82*'Simulador Pagos Oportunos'!$Y$67+IF('Simulador Pagos Oportunos'!$X$35=3,'Simulador Pagos Oportunos'!$I$49,IF('Simulador Pagos Oportunos'!$X$35=4,'Simulador Pagos Oportunos'!$K$49,IF('Simulador Pagos Oportunos'!$X$35=5,'Simulador Pagos Oportunos'!$M$49,0)))))","v":0},null,{"$f":"AQ82*'Simulador Pagos Oportunos'!$X$59","v":0},0,0,"",0,68]
[69,0,null,0,null,0,null,0,null,null,null,{"$f":"IF('Simulador Pagos Oportunos'!$V$60=1,0,J83*'Simulador Pagos Oportunos'!$O$63*'Simulador Pagos Oportunos'!$W$59)","v":0},null,"",null,0,null,{"$f":"IFERROR(IF(B83<=0,0,B83*'Simulador Pagos Oportunos'!$Y$67),0)","v":0},null,{"$f":"IFERROR(IF(B83<=0,0,IF('Simulador Pagos Oportunos'!$X$35=3,'Simulador Pagos Oportunos'!$I$49,IF('Simulador Pagos Oportunos'!$X$35=4,'Simulador Pagos Oportunos'!$K$49,IF('Simulador Pagos Oportunos'!$X$35=5,'Simulador Pagos Oportunos'!$M$49,0)))),0)","v":0},null,{"$f":"IF(B83<=0,\"\",IF('Simulador Pagos Oportunos'!$V$40=1,'Simulador Pagos Oportunos'!$Z$62,'Simulador Pagos Oportunos'!$Z$62*'Simulador Pagos Oportunos'!$W$59))","v":""},{"$f":"F83*'Simulador Pagos Oportunos'!$X$59","v":0},"",null,null,null,5,9,0,0,0,"",{"$f":"IF('Simulador Pagos Oportunos'!$X$35=3,AI83,IF('Simulador Pagos Oportunos'!$X$35=4,AJ83,IF('Simulador Pagos Oportunos'!$X$35=5,AK83,0)))","v":0.1825},0.17749999999999999,0.17849999999999999,0.1825,0,0,0,0,0,0,0,0,{"$f":"IF('Simulador Pagos Oportunos'!$X$35=3,AI83,IF('Simulador Pagos Oportunos'!$X$35=4,AJ83,IF('Simulador Pagos Oportunos'!$X$35=5,AK83,0)))","v":0.1825},{"$f":"IF(AO83<=0,0,IF('Simulador Pagos Oportunos'!$AC$62=1,0,AO83*'Simulador Pagos Oportunos'!$Y$67+IF('Simulador Pagos Oportunos'!$X$35=3,'Simulador Pagos Oportunos'!$I$49,IF('Simulador Pagos Oportunos'!$X$35=4,'Simulador Pagos Oportunos'!$K$49,IF('Simulador Pagos Oportunos'!$X$35=5,'Simulador Pagos Oportunos'!$M$49,0)))))","v":0},null,{"$f":"AQ83*'Simulador Pagos Oportunos'!$X$59","v":0},0,0,"",0,69]
[70,0,null,0,null,0,null,0,null,null,null,{"$f":"IF('Simulador Pagos Oportunos'!$V$60=1,0,J84*'Simulador Pagos Oportunos'!$O$63*'Simulador Pagos Oportunos'!$W$59)","v":0},null,"",null,0,null,{"$f":"IFERROR(IF(B84<=0,0,B84*'Simulador Pagos Oportunos'!$Y$67),0)","v":0},null,{"$f":"IFERROR(IF(B84<=0,0,IF('Simulador Pagos Oportunos'!$X$35=3,'Simulador Pagos Oportunos'!$I$49,IF('Simulador Pagos Oportunos'!$X$35=4,'Simulador Pagos Oportunos'!$K$49,IF('Simulador Pagos Oportunos'!$X$35=5,'Simulador Pagos Oportunos'!$M$49,0)))),0)","v":0},null,{"$f":"IF(B84<=0,\"\",IF('Simulador Pagos Oportunos'!$V$40=1,'Simulador Pagos Oportunos'!$Z$62,'Simulador Pagos Oportunos'!$Z$62*'Simulador Pagos Oportunos'!$W$59))","v":""},{"$f":"F84*'Simulador Pagos Oportunos'!$X$59","v":0},"",null,null,null,5,10,0,0,0,"",{"$f":"IF('Simulador Pagos Oportunos'!$X$35=3,AI84,IF('Simulador Pagos Oportunos'!$X$35=4,AJ84,IF('Simulador Pagos Oportunos'!$X$35=5,AK84,0)))","v":0.1825},0.17749999999999999,0.17849999999999999,0.1825,0,0,0,0,0,0,0,0,{"$f":"IF('Simulador Pagos Oportunos'!$X$35=3,AI84,IF('Simulador Pagos Oportunos'!$X$35=4,AJ84,IF('Simulador Pagos Oportunos'!$X$35=5,AK84,0)))","v":0.1825},{"$f":"IF(AO84<=0,0,IF('Simulador Pagos Oportunos'!$AC$62=1,0,AO84*'Simulador Pagos Oportunos'!$Y$67+IF('Simulador Pagos Oportunos'!$X$35=3,'Simulador Pagos Oportunos'!$I$49,IF('Simulador Pagos Oportunos'!$X$35=4,'Simulador Pagos Oportunos'!$K$49,IF('Simulador Pagos Oportunos'!$X$35=5,'Simulador Pagos Oportunos'!$M$49,0)))))","v":0},null,{"$f":"AQ84*'Simulador Pagos Oportunos'!$X$59","v":0},0,0,"",0,70]
[71,0,null,0,null,0,null,0,null,null,null,{"$f":"IF('Simulador Pagos Oportunos'!$V$60=1,0,J85*'Simulador Pagos Oportunos'!$O$63*'Simulador Pagos Oportunos'!$W$59)","v":0},null,"",null,0,null,{"$f":"IFERROR(IF(B85<=0,0,B85*'Simulador Pagos Oportunos'!$Y$67),0)","v":0},null,{"$f":"IFERROR(IF(B85<=0,0,IF('Simulador Pagos Oportunos'!$X$35=3,'Simulador Pagos Oportunos'!$I$49,IF('Simulador Pagos Oportunos'!$X$35=4,'Simulador Pagos Oportunos'!$K$49,IF('Simulador Pagos Oportunos'!$X$35=5,'Simulador Pagos Oportunos'!$M$49,0)))),0)","v":0},null,{"$f":"IF(B85<=0,\"\",IF('Simulador Pagos Oportunos'!$V$40=1,'Simulador Pagos Oportunos'!$Z$62,'Simulador Pagos Oportunos'!$Z$62*'Simulador Pagos Oportunos'!$W$59))","v":""},{"$f":"F85*'Simulador Pagos Oportunos'!$X$59","v":0},"",null,null,null,5,11,0,0,0,"",{"$f":"IF('Simulador Pagos Oportunos'!$X$35=3,AI85,IF('Simulador Pagos Oportunos'!$X$35=4,AJ85,IF('Simulador Pagos Oportunos'!$X$35=5,AK85,0)))","v":0.1825},0.17749999999999999,0.17849999999999999,0.1825,0,0,0,0,0,0,0,0,{"$f":"IF('Simulador Pagos Oportunos'!$X$35=3,AI85,IF('Simulador Pagos Oportunos'!$X$35=4,AJ85,IF('Simulador Pagos Oportunos'!$X$35=5,AK85,0)))","v":0.1825},{"$f":"IF(AO85<=0,0,IF('Simulador Pagos Oportunos'!$AC$62=1,0,AO85*'Simulador Pagos Oportunos'!$Y$67+IF('Simulador Pagos Oportunos'!$X$35=3,'Simulador Pagos Oportunos'!$I$49,IF('Simulador Pagos Oportunos'!$X$35=4,'Simulador Pagos Oportunos'!$K$49,IF('Simulador Pagos Oportunos'!$X$35=5,'Simulador Pagos Oportunos'!$M$49,0)))))","v":0},null,{"$f":"AQ85*'Simulador Pagos Oportunos'!$X$59","v":0},0,0,"",0,71]
[72,0,null,0,null,0,null,0,null,null,null,{"$f":"IF('Simulador Pagos Oportunos'!$V$60=1,0,J86*'Simulador Pagos Oportunos'!$O$63*'Simulador Pagos Oportunos'!$W$59)","v":0},null,"",null,0,null,{"$f":"IFERROR(IF(B86<=0,0,B86*'Simulador Pagos Oportunos'!$Y$67),0)","v":0},null,{"$f":"IFERROR(IF(B86<=0,0,IF('Simulador Pagos Oportunos'!$X$35=3,'Simulador Pagos Oportunos'!$I$49,IF('Simulador Pagos Oportunos'!$X$35=4,'Simulador Pagos Oportunos'!$K$49,IF('Simulador Pagos Oportunos'!$X$35=5,'Simulador Pagos Oportunos'!$M$49,0)))),0)","v":0},null,{"$f":"IF(B86<=0,\"\",IF('Simulador Pagos Oportunos'!$V$40=1,'Simulador Pagos Oportunos'!$Z$62,'Simulador Pagos Oportunos'!$Z$62*'Simulador Pagos Oportunos'!$W$59))","v":""},{"$f":"F86*'Simulador Pagos Oportunos'!$X$59","v":0},"",null,null,null,6,0,0,0,0,"",{"$f":"IF('Simulador Pagos Oportunos'!$X$35=3,AI86,IF('Simulador Pagos Oportunos'!$X$35=4,AJ86,IF('Simulador Pagos Oportunos'!$X$35=5,AK86,0)))","v":0.1825},0.17749999999999999,0.17849999999999999,0.1825,0,0,0,0,0,0,0,0,{"$f":"IF('Simulador Pagos Oportunos'!$X$35=3,AI86,IF('Simulador Pagos Oportunos'!$X$35=4,AJ86,IF('Simulador Pagos Oportunos'!$X$35=5,AK86,0)))","v":0.1825},{"$f":"IF(AO86<=0,0,IF('Simulador Pagos Oportunos'!$AC$62=1,0,AO86*'Simulador Pagos Oportunos'!$Y$67+IF('Simulador Pagos Oportunos'!$X$35=3,'Simulador Pagos Oportunos'!$I$49,IF('Simulador Pagos Oportunos'!$X$35=4,'Simulador Pagos Oportunos'!$K$49,IF('Simulador Pagos Oportunos'!$X$35=5,'Simulador Pagos Oportunos'!$M$49,0)))))","v":0},null,{"$f":"AQ86*'Simulador Pagos Oportunos'!$X$59","v":0},0,0,"",0,72]
[73,0,null,0,null,0,null,0,null,null,null,{"$f":"IF('Simulador Pagos Oportunos'!$V$60=1,0,J87*'Simulador Pagos Oportunos'!$O$63*'Simulador Pagos Oportunos'!$W$59)","v":0},null,"",null,0,null,{"$f":"IFERROR(IF(B87<=0,0,B87*'Simulador Pagos Oportunos'!$Y$67),0)","v":0},null,{"$f":"IFERROR(IF(B87<=0,0,IF('Simulador Pagos Oportunos'!$X$35=3,'Simulador Pagos Oportunos'!$I$49,IF('Simulador Pagos Oportunos'!$X$35=4,'Simulador Pagos Oportunos'!$K$49,IF('Simulador Pagos Oportunos'!$X$35=5,'Simulador Pagos Oportunos'!$M$49,0)))),0)","v":0},null,{"$f":"IF(B87<=0,\"\",IF('Simulador Pagos Oportunos'!$V$40=1,'Simulador Pagos Oportunos'!$Z$62,'Simulador Pagos Oportunos'!$Z$62*'Simulador Pagos Oportunos'!$W$59))","v":""},{"$f":"F87*'Simulador Pagos Oportunos'!$X$59","v":0},"",null,{"$f":"IF(B87<=0,0,'Simulador Pagos Oportunos'!$AM$48)","v":0},null,6,1,0,0,0,"",{"$f":"IF('Simulador Pagos Oportunos'!$X$35=3,AI87,IF('Simulador Pagos Oportunos'!$X$35=4,AJ87,IF('Simulador Pagos Oportunos'!$X$35=5,AK87,0)))","v":0.1825},0.17749999999999999,0.17849999999999999,0.1825,0,0,0,0,0,0,0,0,{"$f":"IF('Simulador Pagos Oportunos'!$X$35=3,AI87,IF('Simulador Pagos Oportunos'!$X$35=4,AJ87,IF('Simulador Pagos Oportunos'!$X$35=5,AK87,0)))","v":0.1825},{"$f":"IF(AO87<=0,0,IF('Simulador Pagos Oportunos'!$AC$62=1,0,AO87*'Simulador Pagos Oportunos'!$Y$67+IF('Simulador Pagos Oportunos'!$X$35=3,'Simulador Pagos Oportunos'!$I$49,IF('Simulador Pagos Oportunos'!$X$35=4,'Simulador Pagos Oportunos'!$K$49,IF('Simulador Pagos Oportunos'!$X$35=5,'Simulador Pagos Oportunos'!$M$49,0)))))","v":0},{"$f":"IF(AO87<=0,0,$AV$32)","v":0},{"$f":"AQ87*'Simulador Pagos Oportunos'!$X$59","v":0},0,0,"",0,73]
[74,0,null,0,null,0,null,0,null,null,null,{"$f":"IF('Simulador Pagos Oportunos'!$V$60=1,0,J88*'Simulador Pagos Oportunos'!$O$63*'Simulador Pagos Oportunos'!$W$59)","v":0},null,"",null,0,null,{"$f":"IFERROR(IF(B88<=0,0,B88*'Simulador Pagos Oportunos'!$Y$67),0)","v":0},null,{"$f":"IFERROR(IF(B88<=0,0,IF('Simulador Pagos Oportunos'!$X$35=3,'Simulador Pagos Oportunos'!$I$49,IF('Simulador Pagos Oportunos'!$X$35=4,'Simulador Pagos Oportunos'!$K$49,IF('Simulador Pagos Oportunos'!$X$35=5,'Simulador Pagos Oportunos'!$M$49,0)))),0)","v":0},null,{"$f":"IF(B88<=0,\"\",IF('Simulador Pagos Oportunos'!$V$40=1,'Simulador Pagos Oportunos'!$Z$62,'Simulador Pagos Oportunos'!$Z$62*'Simulador Pagos Oportunos'!$W$59))","v":""},{"$f":"F88*'Simulador Pagos Oportunos'!$X$59","v":0},"",null,null,null,6,2,0,0,0,"",{"$f":"IF('Simulador Pagos Oportunos'!$X$35=3,AI88,IF('Simulador Pagos Oportunos'!$X$35=4,AJ88,IF('Simulador Pagos Oportunos'!$X$35=5,AK88,0)))","v":0.1825},0.17749999999999999,0.17849999999999999,0.1825,0,0,0,0,0,0,0,0,{"$f":"IF('Simulador Pagos Oportunos'!$X$35=3,AI88,IF('Simulador Pagos Oportunos'!$X$35=4,AJ88,IF('Simulador Pagos Oportunos'!$X$35=5,AK88,0)))","v":0.1825},{"$f":"IF(AO88<=0,0,IF('Simulador Pagos Oportunos'!$AC$62=1,0,AO88*'Simulador Pagos Oportunos'!$Y$67+IF('Simulador Pagos Oportunos'!$X$35=3,'Simulador Pagos Oportunos'!$I$49,IF('Simulador Pagos Oportunos'!$X$35=4,'Simulador Pagos Oportunos'!$K$49,IF('Simulador Pagos Oportunos'!$X$35=5,'Simulador Pagos Oportunos'!$M$49,0)))))","v":0},null,{"$f":"AQ88*'Simulador Pagos Oportunos'!$X$59","v":0},0,0,"",0,74]
[75,0,null,0,null,0,null,0,null,null,null,{"$f":"IF('Simulador Pagos Oportunos'!$V$60=1,0,J89*'Simulador Pagos Oportunos'!$O$63*'Simulador Pagos Oportunos'!$W$59)","v":0},null,"",null,0,null,{"$f":"IFERROR(IF(B89<=0,0,B89*'Simulador Pagos Oportunos'!$Y$67),0)","v":0},null,{"$f":"IFERROR(IF(B89<=0,0,IF('Simulador Pagos Oportunos'!$X$35=3,'Simulador Pagos Oportunos'!$I$49,IF('Simulador Pagos Oportunos'!$X$35=4,'Simulador Pagos Oportunos'!$K$49,IF('Simulador Pagos Oportunos'!$X$35=5,'Simulador Pagos Oportunos'!$M$49,0)))),0)","v":0},null,{"$f":"IF(B89<=0,\"\",IF('Simulador Pagos Oportunos'!$V$40=1,'Simulador Pagos Oportunos'!$Z$62,'Simulador Pagos Oportunos'!$Z$62*'Simulador Pagos Oportunos'!$W$59))","v":""},{"$f":"F89*'Simulador Pagos Oportunos'!$X$59","v":0},"",null,null,null,6,3,0,0,0,"",{"$f":"IF('Simulador Pagos Oportunos'!$X$35=3,AI89,IF('Simulador Pagos Oportunos'!$X$35=4,AJ89,IF('Simulador Pagos Oportunos'!$X$35=5,AK89,0)))","v":0.1825},0.17749999999999999,0.17849999999999999,0.1825,0,0,0,0,0,0,0,0,{"$f":"IF('Simulador Pagos Oportunos'!$X$35=3,AI89,IF('Simulador Pagos Oportunos'!$X$35=4,AJ89,IF('Simulador Pagos Oportunos'!$X$35=5,AK89,0)))","v":0.1825},{"$f":"IF(AO89<=0,0,IF('Simulador Pagos Oportunos'!$AC$62=1,0,AO89*'Simulador Pagos Oportunos'!$Y$67+IF('Simulador Pagos Oportunos'!$X$35=3,'Simulador Pagos Oportunos'!$I$49,IF('Simulador Pagos Oportunos'!$X$35=4,'Simulador Pagos Oportunos'!$K$49,IF('Simulador Pagos Oportunos'!$X$35=5,'Simulador Pagos Oportunos'!$M$49,0)))))","v":0},null,{"$f":"AQ89*'Simulador Pagos Oportunos'!$X$59","v":0},0,0,"",0,75]
[76,0,null,0,null,0,null,0,null,null,null,{"$f":"IF('Simulador Pagos Oportunos'!$V$60=1,0,J90*'Simulador Pagos Oportunos'!$O$63*'Simulador Pagos Oportunos'!$W$59)","v":0},null,"",null,0,null,{"$f":"IFERROR(IF(B90<=0,0,B90*'Simulador Pagos Oportunos'!$Y$67),0)","v":0},null,{"$f":"IFERROR(IF(B90<=0,0,IF('Simulador Pagos Oportunos'!$X$35=3,'Simulador Pagos Oportunos'!$I$49,IF('Simulador Pagos Oportunos'!$X$35=4,'Simulador Pagos Oportunos'!$K$49,IF('Simulador Pagos Oportunos'!$X$35=5,'Simulador Pagos Oportunos'!$M$49,0)))),0)","v":0},null,{"$f":"IF(B90<=0,\"\",IF('Simulador Pagos Oportunos'!$V$40=1,'Simulador Pagos Oportunos'!$Z$62,'Simulador Pagos Oportunos'!$Z$62*'Simulador Pagos Oportunos'!$W$59))","v":""},{"$f":"F90*'Simulador Pagos Oportunos'!$X$59","v":0},"",null,null,null,6,4,0,0,0,"",{"$f":"IF('Simulador Pagos Oportunos'!$X$35=3,AI90,IF('Simulador Pagos Oportunos'!$X$35=4,AJ90,IF('Simulador Pagos Oportunos'!$X$35=5,AK90,0)))","v":0.1825},0.17749999999999999,0.17849999999999999,0.1825,0,0,0,0,0,0,0,0,{"$f":"IF('Simulador Pagos Oportunos'!$X$35=3,AI90,IF('Simulador Pagos Oportunos'!$X$35=4,AJ90,IF('Simulador Pagos Oportunos'!$X$35=5,AK90,0)))","v":0.1825},{"$f":"IF(AO90<=0,0,IF('Simulador Pagos Oportunos'!$AC$62=1,0,AO90*'Simulador Pagos Oportunos'!$Y$67+IF('Simulador Pagos Oportunos'!$X$35=3,'Simulador Pagos Oportunos'!$I$49,IF('Simulador Pagos Oportunos'!$X$35=4,'Simulador Pagos Oportunos'!$K$49,IF('Simulador Pagos Oportunos'!$X$35=5,'Simulador Pagos Oportunos'!$M$49,0)))))","v":0},null,{"$f":"AQ90*'Simulador Pagos Oportunos'!$X$59","v":0},0,0,"",0,76]
[77,0,null,0,null,0,null,0,null,null,null,{"$f":"IF('Simulador Pagos Oportunos'!$V$60=1,0,J91*'Simulador Pagos Oportunos'!$O$63*'Simulador Pagos Oportunos'!$W$59)","v":0},null,"",null,0,null,{"$f":"IFERROR(IF(B91<=0,0,B91*'Simulador Pagos Oportunos'!$Y$67),0)","v":0},null,{"$f":"IFERROR(IF(B91<=0,0,IF('Simulador Pagos Oportunos'!$X$35=3,'Simulador Pagos Oportunos'!$I$49,IF('Simulador Pagos Oportunos'!$X$35=4,'Simulador Pagos Oportunos'!$K$49,IF('Simulador Pagos Oportunos'!$X$35=5,'Simulador Pagos Oportunos'!$M$49,0)))),0)","v":0},null,{"$f":"IF(B91<=0,\"\",IF('Simulador Pagos Oportunos'!$V$40=1,'Simulador Pagos Oportunos'!$Z$62,'Simulador Pagos Oportunos'!$Z$62*'Simulador Pagos Oportunos'!$W$59))","v":""},{"$f":"F91*'Simulador Pagos Oportunos'!$X$59","v":0},"",null,null,null,6,5,0,0,0,"",{"$f":"IF('Simulador Pagos Oportunos'!$X$35=3,AI91,IF('Simulador Pagos Oportunos'!$X$35=4,AJ91,IF('Simulador Pagos Oportunos'!$X$35=5,AK91,0)))","v":0.1825},0.17749999999999999,0.17849999999999999,0.1825,0,0,0,0,0,0,0,0,{"$f":"IF('Simulador Pagos Oportunos'!$X$35=3,AI91,IF('Simulador Pagos Oportunos'!$X$35=4,AJ91,IF('Simulador Pagos Oportunos'!$X$35=5,AK91,0)))","v":0.1825},{"$f":"IF(AO91<=0,0,IF('Simulador Pagos Oportunos'!$AC$62=1,0,AO91*'Simulador Pagos Oportunos'!$Y$67+IF('Simulador Pagos Oportunos'!$X$35=3,'Simulador Pagos Oportunos'!$I$49,IF('Simulador Pagos Oportunos'!$X$35=4,'Simulador Pagos Oportunos'!$K$49,IF('Simulador Pagos Oportunos'!$X$35=5,'Simulador Pagos Oportunos'!$M$49,0)))))","v":0},null,{"$f":"AQ91*'Simulador Pagos Oportunos'!$X$59","v":0},0,0,"",0,77]
[78,0,null,0,null,0,null,0,null,null,null,{"$f":"IF('Simulador Pagos Oportunos'!$V$60=1,0,J92*'Simulador Pagos Oportunos'!$O$63*'Simulador Pagos Oportunos'!$W$59)","v":0},null,"",null,0,null,{"$f":"IFERROR(IF(B92<=0,0,B92*'Simulador Pagos Oportunos'!$Y$67),0)","v":0},null,{"$f":"IFERROR(IF(B92<=0,0,IF('Simulador Pagos Oportunos'!$X$35=3,'Simulador Pagos Oportunos'!$I$49,IF('Simulador Pagos Oportunos'!$X$35=4,'Simulador Pagos Oportunos'!$K$49,IF('Simulador Pagos Oportunos'!$X$35=5,'Simulador Pagos Oportunos'!$M$49,0)))),0)","v":0},null,{"$f":"IF(B92<=0,\"\",IF('Simulador Pagos Oportunos'!$V$40=1,'Simulador Pagos Oportunos'!$Z$62,'Simulador Pagos Oportunos'!$Z$62*'Simulador Pagos Oportunos'!$W$59))","v":""},{"$f":"F92*'Simulador Pagos Oportunos'!$X$59","v":0},"",null,null,null,6,6,0,0,0,"",{"$f":"IF('Simulador Pagos Oportunos'!$X$35=3,AI92,IF('Simulador Pagos Oportunos'!$X$35=4,AJ92,IF('Simulador Pagos Oportunos'!$X$35=5,AK92,0)))","v":0.1825},0.17749999999999999,0.17849999999999999,0.1825,0,0,0,0,0,0,0,0,{"$f":"IF('Simulador Pagos Oportunos'!$X$35=3,AI92,IF('Simulador Pagos Oportunos'!$X$35=4,AJ92,IF('Simulador Pagos Oportunos'!$X$35=5,AK92,0)))","v":0.1825},{"$f":"IF(AO92<=0,0,IF('Simulador Pagos Oportunos'!$AC$62=1,0,AO92*'Simulador Pagos Oportunos'!$Y$67+IF('Simulador Pagos Oportunos'!$X$35=3,'Simulador Pagos Oportunos'!$I$49,IF('Simulador Pagos Oportunos'!$X$35=4,'Simulador Pagos Oportunos'!$K$49,IF('Simulador Pagos Oportunos'!$X$35=5,'Simulador Pagos Oportunos'!$M$49,0)))))","v":0},null,{"$f":"AQ92*'Simulador Pagos Oportunos'!$X$59","v":0},0,0,"",0,78]
[79,0,null,0,null,0,null,0,null,null,null,{"$f":"IF('Simulador Pagos Oportunos'!$V$60=1,0,J93*'Simulador Pagos Oportunos'!$O$63*'Simulador Pagos Oportunos'!$W$59)","v":0},null,"",null,0,null,{"$f":"IFERROR(IF(B93<=0,0,B93*'Simulador Pagos Oportunos'!$Y$67),0)","v":0},null,{"$f":"IFERROR(IF(B93<=0,0,IF('Simulador Pagos Oportunos'!$X$35=3,'Simulador Pagos Oportunos'!$I$49,IF('Simulador Pagos Oportunos'!$X$35=4,'Simulador Pagos Oportunos'!$K$49,IF('Simulador Pagos Oportunos'!$X$35=5,'Simulador Pagos Oportunos'!$M$49,0)))),0)","v":0},null,{"$f":"IF(B93<=0,\"\",IF('Simulador Pagos Oportunos'!$V$40=1,'Simulador Pagos Oportunos'!$Z$62,'Simulador Pagos Oportunos'!$Z$62*'Simulador Pagos Oportunos'!$W$59))","v":""},{"$f":"F93*'Simulador Pagos Oportunos'!$X$59","v":0},"",null,null,null,6,7,0,0,0,"",{"$f":"IF('Simulador Pagos Oportunos'!$X$35=3,AI93,IF('Simulador Pagos Oportunos'!$X$35=4,AJ93,IF('Simulador Pagos Oportunos'!$X$35=5,AK93,0)))","v":0.1825},{"$f":"AI92","v":0.17749999999999999},0.17849999999999999,0.1825,0,0,0,0,0,0,0,0,{"$f":"IF('Simulador Pagos Oportunos'!$X$35=3,AI93,IF('Simulador Pagos Oportunos'!$X$35=4,AJ93,IF('Simulador Pagos Oportunos'!$X$35=5,AK93,0)))","v":0.1825},{"$f":"IF(AO93<=0,0,IF('Simulador Pagos Oportunos'!$AC$62=1,0,AO93*'Simulador Pagos Oportunos'!$Y$67+IF('Simulador Pagos Oportunos'!$X$35=3,'Simulador Pagos Oportunos'!$I$49,IF('Simulador Pagos Oportunos'!$X$35=4,'Simulador Pagos Oportunos'!$K$49,IF('Simulador Pagos Oportunos'!$X$35=5,'Simulador Pagos Oportunos'!$M$49,0)))))","v":0},null,{"$f":"AQ93*'Simulador Pagos Oportunos'!$X$59","v":0},0,0,"",0,79]
[80,0,null,0,null,0,null,0,null,null,null,{"$f":"IF('Simulador Pagos Oportunos'!$V$60=1,0,J94*'Simulador Pagos Oportunos'!$O$63*'Simulador Pagos Oportunos'!$W$59)","v":0},null,"",null,0,null,{"$f":"IFERROR(IF(B94<=0,0,B94*'Simulador Pagos Oportunos'!$Y$67),0)","v":0},null,{"$f":"IFERROR(IF(B94<=0,0,IF('Simulador Pagos Oportunos'!$X$35=3,'Simulador Pagos Oportunos'!$I$49,IF('Simulador Pagos Oportunos'!$X$35=4,'Simulador Pagos Oportunos'!$K$49,IF('Simulador Pagos Oportunos'!$X$35=5,'Simulador Pagos Oportunos'!$M$49,0)))),0)","v":0},null,{"$f":"IF(B94<=0,\"\",IF('Simulador Pagos Oportunos'!$V$40=1,'Simulador Pagos Oportunos'!$Z$62,'Simulador Pagos Oportunos'!$Z$62*'Simulador Pagos Oportunos'!$W$59))","v":""},{"$f":"F94*'Simulador Pagos Oportunos'!$X$59","v":0},"",null,null,null,6,8,0,0,0,"",{"$f":"IF('Simulador Pagos Oportunos'!$X$35=3,AI94,IF('Simulador Pagos Oportunos'!$X$35=4,AJ94,IF('Simulador Pagos Oportunos'!$X$35=5,AK94,0)))","v":0.1825},0.17749999999999999,0.17849999999999999,0.1825,0,0,0,0,0,0,0,0,{"$f":"IF('Simulador Pagos Oportunos'!$X$35=3,AI94,IF('Simulador Pagos Oportunos'!$X$35=4,AJ94,IF('Simulador Pagos Oportunos'!$X$35=5,AK94,0)))","v":0.1825},{"$f":"IF(AO94<=0,0,IF('Simulador Pagos Oportunos'!$AC$62=1,0,AO94*'Simulador Pagos Oportunos'!$Y$67+IF('Simulador Pagos Oportunos'!$X$35=3,'Simulador Pagos Oportunos'!$I$49,IF('Simulador Pagos Oportunos'!$X$35=4,'Simulador Pagos Oportunos'!$K$49,IF('Simulador Pagos Oportunos'!$X$35=5,'Simulador Pagos Oportunos'!$M$49,0)))))","v":0},null,{"$f":"AQ94*'Simulador Pagos Oportunos'!$X$59","v":0},0,0,"",0,80]
[81,0,null,0,null,0,null,0,null,null,null,{"$f":"IF('Simulador Pagos Oportunos'!$V$60=1,0,J95*'Simulador Pagos Oportunos'!$O$63*'Simulador Pagos Oportunos'!$W$59)","v":0},null,"",null,0,null,{"$f":"IFERROR(IF(B95<=0,0,B95*'Simulador Pagos Oportunos'!$Y$67),0)","v":0},null,{"$f":"IFERROR(IF(B95<=0,0,IF('Simulador Pagos Oportunos'!$X$35=3,'Simulador Pagos Oportunos'!$I$49,IF('Simulador Pagos Oportunos'!$X$35=4,'Simulador Pagos Oportunos'!$K$49,IF('Simulador Pagos Oportunos'!$X$35=5,'Simulador Pagos Oportunos'!$M$49,0)))),0)","v":0},null,{"$f":"IF(B95<=0,\"\",IF('Simulador Pagos Oportunos'!$V$40=1,'Simulador Pagos Oportunos'!$Z$62,'Simulador Pagos Oportunos'!$Z$62*'Simulador Pagos Oportunos'!$W$59))","v":""},{"$f":"F95*'Simulador Pagos Oportunos'!$X$59","v":0},"",null,null,null,6,9,0,0,0,"",{"$f":"IF('Simulador Pagos Oportunos'!$X$35=3,AI95,IF('Simulador Pagos Oportunos'!$X$35=4,AJ95,IF('Simulador Pagos Oportunos'!$X$35=5,AK95,0)))","v":0.1825},0.17749999999999999,0.17849999999999999,0.1825,0,0,0,0,0,0,0,0,{"$f":"IF('Simulador Pagos Oportunos'!$X$35=3,AI95,IF('Simulador Pagos Oportunos'!$X$35=4,AJ95,IF('Simulador Pagos Oportunos'!$X$35=5,AK95,0)))","v":0.1825},{"$f":"IF(AO95<=0,0,IF('Simulador Pagos Oportunos'!$AC$62=1,0,AO95*'Simulador Pagos Oportunos'!$Y$67+IF('Simulador Pagos Oportunos'!$X$35=3,'Simulador Pagos Oportunos'!$I$49,IF('Simulador Pagos Oportunos'!$X$35=4,'Simulador Pagos Oportunos'!$K$49,IF('Simulador Pagos Oportunos'!$X$35=5,'Simulador Pagos Oportunos'!$M$49,0)))))","v":0},null,{"$f":"AQ95*'Simulador Pagos Oportunos'!$X$59","v":0},0,0,"",0,81]
[82,0,null,0,null,0,null,0,null,null,null,{"$f":"IF('Simulador Pagos Oportunos'!$V$60=1,0,J96*'Simulador Pagos Oportunos'!$O$63*'Simulador Pagos Oportunos'!$W$59)","v":0},null,"",null,0,null,{"$f":"IFERROR(IF(B96<=0,0,B96*'Simulador Pagos Oportunos'!$Y$67),0)","v":0},null,{"$f":"IFERROR(IF(B96<=0,0,IF('Simulador Pagos Oportunos'!$X$35=3,'Simulador Pagos Oportunos'!$I$49,IF('Simulador Pagos Oportunos'!$X$35=4,'Simulador Pagos Oportunos'!$K$49,IF('Simulador Pagos Oportunos'!$X$35=5,'Simulador Pagos Oportunos'!$M$49,0)))),0)","v":0},null,{"$f":"IF(B96<=0,\"\",IF('Simulador Pagos Oportunos'!$V$40=1,'Simulador Pagos Oportunos'!$Z$62,'Simulador Pagos Oportunos'!$Z$62*'Simulador Pagos Oportunos'!$W$59))","v":""},{"$f":"F96*'Simulador Pagos Oportunos'!$X$59","v":0},"",null,null,null,6,10,0,0,0,"",{"$f":"IF('Simulador Pagos Oportunos'!$X$35=3,AI96,IF('Simulador Pagos Oportunos'!$X$35=4,AJ96,IF('Simulador Pagos Oportunos'!$X$35=5,AK96,0)))","v":0.1825},0.17749999999999999,0.17849999999999999,0.1825,0,0,0,0,0,0,0,0,{"$f":"IF('Simulador Pagos Oportunos'!$X$35=3,AI96,IF('Simulador Pagos Oportunos'!$X$35=4,AJ96,IF('Simulador Pagos Oportunos'!$X$35=5,AK96,0)))","v":0.1825},{"$f":"IF(AO96<=0,0,IF('Simulador Pagos Oportunos'!$AC$62=1,0,AO96*'Simulador Pagos Oportunos'!$Y$67+IF('Simulador Pagos Oportunos'!$X$35=3,'Simulador Pagos Oportunos'!$I$49,IF('Simulador Pagos Oportunos'!$X$35=4,'Simulador Pagos Oportunos'!$K$49,IF('Simulador Pagos Oportunos'!$X$35=5,'Simulador Pagos Oportunos'!$M$49,0)))))","v":0},null,{"$f":"AQ96*'Simulador Pagos Oportunos'!$X$59","v":0},0,0,"",0,82]
[83,0,null,0,null,0,null,0,null,null,null,{"$f":"IF('Simulador Pagos Oportunos'!$V$60=1,0,J97*'Simulador Pagos Oportunos'!$O$63*'Simulador Pagos Oportunos'!$W$59)","v":0},null,"",null,0,null,{"$f":"IFERROR(IF(B97<=0,0,B97*'Simulador Pagos Oportunos'!$Y$67),0)","v":0},null,{"$f":"IFERROR(IF(B97<=0,0,IF('Simulador Pagos Oportunos'!$X$35=3,'Simulador Pagos Oportunos'!$I$49,IF('Simulador Pagos Oportunos'!$X$35=4,'Simulador Pagos Oportunos'!$K$49,IF('Simulador Pagos Oportunos'!$X$35=5,'Simulador Pagos Oportunos'!$M$49,0)))),0)","v":0},null,{"$f":"IF(B97<=0,\"\",IF('Simulador Pagos Oportunos'!$V$40=1,'Simulador Pagos Oportunos'!$Z$62,'Simulador Pagos Oportunos'!$Z$62*'Simulador Pagos Oportunos'!$W$59))","v":""},{"$f":"F97*'Simulador Pagos Oportunos'!$X$59","v":0},"",null,null,null,6,11,0,0,0,"",{"$f":"IF('Simulador Pagos Oportunos'!$X$35=3,AI97,IF('Simulador Pagos Oportunos'!$X$35=4,AJ97,IF('Simulador Pagos Oportunos'!$X$35=5,AK97,0)))","v":0.1825},0.17749999999999999,0.17849999999999999,0.1825,0,0,0,0,0,0,0,0,{"$f":"IF('Simulador Pagos Oportunos'!$X$35=3,AI97,IF('Simulador Pagos Oportunos'!$X$35=4,AJ97,IF('Simulador Pagos Oportunos'!$X$35=5,AK97,0)))","v":0.1825},{"$f":"IF(AO97<=0,0,IF('Simulador Pagos Oportunos'!$AC$62=1,0,AO97*'Simulador Pagos Oportunos'!$Y$67+IF('Simulador Pagos Oportunos'!$X$35=3,'Simulador Pagos Oportunos'!$I$49,IF('Simulador Pagos Oportunos'!$X$35=4,'Simulador Pagos Oportunos'!$K$49,IF('Simulador Pagos Oportunos'!$X$35=5,'Simulador Pagos Oportunos'!$M$49,0)))))","v":0},null,{"$f":"AQ97*'Simulador Pagos Oportunos'!$X$59","v":0},0,0,"",0,83]
[84,0,null,0,null,0,null,0,null,null,null,{"$f":"IF('Simulador Pagos Oportunos'!$V$60=1,0,J98*'Simulador Pagos Oportunos'!$O$63*'Simulador Pagos Oportunos'!$W$59)","v":0},null,"",null,0,null,{"$f":"IFERROR(IF(B98<=0,0,B98*'Simulador Pagos Oportunos'!$Y$67),0)","v":0},null,{"$f":"IFERROR(IF(B98<=0,0,IF('Simulador Pagos Oportunos'!$X$35=3,'Simulador Pagos Oportunos'!$I$49,IF('Simulador Pagos Oportunos'!$X$35=4,'Simulador Pagos Oportunos'!$K$49,IF('Simulador Pagos Oportunos'!$X$35=5,'Simulador Pagos Oportunos'!$M$49,0)))),0)","v":0},null,{"$f":"IF(B98<=0,\"\",IF('Simulador Pagos Oportunos'!$V$40=1,'Simulador Pagos Oportunos'!$Z$62,'Simulador Pagos Oportunos'!$Z$62*'Simulador Pagos Oportunos'!$W$59))","v":""},{"$f":"F98*'Simulador Pagos Oportunos'!$X$59","v":0},"",null,null,null,7,0,0,0,0,"",{"$f":"IF('Simulador Pagos Oportunos'!$X$35=3,AI98,IF('Simulador Pagos Oportunos'!$X$35=4,AJ98,IF('Simulador Pagos Oportunos'!$X$35=5,AK98,0)))","v":0.1825},0.17749999999999999,0.17849999999999999,0.1825,0,0,0,0,0,0,0,0,{"$f":"IF('Simulador Pagos Oportunos'!$X$35=3,AI98,IF('Simulador Pagos Oportunos'!$X$35=4,AJ98,IF('Simulador Pagos Oportunos'!$X$35=5,AK98,0)))","v":0.1825},{"$f":"IF(AO98<=0,0,IF('Simulador Pagos Oportunos'!$AC$62=1,0,AO98*'Simulador Pagos Oportunos'!$Y$67+IF('Simulador Pagos Oportunos'!$X$35=3,'Simulador Pagos Oportunos'!$I$49,IF('Simulador Pagos Oportunos'!$X$35=4,'Simulador Pagos Oportunos'!$K$49,IF('Simulador Pagos Oportunos'!$X$35=5,'Simulador Pagos Oportunos'!$M$49,0)))))","v":0},null,{"$f":"AQ98*'Simulador Pagos Oportunos'!$X$59","v":0},0,0,"",0,84]
[85,0,null,0,null,0,null,0,null,null,null,{"$f":"IF('Simulador Pagos Oportunos'!$V$60=1,0,J99*'Simulador Pagos Oportunos'!$O$63*'Simulador Pagos Oportunos'!$W$59)","v":0},null,"",null,0,null,{"$f":"IFERROR(IF(B99<=0,0,B99*'Simulador Pagos Oportunos'!$Y$67),0)","v":0},null,{"$f":"IFERROR(IF(B99<=0,0,IF('Simulador Pagos Oportunos'!$X$35=3,'Simulador Pagos Oportunos'!$I$49,IF('Simulador Pagos Oportunos'!$X$35=4,'Simulador Pagos Oportunos'!$K$49,IF('Simulador Pagos Oportunos'!$X$35=5,'Simulador Pagos Oportunos'!$M$49,0)))),0)","v":0},null,{"$f":"IF(B99<=0,\"\",IF('Simulador Pagos Oportunos'!$V$40=1,'Simulador Pagos Oportunos'!$Z$62,'Simulador Pagos Oportunos'!$Z$62*'Simulador Pagos Oportunos'!$W$59))","v":""},{"$f":"F99*'Simulador Pagos Oportunos'!$X$59","v":0},"",null,{"$f":"IF(B99<=0,0,'Simulador Pagos Oportunos'!$AM$48)","v":0},null,7,1,0,0,0,"",{"$f":"IF('Simulador Pagos Oportunos'!$X$35=3,AI99,IF('Simulador Pagos Oportunos'!$X$35=4,AJ99,IF('Simulador Pagos Oportunos'!$X$35=5,AK99,0)))","v":0.1825},null,0.17849999999999999,0.1825,0,0,0,0,0,0,0,0,{"$f":"IF('Simulador Pagos Oportunos'!$X$35=3,AI99,IF('Simulador Pagos Oportunos'!$X$35=4,AJ99,IF('Simulador Pagos Oportunos'!$X$35=5,AK99,0)))","v":0.1825},{"$f":"IF(AO99<=0,0,IF('Simulador Pagos Oportunos'!$AC$62=1,0,AO99*'Simulador Pagos Oportunos'!$Y$67+IF('Simulador Pagos Oportunos'!$X$35=3,'Simulador Pagos Oportunos'!$I$49,IF('Simulador Pagos Oportunos'!$X$35=4,'Simulador Pagos Oportunos'!$K$49,IF('Simulador Pagos Oportunos'!$X$35=5,'Simulador Pagos Oportunos'!$M$49,0)))))","v":0},{"$f":"IF(AO99<=0,0,$AV$32)","v":0},{"$f":"AQ99*'Simulador Pagos Oportunos'!$X$59","v":0},0,0,"",0,85]
[86,0,null,0,null,0,null,0,null,null,null,{"$f":"IF('Simulador Pagos Oportunos'!$V$60=1,0,J100*'Simulador Pagos Oportunos'!$O$63*'Simulador Pagos Oportunos'!$W$59)","v":0},null,"",null,0,null,{"$f":"IFERROR(IF(B100<=0,0,B100*'Simulador Pagos Oportunos'!$Y$67),0)","v":0},null,{"$f":"IFERROR(IF(B100<=0,0,IF('Simulador Pagos Oportunos'!$X$35=3,'Simulador Pagos Oportunos'!$I$49,IF('Simulador Pagos Oportunos'!$X$35=4,'Simulador Pagos Oportunos'!$K$49,IF('Simulador Pagos Oportunos'!$X$35=5,'Simulador Pagos Oportunos'!$M$49,0)))),0)","v":0},null,{"$f":"IF(B100<=0,\"\",IF('Simulador Pagos Oportunos'!$V$40=1,'Simulador Pagos Oportunos'!$Z$62,'Simulador Pagos Oportunos'!$Z$62*'Simulador Pagos Oportunos'!$W$59))","v":""},{"$f":"F100*'Simulador Pagos Oportunos'!$X$59","v":0},"",null,null,null,7,2,0,0,0,"",{"$f":"IF('Simulador Pagos Oportunos'!$X$35=3,AI100,IF('Simulador Pagos Oportunos'!$X$35=4,AJ100,IF('Simulador Pagos Oportunos'!$X$35=5,AK100,0)))","v":0.1825},null,0.17849999999999999,0.1825,0,0,0,0,0,0,0,0,{"$f":"IF('Simulador Pagos Oportunos'!$X$35=3,AI100,IF('Simulador Pagos Oportunos'!$X$35=4,AJ100,IF('Simulador Pagos Oportunos'!$X$35=5,AK100,0)))","v":0.1825},{"$f":"IF(AO100<=0,0,IF('Simulador Pagos Oportunos'!$AC$62=1,0,AO100*'Simulador Pagos Oportunos'!$Y$67+IF('Simulador Pagos Oportunos'!$X$35=3,'Simulador Pagos Oportunos'!$I$49,IF('Simulador Pagos Oportunos'!$X$35=4,'Simulador Pagos Oportunos'!$K$49,IF('Simulador Pagos Oportunos'!$X$35=5,'Simulador Pagos Oportunos'!$M$49,0)))))","v":0},null,{"$f":"AQ100*'Simulador Pagos Oportunos'!$X$59","v":0},0,0,"",0,86]
[87,0,null,0,null,0,null,0,null,null,null,{"$f":"IF('Simulador Pagos Oportunos'!$V$60=1,0,J101*'Simulador Pagos Oportunos'!$O$63*'Simulador Pagos Oportunos'!$W$59)","v":0},null,"",null,0,null,{"$f":"IFERROR(IF(B101<=0,0,B101*'Simulador Pagos Oportunos'!$Y$67),0)","v":0},null,{"$f":"IFERROR(IF(B101<=0,0,IF('Simulador Pagos Oportunos'!$X$35=3,'Simulador Pagos Oportunos'!$I$49,IF('Simulador Pagos Oportunos'!$X$35=4,'Simulador Pagos Oportunos'!$K$49,IF('Simulador Pagos Oportunos'!$X$35=5,'Simulador Pagos Oportunos'!$M$49,0)))),0)","v":0},null,{"$f":"IF(B101<=0,\"\",IF('Simulador Pagos Oportunos'!$V$40=1,'Simulador Pagos Oportunos'!$Z$62,'Simulador Pagos Oportunos'!$Z$62*'Simulador Pagos Oportunos'!$W$59))","v":""},{"$f":"F101*'Simulador Pagos Oportunos'!$X$59","v":0},"",null,null,null,7,3,0,0,0,"",{"$f":"IF('Simulador Pagos Oportunos'!$X$35=3,AI101,IF('Simulador Pagos Oportunos'!$X$35=4,AJ101,IF('Simulador Pagos Oportunos'!$X$35=5,AK101,0)))","v":0.1825},null,0.17849999999999999,0.1825,0,0,0,0,0,0,0,0,{"$f":"IF('Simulador Pagos Oportunos'!$X$35=3,AI101,IF('Simulador Pagos Oportunos'!$X$35=4,AJ101,IF('Simulador Pagos Oportunos'!$X$35=5,AK101,0)))","v":0.1825},{"$f":"IF(AO101<=0,0,IF('Simulador Pagos Oportunos'!$AC$62=1,0,AO101*'Simulador Pagos Oportunos'!$Y$67+IF('Simulador Pagos Oportunos'!$X$35=3,'Simulador Pagos Oportunos'!$I$49,IF('Simulador Pagos Oportunos'!$X$35=4,'Simulador Pagos Oportunos'!$K$49,IF('Simulador Pagos Oportunos'!$X$35=5,'Simulador Pagos Oportunos'!$M$49,0)))))","v":0},null,{"$f":"AQ101*'Simulador Pagos Oportunos'!$X$59","v":0},0,0,"",0,87]
[88,0,null,0,null,0,null,0,null,null,null,{"$f":"IF('Simulador Pagos Oportunos'!$V$60=1,0,J102*'Simulador Pagos Oportunos'!$O$63*'Simulador Pagos Oportunos'!$W$59)","v":0},null,"",null,0,null,{"$f":"IFERROR(IF(B102<=0,0,B102*'Simulador Pagos Oportunos'!$Y$67),0)","v":0},null,{"$f":"IFERROR(IF(B102<=0,0,IF('Simulador Pagos Oportunos'!$X$35=3,'Simulador Pagos Oportunos'!$I$49,IF('Simulador Pagos Oportunos'!$X$35=4,'Simulador Pagos Oportunos'!$K$49,IF('Simulador Pagos Oportunos'!$X$35=5,'Simulador Pagos Oportunos'!$M$49,0)))),0)","v":0},null,{"$f":"IF(B102<=0,\"\",IF('Simulador Pagos Oportunos'!$V$40=1,'Simulador Pagos Oportunos'!$Z$62,'Simulador Pagos Oportunos'!$Z$62*'Simulador Pagos Oportunos'!$W$59))","v":""},{"$f":"F102*'Simulador Pagos Oportunos'!$X$59","v":0},"",null,null,null,7,4,0,0,0,"",{"$f":"IF('Simulador Pagos Oportunos'!$X$35=3,AI102,IF('Simulador Pagos Oportunos'!$X$35=4,AJ102,IF('Simulador Pagos Oportunos'!$X$35=5,AK102,0)))","v":0.1825},null,0.17849999999999999,0.1825,0,0,0,0,0,0,0,0,{"$f":"IF('Simulador Pagos Oportunos'!$X$35=3,AI102,IF('Simulador Pagos Oportunos'!$X$35=4,AJ102,IF('Simulador Pagos Oportunos'!$X$35=5,AK102,0)))","v":0.1825},{"$f":"IF(AO102<=0,0,IF('Simulador Pagos Oportunos'!$AC$62=1,0,AO102*'Simulador Pagos Oportunos'!$Y$67+IF('Simulador Pagos Oportunos'!$X$35=3,'Simulador Pagos Oportunos'!$I$49,IF('Simulador Pagos Oportunos'!$X$35=4,'Simulador Pagos Oportunos'!$K$49,IF('Simulador Pagos Oportunos'!$X$35=5,'Simulador Pagos Oportunos'!$M$49,0)))))","v":0},null,{"$f":"AQ102*'Simulador Pagos Oportunos'!$X$59","v":0},0,0,"",0,88]
[89,0,null,0,null,0,null,0,null,null,null,{"$f":"IF('Simulador Pagos Oportunos'!$V$60=1,0,J103*'Simulador Pagos Oportunos'!$O$63*'Simulador Pagos Oportunos'!$W$59)","v":0},null,"",null,0,null,{"$f":"IFERROR(IF(B103<=0,0,B103*'Simulador Pagos Oportunos'!$Y$67),0)","v":0},null,{"$f":"IFERROR(IF(B103<=0,0,IF('Simulador Pagos Oportunos'!$X$35=3,'Simulador Pagos Oportunos'!$I$49,IF('Simulador Pagos Oportunos'!$X$35=4,'Simulador Pagos Oportunos'!$K$49,IF('Simulador Pagos Oportunos'!$X$35=5,'Simulador Pagos Oportunos'!$M$49,0)))),0)","v":0},null,{"$f":"IF(B103<=0,\"\",IF('Simulador Pagos Oportunos'!$V$40=1,'Simulador Pagos Oportunos'!$Z$62,'Simulador Pagos Oportunos'!$Z$62*'Simulador Pagos Oportunos'!$W$59))","v":""},{"$f":"F103*'Simulador Pagos Oportunos'!$X$59","v":0},"",null,null,null,7,5,0,0,0,"",{"$f":"IF('Simulador Pagos Oportunos'!$X$35=3,AI103,IF('Simulador Pagos Oportunos'!$X$35=4,AJ103,IF('Simulador Pagos Oportunos'!$X$35=5,AK103,0)))","v":0.1825},null,0.17849999999999999,0.1825,0,0,0,0,0,0,0,0,{"$f":"IF('Simulador Pagos Oportunos'!$X$35=3,AI103,IF('Simulador Pagos Oportunos'!$X$35=4,AJ103,IF('Simulador Pagos Oportunos'!$X$35=5,AK103,0)))","v":0.1825},{"$f":"IF(AO103<=0,0,IF('Simulador Pagos Oportunos'!$AC$62=1,0,AO103*'Simulador Pagos Oportunos'!$Y$67+IF('Simulador Pagos Oportunos'!$X$35=3,'Simulador Pagos Oportunos'!$I$49,IF('Simulador Pagos Oportunos'!$X$35=4,'Simulador Pagos Oportunos'!$K$49,IF('Simulador Pagos Oportunos'!$X$35=5,'Simulador Pagos Oportunos'!$M$49,0)))))","v":0},null,{"$f":"AQ103*'Simulador Pagos Oportunos'!$X$59","v":0},0,0,"",0,89]
[90,0,null,0,null,0,null,0,null,null,null,{"$f":"IF('Simulador Pagos Oportunos'!$V$60=1,0,J104*'Simulador Pagos Oportunos'!$O$63*'Simulador Pagos Oportunos'!$W$59)","v":0},null,"",null,0,null,{"$f":"IFERROR(IF(B104<=0,0,B104*'Simulador Pagos Oportunos'!$Y$67),0)","v":0},null,{"$f":"IFERROR(IF(B104<=0,0,IF('Simulador Pagos Oportunos'!$X$35=3,'Simulador Pagos Oportunos'!$I$49,IF('Simulador Pagos Oportunos'!$X$35=4,'Simulador Pagos Oportunos'!$K$49,IF('Simulador Pagos Oportunos'!$X$35=5,'Simulador Pagos Oportunos'!$M$49,0)))),0)","v":0},null,{"$f":"IF(B104<=0,\"\",IF('Simulador Pagos Oportunos'!$V$40=1,'Simulador Pagos Oportunos'!$Z$62,'Simulador Pagos Oportunos'!$Z$62*'Simulador Pagos Oportunos'!$W$59))","v":""},{"$f":"F104*'Simulador Pagos Oportunos'!$X$59","v":0},"",null,null,null,7,6,0,0,0,"",{"$f":"IF('Simulador Pagos Oportunos'!$X$35=3,AI104,IF('Simulador Pagos Oportunos'!$X$35=4,AJ104,IF('Simulador Pagos Oportunos'!$X$35=5,AK104,0)))","v":0.1825},null,0.17849999999999999,0.1825,0,0,0,0,0,0,0,0,{"$f":"IF('Simulador Pagos Oportunos'!$X$35=3,AI104,IF('Simulador Pagos Oportunos'!$X$35=4,AJ104,IF('Simulador Pagos Oportunos'!$X$35=5,AK104,0)))","v":0.1825},{"$f":"IF(AO104<=0,0,IF('Simulador Pagos Oportunos'!$AC$62=1,0,AO104*'Simulador Pagos Oportunos'!$Y$67+IF('Simulador Pagos Oportunos'!$X$35=3,'Simulador Pagos Oportunos'!$I$49,IF('Simulador Pagos Oportunos'!$X$35=4,'Simulador Pagos Oportunos'!$K$49,IF('Simulador Pagos Oportunos'!$X$35=5,'Simulador Pagos Oportunos'!$M$49,0)))))","v":0},null,{"$f":"AQ104*'Simulador Pagos Oportunos'!$X$59","v":0},0,0,"",0,90]
[91,0,null,0,null,0,null,0,null,null,null,{"$f":"IF('Simulador Pagos Oportunos'!$V$60=1,0,J105*'Simulador Pagos Oportunos'!$O$63*'Simulador Pagos Oportunos'!$W$59)","v":0},null,"",null,0,null,{"$f":"IFERROR(IF(B105<=0,0,B105*'Simulador Pagos Oportunos'!$Y$67),0)","v":0},null,{"$f":"IFERROR(IF(B105<=0,0,IF('Simulador Pagos Oportunos'!$X$35=3,'Simulador Pagos Oportunos'!$I$49,IF('Simulador Pagos Oportunos'!$X$35=4,'Simulador Pagos Oportunos'!$K$49,IF('Simulador Pagos Oportunos'!$X$35=5,'Simulador Pagos Oportunos'!$M$49,0)))),0)","v":0},null,{"$f":"IF(B105<=0,\"\",IF('Simulador Pagos Oportunos'!$V$40=1,'Simulador Pagos Oportunos'!$Z$62,'Simulador Pagos Oportunos'!$Z$62*'Simulador Pagos Oportunos'!$W$59))","v":""},{"$f":"F105*'Simulador Pagos Oportunos'!$X$59","v":0},"",null,null,null,7,7,0,0,0,"",{"$f":"IF('Simulador Pagos Oportunos'!$X$35=3,AI105,IF('Simulador Pagos Oportunos'!$X$35=4,AJ105,IF('Simulador Pagos Oportunos'!$X$35=5,AK105,0)))","v":0.1825},null,{"$f":"AJ104","v":0.17849999999999999},0.1825,0,0,0,0,0,0,0,0,{"$f":"IF('Simulador Pagos Oportunos'!$X$35=3,AI105,IF('Simulador Pagos Oportunos'!$X$35=4,AJ105,IF('Simulador Pagos Oportunos'!$X$35=5,AK105,0)))","v":0.1825},{"$f":"IF(AO105<=0,0,IF('Simulador Pagos Oportunos'!$AC$62=1,0,AO105*'Simulador Pagos Oportunos'!$Y$67+IF('Simulador Pagos Oportunos'!$X$35=3,'Simulador Pagos Oportunos'!$I$49,IF('Simulador Pagos Oportunos'!$X$35=4,'Simulador Pagos Oportunos'!$K$49,IF('Simulador Pagos Oportunos'!$X$35=5,'Simulador Pagos Oportunos'!$M$49,0)))))","v":0},null,{"$f":"AQ105*'Simulador Pagos Oportunos'!$X$59","v":0},0,0,"",0,91]
[92,0,null,0,null,0,null,0,null,null,null,{"$f":"IF('Simulador Pagos Oportunos'!$V$60=1,0,J106*'Simulador Pagos Oportunos'!$O$63*'Simulador Pagos Oportunos'!$W$59)","v":0},null,"",null,0,null,{"$f":"IFERROR(IF(B106<=0,0,B106*'Simulador Pagos Oportunos'!$Y$67),0)","v":0},null,{"$f":"IFERROR(IF(B106<=0,0,IF('Simulador Pagos Oportunos'!$X$35=3,'Simulador Pagos Oportunos'!$I$49,IF('Simulador Pagos Oportunos'!$X$35=4,'Simulador Pagos Oportunos'!$K$49,IF('Simulador Pagos Oportunos'!$X$35=5,'Simulador Pagos Oportunos'!$M$49,0)))),0)","v":0},null,{"$f":"IF(B106<=0,\"\",IF('Simulador Pagos Oportunos'!$V$40=1,'Simulador Pagos Oportunos'!$Z$62,'Simulador Pagos Oportunos'!$Z$62*'Simulador Pagos Oportunos'!$W$59))","v":""},{"$f":"F106*'Simulador Pagos Oportunos'!$X$59","v":0},"",null,null,null,7,8,0,0,0,"",{"$f":"IF('Simulador Pagos Oportunos'!$X$35=3,AI106,IF('Simulador Pagos Oportunos'!$X$35=4,AJ106,IF('Simulador Pagos Oportunos'!$X$35=5,AK106,0)))","v":0.1825},null,0.17849999999999999,0.1825,0,0,0,0,0,0,0,0,{"$f":"IF('Simulador Pagos Oportunos'!$X$35=3,AI106,IF('Simulador Pagos Oportunos'!$X$35=4,AJ106,IF('Simulador Pagos Oportunos'!$X$35=5,AK106,0)))","v":0.1825},{"$f":"IF(AO106<=0,0,IF('Simulador Pagos Oportunos'!$AC$62=1,0,AO106*'Simulador Pagos Oportunos'!$Y$67+IF('Simulador Pagos Oportunos'!$X$35=3,'Simulador Pagos Oportunos'!$I$49,IF('Simulador Pagos Oportunos'!$X$35=4,'Simulador Pagos Oportunos'!$K$49,IF('Simulador Pagos Oportunos'!$X$35=5,'Simulador Pagos Oportunos'!$M$49,0)))))","v":0},null,{"$f":"AQ106*'Simulador Pagos Oportunos'!$X$59","v":0},0,0,"",0,92]
[93,0,null,0,null,0,null,0,null,null,null,{"$f":"IF('Simulador Pagos Oportunos'!$V$60=1,0,J107*'Simulador Pagos Oportunos'!$O$63*'Simulador Pagos Oportunos'!$W$59)","v":0},null,"",null,0,null,{"$f":"IFERROR(IF(B107<=0,0,B107*'Simulador Pagos Oportunos'!$Y$67),0)","v":0},null,{"$f":"IFERROR(IF(B107<=0,0,IF('Simulador Pagos Oportunos'!$X$35=3,'Simulador Pagos Oportunos'!$I$49,IF('Simulador Pagos Oportunos'!$X$35=4,'Simulador Pagos Oportunos'!$K$49,IF('Simulador Pagos Oportunos'!$X$35=5,'Simulador Pagos Oportunos'!$M$49,0)))),0)","v":0},null,{"$f":"IF(B107<=0,\"\",IF('Simulador Pagos Oportunos'!$V$40=1,'Simulador Pagos Oportunos'!$Z$62,'Simulador Pagos Oportunos'!$Z$62*'Simulador Pagos Oportunos'!$W$59))","v":""},{"$f":"F107*'Simulador Pagos Oportunos'!$X$59","v":0},"",null,null,null,7,9,0,0,0,"",{"$f":"IF('Simulador Pagos Oportunos'!$X$35=3,AI107,IF('Simulador Pagos Oportunos'!$X$35=4,AJ107,IF('Simulador Pagos Oportunos'!$X$35=5,AK107,0)))","v":0.1825},null,0.17849999999999999,0.1825,0,0,0,0,0,0,0,0,{"$f":"IF('Simulador Pagos Oportunos'!$X$35=3,AI107,IF('Simulador Pagos Oportunos'!$X$35=4,AJ107,IF('Simulador Pagos Oportunos'!$X$35=5,AK107,0)))","v":0.1825},{"$f":"IF(AO107<=0,0,IF('Simulador Pagos Oportunos'!$AC$62=1,0,AO107*'Simulador Pagos Oportunos'!$Y$67+IF('Simulador Pagos Oportunos'!$X$35=3,'Simulador Pagos Oportunos'!$I$49,IF('Simulador Pagos Oportunos'!$X$35=4,'Simulador Pagos Oportunos'!$K$49,IF('Simulador Pagos Oportunos'!$X$35=5,'Simulador Pagos Oportunos'!$M$49,0)))))","v":0},null,{"$f":"AQ107*'Simulador Pagos Oportunos'!$X$59","v":0},0,0,"",0,93]
[94,0,null,0,null,0,null,0,null,null,null,{"$f":"IF('Simulador Pagos Oportunos'!$V$60=1,0,J108*'Simulador Pagos Oportunos'!$O$63*'Simulador Pagos Oportunos'!$W$59)","v":0},null,"",null,0,null,{"$f":"IFERROR(IF(B108<=0,0,B108*'Simulador Pagos Oportunos'!$Y$67),0)","v":0},null,{"$f":"IFERROR(IF(B108<=0,0,IF('Simulador Pagos Oportunos'!$X$35=3,'Simulador Pagos Oportunos'!$I$49,IF('Simulador Pagos Oportunos'!$X$35=4,'Simulador Pagos Oportunos'!$K$49,IF('Simulador Pagos Oportunos'!$X$35=5,'Simulador Pagos Oportunos'!$M$49,0)))),0)","v":0},null,{"$f":"IF(B108<=0,\"\",IF('Simulador Pagos Oportunos'!$V$40=1,'Simulador Pagos Oportunos'!$Z$62,'Simulador Pagos Oportunos'!$Z$62*'Simulador Pagos Oportunos'!$W$59))","v":""},{"$f":"F108*'Simulador Pagos Oportunos'!$X$59","v":0},"",null,null,null,7,10,0,0,0,"",{"$f":"IF('Simulador Pagos Oportunos'!$X$35=3,AI108,IF('Simulador Pagos Oportunos'!$X$35=4,AJ108,IF('Simulador Pagos Oportunos'!$X$35=5,AK108,0)))","v":0.1825},null,0.17849999999999999,0.1825,0,0,0,0,0,0,0,0,{"$f":"IF('Simulador Pagos Oportunos'!$X$35=3,AI108,IF('Simulador Pagos Oportunos'!$X$35=4,AJ108,IF('Simulador Pagos Oportunos'!$X$35=5,AK108,0)))","v":0.1825},{"$f":"IF(AO108<=0,0,IF('Simulador Pagos Oportunos'!$AC$62=1,0,AO108*'Simulador Pagos Oportunos'!$Y$67+IF('Simulador Pagos Oportunos'!$X$35=3,'Simulador Pagos Oportunos'!$I$49,IF('Simulador Pagos Oportunos'!$X$35=4,'Simulador Pagos Oportunos'!$K$49,IF('Simulador Pagos Oportunos'!$X$35=5,'Simulador Pagos Oportunos'!$M$49,0)))))","v":0},null,{"$f":"AQ108*'Simulador Pagos Oportunos'!$X$59","v":0},0,0,"",0,94]
[95,0,null,0,null,0,null,0,null,null,null,{"$f":"IF('Simulador Pagos Oportunos'!$V$60=1,0,J109*'Simulador Pagos Oportunos'!$O$63*'Simulador Pagos Oportunos'!$W$59)","v":0},null,"",null,0,null,{"$f":"IFERROR(IF(B109<=0,0,B109*'Simulador Pagos Oportunos'!$Y$67),0)","v":0},null,{"$f":"IFERROR(IF(B109<=0,0,IF('Simulador Pagos Oportunos'!$X$35=3,'Simulador Pagos Oportunos'!$I$49,IF('Simulador Pagos Oportunos'!$X$35=4,'Simulador Pagos Oportunos'!$K$49,IF('Simulador Pagos Oportunos'!$X$35=5,'Simulador Pagos Oportunos'!$M$49,0)))),0)","v":0},null,{"$f":"IF(B109<=0,\"\",IF('Simulador Pagos Oportunos'!$V$40=1,'Simulador Pagos Oportunos'!$Z$62,'Simulador Pagos Oportunos'!$Z$62*'Simulador Pagos Oportunos'!$W$59))","v":""},{"$f":"F109*'Simulador Pagos Oportunos'!$X$59","v":0},"",null,null,null,7,11,0,0,0,"",{"$f":"IF('Simulador Pagos Oportunos'!$X$35=3,AI109,IF('Simulador Pagos Oportunos'!$X$35=4,AJ109,IF('Simulador Pagos Oportunos'!$X$35=5,AK109,0)))","v":0.1825},null,0.17849999999999999,0.1825,0,0,0,0,0,0,0,0,{"$f":"IF('Simulador Pagos Oportunos'!$X$35=3,AI109,IF('Simulador Pagos Oportunos'!$X$35=4,AJ109,IF('Simulador Pagos Oportunos'!$X$35=5,AK109,0)))","v":0.1825},{"$f":"IF(AO109<=0,0,IF('Simulador Pagos Oportunos'!$AC$62=1,0,AO109*'Simulador Pagos Oportunos'!$Y$67+IF('Simulador Pagos Oportunos'!$X$35=3,'Simulador Pagos Oportunos'!$I$49,IF('Simulador Pagos Oportunos'!$X$35=4,'Simulador Pagos Oportunos'!$K$49,IF('Simulador Pagos Oportunos'!$X$35=5,'Simulador Pagos Oportunos'!$M$49,0)))))","v":0},null,{"$f":"AQ109*'Simulador Pagos Oportunos'!$X$59","v":0},0,0,"",0,95]
[96,0,null,0,null,0,null,0,null,null,null,{"$f":"IF('Simulador Pagos Oportunos'!$V$60=1,0,J110*'Simulador Pagos Oportunos'!$O$63*'Simulador Pagos Oportunos'!$W$59)","v":0},null,"",null,0,null,{"$f":"IFERROR(IF(B110<=0,0,B110*'Simulador Pagos Oportunos'!$Y$67),0)","v":0},null,{"$f":"IFERROR(IF(B110<=0,0,IF('Simulador Pagos Oportunos'!$X$35=3,'Simulador Pagos Oportunos'!$I$49,IF('Simulador Pagos Oportunos'!$X$35=4,'Simulador Pagos Oportunos'!$K$49,IF('Simulador Pagos Oportunos'!$X$35=5,'Simulador Pagos Oportunos'!$M$49,0)))),0)","v":0},null,{"$f":"IF(B110<=0,\"\",IF('Simulador Pagos Oportunos'!$V$40=1,'Simulador Pagos Oportunos'!$Z$62,'Simulador Pagos Oportunos'!$Z$62*'Simulador Pagos Oportunos'!$W$59))","v":""},{"$f":"F110*'Simulador Pagos Oportunos'!$X$59","v":0},"",null,null,null,8,0,0,0,0,"",{"$f":"IF('Simulador Pagos Oportunos'!$X$35=3,AI110,IF('Simulador Pagos Oportunos'!$X$35=4,AJ110,IF('Simulador Pagos Oportunos'!$X$35=5,AK110,0)))","v":0.1825},null,0.17849999999999999,0.1825,0,0,0,0,0,0,0,0,{"$f":"IF('Simulador Pagos Oportunos'!$X$35=3,AI110,IF('Simulador Pagos Oportunos'!$X$35=4,AJ110,IF('Simulador Pagos Oportunos'!$X$35=5,AK110,0)))","v":0.1825},{"$f":"IF(AO110<=0,0,IF('Simulador Pagos Oportunos'!$AC$62=1,0,AO110*'Simulador Pagos Oportunos'!$Y$67+IF('Simulador Pagos Oportunos'!$X$35=3,'Simulador Pagos Oportunos'!$I$49,IF('Simulador Pagos Oportunos'!$X$35=4,'Simulador Pagos Oportunos'!$K$49,IF('Simulador Pagos Oportunos'!$X$35=5,'Simulador Pagos Oportunos'!$M$49,0)))))","v":0},null,{"$f":"AQ110*'Simulador Pagos Oportunos'!$X$59","v":0},0,0,"",0,96]
[97,0,null,0,null,0,null,0,null,null,null,{"$f":"IF('Simulador Pagos Oportunos'!$V$60=1,0,J111*'Simulador Pagos Oportunos'!$O$63*'Simulador Pagos Oportunos'!$W$59)","v":0},null,"",null,0,null,{"$f":"IFERROR(IF(B111<=0,0,B111*'Simulador Pagos Oportunos'!$Y$67),0)","v":0},null,{"$f":"IFERROR(IF(B111<=0,0,IF('Simulador Pagos Oportunos'!$X$35=3,'Simulador Pagos Oportunos'!$I$49,IF('Simulador Pagos Oportunos'!$X$35=4,'Simulador Pagos Oportunos'!$K$49,IF('Simulador Pagos Oportunos'!$X$35=5,'Simulador Pagos Oportunos'!$M$49,0)))),0)","v":0},null,{"$f":"IF(B111<=0,\"\",IF('Simulador Pagos Oportunos'!$V$40=1,'Simulador Pagos Oportunos'!$Z$62,'Simulador Pagos Oportunos'!$Z$62*'Simulador Pagos Oportunos'!$W$59))","v":""},{"$f":"F111*'Simulador Pagos Oportunos'!$X$59","v":0},"",null,{"$f":"IF(B111<=0,0,'Simulador Pagos Oportunos'!$AM$48)","v":0},null,8,1,0,0,0,"",{"$f":"IF('Simulador Pagos Oportunos'!$X$35=3,AI111,IF('Simulador Pagos Oportunos'!$X$35=4,AJ111,IF('Simulador Pagos Oportunos'!$X$35=5,AK111,0)))","v":0.1825},null,0.17849999999999999,0.1825,0,0,0,0,0,0,0,0,{"$f":"IF('Simulador Pagos Oportunos'!$X$35=3,AI111,IF('Simulador Pagos Oportunos'!$X$35=4,AJ111,IF('Simulador Pagos Oportunos'!$X$35=5,AK111,0)))","v":0.1825},{"$f":"IF(AO111<=0,0,IF('Simulador Pagos Oportunos'!$AC$62=1,0,AO111*'Simulador Pagos Oportunos'!$Y$67+IF('Simulador Pagos Oportunos'!$X$35=3,'Simulador Pagos Oportunos'!$I$49,IF('Simulador Pagos Oportunos'!$X$35=4,'Simulador Pagos Oportunos'!$K$49,IF('Simulador Pagos Oportunos'!$X$35=5,'Simulador Pagos Oportunos'!$M$49,0)))))","v":0},{"$f":"IF(AO111<=0,0,$AV$32)","v":0},{"$f":"AQ111*'Simulador Pagos Oportunos'!$X$59","v":0},0,0,"",0,97]
[98,0,null,0,null,0,null,0,null,null,null,{"$f":"IF('Simulador Pagos Oportunos'!$V$60=1,0,J112*'Simulador Pagos Oportunos'!$O$63*'Simulador Pagos Oportunos'!$W$59)","v":0},null,"",null,0,null,{"$f":"IFERROR(IF(B112<=0,0,B112*'Simulador Pagos Oportunos'!$Y$67),0)","v":0},null,{"$f":"IFERROR(IF(B112<=0,0,IF('Simulador Pagos Oportunos'!$X$35=3,'Simulador Pagos Oportunos'!$I$49,IF('Simulador Pagos Oportunos'!$X$35=4,'Simulador Pagos Oportunos'!$K$49,IF('Simulador Pagos Oportunos'!$X$35=5,'Simulador Pagos Oportunos'!$M$49,0)))),0)","v":0},null,{"$f":"IF(B112<=0,\"\",IF('Simulador Pagos Oportunos'!$V$40=1,'Simulador Pagos Oportunos'!$Z$62,'Simulador Pagos Oportunos'!$Z$62*'Simulador Pagos Oportunos'!$W$59))","v":""},{"$f":"F112*'Simulador Pagos Oportunos'!$X$59","v":0},"",null,null,null,8,2,0,0,0,"",{"$f":"IF('Simulador Pagos Oportunos'!$X$35=3,AI112,IF('Simulador Pagos Oportunos'!$X$35=4,AJ112,IF('Simulador Pagos Oportunos'!$X$35=5,AK112,0)))","v":0.1825},null,0.17849999999999999,0.1825,0,0,0,0,0,0,0,0,{"$f":"IF('Simulador Pagos Oportunos'!$X$35=3,AI112,IF('Simulador Pagos Oportunos'!$X$35=4,AJ112,IF('Simulador Pagos Oportunos'!$X$35=5,AK112,0)))","v":0.1825},{"$f":"IF(AO112<=0,0,IF('Simulador Pagos Oportunos'!$AC$62=1,0,AO112*'Simulador Pagos Oportunos'!$Y$67+IF('Simulador Pagos Oportunos'!$X$35=3,'Simulador Pagos Oportunos'!$I$49,IF('Simulador Pagos Oportunos'!$X$35=4,'Simulador Pagos Oportunos'!$K$49,IF('Simulador Pagos Oportunos'!$X$35=5,'Simulador Pagos Oportunos'!$M$49,0)))))","v":0},null,{"$f":"AQ112*'Simulador Pagos Oportunos'!$X$59","v":0},0,0,"",0,98]
[99,0,null,0,null,0,null,0,null,null,null,{"$f":"IF('Simulador Pagos Oportunos'!$V$60=1,0,J113*'Simulador Pagos Oportunos'!$O$63*'Simulador Pagos Oportunos'!$W$59)","v":0},null,"",null,0,null,{"$f":"IFERROR(IF(B113<=0,0,B113*'Simulador Pagos Oportunos'!$Y$67),0)","v":0},null,{"$f":"IFERROR(IF(B113<=0,0,IF('Simulador Pagos Oportunos'!$X$35=3,'Simulador Pagos Oportunos'!$I$49,IF('Simulador Pagos Oportunos'!$X$35=4,'Simulador Pagos Oportunos'!$K$49,IF('Simulador Pagos Oportunos'!$X$35=5,'Simulador Pagos Oportunos'!$M$49,0)))),0)","v":0},null,{"$f":"IF(B113<=0,\"\",IF('Simulador Pagos Oportunos'!$V$40=1,'Simulador Pagos Oportunos'!$Z$62,'Simulador Pagos Oportunos'!$Z$62*'Simulador Pagos Oportunos'!$W$59))","v":""},{"$f":"F113*'Simulador Pagos Oportunos'!$X$59","v":0},"",null,null,null,8,3,0,0,0,"",{"$f":"IF('Simulador Pagos Oportunos'!$X$35=3,AI113,IF('Simulador Pagos Oportunos'!$X$35=4,AJ113,IF('Simulador Pagos Oportunos'!$X$35=5,AK113,0)))","v":0.1825},null,0.17849999999999999,0.1825,0,0,0,0,0,0,0,0,{"$f":"IF('Simulador Pagos Oportunos'!$X$35=3,AI113,IF('Simulador Pagos Oportunos'!$X$35=4,AJ113,IF('Simulador Pagos Oportunos'!$X$35=5,AK113,0)))","v":0.1825},{"$f":"IF(AO113<=0,0,IF('Simulador Pagos Oportunos'!$AC$62=1,0,AO113*'Simulador Pagos Oportunos'!$Y$67+IF('Simulador Pagos Oportunos'!$X$35=3,'Simulador Pagos Oportunos'!$I$49,IF('Simulador Pagos Oportunos'!$X$35=4,'Simulador Pagos Oportunos'!$K$49,IF('Simulador Pagos Oportunos'!$X$35=5,'Simulador Pagos Oportunos'!$M$49,0)))))","v":0},null,{"$f":"AQ113*'Simulador Pagos Oportunos'!$X$59","v":0},0,0,"",0,99]
[100,0,null,0,null,0,null,0,null,null,null,{"$f":"IF('Simulador Pagos Oportunos'!$V$60=1,0,J114*'Simulador Pagos Oportunos'!$O$63*'Simulador Pagos Oportunos'!$W$59)","v":0},null,"",null,0,null,{"$f":"IFERROR(IF(B114<=0,0,B114*'Simulador Pagos Oportunos'!$Y$67),0)","v":0},null,{"$f":"IFERROR(IF(B114<=0,0,IF('Simulador Pagos Oportunos'!$X$35=3,'Simulador Pagos Oportunos'!$I$49,IF('Simulador Pagos Oportunos'!$X$35=4,'Simulador Pagos Oportunos'!$K$49,IF('Simulador Pagos Oportunos'!$X$35=5,'Simulador Pagos Oportunos'!$M$49,0)))),0)","v":0},null,{"$f":"IF(B114<=0,\"\",IF('Simulador Pagos Oportunos'!$V$40=1,'Simulador Pagos Oportunos'!$Z$62,'Simulador Pagos Oportunos'!$Z$62*'Simulador Pagos Oportunos'!$W$59))","v":""},{"$f":"F114*'Simulador Pagos Oportunos'!$X$59","v":0},"",null,null,null,8,4,0,0,0,"",{"$f":"IF('Simulador Pagos Oportunos'!$X$35=3,AI114,IF('Simulador Pagos Oportunos'!$X$35=4,AJ114,IF('Simulador Pagos Oportunos'!$X$35=5,AK114,0)))","v":0.1825},null,0.17849999999999999,0.1825,0,0,0,0,0,0,0,0,{"$f":"IF('Simulador Pagos Oportunos'!$X$35=3,AI114,IF('Simulador Pagos Oportunos'!$X$35=4,AJ114,IF('Simulador Pagos Oportunos'!$X$35=5,AK114,0)))","v":0.1825},{"$f":"IF(AO114<=0,0,IF('Simulador Pagos Oportunos'!$AC$62=1,0,AO114*'Simulador Pagos Oportunos'!$Y$67+IF('Simulador Pagos Oportunos'!$X$35=3,'Simulador Pagos Oportunos'!$I$49,IF('Simulador Pagos Oportunos'!$X$35=4,'Simulador Pagos Oportunos'!$K$49,IF('Simulador Pagos Oportunos'!$X$35=5,'Simulador Pagos Oportunos'!$M$49,0)))))","v":0},null,{"$f":"AQ114*'Simulador Pagos Oportunos'!$X$59","v":0},0,0,"",0,100]
[101,0,null,0,null,0,null,0,null,null,null,{"$f":"IF('Simulador Pagos Oportunos'!$V$60=1,0,J115*'Simulador Pagos Oportunos'!$O$63*'Simulador Pagos Oportunos'!$W$59)","v":0},null,"",null,0,null,{"$f":"IFERROR(IF(B115<=0,0,B115*'Simulador Pagos Oportunos'!$Y$67),0)","v":0},null,{"$f":"IFERROR(IF(B115<=0,0,IF('Simulador Pagos Oportunos'!$X$35=3,'Simulador Pagos Oportunos'!$I$49,IF('Simulador Pagos Oportunos'!$X$35=4,'Simulador Pagos Oportunos'!$K$49,IF('Simulador Pagos Oportunos'!$X$35=5,'Simulador Pagos Oportunos'!$M$49,0)))),0)","v":0},null,{"$f":"IF(B115<=0,\"\",IF('Simulador Pagos Oportunos'!$V$40=1,'Simulador Pagos Oportunos'!$Z$62,'Simulador Pagos Oportunos'!$Z$62*'Simulador Pagos Oportunos'!$W$59))","v":""},{"$f":"F115*'Simulador Pagos Oportunos'!$X$59","v":0},"",null,null,null,8,5,0,0,0,"",{"$f":"IF('Simulador Pagos Oportunos'!$X$35=3,AI115,IF('Simulador Pagos Oportunos'!$X$35=4,AJ115,IF('Simulador Pagos Oportunos'!$X$35=5,AK115,0)))","v":0.1825},null,0.17849999999999999,0.1825,0,0,0,0,0,0,0,0,{"$f":"IF('Simulador Pagos Oportunos'!$X$35=3,AI115,IF('Simulador Pagos Oportunos'!$X$35=4,AJ115,IF('Simulador Pagos Oportunos'!$X$35=5,AK115,0)))","v":0.1825},{"$f":"IF(AO115<=0,0,IF('Simulador Pagos Oportunos'!$AC$62=1,0,AO115*'Simulador Pagos Oportunos'!$Y$67+IF('Simulador Pagos Oportunos'!$X$35=3,'Simulador Pagos Oportunos'!$I$49,IF('Simulador Pagos Oportunos'!$X$35=4,'Simulador Pagos Oportunos'!$K$49,IF('Simulador Pagos Oportunos'!$X$35=5,'Simulador Pagos Oportunos'!$M$49,0)))))","v":0},null,{"$f":"AQ115*'Simulador Pagos Oportunos'!$X$59","v":0},0,0,"",0,101]
[102,0,null,0,null,0,null,0,null,null,null,{"$f":"IF('Simulador Pagos Oportunos'!$V$60=1,0,J116*'Simulador Pagos Oportunos'!$O$63*'Simulador Pagos Oportunos'!$W$59)","v":0},null,"",null,0,null,{"$f":"IFERROR(IF(B116<=0,0,B116*'Simulador Pagos Oportunos'!$Y$67),0)","v":0},null,{"$f":"IFERROR(IF(B116<=0,0,IF('Simulador Pagos Oportunos'!$X$35=3,'Simulador Pagos Oportunos'!$I$49,IF('Simulador Pagos Oportunos'!$X$35=4,'Simulador Pagos Oportunos'!$K$49,IF('Simulador Pagos Oportunos'!$X$35=5,'Simulador Pagos Oportunos'!$M$49,0)))),0)","v":0},null,{"$f":"IF(B116<=0,\"\",IF('Simulador Pagos Oportunos'!$V$40=1,'Simulador Pagos Oportunos'!$Z$62,'Simulador Pagos Oportunos'!$Z$62*'Simulador Pagos Oportunos'!$W$59))","v":""},{"$f":"F116*'Simulador Pagos Oportunos'!$X$59","v":0},"",null,null,null,8,6,0,0,0,"",{"$f":"IF('Simulador Pagos Oportunos'!$X$35=3,AI116,IF('Simulador Pagos Oportunos'!$X$35=4,AJ116,IF('Simulador Pagos Oportunos'!$X$35=5,AK116,0)))","v":0.1825},null,0.17849999999999999,0.1825,0,0,0,0,0,0,0,0,{"$f":"IF('Simulador Pagos Oportunos'!$X$35=3,AI116,IF('Simulador Pagos Oportunos'!$X$35=4,AJ116,IF('Simulador Pagos Oportunos'!$X$35=5,AK116,0)))","v":0.1825},{"$f":"IF(AO116<=0,0,IF('Simulador Pagos Oportunos'!$AC$62=1,0,AO116*'Simulador Pagos Oportunos'!$Y$67+IF('Simulador Pagos Oportunos'!$X$35=3,'Simulador Pagos Oportunos'!$I$49,IF('Simulador Pagos Oportunos'!$X$35=4,'Simulador Pagos Oportunos'!$K$49,IF('Simulador Pagos Oportunos'!$X$35=5,'Simulador Pagos Oportunos'!$M$49,0)))))","v":0},null,{"$f":"AQ116*'Simulador Pagos Oportunos'!$X$59","v":0},0,0,"",0,102]
[103,0,null,0,null,0,null,0,null,null,null,{"$f":"IF('Simulador Pagos Oportunos'!$V$60=1,0,J117*'Simulador Pagos Oportunos'!$O$63*'Simulador Pagos Oportunos'!$W$59)","v":0},null,"",null,0,null,{"$f":"IFERROR(IF(B117<=0,0,B117*'Simulador Pagos Oportunos'!$Y$67),0)","v":0},null,{"$f":"IFERROR(IF(B117<=0,0,IF('Simulador Pagos Oportunos'!$X$35=3,'Simulador Pagos Oportunos'!$I$49,IF('Simulador Pagos Oportunos'!$X$35=4,'Simulador Pagos Oportunos'!$K$49,IF('Simulador Pagos Oportunos'!$X$35=5,'Simulador Pagos Oportunos'!$M$49,0)))),0)","v":0},null,{"$f":"IF(B117<=0,\"\",IF('Simulador Pagos Oportunos'!$V$40=1,'Simulador Pagos Oportunos'!$Z$62,'Simulador Pagos Oportunos'!$Z$62*'Simulador Pagos Oportunos'!$W$59))","v":""},{"$f":"F117*'Simulador Pagos Oportunos'!$X$59","v":0},"",null,null,null,8,7,0,0,0,"",{"$f":"IF('Simulador Pagos Oportunos'!$X$35=3,AI117,IF('Simulador Pagos Oportunos'!$X$35=4,AJ117,IF('Simulador Pagos Oportunos'!$X$35=5,AK117,0)))","v":0.1825},null,0.17849999999999999,0.1825,0,0,0,0,0,0,0,0,{"$f":"IF('Simulador Pagos Oportunos'!$X$35=3,AI117,IF('Simulador Pagos Oportunos'!$X$35=4,AJ117,IF('Simulador Pagos Oportunos'!$X$35=5,AK117,0)))","v":0.1825},{"$f":"IF(AO117<=0,0,IF('Simulador Pagos Oportunos'!$AC$62=1,0,AO117*'Simulador Pagos Oportunos'!$Y$67+IF('Simulador Pagos Oportunos'!$X$35=3,'Simulador Pagos Oportunos'!$I$49,IF('Simulador Pagos Oportunos'!$X$35=4,'Simulador Pagos Oportunos'!$K$49,IF('Simulador Pagos Oportunos'!$X$35=5,'Simulador Pagos Oportunos'!$M$49,0)))))","v":0},null,{"$f":"AQ117*'Simulador Pagos Oportunos'!$X$59","v":0},0,0,"",0,103]
[104,0,null,0,null,0,null,0,null,null,null,{"$f":"IF('Simulador Pagos Oportunos'!$V$60=1,0,J118*'Simulador Pagos Oportunos'!$O$63*'Simulador Pagos Oportunos'!$W$59)","v":0},null,"",null,0,null,{"$f":"IFERROR(IF(B118<=0,0,B118*'Simulador Pagos Oportunos'!$Y$67),0)","v":0},null,{"$f":"IFERROR(IF(B118<=0,0,IF('Simulador Pagos Oportunos'!$X$35=3,'Simulador Pagos Oportunos'!$I$49,IF('Simulador Pagos Oportunos'!$X$35=4,'Simulador Pagos Oportunos'!$K$49,IF('Simulador Pagos Oportunos'!$X$35=5,'Simulador Pagos Oportunos'!$M$49,0)))),0)","v":0},null,{"$f":"IF(B118<=0,\"\",IF('Simulador Pagos Oportunos'!$V$40=1,'Simulador Pagos Oportunos'!$Z$62,'Simulador Pagos Oportunos'!$Z$62*'Simulador Pagos Oportunos'!$W$59))","v":""},{"$f":"F118*'Simulador Pagos Oportunos'!$X$59","v":0},"",null,null,null,8,8,0,0,0,"",{"$f":"IF('Simulador Pagos Oportunos'!$X$35=3,AI118,IF('Simulador Pagos Oportunos'!$X$35=4,AJ118,IF('Simulador Pagos Oportunos'!$X$35=5,AK118,0)))","v":0.1825},null,0.17849999999999999,0.1825,0,0,0,0,0,0,0,0,{"$f":"IF('Simulador Pagos Oportunos'!$X$35=3,AI118,IF('Simulador Pagos Oportunos'!$X$35=4,AJ118,IF('Simulador Pagos Oportunos'!$X$35=5,AK118,0)))","v":0.1825},{"$f":"IF(AO118<=0,0,IF('Simulador Pagos Oportunos'!$AC$62=1,0,AO118*'Simulador Pagos Oportunos'!$Y$67+IF('Simulador Pagos Oportunos'!$X$35=3,'Simulador Pagos Oportunos'!$I$49,IF('Simulador Pagos Oportunos'!$X$35=4,'Simulador Pagos Oportunos'!$K$49,IF('Simulador Pagos Oportunos'!$X$35=5,'Simulador Pagos Oportunos'!$M$49,0)))))","v":0},null,{"$f":"AQ118*'Simulador Pagos Oportunos'!$X$59","v":0},0,0,"",0,104]
[105,0,null,0,null,0,null,0,null,null,null,{"$f":"IF('Simulador Pagos Oportunos'!$V$60=1,0,J119*'Simulador Pagos Oportunos'!$O$63*'Simulador Pagos Oportunos'!$W$59)","v":0},null,"",null,0,null,{"$f":"IFERROR(IF(B119<=0,0,B119*'Simulador Pagos Oportunos'!$Y$67),0)","v":0},null,{"$f":"IFERROR(IF(B119<=0,0,IF('Simulador Pagos Oportunos'!$X$35=3,'Simulador Pagos Oportunos'!$I$49,IF('Simulador Pagos Oportunos'!$X$35=4,'Simulador Pagos Oportunos'!$K$49,IF('Simulador Pagos Oportunos'!$X$35=5,'Simulador Pagos Oportunos'!$M$49,0)))),0)","v":0},null,{"$f":"IF(B119<=0,\"\",IF('Simulador Pagos Oportunos'!$V$40=1,'Simulador Pagos Oportunos'!$Z$62,'Simulador Pagos Oportunos'!$Z$62*'Simulador Pagos Oportunos'!$W$59))","v":""},{"$f":"F119*'Simulador Pagos Oportunos'!$X$59","v":0},"",null,null,null,8,9,0,0,0,"",{"$f":"IF('Simulador Pagos Oportunos'!$X$35=3,AI119,IF('Simulador Pagos Oportunos'!$X$35=4,AJ119,IF('Simulador Pagos Oportunos'!$X$35=5,AK119,0)))","v":0.1825},null,0.17849999999999999,0.1825,0,0,0,0,0,0,0,0,{"$f":"IF('Simulador Pagos Oportunos'!$X$35=3,AI119,IF('Simulador Pagos Oportunos'!$X$35=4,AJ119,IF('Simulador Pagos Oportunos'!$X$35=5,AK119,0)))","v":0.1825},{"$f":"IF(AO119<=0,0,IF('Simulador Pagos Oportunos'!$AC$62=1,0,AO119*'Simulador Pagos Oportunos'!$Y$67+IF('Simulador Pagos Oportunos'!$X$35=3,'Simulador Pagos Oportunos'!$I$49,IF('Simulador Pagos Oportunos'!$X$35=4,'Simulador Pagos Oportunos'!$K$49,IF('Simulador Pagos Oportunos'!$X$35=5,'Simulador Pagos Oportunos'!$M$49,0)))))","v":0},null,{"$f":"AQ119*'Simulador Pagos Oportunos'!$X$59","v":0},0,0,"",0,105]
[106,0,null,0,null,0,null,0,null,null,null,{"$f":"IF('Simulador Pagos Oportunos'!$V$60=1,0,J120*'Simulador Pagos Oportunos'!$O$63*'Simulador Pagos Oportunos'!$W$59)","v":0},null,"",null,0,null,{"$f":"IFERROR(IF(B120<=0,0,B120*'Simulador Pagos Oportunos'!$Y$67),0)","v":0},null,{"$f":"IFERROR(IF(B120<=0,0,IF('Simulador Pagos Oportunos'!$X$35=3,'Simulador Pagos Oportunos'!$I$49,IF('Simulador Pagos Oportunos'!$X$35=4,'Simulador Pagos Oportunos'!$K$49,IF('Simulador Pagos Oportunos'!$X$35=5,'Simulador Pagos Oportunos'!$M$49,0)))),0)","v":0},null,{"$f":"IF(B120<=0,\"\",IF('Simulador Pagos Oportunos'!$V$40=1,'Simulador Pagos Oportunos'!$Z$62,'Simulador Pagos Oportunos'!$Z$62*'Simulador Pagos Oportunos'!$W$59))","v":""},{"$f":"F120*'Simulador Pagos Oportunos'!$X$59","v":0},"",null,null,null,8,10,0,0,0,"",{"$f":"IF('Simulador Pagos Oportunos'!$X$35=3,AI120,IF('Simulador Pagos Oportunos'!$X$35=4,AJ120,IF('Simulador Pagos Oportunos'!$X$35=5,AK120,0)))","v":0.1825},null,0.17849999999999999,0.1825,0,0,0,0,0,0,0,0,{"$f":"IF('Simulador Pagos Oportunos'!$X$35=3,AI120,IF('Simulador Pagos Oportunos'!$X$35=4,AJ120,IF('Simulador Pagos Oportunos'!$X$35=5,AK120,0)))","v":0.1825},{"$f":"IF(AO120<=0,0,IF('Simulador Pagos Oportunos'!$AC$62=1,0,AO120*'Simulador Pagos Oportunos'!$Y$67+IF('Simulador Pagos Oportunos'!$X$35=3,'Simulador Pagos Oportunos'!$I$49,IF('Simulador Pagos Oportunos'!$X$35=4,'Simulador Pagos Oportunos'!$K$49,IF('Simulador Pagos Oportunos'!$X$35=5,'Simulador Pagos Oportunos'!$M$49,0)))))","v":0},null,{"$f":"AQ120*'Simulador Pagos Oportunos'!$X$59","v":0},0,0,"",0,106]
[107,0,null,0,null,0,null,0,null,null,null,{"$f":"IF('Simulador Pagos Oportunos'!$V$60=1,0,J121*'Simulador Pagos Oportunos'!$O$63*'Simulador Pagos Oportunos'!$W$59)","v":0},null,"",null,0,null,{"$f":"IFERROR(IF(B121<=0,0,B121*'Simulador Pagos Oportunos'!$Y$67),0)","v":0},null,{"$f":"IFERROR(IF(B121<=0,0,IF('Simulador Pagos Oportunos'!$X$35=3,'Simulador Pagos Oportunos'!$I$49,IF('Simulador Pagos Oportunos'!$X$35=4,'Simulador Pagos Oportunos'!$K$49,IF('Simulador Pagos Oportunos'!$X$35=5,'Simulador Pagos Oportunos'!$M$49,0)))),0)","v":0},null,{"$f":"IF(B121<=0,\"\",IF('Simulador Pagos Oportunos'!$V$40=1,'Simulador Pagos Oportunos'!$Z$62,'Simulador Pagos Oportunos'!$Z$62*'Simulador Pagos Oportunos'!$W$59))","v":""},{"$f":"F121*'Simulador Pagos Oportunos'!$X$59","v":0},"",null,null,null,8,11,0,0,0,"",{"$f":"IF('Simulador Pagos Oportunos'!$X$35=3,AI121,IF('Simulador Pagos Oportunos'!$X$35=4,AJ121,IF('Simulador Pagos Oportunos'!$X$35=5,AK121,0)))","v":0.1825},null,{"$f":"AJ120","v":0.17849999999999999},0.1825,0,0,0,0,0,0,0,0,{"$f":"IF('Simulador Pagos Oportunos'!$X$35=3,AI121,IF('Simulador Pagos Oportunos'!$X$35=4,AJ121,IF('Simulador Pagos Oportunos'!$X$35=5,AK121,0)))","v":0.1825},{"$f":"IF(AO121<=0,0,IF('Simulador Pagos Oportunos'!$AC$62=1,0,AO121*'Simulador Pagos Oportunos'!$Y$67+IF('Simulador Pagos Oportunos'!$X$35=3,'Simulador Pagos Oportunos'!$I$49,IF('Simulador Pagos Oportunos'!$X$35=4,'Simulador Pagos Oportunos'!$K$49,IF('Simulador Pagos Oportunos'!$X$35=5,'Simulador Pagos Oportunos'!$M$49,0)))))","v":0},null,{"$f":"AQ121*'Simulador Pagos Oportunos'!$X$59","v":0},0,0,"",0,107]
[108,0,null,0,null,0,null,0,null,null,null,{"$f":"IF('Simulador Pagos Oportunos'!$V$60=1,0,J122*'Simulador Pagos Oportunos'!$O$63*'Simulador Pagos Oportunos'!$W$59)","v":0},null,"",null,0,null,{"$f":"IFERROR(IF(B122<=0,0,B122*'Simulador Pagos Oportunos'!$Y$67),0)","v":0},null,{"$f":"IFERROR(IF(B122<=0,0,IF('Simulador Pagos Oportunos'!$X$35=3,'Simulador Pagos Oportunos'!$I$49,IF('Simulador Pagos Oportunos'!$X$35=4,'Simulador Pagos Oportunos'!$K$49,IF('Simulador Pagos Oportunos'!$X$35=5,'Simulador Pagos Oportunos'!$M$49,0)))),0)","v":0},null,{"$f":"IF(B122<=0,\"\",IF('Simulador Pagos Oportunos'!$V$40=1,'Simulador Pagos Oportunos'!$Z$62,'Simulador Pagos Oportunos'!$Z$62*'Simulador Pagos Oportunos'!$W$59))","v":""},{"$f":"F122*'Simulador Pagos Oportunos'!$X$59","v":0},"",null,null,null,9,0,0,0,0,"",{"$f":"IF('Simulador Pagos Oportunos'!$X$35=3,AI122,IF('Simulador Pagos Oportunos'!$X$35=4,AJ122,IF('Simulador Pagos Oportunos'!$X$35=5,AK122,0)))","v":0.1825},null,0.17849999999999999,0.1825,0,0,0,0,0,0,0,0,{"$f":"IF('Simulador Pagos Oportunos'!$X$35=3,AI122,IF('Simulador Pagos Oportunos'!$X$35=4,AJ122,IF('Simulador Pagos Oportunos'!$X$35=5,AK122,0)))","v":0.1825},{"$f":"IF(AO122<=0,0,IF('Simulador Pagos Oportunos'!$AC$62=1,0,AO122*'Simulador Pagos Oportunos'!$Y$67+IF('Simulador Pagos Oportunos'!$X$35=3,'Simulador Pagos Oportunos'!$I$49,IF('Simulador Pagos Oportunos'!$X$35=4,'Simulador Pagos Oportunos'!$K$49,IF('Simulador Pagos Oportunos'!$X$35=5,'Simulador Pagos Oportunos'!$M$49,0)))))","v":0},null,{"$f":"AQ122*'Simulador Pagos Oportunos'!$X$59","v":0},0,0,"",0,108]
[109,0,null,0,null,0,null,0,null,null,null,{"$f":"IF('Simulador Pagos Oportunos'!$V$60=1,0,J123*'Simulador Pagos Oportunos'!$O$63*'Simulador Pagos Oportunos'!$W$59)","v":0},null,"",null,0,null,{"$f":"IFERROR(IF(B123<=0,0,B123*'Simulador Pagos Oportunos'!$Y$67),0)","v":0},null,{"$f":"IFERROR(IF(B123<=0,0,IF('Simulador Pagos Oportunos'!$X$35=3,'Simulador Pagos Oportunos'!$I$49,IF('Simulador Pagos Oportunos'!$X$35=4,'Simulador Pagos Oportunos'!$K$49,IF('Simulador Pagos Oportunos'!$X$35=5,'Simulador Pagos Oportunos'!$M$49,0)))),0)","v":0},null,{"$f":"IF(B123<=0,\"\",IF('Simulador Pagos Oportunos'!$V$40=1,'Simulador Pagos Oportunos'!$Z$62,'Simulador Pagos Oportunos'!$Z$62*'Simulador Pagos Oportunos'!$W$59))","v":""},{"$f":"F123*'Simulador Pagos Oportunos'!$X$59","v":0},"",null,{"$f":"IF(B123<=0,0,'Simulador Pagos Oportunos'!$AM$48)","v":0},null,9,1,0,0,0,"",{"$f":"IF('Simulador Pagos Oportunos'!$X$35=3,AI123,IF('Simulador Pagos Oportunos'!$X$35=4,AJ123,IF('Simulador Pagos Oportunos'!$X$35=5,AK123,0)))","v":0.1825},null,0.17849999999999999,0.1825,0,0,0,0,0,0,0,0,{"$f":"IF('Simulador Pagos Oportunos'!$X$35=3,AI123,IF('Simulador Pagos Oportunos'!$X$35=4,AJ123,IF('Simulador Pagos Oportunos'!$X$35=5,AK123,0)))","v":0.1825},{"$f":"IF(AO123<=0,0,IF('Simulador Pagos Oportunos'!$AC$62=1,0,AO123*'Simulador Pagos Oportunos'!$Y$67+IF('Simulador Pagos Oportunos'!$X$35=3,'Simulador Pagos Oportunos'!$I$49,IF('Simulador Pagos Oportunos'!$X$35=4,'Simulador Pagos Oportunos'!$K$49,IF('Simulador Pagos Oportunos'!$X$35=5,'Simulador Pagos Oportunos'!$M$49,0)))))","v":0},{"$f":"IF(AO123<=0,0,$AV$32)","v":0},{"$f":"AQ123*'Simulador Pagos Oportunos'!$X$59","v":0},0,0,"",0,109]
[110,0,null,0,null,0,null,0,null,null,null,{"$f":"IF('Simulador Pagos Oportunos'!$V$60=1,0,J124*'Simulador Pagos Oportunos'!$O$63*'Simulador Pagos Oportunos'!$W$59)","v":0},null,"",null,0,null,{"$f":"IFERROR(IF(B124<=0,0,B124*'Simulador Pagos Oportunos'!$Y$67),0)","v":0},null,{"$f":"IFERROR(IF(B124<=0,0,IF('Simulador Pagos Oportunos'!$X$35=3,'Simulador Pagos Oportunos'!$I$49,IF('Simulador Pagos Oportunos'!$X$35=4,'Simulador Pagos Oportunos'!$K$49,IF('Simulador Pagos Oportunos'!$X$35=5,'Simulador Pagos Oportunos'!$M$49,0)))),0)","v":0},null,{"$f":"IF(B124<=0,\"\",IF('Simulador Pagos Oportunos'!$V$40=1,'Simulador Pagos Oportunos'!$Z$62,'Simulador Pagos Oportunos'!$Z$62*'Simulador Pagos Oportunos'!$W$59))","v":""},{"$f":"F124*'Simulador Pagos Oportunos'!$X$59","v":0},"",null,null,null,9,2,0,0,0,"",{"$f":"IF('Simulador Pagos Oportunos'!$X$35=3,AI124,IF('Simulador Pagos Oportunos'!$X$35=4,AJ124,IF('Simulador Pagos Oportunos'!$X$35=5,AK124,0)))","v":0.1825},null,0.17849999999999999,0.1825,0,0,0,0,0,0,0,0,{"$f":"IF('Simulador Pagos Oportunos'!$X$35=3,AI124,IF('Simulador Pagos Oportunos'!$X$35=4,AJ124,IF('Simulador Pagos Oportunos'!$X$35=5,AK124,0)))","v":0.1825},{"$f":"IF(AO124<=0,0,IF('Simulador Pagos Oportunos'!$AC$62=1,0,AO124*'Simulador Pagos Oportunos'!$Y$67+IF('Simulador Pagos Oportunos'!$X$35=3,'Simulador Pagos Oportunos'!$I$49,IF('Simulador Pagos Oportunos'!$X$35=4,'Simulador Pagos Oportunos'!$K$49,IF('Simulador Pagos Oportunos'!$X$35=5,'Simulador Pagos Oportunos'!$M$49,0)))))","v":0},null,{"$f":"AQ124*'Simulador Pagos Oportunos'!$X$59","v":0},0,0,"",0,110]
[111,0,null,0,null,0,null,0,null,null,null,{"$f":"IF('Simulador Pagos Oportunos'!$V$60=1,0,J125*'Simulador Pagos Oportunos'!$O$63*'Simulador Pagos Oportunos'!$W$59)","v":0},null,"",null,0,null,{"$f":"IFERROR(IF(B125<=0,0,B125*'Simulador Pagos Oportunos'!$Y$67),0)","v":0},null,{"$f":"IFERROR(IF(B125<=0,0,IF('Simulador Pagos Oportunos'!$X$35=3,'Simulador Pagos Oportunos'!$I$49,IF('Simulador Pagos Oportunos'!$X$35=4,'Simulador Pagos Oportunos'!$K$49,IF('Simulador Pagos Oportunos'!$X$35=5,'Simulador Pagos Oportunos'!$M$49,0)))),0)","v":0},null,{"$f":"IF(B125<=0,\"\",IF('Simulador Pagos Oportunos'!$V$40=1,'Simulador Pagos Oportunos'!$Z$62,'Simulador Pagos Oportunos'!$Z$62*'Simulador Pagos Oportunos'!$W$59))","v":""},{"$f":"F125*'Simulador Pagos Oportunos'!$X$59","v":0},"",null,null,null,9,3,0,0,0,"",{"$f":"IF('Simulador Pagos Oportunos'!$X$35=3,AI125,IF('Simulador Pagos Oportunos'!$X$35=4,AJ125,IF('Simulador Pagos Oportunos'!$X$35=5,AK125,0)))","v":0.1825},null,0.17849999999999999,0.1825,0,0,0,0,0,0,0,0,{"$f":"IF('Simulador Pagos Oportunos'!$X$35=3,AI125,IF('Simulador Pagos Oportunos'!$X$35=4,AJ125,IF('Simulador Pagos Oportunos'!$X$35=5,AK125,0)))","v":0.1825},{"$f":"IF(AO125<=0,0,IF('Simulador Pagos Oportunos'!$AC$62=1,0,AO125*'Simulador Pagos Oportunos'!$Y$67+IF('Simulador Pagos Oportunos'!$X$35=3,'Simulador Pagos Oportunos'!$I$49,IF('Simulador Pagos Oportunos'!$X$35=4,'Simulador Pagos Oportunos'!$K$49,IF('Simulador Pagos Oportunos'!$X$35=5,'Simulador Pagos Oportunos'!$M$49,0)))))","v":0},null,{"$f":"AQ125*'Simulador Pagos Oportunos'!$X$59","v":0},0,0,"",0,111]
[112,0,null,0,null,0,null,0,null,null,null,{"$f":"IF('Simulador Pagos Oportunos'!$V$60=1,0,J126*'Simulador Pagos Oportunos'!$O$63*'Simulador Pagos Oportunos'!$W$59)","v":0},null,"",null,0,null,{"$f":"IFERROR(IF(B126<=0,0,B126*'Simulador Pagos Oportunos'!$Y$67),0)","v":0},null,{"$f":"IFERROR(IF(B126<=0,0,IF('Simulador Pagos Oportunos'!$X$35=3,'Simulador Pagos Oportunos'!$I$49,IF('Simulador Pagos Oportunos'!$X$35=4,'Simulador Pagos Oportunos'!$K$49,IF('Simulador Pagos Oportunos'!$X$35=5,'Simulador Pagos Oportunos'!$M$49,0)))),0)","v":0},null,{"$f":"IF(B126<=0,\"\",IF('Simulador Pagos Oportunos'!$V$40=1,'Simulador Pagos Oportunos'!$Z$62,'Simulador Pagos Oportunos'!$Z$62*'Simulador Pagos Oportunos'!$W$59))","v":""},{"$f":"F126*'Simulador Pagos Oportunos'!$X$59","v":0},"",null,null,null,9,4,0,0,0,"",{"$f":"IF('Simulador Pagos Oportunos'!$X$35=3,AI126,IF('Simulador Pagos Oportunos'!$X$35=4,AJ126,IF('Simulador Pagos Oportunos'!$X$35=5,AK126,0)))","v":0.1825},null,0.17849999999999999,0.1825,0,0,0,0,0,0,0,0,{"$f":"IF('Simulador Pagos Oportunos'!$X$35=3,AI126,IF('Simulador Pagos Oportunos'!$X$35=4,AJ126,IF('Simulador Pagos Oportunos'!$X$35=5,AK126,0)))","v":0.1825},{"$f":"IF(AO126<=0,0,IF('Simulador Pagos Oportunos'!$AC$62=1,0,AO126*'Simulador Pagos Oportunos'!$Y$67+IF('Simulador Pagos Oportunos'!$X$35=3,'Simulador Pagos Oportunos'!$I$49,IF('Simulador Pagos Oportunos'!$X$35=4,'Simulador Pagos Oportunos'!$K$49,IF('Simulador Pagos Oportunos'!$X$35=5,'Simulador Pagos Oportunos'!$M$49,0)))))","v":0},null,{"$f":"AQ126*'Simulador Pagos Oportunos'!$X$59","v":0},0,0,"",0,112]
[113,0,null,0,null,0,null,0,null,null,null,{"$f":"IF('Simulador Pagos Oportunos'!$V$60=1,0,J127*'Simulador Pagos Oportunos'!$O$63*'Simulador Pagos Oportunos'!$W$59)","v":0},null,"",null,0,null,{"$f":"IFERROR(IF(B127<=0,0,B127*'Simulador Pagos Oportunos'!$Y$67),0)","v":0},null,{"$f":"IFERROR(IF(B127<=0,0,IF('Simulador Pagos Oportunos'!$X$35=3,'Simulador Pagos Oportunos'!$I$49,IF('Simulador Pagos Oportunos'!$X$35=4,'Simulador Pagos Oportunos'!$K$49,IF('Simulador Pagos Oportunos'!$X$35=5,'Simulador Pagos Oportunos'!$M$49,0)))),0)","v":0},null,{"$f":"IF(B127<=0,\"\",IF('Simulador Pagos Oportunos'!$V$40=1,'Simulador Pagos Oportunos'!$Z$62,'Simulador Pagos Oportunos'!$Z$62*'Simulador Pagos Oportunos'!$W$59))","v":""},{"$f":"F127*'Simulador Pagos Oportunos'!$X$59","v":0},"",null,null,null,9,5,0,0,0,"",{"$f":"IF('Simulador Pagos Oportunos'!$X$35=3,AI127,IF('Simulador Pagos Oportunos'!$X$35=4,AJ127,IF('Simulador Pagos Oportunos'!$X$35=5,AK127,0)))","v":0.1825},null,0.17849999999999999,0.1825,0,0,0,0,0,0,0,0,{"$f":"IF('Simulador Pagos Oportunos'!$X$35=3,AI127,IF('Simulador Pagos Oportunos'!$X$35=4,AJ127,IF('Simulador Pagos Oportunos'!$X$35=5,AK127,0)))","v":0.1825},{"$f":"IF(AO127<=0,0,IF('Simulador Pagos Oportunos'!$AC$62=1,0,AO127*'Simulador Pagos Oportunos'!$Y$67+IF('Simulador Pagos Oportunos'!$X$35=3,'Simulador Pagos Oportunos'!$I$49,IF('Simulador Pagos Oportunos'!$X$35=4,'Simulador Pagos Oportunos'!$K$49,IF('Simulador Pagos Oportunos'!$X$35=5,'Simulador Pagos Oportunos'!$M$49,0)))))","v":0},null,{"$f":"AQ127*'Simulador Pagos Oportunos'!$X$59","v":0},0,0,"",0,113]
[114,0,null,0,null,0,null,0,null,null,null,{"$f":"IF('Simulador Pagos Oportunos'!$V$60=1,0,J128*'Simulador Pagos Oportunos'!$O$63*'Simulador Pagos Oportunos'!$W$59)","v":0},null,"",null,0,null,{"$f":"IFERROR(IF(B128<=0,0,B128*'Simulador Pagos Oportunos'!$Y$67),0)","v":0},null,{"$f":"IFERROR(IF(B128<=0,0,IF('Simulador Pagos Oportunos'!$X$35=3,'Simulador Pagos Oportunos'!$I$49,IF('Simulador Pagos Oportunos'!$X$35=4,'Simulador Pagos Oportunos'!$K$49,IF('Simulador Pagos Oportunos'!$X$35=5,'Simulador Pagos Oportunos'!$M$49,0)))),0)","v":0},null,{"$f":"IF(B128<=0,\"\",IF('Simulador Pagos Oportunos'!$V$40=1,'Simulador Pagos Oportunos'!$Z$62,'Simulador Pagos Oportunos'!$Z$62*'Simulador Pagos Oportunos'!$W$59))","v":""},{"$f":"F128*'Simulador Pagos Oportunos'!$X$59","v":0},"",null,null,null,9,6,0,0,0,"",{"$f":"IF('Simulador Pagos Oportunos'!$X$35=3,AI128,IF('Simulador Pagos Oportunos'!$X$35=4,AJ128,IF('Simulador Pagos Oportunos'!$X$35=5,AK128,0)))","v":0.1825},null,0.17849999999999999,0.1825,0,0,0,0,0,0,0,0,{"$f":"IF('Simulador Pagos Oportunos'!$X$35=3,AI128,IF('Simulador Pagos Oportunos'!$X$35=4,AJ128,IF('Simulador Pagos Oportunos'!$X$35=5,AK128,0)))","v":0.1825},{"$f":"IF(AO128<=0,0,IF('Simulador Pagos Oportunos'!$AC$62=1,0,AO128*'Simulador Pagos Oportunos'!$Y$67+IF('Simulador Pagos Oportunos'!$X$35=3,'Simulador Pagos Oportunos'!$I$49,IF('Simulador Pagos Oportunos'!$X$35=4,'Simulador Pagos Oportunos'!$K$49,IF('Simulador Pagos Oportunos'!$X$35=5,'Simulador Pagos Oportunos'!$M$49,0)))))","v":0},null,{"$f":"AQ128*'Simulador Pagos Oportunos'!$X$59","v":0},0,0,"",0,114]
[115,0,null,0,null,0,null,0,null,null,null,{"$f":"IF('Simulador Pagos Oportunos'!$V$60=1,0,J129*'Simulador Pagos Oportunos'!$O$63*'Simulador Pagos Oportunos'!$W$59)","v":0},null,"",null,0,null,{"$f":"IFERROR(IF(B129<=0,0,B129*'Simulador Pagos Oportunos'!$Y$67),0)","v":0},null,{"$f":"IFERROR(IF(B129<=0,0,IF('Simulador Pagos Oportunos'!$X$35=3,'Simulador Pagos Oportunos'!$I$49,IF('Simulador Pagos Oportunos'!$X$35=4,'Simulador Pagos Oportunos'!$K$49,IF('Simulador Pagos Oportunos'!$X$35=5,'Simulador Pagos Oportunos'!$M$49,0)))),0)","v":0},null,{"$f":"IF(B129<=0,\"\",IF('Simulador Pagos Oportunos'!$V$40=1,'Simulador Pagos Oportunos'!$Z$62,'Simulador Pagos Oportunos'!$Z$62*'Simulador Pagos Oportunos'!$W$59))","v":""},{"$f":"F129*'Simulador Pagos Oportunos'!$X$59","v":0},"",null,null,null,9,7,0,0,0,"",{"$f":"IF('Simulador Pagos Oportunos'!$X$35=3,AI129,IF('Simulador Pagos Oportunos'!$X$35=4,AJ129,IF('Simulador Pagos Oportunos'!$X$35=5,AK129,0)))","v":0.1825},null,0.17849999999999999,0.1825,0,0,0,0,0,0,0,0,{"$f":"IF('Simulador Pagos Oportunos'!$X$35=3,AI129,IF('Simulador Pagos Oportunos'!$X$35=4,AJ129,IF('Simulador Pagos Oportunos'!$X$35=5,AK129,0)))","v":0.1825},{"$f":"IF(AO129<=0,0,IF('Simulador Pagos Oportunos'!$AC$62=1,0,AO129*'Simulador Pagos Oportunos'!$Y$67+IF('Simulador Pagos Oportunos'!$X$35=3,'Simulador Pagos Oportunos'!$I$49,IF('Simulador Pagos Oportunos'!$X$35=4,'Simulador Pagos Oportunos'!$K$49,IF('Simulador Pagos Oportunos'!$X$35=5,'Simulador Pagos Oportunos'!$M$49,0)))))","v":0},null,{"$f":"AQ129*'Simulador Pagos Oportunos'!$X$59","v":0},0,0,"",0,115]
[116,0,null,0,null,0,null,0,null,null,null,{"$f":"IF('Simulador Pagos Oportunos'!$V$60=1,0,J130*'Simulador Pagos Oportunos'!$O$63*'Simulador Pagos Oportunos'!$W$59)","v":0},null,"",null,0,null,{"$f":"IFERROR(IF(B130<=0,0,B130*'Simulador Pagos Oportunos'!$Y$67),0)","v":0},null,{"$f":"IFERROR(IF(B130<=0,0,IF('Simulador Pagos Oportunos'!$X$35=3,'Simulador Pagos Oportunos'!$I$49,IF('Simulador Pagos Oportunos'!$X$35=4,'Simulador Pagos Oportunos'!$K$49,IF('Simulador Pagos Oportunos'!$X$35=5,'Simulador Pagos Oportunos'!$M$49,0)))),0)","v":0},null,{"$f":"IF(B130<=0,\"\",IF('Simulador Pagos Oportunos'!$V$40=1,'Simulador Pagos Oportunos'!$Z$62,'Simulador Pagos Oportunos'!$Z$62*'Simulador Pagos Oportunos'!$W$59))","v":""},{"$f":"F130*'Simulador Pagos Oportunos'!$X$59","v":0},"",null,null,null,9,8,0,0,0,"",{"$f":"IF('Simulador Pagos Oportunos'!$X$35=3,AI130,IF('Simulador Pagos Oportunos'!$X$35=4,AJ130,IF('Simulador Pagos Oportunos'!$X$35=5,AK130,0)))","v":0.1825},null,0.17849999999999999,0.1825,0,0,0,0,0,0,0,0,{"$f":"IF('Simulador Pagos Oportunos'!$X$35=3,AI130,IF('Simulador Pagos Oportunos'!$X$35=4,AJ130,IF('Simulador Pagos Oportunos'!$X$35=5,AK130,0)))","v":0.1825},{"$f":"IF(AO130<=0,0,IF('Simulador Pagos Oportunos'!$AC$62=1,0,AO130*'Simulador Pagos Oportunos'!$Y$67+IF('Simulador Pagos Oportunos'!$X$35=3,'Simulador Pagos Oportunos'!$I$49,IF('Simulador Pagos Oportunos'!$X$35=4,'Simulador Pagos Oportunos'!$K$49,IF('Simulador Pagos Oportunos'!$X$35=5,'Simulador Pagos Oportunos'!$M$49,0)))))","v":0},null,{"$f":"AQ130*'Simulador Pagos Oportunos'!$X$59","v":0},0,0,"",0,116]
[117,0,null,0,null,0,null,0,null,null,null,{"$f":"IF('Simulador Pagos Oportunos'!$V$60=1,0,J131*'Simulador Pagos Oportunos'!$O$63*'Simulador Pagos Oportunos'!$W$59)","v":0},null,"",null,0,null,{"$f":"IFERROR(IF(B131<=0,0,B131*'Simulador Pagos Oportunos'!$Y$67),0)","v":0},null,{"$f":"IFERROR(IF(B131<=0,0,IF('Simulador Pagos Oportunos'!$X$35=3,'Simulador Pagos Oportunos'!$I$49,IF('Simulador Pagos Oportunos'!$X$35=4,'Simulador Pagos Oportunos'!$K$49,IF('Simulador Pagos Oportunos'!$X$35=5,'Simulador Pagos Oportunos'!$M$49,0)))),0)","v":0},null,{"$f":"IF(B131<=0,\"\",IF('Simulador Pagos Oportunos'!$V$40=1,'Simulador Pagos Oportunos'!$Z$62,'Simulador Pagos Oportunos'!$Z$62*'Simulador Pagos Oportunos'!$W$59))","v":""},{"$f":"F131*'Simulador Pagos Oportunos'!$X$59","v":0},"",null,null,null,9,9,0,0,0,"",{"$f":"IF('Simulador Pagos Oportunos'!$X$35=3,AI131,IF('Simulador Pagos Oportunos'!$X$35=4,AJ131,IF('Simulador Pagos Oportunos'!$X$35=5,AK131,0)))","v":0.1825},null,0.17849999999999999,0.1825,0,0,0,0,0,0,0,0,{"$f":"IF('Simulador Pagos Oportunos'!$X$35=3,AI131,IF('Simulador Pagos Oportunos'!$X$35=4,AJ131,IF('Simulador Pagos Oportunos'!$X$35=5,AK131,0)))","v":0.1825},{"$f":"IF(AO131<=0,0,IF('Simulador Pagos Oportunos'!$AC$62=1,0,AO131*'Simulador Pagos Oportunos'!$Y$67+IF('Simulador Pagos Oportunos'!$X$35=3,'Simulador Pagos Oportunos'!$I$49,IF('Simulador Pagos Oportunos'!$X$35=4,'Simulador Pagos Oportunos'!$K$49,IF('Simulador Pagos Oportunos'!$X$35=5,'Simulador Pagos Oportunos'!$M$49,0)))))","v":0},null,{"$f":"AQ131*'Simulador Pagos Oportunos'!$X$59","v":0},0,0,"",0,117]
[118,0,null,0,null,0,null,0,null,null,null,{"$f":"IF('Simulador Pagos Oportunos'!$V$60=1,0,J132*'Simulador Pagos Oportunos'!$O$63*'Simulador Pagos Oportunos'!$W$59)","v":0},null,"",null,0,null,{"$f":"IFERROR(IF(B132<=0,0,B132*'Simulador Pagos Oportunos'!$Y$67),0)","v":0},null,{"$f":"IFERROR(IF(B132<=0,0,IF('Simulador Pagos Oportunos'!$X$35=3,'Simulador Pagos Oportunos'!$I$49,IF('Simulador Pagos Oportunos'!$X$35=4,'Simulador Pagos Oportunos'!$K$49,IF('Simulador Pagos Oportunos'!$X$35=5,'Simulador Pagos Oportunos'!$M$49,0)))),0)","v":0},null,{"$f":"IF(B132<=0,\"\",IF('Simulador Pagos Oportunos'!$V$40=1,'Simulador Pagos Oportunos'!$Z$62,'Simulador Pagos Oportunos'!$Z$62*'Simulador Pagos Oportunos'!$W$59))","v":""},{"$f":"F132*'Simulador Pagos Oportunos'!$X$59","v":0},"",null,null,null,9,10,0,0,0,"",{"$f":"IF('Simulador Pagos Oportunos'!$X$35=3,AI132,IF('Simulador Pagos Oportunos'!$X$35=4,AJ132,IF('Simulador Pagos Oportunos'!$X$35=5,AK132,0)))","v":0.1825},null,0.17849999999999999,0.1825,0,0,0,0,0,0,0,0,{"$f":"IF('Simulador Pagos Oportunos'!$X$35=3,AI132,IF('Simulador Pagos Oportunos'!$X$35=4,AJ132,IF('Simulador Pagos Oportunos'!$X$35=5,AK132,0)))","v":0.1825},{"$f":"IF(AO132<=0,0,IF('Simulador Pagos Oportunos'!$AC$62=1,0,AO132*'Simulador Pagos Oportunos'!$Y$67+IF('Simulador Pagos Oportunos'!$X$35=3,'Simulador Pagos Oportunos'!$I$49,IF('Simulador Pagos Oportunos'!$X$35=4,'Simulador Pagos Oportunos'!$K$49,IF('Simulador Pagos Oportunos'!$X$35=5,'Simulador Pagos Oportunos'!$M$49,0)))))","v":0},null,{"$f":"AQ132*'Simulador Pagos Oportunos'!$X$59","v":0},0,0,"",0,118]
[119,0,null,0,null,0,null,0,null,null,null,{"$f":"IF('Simulador Pagos Oportunos'!$V$60=1,0,J133*'Simulador Pagos Oportunos'!$O$63*'Simulador Pagos Oportunos'!$W$59)","v":0},null,"",null,0,null,{"$f":"IFERROR(IF(B133<=0,0,B133*'Simulador Pagos Oportunos'!$Y$67),0)","v":0},null,{"$f":"IFERROR(IF(B133<=0,0,IF('Simulador Pagos Oportunos'!$X$35=3,'Simulador Pagos Oportunos'!$I$49,IF('Simulador Pagos Oportunos'!$X$35=4,'Simulador Pagos Oportunos'!$K$49,IF('Simulador Pagos Oportunos'!$X$35=5,'Simulador Pagos Oportunos'!$M$49,0)))),0)","v":0},null,{"$f":"IF(B133<=0,\"\",IF('Simulador Pagos Oportunos'!$V$40=1,'Simulador Pagos Oportunos'!$Z$62,'Simulador Pagos Oportunos'!$Z$62*'Simulador Pagos Oportunos'!$W$59))","v":""},{"$f":"F133*'Simulador Pagos Oportunos'!$X$59","v":0},"",null,null,null,9,11,0,0,0,"",{"$f":"IF('Simulador Pagos Oportunos'!$X$35=3,AI133,IF('Simulador Pagos Oportunos'!$X$35=4,AJ133,IF('Simulador Pagos Oportunos'!$X$35=5,AK133,0)))","v":0.1825},null,0.17849999999999999,0.1825,0,0,0,0,0,0,0,0,{"$f":"IF('Simulador Pagos Oportunos'!$X$35=3,AI133,IF('Simulador Pagos Oportunos'!$X$35=4,AJ133,IF('Simulador Pagos Oportunos'!$X$35=5,AK133,0)))","v":0.1825},{"$f":"IF(AO133<=0,0,IF('Simulador Pagos Oportunos'!$AC$62=1,0,AO133*'Simulador Pagos Oportunos'!$Y$67+IF('Simulador Pagos Oportunos'!$X$35=3,'Simulador Pagos Oportunos'!$I$49,IF('Simulador Pagos Oportunos'!$X$35=4,'Simulador Pagos Oportunos'!$K$49,IF('Simulador Pagos Oportunos'!$X$35=5,'Simulador Pagos Oportunos'!$M$49,0)))))","v":0},null,{"$f":"AQ133*'Simulador Pagos Oportunos'!$X$59","v":0},0,0,"",0,119]
[120,0,null,0,null,0,null,0,null,null,null,{"$f":"IF('Simulador Pagos Oportunos'!$V$60=1,0,J134*'Simulador Pagos Oportunos'!$O$63*'Simulador Pagos Oportunos'!$W$59)","v":0},null,"",null,0,null,{"$f":"IFERROR(IF(B134<=0,0,B134*'Simulador Pagos Oportunos'!$Y$67),0)","v":0},null,{"$f":"IFERROR(IF(B134<=0,0,IF('Simulador Pagos Oportunos'!$X$35=3,'Simulador Pagos Oportunos'!$I$49,IF('Simulador Pagos Oportunos'!$X$35=4,'Simulador Pagos Oportunos'!$K$49,IF('Simulador Pagos Oportunos'!$X$35=5,'Simulador Pagos Oportunos'!$M$49,0)))),0)","v":0},null,{"$f":"IF(B134<=0,\"\",IF('Simulador Pagos Oportunos'!$V$40=1,'Simulador Pagos Oportunos'!$Z$62,'Simulador Pagos Oportunos'!$Z$62*'Simulador Pagos Oportunos'!$W$59))","v":""},{"$f":"F134*'Simulador Pagos Oportunos'!$X$59","v":0},"",null,null,null,10,0,0,0,0,"",{"$f":"IF('Simulador Pagos Oportunos'!$X$35=3,AI134,IF('Simulador Pagos Oportunos'!$X$35=4,AJ134,IF('Simulador Pagos Oportunos'!$X$35=5,AK134,0)))","v":0.1825},null,0.17849999999999999,0.1825,0,0,0,0,0,0,0,0,{"$f":"IF('Simulador Pagos Oportunos'!$X$35=3,AI134,IF('Simulador Pagos Oportunos'!$X$35=4,AJ134,IF('Simulador Pagos Oportunos'!$X$35=5,AK134,0)))","v":0.1825},{"$f":"IF(AO134<=0,0,IF('Simulador Pagos Oportunos'!$AC$62=1,0,AO134*'Simulador Pagos Oportunos'!$Y$67+IF('Simulador Pagos Oportunos'!$X$35=3,'Simulador Pagos Oportunos'!$I$49,IF('Simulador Pagos Oportunos'!$X$35=4,'Simulador Pagos Oportunos'!$K$49,IF('Simulador Pagos Oportunos'!$X$35=5,'Simulador Pagos Oportunos'!$M$49,0)))))","v":0},null,{"$f":"AQ134*'Simulador Pagos Oportunos'!$X$59","v":0},0,0,"",0,120]
[121,0,null,0,null,0,null,0,null,null,null,{"$f":"IF('Simulador Pagos Oportunos'!$V$60=1,0,J135*'Simulador Pagos Oportunos'!$O$63*'Simulador Pagos Oportunos'!$W$59)","v":0},null,"",null,0,null,{"$f":"IFERROR(IF(B135<=0,0,B135*'Simulador Pagos Oportunos'!$Y$67),0)","v":0},null,{"$f":"IFERROR(IF(B135<=0,0,IF('Simulador Pagos Oportunos'!$X$35=3,'Simulador Pagos Oportunos'!$I$49,IF('Simulador Pagos Oportunos'!$X$35=4,'Simulador Pagos Oportunos'!$K$49,IF('Simulador Pagos Oportunos'!$X$35=5,'Simulador Pagos Oportunos'!$M$49,0)))),0)","v":0},null,{"$f":"IF(B135<=0,\"\",IF('Simulador Pagos Oportunos'!$V$40=1,'Simulador Pagos Oportunos'!$Z$62,'Simulador Pagos Oportunos'!$Z$62*'Simulador Pagos Oportunos'!$W$59))","v":""},{"$f":"F135*'Simulador Pagos Oportunos'!$X$59","v":0},"",null,{"$f":"IF(B135<=0,0,IF(AND('Simulador Pagos Oportunos'!$V$40=2,'Simulador Pagos Oportunos'!$X$35=4),0,'Simulador Pagos Oportunos'!$AM$48))","v":0},null,10,1,0,0,0,"",{"$f":"IF('Simulador Pagos Oportunos'!$X$35=3,AI135,IF('Simulador Pagos Oportunos'!$X$35=4,AJ135,IF('Simulador Pagos Oportunos'!$X$35=5,AK135,0)))","v":0.1825},null,null,0.1825,0,0,0,0,0,0,0,0,{"$f":"IF('Simulador Pagos Oportunos'!$X$35=3,AI135,IF('Simulador Pagos Oportunos'!$X$35=4,AJ135,IF('Simulador Pagos Oportunos'!$X$35=5,AK135,0)))","v":0.1825},{"$f":"IF(AO135<=0,0,IF('Simulador Pagos Oportunos'!$AC$62=1,0,AO135*'Simulador Pagos Oportunos'!$Y$67+IF('Simulador Pagos Oportunos'!$X$35=3,'Simulador Pagos Oportunos'!$I$49,IF('Simulador Pagos Oportunos'!$X$35=4,'Simulador Pagos Oportunos'!$K$49,IF('Simulador Pagos Oportunos'!$X$35=5,'Simulador Pagos Oportunos'!$M$49,0)))))","v":0},{"$f":"IF(AO135<=0,0,$AV$32)","v":0},{"$f":"AQ135*'Simulador Pagos Oportunos'!$X$59","v":0},0,{"$f":"IFERROR(IF(AP135<=0.01,0,AY134-1),0)","v":0},"",0,121]
[122,0,null,0,null,0,null,0,null,null,null,{"$f":"IF('Simulador Pagos Oportunos'!$V$60=1,0,J136*'Simulador Pagos Oportunos'!$O$63*'Simulador Pagos Oportunos'!$W$59)","v":0},null,"",null,0,null,{"$f":"IFERROR(IF(B136<=0,0,B136*'Simulador Pagos Oportunos'!$Y$67),0)","v":0},null,{"$f":"IFERROR(IF(B136<=0,0,IF('Simulador Pagos Oportunos'!$X$35=3,'Simulador Pagos Oportunos'!$I$49,IF('Simulador Pagos Oportunos'!$X$35=4,'Simulador Pagos Oportunos'!$K$49,IF('Simulador Pagos Oportunos'!$X$35=5,'Simulador Pagos Oportunos'!$M$49,0)))),0)","v":0},null,{"$f":"IF(B136<=0,\"\",IF('Simulador Pagos Oportunos'!$V$40=1,'Simulador Pagos Oportunos'!$Z$62,'Simulador Pagos Oportunos'!$Z$62*'Simulador Pagos Oportunos'!$W$59))","v":""},{"$f":"F136*'Simulador Pagos Oportunos'!$X$59","v":0},"",null,null,null,10,2,0,0,0,"",{"$f":"IF('Simulador Pagos Oportunos'!$X$35=3,AI136,IF('Simulador Pagos Oportunos'!$X$35=4,AJ136,IF('Simulador Pagos Oportunos'!$X$35=5,AK136,0)))","v":0.1825},null,null,0.1825,0,0,0,0,0,0,0,0,{"$f":"IF('Simulador Pagos Oportunos'!$X$35=3,AI136,IF('Simulador Pagos Oportunos'!$X$35=4,AJ136,IF('Simulador Pagos Oportunos'!$X$35=5,AK136,0)))","v":0.1825},{"$f":"IF(AO136<=0,0,IF('Simulador Pagos Oportunos'!$AC$62=1,0,AO136*'Simulador Pagos Oportunos'!$Y$67+IF('Simulador Pagos Oportunos'!$X$35=3,'Simulador Pagos Oportunos'!$I$49,IF('Simulador Pagos Oportunos'!$X$35=4,'Simulador Pagos Oportunos'!$K$49,IF('Simulador Pagos Oportunos'!$X$35=5,'Simulador Pagos Oportunos'!$M$49,0)))))","v":0},null,{"$f":"AQ136*'Simulador Pagos Oportunos'!$X$59","v":0},0,{"$f":"IFERROR(IF(AP136<=0.01,0,AY135-1),0)","v":0},"",0,122]
[123,0,null,0,null,0,null,0,null,null,null,{"$f":"IF('Simulador Pagos Oportunos'!$V$60=1,0,J137*'Simulador Pagos Oportunos'!$O$63*'Simulador Pagos Oportunos'!$W$59)","v":0},null,"",null,0,null,{"$f":"IFERROR(IF(B137<=0,0,B137*'Simulador Pagos Oportunos'!$Y$67),0)","v":0},null,{"$f":"IFERROR(IF(B137<=0,0,IF('Simulador Pagos Oportunos'!$X$35=3,'Simulador Pagos Oportunos'!$I$49,IF('Simulador Pagos Oportunos'!$X$35=4,'Simulador Pagos Oportunos'!$K$49,IF('Simulador Pagos Oportunos'!$X$35=5,'Simulador Pagos Oportunos'!$M$49,0)))),0)","v":0},null,{"$f":"IF(B137<=0,\"\",IF('Simulador Pagos Oportunos'!$V$40=1,'Simulador Pagos Oportunos'!$Z$62,'Simulador Pagos Oportunos'!$Z$62*'Simulador Pagos Oportunos'!$W$59))","v":""},{"$f":"F137*'Simulador Pagos Oportunos'!$X$59","v":0},"",null,null,null,10,3,0,0,0,"",{"$f":"IF('Simulador Pagos Oportunos'!$X$35=3,AI137,IF('Simulador Pagos Oportunos'!$X$35=4,AJ137,IF('Simulador Pagos Oportunos'!$X$35=5,AK137,0)))","v":0.1825},null,null,{"$f":"AK136","v":0.1825},0,0,0,0,0,0,0,0,{"$f":"IF('Simulador Pagos Oportunos'!$X$35=3,AI137,IF('Simulador Pagos Oportunos'!$X$35=4,AJ137,IF('Simulador Pagos Oportunos'!$X$35=5,AK137,0)))","v":0.1825},{"$f":"IF(AO137<=0,0,IF('Simulador Pagos Oportunos'!$AC$62=1,0,AO137*'Simulador Pagos Oportunos'!$Y$67+IF('Simulador Pagos Oportunos'!$X$35=3,'Simulador Pagos Oportunos'!$I$49,IF('Simulador Pagos Oportunos'!$X$35=4,'Simulador Pagos Oportunos'!$K$49,IF('Simulador Pagos Oportunos'!$X$35=5,'Simulador Pagos Oportunos'!$M$49,0)))))","v":0},null,{"$f":"AQ137*'Simulador Pagos Oportunos'!$X$59","v":0},0,0,"",0,123]
[124,0,null,0,null,0,null,0,null,null,null,{"$f":"IF('Simulador Pagos Oportunos'!$V$60=1,0,J138*'Simulador Pagos Oportunos'!$O$63*'Simulador Pagos Oportunos'!$W$59)","v":0},null,"",null,0,null,{"$f":"IFERROR(IF(B138<=0,0,B138*'Simulador Pagos Oportunos'!$Y$67),0)","v":0},null,{"$f":"IFERROR(IF(B138<=0,0,IF('Simulador Pagos Oportunos'!$X$35=3,'Simulador Pagos Oportunos'!$I$49,IF('Simulador Pagos Oportunos'!$X$35=4,'Simulador Pagos Oportunos'!$K$49,IF('Simulador Pagos Oportunos'!$X$35=5,'Simulador Pagos Oportunos'!$M$49,0)))),0)","v":0},null,{"$f":"IF(B138<=0,\"\",IF('Simulador Pagos Oportunos'!$V$40=1,'Simulador Pagos Oportunos'!$Z$62,'Simulador Pagos Oportunos'!$Z$62*'Simulador Pagos Oportunos'!$W$59))","v":""},{"$f":"F138*'Simulador Pagos Oportunos'!$X$59","v":0},"",null,null,null,10,4,0,0,0,"",{"$f":"IF('Simulador Pagos Oportunos'!$X$35=3,AI138,IF('Simulador Pagos Oportunos'!$X$35=4,AJ138,IF('Simulador Pagos Oportunos'!$X$35=5,AK138,0)))","v":0.1825},null,null,0.1825,0,0,0,0,0,0,0,0,{"$f":"IF('Simulador Pagos Oportunos'!$X$35=3,AI138,IF('Simulador Pagos Oportunos'!$X$35=4,AJ138,IF('Simulador Pagos Oportunos'!$X$35=5,AK138,0)))","v":0.1825},{"$f":"IF(AO138<=0,0,IF('Simulador Pagos Oportunos'!$AC$62=1,0,AO138*'Simulador Pagos Oportunos'!$Y$67+IF('Simulador Pagos Oportunos'!$X$35=3,'Simulador Pagos Oportunos'!$I$49,IF('Simulador Pagos Oportunos'!$X$35=4,'Simulador Pagos Oportunos'!$K$49,IF('Simulador Pagos Oportunos'!$X$35=5,'Simulador Pagos Oportunos'!$M$49,0)))))","v":0},null,{"$f":"AQ138*'Simulador Pagos Oportunos'!$X$59","v":0},0,0,"",0,124]
[125,0,null,0,null,0,null,0,null,null,null,{"$f":"IF('Simulador Pagos Oportunos'!$V$60=1,0,J139*'Simulador Pagos Oportunos'!$O$63*'Simulador Pagos Oportunos'!$W$59)","v":0},null,"",null,0,null,{"$f":"IFERROR(IF(B139<=0,0,B139*'Simulador Pagos Oportunos'!$Y$67),0)","v":0},null,{"$f":"IFERROR(IF(B139<=0,0,IF('Simulador Pagos Oportunos'!$X$35=3,'Simulador Pagos Oportunos'!$I$49,IF('Simulador Pagos Oportunos'!$X$35=4,'Simulador Pagos Oportunos'!$K$49,IF('Simulador Pagos Oportunos'!$X$35=5,'Simulador Pagos Oportunos'!$M$49,0)))),0)","v":0},null,{"$f":"IF(B139<=0,\"\",IF('Simulador Pagos Oportunos'!$V$40=1,'Simulador Pagos Oportunos'!$Z$62,'Simulador Pagos Oportunos'!$Z$62*'Simulador Pagos Oportunos'!$W$59))","v":""},{"$f":"F139*'Simulador Pagos Oportunos'!$X$59","v":0},"",null,null,null,10,5,0,0,0,"",{"$f":"IF('Simulador Pagos Oportunos'!$X$35=3,AI139,IF('Simulador Pagos Oportunos'!$X$35=4,AJ139,IF('Simulador Pagos Oportunos'!$X$35=5,AK139,0)))","v":0.1825},null,null,0.1825,0,0,0,0,0,0,0,0,{"$f":"IF('Simulador Pagos Oportunos'!$X$35=3,AI139,IF('Simulador Pagos Oportunos'!$X$35=4,AJ139,IF('Simulador Pagos Oportunos'!$X$35=5,AK139,0)))","v":0.1825},{"$f":"IF(AO139<=0,0,IF('Simulador Pagos Oportunos'!$AC$62=1,0,AO139*'Simulador Pagos Oportunos'!$Y$67+IF('Simulador Pagos Oportunos'!$X$35=3,'Simulador Pagos Oportunos'!$I$49,IF('Simulador Pagos Oportunos'!$X$35=4,'Simulador Pagos Oportunos'!$K$49,IF('Simulador Pagos Oportunos'!$X$35=5,'Simulador Pagos Oportunos'!$M$49,0)))))","v":0},null,{"$f":"AQ139*'Simulador Pagos Oportunos'!$X$59","v":0},0,0,"",0,125]
[126,0,null,0,null,0,null,0,null,null,null,{"$f":"IF('Simulador Pagos Oportunos'!$V$60=1,0,J140*'Simulador Pagos Oportunos'!$O$63*'Simulador Pagos Oportunos'!$W$59)","v":0},null,"",null,0,null,{"$f":"IFERROR(IF(B140<=0,0,B140*'Simulador Pagos Oportunos'!$Y$67),0)","v":0},null,{"$f":"IFERROR(IF(B140<=0,0,IF('Simulador Pagos Oportunos'!$X$35=3,'Simulador Pagos Oportunos'!$I$49,IF('Simulador Pagos Oportunos'!$X$35=4,'Simulador Pagos Oportunos'!$K$49,IF('Simulador Pagos Oportunos'!$X$35=5,'Simulador Pagos Oportunos'!$M$49,0)))),0)","v":0},null,{"$f":"IF(B140<=0,\"\",IF('Simulador Pagos Oportunos'!$V$40=1,'Simulador Pagos Oportunos'!$Z$62,'Simulador Pagos Oportunos'!$Z$62*'Simulador Pagos Oportunos'!$W$59))","v":""},{"$f":"F140*'Simulador Pagos Oportunos'!$X$59","v":0},"",null,null,null,10,6,0,0,0,"",{"$f":"IF('Simulador Pagos Oportunos'!$X$35=3,AI140,IF('Simulador Pagos Oportunos'!$X$35=4,AJ140,IF('Simulador Pagos Oportunos'!$X$35=5,AK140,0)))","v":0.1825},null,null,0.1825,0,0,0,0,0,0,0,0,{"$f":"IF('Simulador Pagos Oportunos'!$X$35=3,AI140,IF('Simulador Pagos Oportunos'!$X$35=4,AJ140,IF('Simulador Pagos Oportunos'!$X$35=5,AK140,0)))","v":0.1825},{"$f":"IF(AO140<=0,0,IF('Simulador Pagos Oportunos'!$AC$62=1,0,AO140*'Simulador Pagos Oportunos'!$Y$67+IF('Simulador Pagos Oportunos'!$X$35=3,'Simulador Pagos Oportunos'!$I$49,IF('Simulador Pagos Oportunos'!$X$35=4,'Simulador Pagos Oportunos'!$K$49,IF('Simulador Pagos Oportunos'!$X$35=5,'Simulador Pagos Oportunos'!$M$49,0)))))","v":0},null,{"$f":"AQ140*'Simulador Pagos Oportunos'!$X$59","v":0},0,0,"",0,126]
[127,0,null,0,null,0,null,0,null,null,null,{"$f":"IF('Simulador Pagos Oportunos'!$V$60=1,0,J141*'Simulador Pagos Oportunos'!$O$63*'Simulador Pagos Oportunos'!$W$59)","v":0},null,"",null,0,null,{"$f":"IFERROR(IF(B141<=0,0,B141*'Simulador Pagos Oportunos'!$Y$67),0)","v":0},null,{"$f":"IFERROR(IF(B141<=0,0,IF('Simulador Pagos Oportunos'!$X$35=3,'Simulador Pagos Oportunos'!$I$49,IF('Simulador Pagos Oportunos'!$X$35=4,'Simulador Pagos Oportunos'!$K$49,IF('Simulador Pagos Oportunos'!$X$35=5,'Simulador Pagos Oportunos'!$M$49,0)))),0)","v":0},null,{"$f":"IF(B141<=0,\"\",IF('Simulador Pagos Oportunos'!$V$40=1,'Simulador Pagos Oportunos'!$Z$62,'Simulador Pagos Oportunos'!$Z$62*'Simulador Pagos Oportunos'!$W$59))","v":""},{"$f":"F141*'Simulador Pagos Oportunos'!$X$59","v":0},"",null,null,null,10,7,0,0,0,"",{"$f":"IF('Simulador Pagos Oportunos'!$X$35=3,AI141,IF('Simulador Pagos Oportunos'!$X$35=4,AJ141,IF('Simulador Pagos Oportunos'!$X$35=5,AK141,0)))","v":0.1825},null,null,0.1825,0,0,0,0,0,0,0,0,{"$f":"IF('Simulador Pagos Oportunos'!$X$35=3,AI141,IF('Simulador Pagos Oportunos'!$X$35=4,AJ141,IF('Simulador Pagos Oportunos'!$X$35=5,AK141,0)))","v":0.1825},{"$f":"IF(AO141<=0,0,IF('Simulador Pagos Oportunos'!$AC$62=1,0,AO141*'Simulador Pagos Oportunos'!$Y$67+IF('Simulador Pagos Oportunos'!$X$35=3,'Simulador Pagos Oportunos'!$I$49,IF('Simulador Pagos Oportunos'!$X$35=4,'Simulador Pagos Oportunos'!$K$49,IF('Simulador Pagos Oportunos'!$X$35=5,'Simulador Pagos Oportunos'!$M$49,0)))))","v":0},null,{"$f":"AQ141*'Simulador Pagos Oportunos'!$X$59","v":0},0,0,"",0,127]
[128,0,null,0,null,0,null,0,null,null,null,{"$f":"IF('Simulador Pagos Oportunos'!$V$60=1,0,J142*'Simulador Pagos Oportunos'!$O$63*'Simulador Pagos Oportunos'!$W$59)","v":0},null,"",null,0,null,{"$f":"IFERROR(IF(B142<=0,0,B142*'Simulador Pagos Oportunos'!$Y$67),0)","v":0},null,{"$f":"IFERROR(IF(B142<=0,0,IF('Simulador Pagos Oportunos'!$X$35=3,'Simulador Pagos Oportunos'!$I$49,IF('Simulador Pagos Oportunos'!$X$35=4,'Simulador Pagos Oportunos'!$K$49,IF('Simulador Pagos Oportunos'!$X$35=5,'Simulador Pagos Oportunos'!$M$49,0)))),0)","v":0},null,{"$f":"IF(B142<=0,\"\",IF('Simulador Pagos Oportunos'!$V$40=1,'Simulador Pagos Oportunos'!$Z$62,'Simulador Pagos Oportunos'!$Z$62*'Simulador Pagos Oportunos'!$W$59))","v":""},{"$f":"F142*'Simulador Pagos Oportunos'!$X$59","v":0},"",null,null,null,10,8,0,0,0,"",{"$f":"IF('Simulador Pagos Oportunos'!$X$35=3,AI142,IF('Simulador Pagos Oportunos'!$X$35=4,AJ142,IF('Simulador Pagos Oportunos'!$X$35=5,AK142,0)))","v":0.1825},null,null,0.1825,0,0,0,0,0,0,0,0,{"$f":"IF('Simulador Pagos Oportunos'!$X$35=3,AI142,IF('Simulador Pagos Oportunos'!$X$35=4,AJ142,IF('Simulador Pagos Oportunos'!$X$35=5,AK142,0)))","v":0.1825},{"$f":"IF(AO142<=0,0,IF('Simulador Pagos Oportunos'!$AC$62=1,0,AO142*'Simulador Pagos Oportunos'!$Y$67+IF('Simulador Pagos Oportunos'!$X$35=3,'Simulador Pagos Oportunos'!$I$49,IF('Simulador Pagos Oportunos'!$X$35=4,'Simulador Pagos Oportunos'!$K$49,IF('Simulador Pagos Oportunos'!$X$35=5,'Simulador Pagos Oportunos'!$M$49,0)))))","v":0},null,{"$f":"AQ142*'Simulador Pagos Oportunos'!$X$59","v":0},0,0,"",0,128]
[129,0,null,0,null,0,null,0,null,null,null,{"$f":"IF('Simulador Pagos Oportunos'!$V$60=1,0,J143*'Simulador Pagos Oportunos'!$O$63*'Simulador Pagos Oportunos'!$W$59)","v":0},null,"",null,0,null,{"$f":"IFERROR(IF(B143<=0,0,B143*'Simulador Pagos Oportunos'!$Y$67),0)","v":0},null,{"$f":"IFERROR(IF(B143<=0,0,IF('Simulador Pagos Oportunos'!$X$35=3,'Simulador Pagos Oportunos'!$I$49,IF('Simulador Pagos Oportunos'!$X$35=4,'Simulador Pagos Oportunos'!$K$49,IF('Simulador Pagos Oportunos'!$X$35=5,'Simulador Pagos Oportunos'!$M$49,0)))),0)","v":0},null,{"$f":"IF(B143<=0,\"\",IF('Simulador Pagos Oportunos'!$V$40=1,'Simulador Pagos Oportunos'!$Z$62,'Simulador Pagos Oportunos'!$Z$62*'Simulador Pagos Oportunos'!$W$59))","v":""},{"$f":"F143*'Simulador Pagos Oportunos'!$X$59","v":0},"",null,null,null,10,9,0,0,0,"",{"$f":"IF('Simulador Pagos Oportunos'!$X$35=3,AI143,IF('Simulador Pagos Oportunos'!$X$35=4,AJ143,IF('Simulador Pagos Oportunos'!$X$35=5,AK143,0)))","v":0.1825},null,null,0.1825,0,0,0,0,0,0,{"$f":"+AP143-AQ143","v":0},{"$f":"+AO143-AR143","v":0},{"$f":"IF('Simulador Pagos Oportunos'!$X$35=3,AI143,IF('Simulador Pagos Oportunos'!$X$35=4,AJ143,IF('Simulador Pagos Oportunos'!$X$35=5,AK143,0)))","v":0.1825},{"$f":"IF(AO143<=0,0,IF('Simulador Pagos Oportunos'!$AC$62=1,0,AO143*'Simulador Pagos Oportunos'!$Y$67+IF('Simulador Pagos Oportunos'!$X$35=3,'Simulador Pagos Oportunos'!$I$49,IF('Simulador Pagos Oportunos'!$X$35=4,'Simulador Pagos Oportunos'!$K$49,IF('Simulador Pagos Oportunos'!$X$35=5,'Simulador Pagos Oportunos'!$M$49,0)))))","v":0},null,{"$f":"AQ143*'Simulador Pagos Oportunos'!$X$59","v":0},0,0,"",0,129]
[130,0,null,0,null,{"$f":"IFERROR((N144/360*BA144*B144),0)","v":0},null,0,null,null,null,{"$f":"IF('Simulador Pagos Oportunos'!$V$60=1,0,J144*'Simulador Pagos Oportunos'!$O$63*'Simulador Pagos Oportunos'!$W$59)","v":0},null,{"$f":"IF(B144=0,\"\",AH144)","v":""},null,{"$f":"B144-H144-J144+L144","v":0},null,{"$f":"IFERROR(IF(B144<=0,0,B144*'Simulador Pagos Oportunos'!$Y$67),0)","v":0},null,{"$f":"IFERROR(IF(B144<=0,0,IF('Simulador Pagos Oportunos'!$X$35=3,'Simulador Pagos Oportunos'!$I$49,IF('Simulador Pagos Oportunos'!$X$35=4,'Simulador Pagos Oportunos'!$K$49,IF('Simulador Pagos Oportunos'!$X$35=5,'Simulador Pagos Oportunos'!$M$49,0)))),0)","v":0},null,{"$f":"IF(B144<=0,\"\",IF('Simulador Pagos Oportunos'!$V$40=1,'Simulador Pagos Oportunos'!$Z$62,'Simulador Pagos Oportunos'!$Z$62*'Simulador Pagos Oportunos'!$W$59))","v":""},{"$f":"F144*'Simulador Pagos Oportunos'!$X$59","v":0},{"$f":"IF(B144<=0,\"\",D144+J144+R144+V144+T144+W144)","v":""},null,null,null,10,10,{"$f":"+IF(P144<=0,IF(P143>0,+A144,0),0)","v":0},{"$f":"+IF(AD144>0,+AB144,0)","v":0},{"$f":"+IF(AD144>0,+AC144,0)","v":0},{"$f":"X144","v":""},{"$f":"IF('Simulador Pagos Oportunos'!$X$35=3,AI144,IF('Simulador Pagos Oportunos'!$X$35=4,AJ144,IF('Simulador Pagos Oportunos'!$X$35=5,AK144,0)))","v":0.1825},null,null,0.1825,0,0,{"$f":"IFERROR(AP144/AO144,0)","v":0},0,{"$f":"IFERROR((IF(AO144+AQ144-AP143<0, AO144+AQ144, AP143*(1+AV144))),0)","v":0},{"$f":"IFERROR((AT144/360*BA144*AO144),0)","v":0},0,0,{"$f":"IF('Simulador Pagos Oportunos'!$X$35=3,AI144,IF('Simulador Pagos Oportunos'!$X$35=4,AJ144,IF('Simulador Pagos Oportunos'!$X$35=5,AK144,0)))","v":0.1825},{"$f":"IF(AO144<=0,0,IF('Simulador Pagos Oportunos'!$AC$62=1,0,AO144*'Simulador Pagos Oportunos'!$Y$67+IF('Simulador Pagos Oportunos'!$X$35=3,'Simulador Pagos Oportunos'!$I$49,IF('Simulador Pagos Oportunos'!$X$35=4,'Simulador Pagos Oportunos'!$K$49,IF('Simulador Pagos Oportunos'!$X$35=5,'Simulador Pagos Oportunos'!$M$49,0)))))","v":0},null,{"$f":"AQ144*'Simulador Pagos Oportunos'!$X$59","v":0},{"$f":"AQ144+AR144+AU144","v":0},0,"",{"$f":"IFERROR(DAY(DATE(YEAR(AZ144),MONTH(AZ144)+1,0)),0)","v":0},130]
[131,{"$f":"IF(P144<=0,0,P144)","v":0},null,0,null,0,null,{"$f":"D145-F145","v":0},null,null,null,{"$f":"IF('Simulador Pagos Oportunos'!$V$60=1,0,J145*'Simulador Pagos Oportunos'!$O$63*'Simulador Pagos Oportunos'!$W$59)","v":0},null,"",null,0,null,{"$f":"IFERROR(IF(B145<=0,0,B145*'Simulador Pagos Oportunos'!$Y$67),0)","v":0},null,{"$f":"IFERROR(IF(B145<=0,0,IF('Simulador Pagos Oportunos'!$X$35=3,'Simulador Pagos Oportunos'!$I$49,IF('Simulador Pagos Oportunos'!$X$35=4,'Simulador Pagos Oportunos'!$K$49,IF('Simulador Pagos Oportunos'!$X$35=5,'Simulador Pagos Oportunos'!$M$49,0)))),0)","v":0},null,{"$f":"IF(B145<=0,\"\",IF('Simulador Pagos Oportunos'!$V$40=1,'Simulador Pagos Oportunos'!$Z$62,'Simulador Pagos Oportunos'!$Z$62*'Simulador Pagos Oportunos'!$W$59))","v":""},{"$f":"F145*'Simulador Pagos Oportunos'!$X$59","v":0},"",null,null,null,10,11,0,0,0,"",{"$f":"IF('Simulador Pagos Oportunos'!$X$35=3,AI145,IF('Simulador Pagos Oportunos'!$X$35=4,AJ145,IF('Simulador Pagos Oportunos'!$X$35=5,AK145,0)))","v":0.1825},null,null,0.1825,0,0,0,{"$f":"AS144","v":0},0,0,0,0,{"$f":"IF('Simulador Pagos Oportunos'!$X$35=3,AI145,IF('Simulador Pagos Oportunos'!$X$35=4,AJ145,IF('Simulador Pagos Oportunos'!$X$35=5,AK145,0)))","v":0.1825},{"$f":"IF(AO145<=0,0,IF('Simulador Pagos Oportunos'!$AC$62=1,0,AO145*'Simulador Pagos Oportunos'!$Y$67+IF('Simulador Pagos Oportunos'!$X$35=3,'Simulador Pagos Oportunos'!$I$49,IF('Simulador Pagos Oportunos'!$X$35=4,'Simulador Pagos Oportunos'!$K$49,IF('Simulador Pagos Oportunos'!$X$35=5,'Simulador Pagos Oportunos'!$M$49,0)))))","v":0},null,{"$f":"AQ145*'Simulador Pagos Oportunos'!$X$59","v":0},0,0,{"$f":"IF(AO145=0,\"\",DATE(YEAR(AZ144),MONTH(AZ144)+1,1))","v":""},0,131]
[132,0,null,{"$f":"IF(B146+F146-D145<=0,B146+F146,IF(AND($AR$2=2,J145>0),B146*AN146,D145*(1+Z146)))","v":0},null,0,null,0,null,null,null,{"$f":"IF('Simulador Pagos Oportunos'!$V$60=1,0,J146*'Simulador Pagos Oportunos'!$O$63*'Simulador Pagos Oportunos'!$W$59)","v":0},null,"",null,0,null,{"$f":"IFERROR(IF(B146<=0,0,B146*'Simulador Pagos Oportunos'!$Y$67),0)","v":0},null,{"$f":"IFERROR(IF(B146<=0,0,IF('Simulador Pagos Oportunos'!$X$35=3,'Simulador Pagos Oportunos'!$I$49,IF('Simulador Pagos Oportunos'!$X$35=4,'Simulador Pagos Oportunos'!$K$49,IF('Simulador Pagos Oportunos'!$X$35=5,'Simulador Pagos Oportunos'!$M$49,0)))),0)","v":0},null,{"$f":"IF(B146<=0,\"\",IF('Simulador Pagos Oportunos'!$V$40=1,'Simulador Pagos Oportunos'!$Z$62,'Simulador Pagos Oportunos'!$Z$62*'Simulador Pagos Oportunos'!$W$59))","v":""},{"$f":"F146*'Simulador Pagos Oportunos'!$X$59","v":0},"",null,null,null,11,0,0,0,0,"",{"$f":"IF('Simulador Pagos Oportunos'!$X$35=3,AI146,IF('Simulador Pagos Oportunos'!$X$35=4,AJ146,IF('Simulador Pagos Oportunos'!$X$35=5,AK146,0)))","v":0.1825},null,null,0.1825,0,0,0,0,0,0,0,0,{"$f":"IF('Simulador Pagos Oportunos'!$X$35=3,AI146,IF('Simulador Pagos Oportunos'!$X$35=4,AJ146,IF('Simulador Pagos Oportunos'!$X$35=5,AK146,0)))","v":0.1825},{"$f":"IF(AO146<=0,0,IF('Simulador Pagos Oportunos'!$AC$62=1,0,AO146*'Simulador Pagos Oportunos'!$Y$67+IF('Simulador Pagos Oportunos'!$X$35=3,'Simulador Pagos Oportunos'!$I$49,IF('Simulador Pagos Oportunos'!$X$35=4,'Simulador Pagos Oportunos'!$K$49,IF('Simulador Pagos Oportunos'!$X$35=5,'Simulador Pagos Oportunos'!$M$49,0)))))","v":0},null,{"$f":"AQ146*'Simulador Pagos Oportunos'!$X$59","v":0},0,0,"",0,132]
[133,0,null,0,null,0,null,0,null,null,null,{"$f":"IF('Simulador Pagos Oportunos'!$V$60=1,0,J147*'Simulador Pagos Oportunos'!$O$63*'Simulador Pagos Oportunos'!$W$59)","v":0},null,"",null,0,null,{"$f":"IFERROR(IF(B147<=0,0,B147*'Simulador Pagos Oportunos'!$Y$67),0)","v":0},null,{"$f":"IFERROR(IF(B147<=0,0,IF('Simulador Pagos Oportunos'!$X$35=3,'Simulador Pagos Oportunos'!$I$49,IF('Simulador Pagos Oportunos'!$X$35=4,'Simulador Pagos Oportunos'!$K$49,IF('Simulador Pagos Oportunos'!$X$35=5,'Simulador Pagos Oportunos'!$M$49,0)))),0)","v":0},null,{"$f":"IF(B147<=0,\"\",IF('Simulador Pagos Oportunos'!$V$40=1,'Simulador Pagos Oportunos'!$Z$62,'Simulador Pagos Oportunos'!$Z$62*'Simulador Pagos Oportunos'!$W$59))","v":""},{"$f":"F147*'Simulador Pagos Oportunos'!$X$59","v":0},"",null,{"$f":"IF(B147<=0,0,IF(AND('Simulador Pagos Oportunos'!$V$40=2,'Simulador Pagos Oportunos'!$X$35=4),0,'Simulador Pagos Oportunos'!$AM$48))","v":0},null,11,1,0,0,0,"",{"$f":"IF('Simulador Pagos Oportunos'!$X$35=3,AI147,IF('Simulador Pagos Oportunos'!$X$35=4,AJ147,IF('Simulador Pagos Oportunos'!$X$35=5,AK147,0)))","v":0.1825},null,null,0.1825,0,0,0,0,0,0,0,0,{"$f":"IF('Simulador Pagos Oportunos'!$X$35=3,AI147,IF('Simulador Pagos Oportunos'!$X$35=4,AJ147,IF('Simulador Pagos Oportunos'!$X$35=5,AK147,0)))","v":0.1825},{"$f":"IF(AO147<=0,0,IF('Simulador Pagos Oportunos'!$AC$62=1,0,AO147*'Simulador Pagos Oportunos'!$Y$67+IF('Simulador Pagos Oportunos'!$X$35=3,'Simulador Pagos Oportunos'!$I$49,IF('Simulador Pagos Oportunos'!$X$35=4,'Simulador Pagos Oportunos'!$K$49,IF('Simulador Pagos Oportunos'!$X$35=5,'Simulador Pagos Oportunos'!$M$49,0)))))","v":0},{"$f":"IF(AO147<=0,0,$AV$32)","v":0},{"$f":"AQ147*'Simulador Pagos Oportunos'!$X$59","v":0},0,0,"",0,133]
[134,0,null,0,null,0,null,0,null,null,null,{"$f":"IF('Simulador Pagos Oportunos'!$V$60=1,0,J148*'Simulador Pagos Oportunos'!$O$63*'Simulador Pagos Oportunos'!$W$59)","v":0},null,"",null,0,null,{"$f":"IFERROR(IF(B148<=0,0,B148*'Simulador Pagos Oportunos'!$Y$67),0)","v":0},null,{"$f":"IFERROR(IF(B148<=0,0,IF('Simulador Pagos Oportunos'!$X$35=3,'Simulador Pagos Oportunos'!$I$49,IF('Simulador Pagos Oportunos'!$X$35=4,'Simulador Pagos Oportunos'!$K$49,IF('Simulador Pagos Oportunos'!$X$35=5,'Simulador Pagos Oportunos'!$M$49,0)))),0)","v":0},null,{"$f":"IF(B148<=0,\"\",IF('Simulador Pagos Oportunos'!$V$40=1,'Simulador Pagos Oportunos'!$Z$62,'Simulador Pagos Oportunos'!$Z$62*'Simulador Pagos Oportunos'!$W$59))","v":""},{"$f":"F148*'Simulador Pagos Oportunos'!$X$59","v":0},"",null,null,null,11,2,0,0,0,"",{"$f":"IF('Simulador Pagos Oportunos'!$X$35=3,AI148,IF('Simulador Pagos Oportunos'!$X$35=4,AJ148,IF('Simulador Pagos Oportunos'!$X$35=5,AK148,0)))","v":0.1825},null,null,0.1825,0,0,0,0,0,0,0,0,{"$f":"IF('Simulador Pagos Oportunos'!$X$35=3,AI148,IF('Simulador Pagos Oportunos'!$X$35=4,AJ148,IF('Simulador Pagos Oportunos'!$X$35=5,AK148,0)))","v":0.1825},{"$f":"IF(AO148<=0,0,IF('Simulador Pagos Oportunos'!$AC$62=1,0,AO148*'Simulador Pagos Oportunos'!$Y$67+IF('Simulador Pagos Oportunos'!$X$35=3,'Simulador Pagos Oportunos'!$I$49,IF('Simulador Pagos Oportunos'!$X$35=4,'Simulador Pagos Oportunos'!$K$49,IF('Simulador Pagos Oportunos'!$X$35=5,'Simulador Pagos Oportunos'!$M$49,0)))))","v":0},null,{"$f":"AQ148*'Simulador Pagos Oportunos'!$X$59","v":0},0,0,"",0,134]
[135,0,null,0,null,0,null,0,null,null,null,{"$f":"IF('Simulador Pagos Oportunos'!$V$60=1,0,J149*'Simulador Pagos Oportunos'!$O$63*'Simulador Pagos Oportunos'!$W$59)","v":0},null,"",null,0,null,{"$f":"IFERROR(IF(B149<=0,0,B149*'Simulador Pagos Oportunos'!$Y$67),0)","v":0},null,{"$f":"IFERROR(IF(B149<=0,0,IF('Simulador Pagos Oportunos'!$X$35=3,'Simulador Pagos Oportunos'!$I$49,IF('Simulador Pagos Oportunos'!$X$35=4,'Simulador Pagos Oportunos'!$K$49,IF('Simulador Pagos Oportunos'!$X$35=5,'Simulador Pagos Oportunos'!$M$49,0)))),0)","v":0},null,{"$f":"IF(B149<=0,\"\",IF('Simulador Pagos Oportunos'!$V$40=1,'Simulador Pagos Oportunos'!$Z$62,'Simulador Pagos Oportunos'!$Z$62*'Simulador Pagos Oportunos'!$W$59))","v":""},{"$f":"F149*'Simulador Pagos Oportunos'!$X$59","v":0},"",null,null,null,11,3,0,0,0,"",{"$f":"IF('Simulador Pagos Oportunos'!$X$35=3,AI149,IF('Simulador Pagos Oportunos'!$X$35=4,AJ149,IF('Simulador Pagos Oportunos'!$X$35=5,AK149,0)))","v":0.1825},null,null,0.1825,0,0,0,0,0,0,0,0,{"$f":"IF('Simulador Pagos Oportunos'!$X$35=3,AI149,IF('Simulador Pagos Oportunos'!$X$35=4,AJ149,IF('Simulador Pagos Oportunos'!$X$35=5,AK149,0)))","v":0.1825},{"$f":"IF(AO149<=0,0,IF('Simulador Pagos Oportunos'!$AC$62=1,0,AO149*'Simulador Pagos Oportunos'!$Y$67+IF('Simulador Pagos Oportunos'!$X$35=3,'Simulador Pagos Oportunos'!$I$49,IF('Simulador Pagos Oportunos'!$X$35=4,'Simulador Pagos Oportunos'!$K$49,IF('Simulador Pagos Oportunos'!$X$35=5,'Simulador Pagos Oportunos'!$M$49,0)))))","v":0},null,{"$f":"AQ149*'Simulador Pagos Oportunos'!$X$59","v":0},0,0,"",0,135]
[136,0,null,0,null,0,null,0,null,null,null,{"$f":"IF('Simulador Pagos Oportunos'!$V$60=1,0,J150*'Simulador Pagos Oportunos'!$O$63*'Simulador Pagos Oportunos'!$W$59)","v":0},null,"",null,0,null,{"$f":"IFERROR(IF(B150<=0,0,B150*'Simulador Pagos Oportunos'!$Y$67),0)","v":0},null,{"$f":"IFERROR(IF(B150<=0,0,IF('Simulador Pagos Oportunos'!$X$35=3,'Simulador Pagos Oportunos'!$I$49,IF('Simulador Pagos Oportunos'!$X$35=4,'Simulador Pagos Oportunos'!$K$49,IF('Simulador Pagos Oportunos'!$X$35=5,'Simulador Pagos Oportunos'!$M$49,0)))),0)","v":0},null,{"$f":"IF(B150<=0,\"\",IF('Simulador Pagos Oportunos'!$V$40=1,'Simulador Pagos Oportunos'!$Z$62,'Simulador Pagos Oportunos'!$Z$62*'Simulador Pagos Oportunos'!$W$59))","v":""},{"$f":"F150*'Simulador Pagos Oportunos'!$X$59","v":0},"",null,null,null,11,4,0,0,0,"",{"$f":"IF('Simulador Pagos Oportunos'!$X$35=3,AI150,IF('Simulador Pagos Oportunos'!$X$35=4,AJ150,IF('Simulador Pagos Oportunos'!$X$35=5,AK150,0)))","v":0.1825},null,null,0.1825,0,0,0,0,0,0,0,0,{"$f":"IF('Simulador Pagos Oportunos'!$X$35=3,AI150,IF('Simulador Pagos Oportunos'!$X$35=4,AJ150,IF('Simulador Pagos Oportunos'!$X$35=5,AK150,0)))","v":0.1825},{"$f":"IF(AO150<=0,0,IF('Simulador Pagos Oportunos'!$AC$62=1,0,AO150*'Simulador Pagos Oportunos'!$Y$67+IF('Simulador Pagos Oportunos'!$X$35=3,'Simulador Pagos Oportunos'!$I$49,IF('Simulador Pagos Oportunos'!$X$35=4,'Simulador Pagos Oportunos'!$K$49,IF('Simulador Pagos Oportunos'!$X$35=5,'Simulador Pagos Oportunos'!$M$49,0)))))","v":0},null,{"$f":"AQ150*'Simulador Pagos Oportunos'!$X$59","v":0},0,0,"",0,136]
[137,0,null,0,null,0,null,0,null,null,null,{"$f":"IF('Simulador Pagos Oportunos'!$V$60=1,0,J151*'Simulador Pagos Oportunos'!$O$63*'Simulador Pagos Oportunos'!$W$59)","v":0},null,"",null,0,null,{"$f":"IFERROR(IF(B151<=0,0,B151*'Simulador Pagos Oportunos'!$Y$67),0)","v":0},null,{"$f":"IFERROR(IF(B151<=0,0,IF('Simulador Pagos Oportunos'!$X$35=3,'Simulador Pagos Oportunos'!$I$49,IF('Simulador Pagos Oportunos'!$X$35=4,'Simulador Pagos Oportunos'!$K$49,IF('Simulador Pagos Oportunos'!$X$35=5,'Simulador Pagos Oportunos'!$M$49,0)))),0)","v":0},null,{"$f":"IF(B151<=0,\"\",IF('Simulador Pagos Oportunos'!$V$40=1,'Simulador Pagos Oportunos'!$Z$62,'Simulador Pagos Oportunos'!$Z$62*'Simulador Pagos Oportunos'!$W$59))","v":""},{"$f":"F151*'Simulador Pagos Oportunos'!$X$59","v":0},"",null,null,null,11,5,0,0,0,"",{"$f":"IF('Simulador Pagos Oportunos'!$X$35=3,AI151,IF('Simulador Pagos Oportunos'!$X$35=4,AJ151,IF('Simulador Pagos Oportunos'!$X$35=5,AK151,0)))","v":0.1825},null,null,0.1825,0,0,0,0,0,0,0,0,{"$f":"IF('Simulador Pagos Oportunos'!$X$35=3,AI151,IF('Simulador Pagos Oportunos'!$X$35=4,AJ151,IF('Simulador Pagos Oportunos'!$X$35=5,AK151,0)))","v":0.1825},{"$f":"IF(AO151<=0,0,IF('Simulador Pagos Oportunos'!$AC$62=1,0,AO151*'Simulador Pagos Oportunos'!$Y$67+IF('Simulador Pagos Oportunos'!$X$35=3,'Simulador Pagos Oportunos'!$I$49,IF('Simulador Pagos Oportunos'!$X$35=4,'Simulador Pagos Oportunos'!$K$49,IF('Simulador Pagos Oportunos'!$X$35=5,'Simulador Pagos Oportunos'!$M$49,0)))))","v":0},null,{"$f":"AQ151*'Simulador Pagos Oportunos'!$X$59","v":0},0,0,"",0,137]
[138,0,null,0,null,0,null,0,null,null,null,{"$f":"IF('Simulador Pagos Oportunos'!$V$60=1,0,J152*'Simulador Pagos Oportunos'!$O$63*'Simulador Pagos Oportunos'!$W$59)","v":0},null,"",null,0,null,{"$f":"IFERROR(IF(B152<=0,0,B152*'Simulador Pagos Oportunos'!$Y$67),0)","v":0},null,{"$f":"IFERROR(IF(B152<=0,0,IF('Simulador Pagos Oportunos'!$X$35=3,'Simulador Pagos Oportunos'!$I$49,IF('Simulador Pagos Oportunos'!$X$35=4,'Simulador Pagos Oportunos'!$K$49,IF('Simulador Pagos Oportunos'!$X$35=5,'Simulador Pagos Oportunos'!$M$49,0)))),0)","v":0},null,{"$f":"IF(B152<=0,\"\",IF('Simulador Pagos Oportunos'!$V$40=1,'Simulador Pagos Oportunos'!$Z$62,'Simulador Pagos Oportunos'!$Z$62*'Simulador Pagos Oportunos'!$W$59))","v":""},{"$f":"F152*'Simulador Pagos Oportunos'!$X$59","v":0},"",null,null,null,11,6,0,0,0,"",{"$f":"IF('Simulador Pagos Oportunos'!$X$35=3,AI152,IF('Simulador Pagos Oportunos'!$X$35=4,AJ152,IF('Simulador Pagos Oportunos'!$X$35=5,AK152,0)))","v":0.1825},null,null,0.1825,0,0,0,0,0,0,0,0,{"$f":"IF('Simulador Pagos Oportunos'!$X$35=3,AI152,IF('Simulador Pagos Oportunos'!$X$35=4,AJ152,IF('Simulador Pagos Oportunos'!$X$35=5,AK152,0)))","v":0.1825},{"$f":"IF(AO152<=0,0,IF('Simulador Pagos Oportunos'!$AC$62=1,0,AO152*'Simulador Pagos Oportunos'!$Y$67+IF('Simulador Pagos Oportunos'!$X$35=3,'Simulador Pagos Oportunos'!$I$49,IF('Simulador Pagos Oportunos'!$X$35=4,'Simulador Pagos Oportunos'!$K$49,IF('Simulador Pagos Oportunos'!$X$35=5,'Simulador Pagos Oportunos'!$M$49,0)))))","v":0},null,{"$f":"AQ152*'Simulador Pagos Oportunos'!$X$59","v":0},0,0,"",0,138]
[139,0,null,0,null,0,null,0,null,null,null,{"$f":"IF('Simulador Pagos Oportunos'!$V$60=1,0,J153*'Simulador Pagos Oportunos'!$O$63*'Simulador Pagos Oportunos'!$W$59)","v":0},null,"",null,0,null,{"$f":"IFERROR(IF(B153<=0,0,B153*'Simulador Pagos Oportunos'!$Y$67),0)","v":0},null,{"$f":"IFERROR(IF(B153<=0,0,IF('Simulador Pagos Oportunos'!$X$35=3,'Simulador Pagos Oportunos'!$I$49,IF('Simulador Pagos Oportunos'!$X$35=4,'Simulador Pagos Oportunos'!$K$49,IF('Simulador Pagos Oportunos'!$X$35=5,'Simulador Pagos Oportunos'!$M$49,0)))),0)","v":0},null,{"$f":"IF(B153<=0,\"\",IF('Simulador Pagos Oportunos'!$V$40=1,'Simulador Pagos Oportunos'!$Z$62,'Simulador Pagos Oportunos'!$Z$62*'Simulador Pagos Oportunos'!$W$59))","v":""},{"$f":"F153*'Simulador Pagos Oportunos'!$X$59","v":0},"",null,null,null,11,7,0,0,0,"",{"$f":"IF('Simulador Pagos Oportunos'!$X$35=3,AI153,IF('Simulador Pagos Oportunos'!$X$35=4,AJ153,IF('Simulador Pagos Oportunos'!$X$35=5,AK153,0)))","v":0.1825},null,null,{"$f":"AK152","v":0.1825},0,0,0,0,0,0,0,0,{"$f":"IF('Simulador Pagos Oportunos'!$X$35=3,AI153,IF('Simulador Pagos Oportunos'!$X$35=4,AJ153,IF('Simulador Pagos Oportunos'!$X$35=5,AK153,0)))","v":0.1825},{"$f":"IF(AO153<=0,0,IF('Simulador Pagos Oportunos'!$AC$62=1,0,AO153*'Simulador Pagos Oportunos'!$Y$67+IF('Simulador Pagos Oportunos'!$X$35=3,'Simulador Pagos Oportunos'!$I$49,IF('Simulador Pagos Oportunos'!$X$35=4,'Simulador Pagos Oportunos'!$K$49,IF('Simulador Pagos Oportunos'!$X$35=5,'Simulador Pagos Oportunos'!$M$49,0)))))","v":0},null,{"$f":"AQ153*'Simulador Pagos Oportunos'!$X$59","v":0},0,0,"",0,139]
[140,0,null,0,null,0,null,0,null,null,null,{"$f":"IF('Simulador Pagos Oportunos'!$V$60=1,0,J154*'Simulador Pagos Oportunos'!$O$63*'Simulador Pagos Oportunos'!$W$59)","v":0},null,"",null,0,null,{"$f":"IFERROR(IF(B154<=0,0,B154*'Simulador Pagos Oportunos'!$Y$67),0)","v":0},null,{"$f":"IFERROR(IF(B154<=0,0,IF('Simulador Pagos Oportunos'!$X$35=3,'Simulador Pagos Oportunos'!$I$49,IF('Simulador Pagos Oportunos'!$X$35=4,'Simulador Pagos Oportunos'!$K$49,IF('Simulador Pagos Oportunos'!$X$35=5,'Simulador Pagos Oportunos'!$M$49,0)))),0)","v":0},null,{"$f":"IF(B154<=0,\"\",IF('Simulador Pagos Oportunos'!$V$40=1,'Simulador Pagos Oportunos'!$Z$62,'Simulador Pagos Oportunos'!$Z$62*'Simulador Pagos Oportunos'!$W$59))","v":""},{"$f":"F154*'Simulador Pagos Oportunos'!$X$59","v":0},"",null,null,null,11,8,0,0,0,"",{"$f":"IF('Simulador Pagos Oportunos'!$X$35=3,AI154,IF('Simulador Pagos Oportunos'!$X$35=4,AJ154,IF('Simulador Pagos Oportunos'!$X$35=5,AK154,0)))","v":0.1825},null,null,0.1825,0,0,0,0,0,0,0,0,{"$f":"IF('Simulador Pagos Oportunos'!$X$35=3,AI154,IF('Simulador Pagos Oportunos'!$X$35=4,AJ154,IF('Simulador Pagos Oportunos'!$X$35=5,AK154,0)))","v":0.1825},{"$f":"IF(AO154<=0,0,IF('Simulador Pagos Oportunos'!$AC$62=1,0,AO154*'Simulador Pagos Oportunos'!$Y$67+IF('Simulador Pagos Oportunos'!$X$35=3,'Simulador Pagos Oportunos'!$I$49,IF('Simulador Pagos Oportunos'!$X$35=4,'Simulador Pagos Oportunos'!$K$49,IF('Simulador Pagos Oportunos'!$X$35=5,'Simulador Pagos Oportunos'!$M$49,0)))))","v":0},null,{"$f":"AQ154*'Simulador Pagos Oportunos'!$X$59","v":0},0,0,"",0,140]
[141,0,null,0,null,0,null,0,null,null,null,{"$f":"IF('Simulador Pagos Oportunos'!$V$60=1,0,J155*'Simulador Pagos Oportunos'!$O$63*'Simulador Pagos Oportunos'!$W$59)","v":0},null,"",null,0,null,{"$f":"IFERROR(IF(B155<=0,0,B155*'Simulador Pagos Oportunos'!$Y$67),0)","v":0},null,{"$f":"IFERROR(IF(B155<=0,0,IF('Simulador Pagos Oportunos'!$X$35=3,'Simulador Pagos Oportunos'!$I$49,IF('Simulador Pagos Oportunos'!$X$35=4,'Simulador Pagos Oportunos'!$K$49,IF('Simulador Pagos Oportunos'!$X$35=5,'Simulador Pagos Oportunos'!$M$49,0)))),0)","v":0},null,{"$f":"IF(B155<=0,\"\",IF('Simulador Pagos Oportunos'!$V$40=1,'Simulador Pagos Oportunos'!$Z$62,'Simulador Pagos Oportunos'!$Z$62*'Simulador Pagos Oportunos'!$W$59))","v":""},{"$f":"F155*'Simulador Pagos Oportunos'!$X$59","v":0},"",null,null,null,11,9,0,0,0,"",{"$f":"IF('Simulador Pagos Oportunos'!$X$35=3,AI155,IF('Simulador Pagos Oportunos'!$X$35=4,AJ155,IF('Simulador Pagos Oportunos'!$X$35=5,AK155,0)))","v":0.1825},null,null,0.1825,0,0,0,0,0,0,0,0,{"$f":"IF('Simulador Pagos Oportunos'!$X$35=3,AI155,IF('Simulador Pagos Oportunos'!$X$35=4,AJ155,IF('Simulador Pagos Oportunos'!$X$35=5,AK155,0)))","v":0.1825},{"$f":"IF(AO155<=0,0,IF('Simulador Pagos Oportunos'!$AC$62=1,0,AO155*'Simulador Pagos Oportunos'!$Y$67+IF('Simulador Pagos Oportunos'!$X$35=3,'Simulador Pagos Oportunos'!$I$49,IF('Simulador Pagos Oportunos'!$X$35=4,'Simulador Pagos Oportunos'!$K$49,IF('Simulador Pagos Oportunos'!$X$35=5,'Simulador Pagos Oportunos'!$M$49,0)))))","v":0},null,{"$f":"AQ155*'Simulador Pagos Oportunos'!$X$59","v":0},0,0,"",0,141]
[142,0,null,0,null,0,null,0,null,null,null,{"$f":"IF('Simulador Pagos Oportunos'!$V$60=1,0,J156*'Simulador Pagos Oportunos'!$O$63*'Simulador Pagos Oportunos'!$W$59)","v":0},null,"",null,0,null,{"$f":"IFERROR(IF(B156<=0,0,B156*'Simulador Pagos Oportunos'!$Y$67),0)","v":0},null,{"$f":"IFERROR(IF(B156<=0,0,IF('Simulador Pagos Oportunos'!$X$35=3,'Simulador Pagos Oportunos'!$I$49,IF('Simulador Pagos Oportunos'!$X$35=4,'Simulador Pagos Oportunos'!$K$49,IF('Simulador Pagos Oportunos'!$X$35=5,'Simulador Pagos Oportunos'!$M$49,0)))),0)","v":0},null,{"$f":"IF(B156<=0,\"\",IF('Simulador Pagos Oportunos'!$V$40=1,'Simulador Pagos Oportunos'!$Z$62,'Simulador Pagos Oportunos'!$Z$62*'Simulador Pagos Oportunos'!$W$59))","v":""},{"$f":"F156*'Simulador Pagos Oportunos'!$X$59","v":0},"",null,null,null,11,10,0,0,0,"",{"$f":"IF('Simulador Pagos Oportunos'!$X$35=3,AI156,IF('Simulador Pagos Oportunos'!$X$35=4,AJ156,IF('Simulador Pagos Oportunos'!$X$35=5,AK156,0)))","v":0.1825},null,null,0.1825,0,0,0,0,0,0,0,0,{"$f":"IF('Simulador Pagos Oportunos'!$X$35=3,AI156,IF('Simulador Pagos Oportunos'!$X$35=4,AJ156,IF('Simulador Pagos Oportunos'!$X$35=5,AK156,0)))","v":0.1825},{"$f":"IF(AO156<=0,0,IF('Simulador Pagos Oportunos'!$AC$62=1,0,AO156*'Simulador Pagos Oportunos'!$Y$67+IF('Simulador Pagos Oportunos'!$X$35=3,'Simulador Pagos Oportunos'!$I$49,IF('Simulador Pagos Oportunos'!$X$35=4,'Simulador Pagos Oportunos'!$K$49,IF('Simulador Pagos Oportunos'!$X$35=5,'Simulador Pagos Oportunos'!$M$49,0)))))","v":0},null,{"$f":"AQ156*'Simulador Pagos Oportunos'!$X$59","v":0},0,0,"",0,142]
[143,0,null,0,null,0,null,0,null,null,null,{"$f":"IF('Simulador Pagos Oportunos'!$V$60=1,0,J157*'Simulador Pagos Oportunos'!$O$63*'Simulador Pagos Oportunos'!$W$59)","v":0},null,"",null,0,null,{"$f":"IFERROR(IF(B157<=0,0,B157*'Simulador Pagos Oportunos'!$Y$67),0)","v":0},null,{"$f":"IFERROR(IF(B157<=0,0,IF('Simulador Pagos Oportunos'!$X$35=3,'Simulador Pagos Oportunos'!$I$49,IF('Simulador Pagos Oportunos'!$X$35=4,'Simulador Pagos Oportunos'!$K$49,IF('Simulador Pagos Oportunos'!$X$35=5,'Simulador Pagos Oportunos'!$M$49,0)))),0)","v":0},null,{"$f":"IF(B157<=0,\"\",IF('Simulador Pagos Oportunos'!$V$40=1,'Simulador Pagos Oportunos'!$Z$62,'Simulador Pagos Oportunos'!$Z$62*'Simulador Pagos Oportunos'!$W$59))","v":""},{"$f":"F157*'Simulador Pagos Oportunos'!$X$59","v":0},"",null,null,null,11,11,0,0,0,"",{"$f":"IF('Simulador Pagos Oportunos'!$X$35=3,AI157,IF('Simulador Pagos Oportunos'!$X$35=4,AJ157,IF('Simulador Pagos Oportunos'!$X$35=5,AK157,0)))","v":0.1825},null,null,0.1825,0,0,0,0,0,0,0,0,{"$f":"IF('Simulador Pagos Oportunos'!$X$35=3,AI157,IF('Simulador Pagos Oportunos'!$X$35=4,AJ157,IF('Simulador Pagos Oportunos'!$X$35=5,AK157,0)))","v":0.1825},{"$f":"IF(AO157<=0,0,IF('Simulador Pagos Oportunos'!$AC$62=1,0,AO157*'Simulador Pagos Oportunos'!$Y$67+IF('Simulador Pagos Oportunos'!$X$35=3,'Simulador Pagos Oportunos'!$I$49,IF('Simulador Pagos Oportunos'!$X$35=4,'Simulador Pagos Oportunos'!$K$49,IF('Simulador Pagos Oportunos'!$X$35=5,'Simulador Pagos Oportunos'!$M$49,0)))))","v":0},null,{"$f":"AQ157*'Simulador Pagos Oportunos'!$X$59","v":0},0,0,"",0,143]
[144,0,null,0,null,0,null,0,null,null,null,{"$f":"IF('Simulador Pagos Oportunos'!$V$60=1,0,J158*'Simulador Pagos Oportunos'!$O$63*'Simulador Pagos Oportunos'!$W$59)","v":0},null,"",null,0,null,{"$f":"IFERROR(IF(B158<=0,0,B158*'Simulador Pagos Oportunos'!$Y$67),0)","v":0},null,{"$f":"IFERROR(IF(B158<=0,0,IF('Simulador Pagos Oportunos'!$X$35=3,'Simulador Pagos Oportunos'!$I$49,IF('Simulador Pagos Oportunos'!$X$35=4,'Simulador Pagos Oportunos'!$K$49,IF('Simulador Pagos Oportunos'!$X$35=5,'Simulador Pagos Oportunos'!$M$49,0)))),0)","v":0},null,{"$f":"IF(B158<=0,\"\",IF('Simulador Pagos Oportunos'!$V$40=1,'Simulador Pagos Oportunos'!$Z$62,'Simulador Pagos Oportunos'!$Z$62*'Simulador Pagos Oportunos'!$W$59))","v":""},{"$f":"F158*'Simulador Pagos Oportunos'!$X$59","v":0},"",null,null,null,12,0,0,0,0,"",{"$f":"IF('Simulador Pagos Oportunos'!$X$35=3,AI158,IF('Simulador Pagos Oportunos'!$X$35=4,AJ158,IF('Simulador Pagos Oportunos'!$X$35=5,AK158,0)))","v":0.1825},null,null,0.1825,0,0,0,0,0,0,0,0,{"$f":"IF('Simulador Pagos Oportunos'!$X$35=3,AI158,IF('Simulador Pagos Oportunos'!$X$35=4,AJ158,IF('Simulador Pagos Oportunos'!$X$35=5,AK158,0)))","v":0.1825},{"$f":"IF(AO158<=0,0,IF('Simulador Pagos Oportunos'!$AC$62=1,0,AO158*'Simulador Pagos Oportunos'!$Y$67+IF('Simulador Pagos Oportunos'!$X$35=3,'Simulador Pagos Oportunos'!$I$49,IF('Simulador Pagos Oportunos'!$X$35=4,'Simulador Pagos Oportunos'!$K$49,IF('Simulador Pagos Oportunos'!$X$35=5,'Simulador Pagos Oportunos'!$M$49,0)))))","v":0},null,{"$f":"AQ158*'Simulador Pagos Oportunos'!$X$59","v":0},0,0,"",0,144]
[145,0,null,0,null,0,null,0,null,null,null,{"$f":"IF('Simulador Pagos Oportunos'!$V$60=1,0,J159*'Simulador Pagos Oportunos'!$O$63*'Simulador Pagos Oportunos'!$W$59)","v":0},null,"",null,0,null,{"$f":"IFERROR(IF(B159<=0,0,B159*'Simulador Pagos Oportunos'!$Y$67),0)","v":0},null,{"$f":"IFERROR(IF(B159<=0,0,IF('Simulador Pagos Oportunos'!$X$35=3,'Simulador Pagos Oportunos'!$I$49,IF('Simulador Pagos Oportunos'!$X$35=4,'Simulador Pagos Oportunos'!$K$49,IF('Simulador Pagos Oportunos'!$X$35=5,'Simulador Pagos Oportunos'!$M$49,0)))),0)","v":0},null,{"$f":"IF(B159<=0,\"\",IF('Simulador Pagos Oportunos'!$V$40=1,'Simulador Pagos Oportunos'!$Z$62,'Simulador Pagos Oportunos'!$Z$62*'Simulador Pagos Oportunos'!$W$59))","v":""},{"$f":"F159*'Simulador Pagos Oportunos'!$X$59","v":0},"",null,{"$f":"IF(B159<=0,0,IF(AND('Simulador Pagos Oportunos'!$V$40=2,'Simulador Pagos Oportunos'!$X$35=4),0,'Simulador Pagos Oportunos'!$AM$48))","v":0},null,12,1,0,0,0,"",{"$f":"IF('Simulador Pagos Oportunos'!$X$35=3,AI159,IF('Simulador Pagos Oportunos'!$X$35=4,AJ159,IF('Simulador Pagos Oportunos'!$X$35=5,AK159,0)))","v":0.1825},null,null,0.1825,0,0,0,0,0,0,0,0,{"$f":"IF('Simulador Pagos Oportunos'!$X$35=3,AI159,IF('Simulador Pagos Oportunos'!$X$35=4,AJ159,IF('Simulador Pagos Oportunos'!$X$35=5,AK159,0)))","v":0.1825},{"$f":"IF(AO159<=0,0,IF('Simulador Pagos Oportunos'!$AC$62=1,0,AO159*'Simulador Pagos Oportunos'!$Y$67+IF('Simulador Pagos Oportunos'!$X$35=3,'Simulador Pagos Oportunos'!$I$49,IF('Simulador Pagos Oportunos'!$X$35=4,'Simulador Pagos Oportunos'!$K$49,IF('Simulador Pagos Oportunos'!$X$35=5,'Simulador Pagos Oportunos'!$M$49,0)))))","v":0},{"$f":"IF(AO159<=0,0,$AV$32)","v":0},{"$f":"AQ159*'Simulador Pagos Oportunos'!$X$59","v":0},0,0,"",0,145]
[146,0,null,0,null,0,null,0,null,null,null,{"$f":"IF('Simulador Pagos Oportunos'!$V$60=1,0,J160*'Simulador Pagos Oportunos'!$O$63*'Simulador Pagos Oportunos'!$W$59)","v":0},null,"",null,0,null,{"$f":"IFERROR(IF(B160<=0,0,B160*'Simulador Pagos Oportunos'!$Y$67),0)","v":0},null,{"$f":"IFERROR(IF(B160<=0,0,IF('Simulador Pagos Oportunos'!$X$35=3,'Simulador Pagos Oportunos'!$I$49,IF('Simulador Pagos Oportunos'!$X$35=4,'Simulador Pagos Oportunos'!$K$49,IF('Simulador Pagos Oportunos'!$X$35=5,'Simulador Pagos Oportunos'!$M$49,0)))),0)","v":0},null,{"$f":"IF(B160<=0,\"\",IF('Simulador Pagos Oportunos'!$V$40=1,'Simulador Pagos Oportunos'!$Z$62,'Simulador Pagos Oportunos'!$Z$62*'Simulador Pagos Oportunos'!$W$59))","v":""},{"$f":"F160*'Simulador Pagos Oportunos'!$X$59","v":0},"",null,null,null,12,2,0,0,0,"",{"$f":"IF('Simulador Pagos Oportunos'!$X$35=3,AI160,IF('Simulador Pagos Oportunos'!$X$35=4,AJ160,IF('Simulador Pagos Oportunos'!$X$35=5,AK160,0)))","v":0.1825},null,null,0.1825,0,0,0,0,0,0,0,0,{"$f":"IF('Simulador Pagos Oportunos'!$X$35=3,AI160,IF('Simulador Pagos Oportunos'!$X$35=4,AJ160,IF('Simulador Pagos Oportunos'!$X$35=5,AK160,0)))","v":0.1825},{"$f":"IF(AO160<=0,0,IF('Simulador Pagos Oportunos'!$AC$62=1,0,AO160*'Simulador Pagos Oportunos'!$Y$67+IF('Simulador Pagos Oportunos'!$X$35=3,'Simulador Pagos Oportunos'!$I$49,IF('Simulador Pagos Oportunos'!$X$35=4,'Simulador Pagos Oportunos'!$K$49,IF('Simulador Pagos Oportunos'!$X$35=5,'Simulador Pagos Oportunos'!$M$49,0)))))","v":0},null,{"$f":"AQ160*'Simulador Pagos Oportunos'!$X$59","v":0},0,0,"",0,146]
[147,0,null,0,null,0,null,0,null,null,null,{"$f":"IF('Simulador Pagos Oportunos'!$V$60=1,0,J161*'Simulador Pagos Oportunos'!$O$63*'Simulador Pagos Oportunos'!$W$59)","v":0},null,"",null,0,null,{"$f":"IFERROR(IF(B161<=0,0,B161*'Simulador Pagos Oportunos'!$Y$67),0)","v":0},null,{"$f":"IFERROR(IF(B161<=0,0,IF('Simulador Pagos Oportunos'!$X$35=3,'Simulador Pagos Oportunos'!$I$49,IF('Simulador Pagos Oportunos'!$X$35=4,'Simulador Pagos Oportunos'!$K$49,IF('Simulador Pagos Oportunos'!$X$35=5,'Simulador Pagos Oportunos'!$M$49,0)))),0)","v":0},null,{"$f":"IF(B161<=0,\"\",IF('Simulador Pagos Oportunos'!$V$40=1,'Simulador Pagos Oportunos'!$Z$62,'Simulador Pagos Oportunos'!$Z$62*'Simulador Pagos Oportunos'!$W$59))","v":""},{"$f":"F161*'Simulador Pagos Oportunos'!$X$59","v":0},"",null,null,null,12,3,0,0,0,"",{"$f":"IF('Simulador Pagos Oportunos'!$X$35=3,AI161,IF('Simulador Pagos Oportunos'!$X$35=4,AJ161,IF('Simulador Pagos Oportunos'!$X$35=5,AK161,0)))","v":0.1825},null,null,0.1825,0,0,0,0,0,0,0,0,{"$f":"IF('Simulador Pagos Oportunos'!$X$35=3,AI161,IF('Simulador Pagos Oportunos'!$X$35=4,AJ161,IF('Simulador Pagos Oportunos'!$X$35=5,AK161,0)))","v":0.1825},{"$f":"IF(AO161<=0,0,IF('Simulador Pagos Oportunos'!$AC$62=1,0,AO161*'Simulador Pagos Oportunos'!$Y$67+IF('Simulador Pagos Oportunos'!$X$35=3,'Simulador Pagos Oportunos'!$I$49,IF('Simulador Pagos Oportunos'!$X$35=4,'Simulador Pagos Oportunos'!$K$49,IF('Simulador Pagos Oportunos'!$X$35=5,'Simulador Pagos Oportunos'!$M$49,0)))))","v":0},null,{"$f":"AQ161*'Simulador Pagos Oportunos'!$X$59","v":0},0,0,"",0,147]
[148,0,null,0,null,0,null,0,null,null,null,{"$f":"IF('Simulador Pagos Oportunos'!$V$60=1,0,J162*'Simulador Pagos Oportunos'!$O$63*'Simulador Pagos Oportunos'!$W$59)","v":0},null,"",null,0,null,{"$f":"IFERROR(IF(B162<=0,0,B162*'Simulador Pagos Oportunos'!$Y$67),0)","v":0},null,{"$f":"IFERROR(IF(B162<=0,0,IF('Simulador Pagos Oportunos'!$X$35=3,'Simulador Pagos Oportunos'!$I$49,IF('Simulador Pagos Oportunos'!$X$35=4,'Simulador Pagos Oportunos'!$K$49,IF('Simulador Pagos Oportunos'!$X$35=5,'Simulador Pagos Oportunos'!$M$49,0)))),0)","v":0},null,{"$f":"IF(B162<=0,\"\",IF('Simulador Pagos Oportunos'!$V$40=1,'Simulador Pagos Oportunos'!$Z$62,'Simulador Pagos Oportunos'!$Z$62*'Simulador Pagos Oportunos'!$W$59))","v":""},{"$f":"F162*'Simulador Pagos Oportunos'!$X$59","v":0},"",null,null,null,12,4,0,0,0,"",{"$f":"IF('Simulador Pagos Oportunos'!$X$35=3,AI162,IF('Simulador Pagos Oportunos'!$X$35=4,AJ162,IF('Simulador Pagos Oportunos'!$X$35=5,AK162,0)))","v":0.1825},null,null,0.1825,0,0,0,0,0,0,0,0,{"$f":"IF('Simulador Pagos Oportunos'!$X$35=3,AI162,IF('Simulador Pagos Oportunos'!$X$35=4,AJ162,IF('Simulador Pagos Oportunos'!$X$35=5,AK162,0)))","v":0.1825},{"$f":"IF(AO162<=0,0,IF('Simulador Pagos Oportunos'!$AC$62=1,0,AO162*'Simulador Pagos Oportunos'!$Y$67+IF('Simulador Pagos Oportunos'!$X$35=3,'Simulador Pagos Oportunos'!$I$49,IF('Simulador Pagos Oportunos'!$X$35=4,'Simulador Pagos Oportunos'!$K$49,IF('Simulador Pagos Oportunos'!$X$35=5,'Simulador Pagos Oportunos'!$M$49,0)))))","v":0},null,{"$f":"AQ162*'Simulador Pagos Oportunos'!$X$59","v":0},0,0,"",0,148]
[149,0,null,0,null,0,null,0,null,null,null,{"$f":"IF('Simulador Pagos Oportunos'!$V$60=1,0,J163*'Simulador Pagos Oportunos'!$O$63*'Simulador Pagos Oportunos'!$W$59)","v":0},null,"",null,0,null,{"$f":"IFERROR(IF(B163<=0,0,B163*'Simulador Pagos Oportunos'!$Y$67),0)","v":0},null,{"$f":"IFERROR(IF(B163<=0,0,IF('Simulador Pagos Oportunos'!$X$35=3,'Simulador Pagos Oportunos'!$I$49,IF('Simulador Pagos Oportunos'!$X$35=4,'Simulador Pagos Oportunos'!$K$49,IF('Simulador Pagos Oportunos'!$X$35=5,'Simulador Pagos Oportunos'!$M$49,0)))),0)","v":0},null,{"$f":"IF(B163<=0,\"\",IF('Simulador Pagos Oportunos'!$V$40=1,'Simulador Pagos Oportunos'!$Z$62,'Simulador Pagos Oportunos'!$Z$62*'Simulador Pagos Oportunos'!$W$59))","v":""},{"$f":"F163*'Simulador Pagos Oportunos'!$X$59","v":0},"",null,null,null,12,5,0,0,0,"",{"$f":"IF('Simulador Pagos Oportunos'!$X$35=3,AI163,IF('Simulador Pagos Oportunos'!$X$35=4,AJ163,IF('Simulador Pagos Oportunos'!$X$35=5,AK163,0)))","v":0.1825},null,null,0.1825,0,0,0,0,0,0,0,0,{"$f":"IF('Simulador Pagos Oportunos'!$X$35=3,AI163,IF('Simulador Pagos Oportunos'!$X$35=4,AJ163,IF('Simulador Pagos Oportunos'!$X$35=5,AK163,0)))","v":0.1825},{"$f":"IF(AO163<=0,0,IF('Simulador Pagos Oportunos'!$AC$62=1,0,AO163*'Simulador Pagos Oportunos'!$Y$67+IF('Simulador Pagos Oportunos'!$X$35=3,'Simulador Pagos Oportunos'!$I$49,IF('Simulador Pagos Oportunos'!$X$35=4,'Simulador Pagos Oportunos'!$K$49,IF('Simulador Pagos Oportunos'!$X$35=5,'Simulador Pagos Oportunos'!$M$49,0)))))","v":0},null,{"$f":"AQ163*'Simulador Pagos Oportunos'!$X$59","v":0},0,0,"",0,149]
[150,0,null,0,null,0,null,0,null,null,null,{"$f":"IF('Simulador Pagos Oportunos'!$V$60=1,0,J164*'Simulador Pagos Oportunos'!$O$63*'Simulador Pagos Oportunos'!$W$59)","v":0},null,"",null,0,null,{"$f":"IFERROR(IF(B164<=0,0,B164*'Simulador Pagos Oportunos'!$Y$67),0)","v":0},null,{"$f":"IFERROR(IF(B164<=0,0,IF('Simulador Pagos Oportunos'!$X$35=3,'Simulador Pagos Oportunos'!$I$49,IF('Simulador Pagos Oportunos'!$X$35=4,'Simulador Pagos Oportunos'!$K$49,IF('Simulador Pagos Oportunos'!$X$35=5,'Simulador Pagos Oportunos'!$M$49,0)))),0)","v":0},null,{"$f":"IF(B164<=0,\"\",IF('Simulador Pagos Oportunos'!$V$40=1,'Simulador Pagos Oportunos'!$Z$62,'Simulador Pagos Oportunos'!$Z$62*'Simulador Pagos Oportunos'!$W$59))","v":""},{"$f":"F164*'Simulador Pagos Oportunos'!$X$59","v":0},"",null,null,null,12,6,0,0,0,"",{"$f":"IF('Simulador Pagos Oportunos'!$X$35=3,AI164,IF('Simulador Pagos Oportunos'!$X$35=4,AJ164,IF('Simulador Pagos Oportunos'!$X$35=5,AK164,0)))","v":0.1825},null,null,0.1825,0,0,0,0,0,0,0,0,{"$f":"IF('Simulador Pagos Oportunos'!$X$35=3,AI164,IF('Simulador Pagos Oportunos'!$X$35=4,AJ164,IF('Simulador Pagos Oportunos'!$X$35=5,AK164,0)))","v":0.1825},{"$f":"IF(AO164<=0,0,IF('Simulador Pagos Oportunos'!$AC$62=1,0,AO164*'Simulador Pagos Oportunos'!$Y$67+IF('Simulador Pagos Oportunos'!$X$35=3,'Simulador Pagos Oportunos'!$I$49,IF('Simulador Pagos Oportunos'!$X$35=4,'Simulador Pagos Oportunos'!$K$49,IF('Simulador Pagos Oportunos'!$X$35=5,'Simulador Pagos Oportunos'!$M$49,0)))))","v":0},null,{"$f":"AQ164*'Simulador Pagos Oportunos'!$X$59","v":0},0,0,"",0,150]
[151,0,null,0,null,0,null,0,null,null,null,{"$f":"IF('Simulador Pagos Oportunos'!$V$60=1,0,J165*'Simulador Pagos Oportunos'!$O$63*'Simulador Pagos Oportunos'!$W$59)","v":0},null,"",null,0,null,{"$f":"IFERROR(IF(B165<=0,0,B165*'Simulador Pagos Oportunos'!$Y$67),0)","v":0},null,{"$f":"IFERROR(IF(B165<=0,0,IF('Simulador Pagos Oportunos'!$X$35=3,'Simulador Pagos Oportunos'!$I$49,IF('Simulador Pagos Oportunos'!$X$35=4,'Simulador Pagos Oportunos'!$K$49,IF('Simulador Pagos Oportunos'!$X$35=5,'Simulador Pagos Oportunos'!$M$49,0)))),0)","v":0},null,{"$f":"IF(B165<=0,\"\",IF('Simulador Pagos Oportunos'!$V$40=1,'Simulador Pagos Oportunos'!$Z$62,'Simulador Pagos Oportunos'!$Z$62*'Simulador Pagos Oportunos'!$W$59))","v":""},{"$f":"F165*'Simulador Pagos Oportunos'!$X$59","v":0},"",null,null,null,12,7,0,0,0,"",{"$f":"IF('Simulador Pagos Oportunos'!$X$35=3,AI165,IF('Simulador Pagos Oportunos'!$X$35=4,AJ165,IF('Simulador Pagos Oportunos'!$X$35=5,AK165,0)))","v":0.1825},null,null,0.1825,0,0,0,0,0,0,0,0,{"$f":"IF('Simulador Pagos Oportunos'!$X$35=3,AI165,IF('Simulador Pagos Oportunos'!$X$35=4,AJ165,IF('Simulador Pagos Oportunos'!$X$35=5,AK165,0)))","v":0.1825},{"$f":"IF(AO165<=0,0,IF('Simulador Pagos Oportunos'!$AC$62=1,0,AO165*'Simulador Pagos Oportunos'!$Y$67+IF('Simulador Pagos Oportunos'!$X$35=3,'Simulador Pagos Oportunos'!$I$49,IF('Simulador Pagos Oportunos'!$X$35=4,'Simulador Pagos Oportunos'!$K$49,IF('Simulador Pagos Oportunos'!$X$35=5,'Simulador Pagos Oportunos'!$M$49,0)))))","v":0},null,{"$f":"AQ165*'Simulador Pagos Oportunos'!$X$59","v":0},0,0,"",0,151]
[152,0,null,0,null,0,null,0,null,null,null,{"$f":"IF('Simulador Pagos Oportunos'!$V$60=1,0,J166*'Simulador Pagos Oportunos'!$O$63*'Simulador Pagos Oportunos'!$W$59)","v":0},null,"",null,0,null,{"$f":"IFERROR(IF(B166<=0,0,B166*'Simulador Pagos Oportunos'!$Y$67),0)","v":0},null,{"$f":"IFERROR(IF(B166<=0,0,IF('Simulador Pagos Oportunos'!$X$35=3,'Simulador Pagos Oportunos'!$I$49,IF('Simulador Pagos Oportunos'!$X$35=4,'Simulador Pagos Oportunos'!$K$49,IF('Simulador Pagos Oportunos'!$X$35=5,'Simulador Pagos Oportunos'!$M$49,0)))),0)","v":0},null,{"$f":"IF(B166<=0,\"\",IF('Simulador Pagos Oportunos'!$V$40=1,'Simulador Pagos Oportunos'!$Z$62,'Simulador Pagos Oportunos'!$Z$62*'Simulador Pagos Oportunos'!$W$59))","v":""},{"$f":"F166*'Simulador Pagos Oportunos'!$X$59","v":0},"",null,null,null,12,8,0,0,0,"",{"$f":"IF('Simulador Pagos Oportunos'!$X$35=3,AI166,IF('Simulador Pagos Oportunos'!$X$35=4,AJ166,IF('Simulador Pagos Oportunos'!$X$35=5,AK166,0)))","v":0.1825},null,null,0.1825,0,0,0,0,0,0,0,0,{"$f":"IF('Simulador Pagos Oportunos'!$X$35=3,AI166,IF('Simulador Pagos Oportunos'!$X$35=4,AJ166,IF('Simulador Pagos Oportunos'!$X$35=5,AK166,0)))","v":0.1825},{"$f":"IF(AO166<=0,0,IF('Simulador Pagos Oportunos'!$AC$62=1,0,AO166*'Simulador Pagos Oportunos'!$Y$67+IF('Simulador Pagos Oportunos'!$X$35=3,'Simulador Pagos Oportunos'!$I$49,IF('Simulador Pagos Oportunos'!$X$35=4,'Simulador Pagos Oportunos'!$K$49,IF('Simulador Pagos Oportunos'!$X$35=5,'Simulador Pagos Oportunos'!$M$49,0)))))","v":0},null,{"$f":"AQ166*'Simulador Pagos Oportunos'!$X$59","v":0},0,0,"",0,152]
[153,0,null,0,null,0,null,0,null,null,null,{"$f":"IF('Simulador Pagos Oportunos'!$V$60=1,0,J167*'Simulador Pagos Oportunos'!$O$63*'Simulador Pagos Oportunos'!$W$59)","v":0},null,"",null,0,null,{"$f":"IFERROR(IF(B167<=0,0,B167*'Simulador Pagos Oportunos'!$Y$67),0)","v":0},null,{"$f":"IFERROR(IF(B167<=0,0,IF('Simulador Pagos Oportunos'!$X$35=3,'Simulador Pagos Oportunos'!$I$49,IF('Simulador Pagos Oportunos'!$X$35=4,'Simulador Pagos Oportunos'!$K$49,IF('Simulador Pagos Oportunos'!$X$35=5,'Simulador Pagos Oportunos'!$M$49,0)))),0)","v":0},null,{"$f":"IF(B167<=0,\"\",IF('Simulador Pagos Oportunos'!$V$40=1,'Simulador Pagos Oportunos'!$Z$62,'Simulador Pagos Oportunos'!$Z$62*'Simulador Pagos Oportunos'!$W$59))","v":""},{"$f":"F167*'Simulador Pagos Oportunos'!$X$59","v":0},"",null,null,null,12,9,0,0,0,"",{"$f":"IF('Simulador Pagos Oportunos'!$X$35=3,AI167,IF('Simulador Pagos Oportunos'!$X$35=4,AJ167,IF('Simulador Pagos Oportunos'!$X$35=5,AK167,0)))","v":0.1825},null,null,0.1825,0,0,0,0,0,0,0,0,{"$f":"IF('Simulador Pagos Oportunos'!$X$35=3,AI167,IF('Simulador Pagos Oportunos'!$X$35=4,AJ167,IF('Simulador Pagos Oportunos'!$X$35=5,AK167,0)))","v":0.1825},{"$f":"IF(AO167<=0,0,IF('Simulador Pagos Oportunos'!$AC$62=1,0,AO167*'Simulador Pagos Oportunos'!$Y$67+IF('Simulador Pagos Oportunos'!$X$35=3,'Simulador Pagos Oportunos'!$I$49,IF('Simulador Pagos Oportunos'!$X$35=4,'Simulador Pagos Oportunos'!$K$49,IF('Simulador Pagos Oportunos'!$X$35=5,'Simulador Pagos Oportunos'!$M$49,0)))))","v":0},null,{"$f":"AQ167*'Simulador Pagos Oportunos'!$X$59","v":0},0,0,"",0,153]
[154,0,null,0,null,0,null,0,null,null,null,{"$f":"IF('Simulador Pagos Oportunos'!$V$60=1,0,J168*'Simulador Pagos Oportunos'!$O$63*'Simulador Pagos Oportunos'!$W$59)","v":0},null,"",null,0,null,{"$f":"IFERROR(IF(B168<=0,0,B168*'Simulador Pagos Oportunos'!$Y$67),0)","v":0},null,{"$f":"IFERROR(IF(B168<=0,0,IF('Simulador Pagos Oportunos'!$X$35=3,'Simulador Pagos Oportunos'!$I$49,IF('Simulador Pagos Oportunos'!$X$35=4,'Simulador Pagos Oportunos'!$K$49,IF('Simulador Pagos Oportunos'!$X$35=5,'Simulador Pagos Oportunos'!$M$49,0)))),0)","v":0},null,{"$f":"IF(B168<=0,\"\",IF('Simulador Pagos Oportunos'!$V$40=1,'Simulador Pagos Oportunos'!$Z$62,'Simulador Pagos Oportunos'!$Z$62*'Simulador Pagos Oportunos'!$W$59))","v":""},{"$f":"F168*'Simulador Pagos Oportunos'!$X$59","v":0},"",null,null,null,12,10,0,0,0,"",{"$f":"IF('Simulador Pagos Oportunos'!$X$35=3,AI168,IF('Simulador Pagos Oportunos'!$X$35=4,AJ168,IF('Simulador Pagos Oportunos'!$X$35=5,AK168,0)))","v":0.1825},null,null,0.1825,0,0,0,0,0,0,0,0,{"$f":"IF('Simulador Pagos Oportunos'!$X$35=3,AI168,IF('Simulador Pagos Oportunos'!$X$35=4,AJ168,IF('Simulador Pagos Oportunos'!$X$35=5,AK168,0)))","v":0.1825},{"$f":"IF(AO168<=0,0,IF('Simulador Pagos Oportunos'!$AC$62=1,0,AO168*'Simulador Pagos Oportunos'!$Y$67+IF('Simulador Pagos Oportunos'!$X$35=3,'Simulador Pagos Oportunos'!$I$49,IF('Simulador Pagos Oportunos'!$X$35=4,'Simulador Pagos Oportunos'!$K$49,IF('Simulador Pagos Oportunos'!$X$35=5,'Simulador Pagos Oportunos'!$M$49,0)))))","v":0},null,{"$f":"AQ168*'Simulador Pagos Oportunos'!$X$59","v":0},0,0,"",0,154]
[155,0,null,0,null,0,null,0,null,null,null,{"$f":"IF('Simulador Pagos Oportunos'!$V$60=1,0,J169*'Simulador Pagos Oportunos'!$O$63*'Simulador Pagos Oportunos'!$W$59)","v":0},null,"",null,0,null,{"$f":"IFERROR(IF(B169<=0,0,B169*'Simulador Pagos Oportunos'!$Y$67),0)","v":0},null,{"$f":"IFERROR(IF(B169<=0,0,IF('Simulador Pagos Oportunos'!$X$35=3,'Simulador Pagos Oportunos'!$I$49,IF('Simulador Pagos Oportunos'!$X$35=4,'Simulador Pagos Oportunos'!$K$49,IF('Simulador Pagos Oportunos'!$X$35=5,'Simulador Pagos Oportunos'!$M$49,0)))),0)","v":0},null,{"$f":"IF(B169<=0,\"\",IF('Simulador Pagos Oportunos'!$V$40=1,'Simulador Pagos Oportunos'!$Z$62,'Simulador Pagos Oportunos'!$Z$62*'Simulador Pagos Oportunos'!$W$59))","v":""},{"$f":"F169*'Simulador Pagos Oportunos'!$X$59","v":0},"",null,null,null,12,11,0,0,0,"",{"$f":"IF('Simulador Pagos Oportunos'!$X$35=3,AI169,IF('Simulador Pagos Oportunos'!$X$35=4,AJ169,IF('Simulador Pagos Oportunos'!$X$35=5,AK169,0)))","v":0.1825},null,null,{"$f":"AK168","v":0.1825},0,0,0,0,0,0,0,0,{"$f":"IF('Simulador Pagos Oportunos'!$X$35=3,AI169,IF('Simulador Pagos Oportunos'!$X$35=4,AJ169,IF('Simulador Pagos Oportunos'!$X$35=5,AK169,0)))","v":0.1825},{"$f":"IF(AO169<=0,0,IF('Simulador Pagos Oportunos'!$AC$62=1,0,AO169*'Simulador Pagos Oportunos'!$Y$67+IF('Simulador Pagos Oportunos'!$X$35=3,'Simulador Pagos Oportunos'!$I$49,IF('Simulador Pagos Oportunos'!$X$35=4,'Simulador Pagos Oportunos'!$K$49,IF('Simulador Pagos Oportunos'!$X$35=5,'Simulador Pagos Oportunos'!$M$49,0)))))","v":0},null,{"$f":"AQ169*'Simulador Pagos Oportunos'!$X$59","v":0},0,0,"",0,155]
[156,0,null,0,null,0,null,0,null,null,null,{"$f":"IF('Simulador Pagos Oportunos'!$V$60=1,0,J170*'Simulador Pagos Oportunos'!$O$63*'Simulador Pagos Oportunos'!$W$59)","v":0},null,"",null,0,null,{"$f":"IFERROR(IF(B170<=0,0,B170*'Simulador Pagos Oportunos'!$Y$67),0)","v":0},null,{"$f":"IFERROR(IF(B170<=0,0,IF('Simulador Pagos Oportunos'!$X$35=3,'Simulador Pagos Oportunos'!$I$49,IF('Simulador Pagos Oportunos'!$X$35=4,'Simulador Pagos Oportunos'!$K$49,IF('Simulador Pagos Oportunos'!$X$35=5,'Simulador Pagos Oportunos'!$M$49,0)))),0)","v":0},null,{"$f":"IF(B170<=0,\"\",IF('Simulador Pagos Oportunos'!$V$40=1,'Simulador Pagos Oportunos'!$Z$62,'Simulador Pagos Oportunos'!$Z$62*'Simulador Pagos Oportunos'!$W$59))","v":""},{"$f":"F170*'Simulador Pagos Oportunos'!$X$59","v":0},"",null,null,null,13,0,0,0,0,"",{"$f":"IF('Simulador Pagos Oportunos'!$X$35=3,AI170,IF('Simulador Pagos Oportunos'!$X$35=4,AJ170,IF('Simulador Pagos Oportunos'!$X$35=5,AK170,0)))","v":0.1825},null,null,0.1825,0,0,0,0,0,0,0,0,{"$f":"IF('Simulador Pagos Oportunos'!$X$35=3,AI170,IF('Simulador Pagos Oportunos'!$X$35=4,AJ170,IF('Simulador Pagos Oportunos'!$X$35=5,AK170,0)))","v":0.1825},{"$f":"IF(AO170<=0,0,IF('Simulador Pagos Oportunos'!$AC$62=1,0,AO170*'Simulador Pagos Oportunos'!$Y$67+IF('Simulador Pagos Oportunos'!$X$35=3,'Simulador Pagos Oportunos'!$I$49,IF('Simulador Pagos Oportunos'!$X$35=4,'Simulador Pagos Oportunos'!$K$49,IF('Simulador Pagos Oportunos'!$X$35=5,'Simulador Pagos Oportunos'!$M$49,0)))))","v":0},null,{"$f":"AQ170*'Simulador Pagos Oportunos'!$X$59","v":0},0,0,"",0,156]
[157,0,null,0,null,0,null,0,null,null,null,{"$f":"IF('Simulador Pagos Oportunos'!$V$60=1,0,J171*'Simulador Pagos Oportunos'!$O$63*'Simulador Pagos Oportunos'!$W$59)","v":0},null,"",null,0,null,{"$f":"IFERROR(IF(B171<=0,0,B171*'Simulador Pagos Oportunos'!$Y$67),0)","v":0},null,{"$f":"IFERROR(IF(B171<=0,0,IF('Simulador Pagos Oportunos'!$X$35=3,'Simulador Pagos Oportunos'!$I$49,IF('Simulador Pagos Oportunos'!$X$35=4,'Simulador Pagos Oportunos'!$K$49,IF('Simulador Pagos Oportunos'!$X$35=5,'Simulador Pagos Oportunos'!$M$49,0)))),0)","v":0},null,{"$f":"IF(B171<=0,\"\",IF('Simulador Pagos Oportunos'!$V$40=1,'Simulador Pagos Oportunos'!$Z$62,'Simulador Pagos Oportunos'!$Z$62*'Simulador Pagos Oportunos'!$W$59))","v":""},{"$f":"F171*'Simulador Pagos Oportunos'!$X$59","v":0},"",null,{"$f":"IF(B171<=0,0,IF(AND('Simulador Pagos Oportunos'!$V$40=2,'Simulador Pagos Oportunos'!$X$35=4),0,'Simulador Pagos Oportunos'!$AM$48))","v":0},null,13,1,0,0,0,"",{"$f":"IF('Simulador Pagos Oportunos'!$X$35=3,AI171,IF('Simulador Pagos Oportunos'!$X$35=4,AJ171,IF('Simulador Pagos Oportunos'!$X$35=5,AK171,0)))","v":0.1825},null,null,0.1825,0,0,0,0,0,0,0,0,{"$f":"IF('Simulador Pagos Oportunos'!$X$35=3,AI171,IF('Simulador Pagos Oportunos'!$X$35=4,AJ171,IF('Simulador Pagos Oportunos'!$X$35=5,AK171,0)))","v":0.1825},{"$f":"IF(AO171<=0,0,IF('Simulador Pagos Oportunos'!$AC$62=1,0,AO171*'Simulador Pagos Oportunos'!$Y$67+IF('Simulador Pagos Oportunos'!$X$35=3,'Simulador Pagos Oportunos'!$I$49,IF('Simulador Pagos Oportunos'!$X$35=4,'Simulador Pagos Oportunos'!$K$49,IF('Simulador Pagos Oportunos'!$X$35=5,'Simulador Pagos Oportunos'!$M$49,0)))))","v":0},{"$f":"IF(AO171<=0,0,$AV$32)","v":0},{"$f":"AQ171*'Simulador Pagos Oportunos'!$X$59","v":0},0,0,"",0,157]
[158,0,null,0,null,0,null,0,null,null,null,{"$f":"IF('Simulador Pagos Oportunos'!$V$60=1,0,J172*'Simulador Pagos Oportunos'!$O$63*'Simulador Pagos Oportunos'!$W$59)","v":0},null,"",null,0,null,{"$f":"IFERROR(IF(B172<=0,0,B172*'Simulador Pagos Oportunos'!$Y$67),0)","v":0},null,{"$f":"IFERROR(IF(B172<=0,0,IF('Simulador Pagos Oportunos'!$X$35=3,'Simulador Pagos Oportunos'!$I$49,IF('Simulador Pagos Oportunos'!$X$35=4,'Simulador Pagos Oportunos'!$K$49,IF('Simulador Pagos Oportunos'!$X$35=5,'Simulador Pagos Oportunos'!$M$49,0)))),0)","v":0},null,{"$f":"IF(B172<=0,\"\",IF('Simulador Pagos Oportunos'!$V$40=1,'Simulador Pagos Oportunos'!$Z$62,'Simulador Pagos Oportunos'!$Z$62*'Simulador Pagos Oportunos'!$W$59))","v":""},{"$f":"F172*'Simulador Pagos Oportunos'!$X$59","v":0},"",null,null,null,13,2,0,0,0,"",{"$f":"IF('Simulador Pagos Oportunos'!$X$35=3,AI172,IF('Simulador Pagos Oportunos'!$X$35=4,AJ172,IF('Simulador Pagos Oportunos'!$X$35=5,AK172,0)))","v":0.1825},null,null,0.1825,0,0,0,0,0,0,0,0,{"$f":"IF('Simulador Pagos Oportunos'!$X$35=3,AI172,IF('Simulador Pagos Oportunos'!$X$35=4,AJ172,IF('Simulador Pagos Oportunos'!$X$35=5,AK172,0)))","v":0.1825},{"$f":"IF(AO172<=0,0,IF('Simulador Pagos Oportunos'!$AC$62=1,0,AO172*'Simulador Pagos Oportunos'!$Y$67+IF('Simulador Pagos Oportunos'!$X$35=3,'Simulador Pagos Oportunos'!$I$49,IF('Simulador Pagos Oportunos'!$X$35=4,'Simulador Pagos Oportunos'!$K$49,IF('Simulador Pagos Oportunos'!$X$35=5,'Simulador Pagos Oportunos'!$M$49,0)))))","v":0},null,{"$f":"AQ172*'Simulador Pagos Oportunos'!$X$59","v":0},0,0,"",0,158]
[159,0,null,0,null,0,null,0,null,null,null,{"$f":"IF('Simulador Pagos Oportunos'!$V$60=1,0,J173*'Simulador Pagos Oportunos'!$O$63*'Simulador Pagos Oportunos'!$W$59)","v":0},null,"",null,0,null,{"$f":"IFERROR(IF(B173<=0,0,B173*'Simulador Pagos Oportunos'!$Y$67),0)","v":0},null,{"$f":"IFERROR(IF(B173<=0,0,IF('Simulador Pagos Oportunos'!$X$35=3,'Simulador Pagos Oportunos'!$I$49,IF('Simulador Pagos Oportunos'!$X$35=4,'Simulador Pagos Oportunos'!$K$49,IF('Simulador Pagos Oportunos'!$X$35=5,'Simulador Pagos Oportunos'!$M$49,0)))),0)","v":0},null,{"$f":"IF(B173<=0,\"\",IF('Simulador Pagos Oportunos'!$V$40=1,'Simulador Pagos Oportunos'!$Z$62,'Simulador Pagos Oportunos'!$Z$62*'Simulador Pagos Oportunos'!$W$59))","v":""},{"$f":"F173*'Simulador Pagos Oportunos'!$X$59","v":0},"",null,null,null,13,3,0,0,0,"",{"$f":"IF('Simulador Pagos Oportunos'!$X$35=3,AI173,IF('Simulador Pagos Oportunos'!$X$35=4,AJ173,IF('Simulador Pagos Oportunos'!$X$35=5,AK173,0)))","v":0.1825},null,null,0.1825,0,0,0,0,0,0,0,0,{"$f":"IF('Simulador Pagos Oportunos'!$X$35=3,AI173,IF('Simulador Pagos Oportunos'!$X$35=4,AJ173,IF('Simulador Pagos Oportunos'!$X$35=5,AK173,0)))","v":0.1825},{"$f":"IF(AO173<=0,0,IF('Simulador Pagos Oportunos'!$AC$62=1,0,AO173*'Simulador Pagos Oportunos'!$Y$67+IF('Simulador Pagos Oportunos'!$X$35=3,'Simulador Pagos Oportunos'!$I$49,IF('Simulador Pagos Oportunos'!$X$35=4,'Simulador Pagos Oportunos'!$K$49,IF('Simulador Pagos Oportunos'!$X$35=5,'Simulador Pagos Oportunos'!$M$49,0)))))","v":0},null,{"$f":"AQ173*'Simulador Pagos Oportunos'!$X$59","v":0},0,0,"",0,159]
[160,0,null,0,null,0,null,0,null,null,null,{"$f":"IF('Simulador Pagos Oportunos'!$V$60=1,0,J174*'Simulador Pagos Oportunos'!$O$63*'Simulador Pagos Oportunos'!$W$59)","v":0},null,"",null,0,null,{"$f":"IFERROR(IF(B174<=0,0,B174*'Simulador Pagos Oportunos'!$Y$67),0)","v":0},null,{"$f":"IFERROR(IF(B174<=0,0,IF('Simulador Pagos Oportunos'!$X$35=3,'Simulador Pagos Oportunos'!$I$49,IF('Simulador Pagos Oportunos'!$X$35=4,'Simulador Pagos Oportunos'!$K$49,IF('Simulador Pagos Oportunos'!$X$35=5,'Simulador Pagos Oportunos'!$M$49,0)))),0)","v":0},null,{"$f":"IF(B174<=0,\"\",IF('Simulador Pagos Oportunos'!$V$40=1,'Simulador Pagos Oportunos'!$Z$62,'Simulador Pagos Oportunos'!$Z$62*'Simulador Pagos Oportunos'!$W$59))","v":""},{"$f":"F174*'Simulador Pagos Oportunos'!$X$59","v":0},"",null,null,null,13,4,0,0,0,"",{"$f":"IF('Simulador Pagos Oportunos'!$X$35=3,AI174,IF('Simulador Pagos Oportunos'!$X$35=4,AJ174,IF('Simulador Pagos Oportunos'!$X$35=5,AK174,0)))","v":0.1825},null,null,0.1825,0,0,0,0,0,0,0,0,{"$f":"IF('Simulador Pagos Oportunos'!$X$35=3,AI174,IF('Simulador Pagos Oportunos'!$X$35=4,AJ174,IF('Simulador Pagos Oportunos'!$X$35=5,AK174,0)))","v":0.1825},{"$f":"IF(AO174<=0,0,IF('Simulador Pagos Oportunos'!$AC$62=1,0,AO174*'Simulador Pagos Oportunos'!$Y$67+IF('Simulador Pagos Oportunos'!$X$35=3,'Simulador Pagos Oportunos'!$I$49,IF('Simulador Pagos Oportunos'!$X$35=4,'Simulador Pagos Oportunos'!$K$49,IF('Simulador Pagos Oportunos'!$X$35=5,'Simulador Pagos Oportunos'!$M$49,0)))))","v":0},null,{"$f":"AQ174*'Simulador Pagos Oportunos'!$X$59","v":0},0,0,"",0,160]
[161,0,null,0,null,0,null,0,null,null,null,{"$f":"IF('Simulador Pagos Oportunos'!$V$60=1,0,J175*'Simulador Pagos Oportunos'!$O$63*'Simulador Pagos Oportunos'!$W$59)","v":0},null,"",null,0,null,{"$f":"IFERROR(IF(B175<=0,0,B175*'Simulador Pagos Oportunos'!$Y$67),0)","v":0},null,{"$f":"IFERROR(IF(B175<=0,0,IF('Simulador Pagos Oportunos'!$X$35=3,'Simulador Pagos Oportunos'!$I$49,IF('Simulador Pagos Oportunos'!$X$35=4,'Simulador Pagos Oportunos'!$K$49,IF('Simulador Pagos Oportunos'!$X$35=5,'Simulador Pagos Oportunos'!$M$49,0)))),0)","v":0},null,{"$f":"IF(B175<=0,\"\",IF('Simulador Pagos Oportunos'!$V$40=1,'Simulador Pagos Oportunos'!$Z$62,'Simulador Pagos Oportunos'!$Z$62*'Simulador Pagos Oportunos'!$W$59))","v":""},{"$f":"F175*'Simulador Pagos Oportunos'!$X$59","v":0},"",null,null,null,13,5,0,0,0,"",{"$f":"IF('Simulador Pagos Oportunos'!$X$35=3,AI175,IF('Simulador Pagos Oportunos'!$X$35=4,AJ175,IF('Simulador Pagos Oportunos'!$X$35=5,AK175,0)))","v":0.1825},null,null,0.1825,0,0,0,0,0,0,0,0,{"$f":"IF('Simulador Pagos Oportunos'!$X$35=3,AI175,IF('Simulador Pagos Oportunos'!$X$35=4,AJ175,IF('Simulador Pagos Oportunos'!$X$35=5,AK175,0)))","v":0.1825},{"$f":"IF(AO175<=0,0,IF('Simulador Pagos Oportunos'!$AC$62=1,0,AO175*'Simulador Pagos Oportunos'!$Y$67+IF('Simulador Pagos Oportunos'!$X$35=3,'Simulador Pagos Oportunos'!$I$49,IF('Simulador Pagos Oportunos'!$X$35=4,'Simulador Pagos Oportunos'!$K$49,IF('Simulador Pagos Oportunos'!$X$35=5,'Simulador Pagos Oportunos'!$M$49,0)))))","v":0},null,{"$f":"AQ175*'Simulador Pagos Oportunos'!$X$59","v":0},0,0,"",0,161]
[162,0,null,0,null,0,null,0,null,null,null,{"$f":"IF('Simulador Pagos Oportunos'!$V$60=1,0,J176*'Simulador Pagos Oportunos'!$O$63*'Simulador Pagos Oportunos'!$W$59)","v":0},null,"",null,0,null,{"$f":"IFERROR(IF(B176<=0,0,B176*'Simulador Pagos Oportunos'!$Y$67),0)","v":0},null,{"$f":"IFERROR(IF(B176<=0,0,IF('Simulador Pagos Oportunos'!$X$35=3,'Simulador Pagos Oportunos'!$I$49,IF('Simulador Pagos Oportunos'!$X$35=4,'Simulador Pagos Oportunos'!$K$49,IF('Simulador Pagos Oportunos'!$X$35=5,'Simulador Pagos Oportunos'!$M$49,0)))),0)","v":0},null,{"$f":"IF(B176<=0,\"\",IF('Simulador Pagos Oportunos'!$V$40=1,'Simulador Pagos Oportunos'!$Z$62,'Simulador Pagos Oportunos'!$Z$62*'Simulador Pagos Oportunos'!$W$59))","v":""},{"$f":"F176*'Simulador Pagos Oportunos'!$X$59","v":0},"",null,null,null,13,6,0,0,0,"",{"$f":"IF('Simulador Pagos Oportunos'!$X$35=3,AI176,IF('Simulador Pagos Oportunos'!$X$35=4,AJ176,IF('Simulador Pagos Oportunos'!$X$35=5,AK176,0)))","v":0.1825},null,null,0.1825,0,0,0,0,0,0,0,0,{"$f":"IF('Simulador Pagos Oportunos'!$X$35=3,AI176,IF('Simulador Pagos Oportunos'!$X$35=4,AJ176,IF('Simulador Pagos Oportunos'!$X$35=5,AK176,0)))","v":0.1825},{"$f":"IF(AO176<=0,0,IF('Simulador Pagos Oportunos'!$AC$62=1,0,AO176*'Simulador Pagos Oportunos'!$Y$67+IF('Simulador Pagos Oportunos'!$X$35=3,'Simulador Pagos Oportunos'!$I$49,IF('Simulador Pagos Oportunos'!$X$35=4,'Simulador Pagos Oportunos'!$K$49,IF('Simulador Pagos Oportunos'!$X$35=5,'Simulador Pagos Oportunos'!$M$49,0)))))","v":0},null,{"$f":"AQ176*'Simulador Pagos Oportunos'!$X$59","v":0},0,0,"",0,162]
[163,0,null,0,null,0,null,0,null,null,null,{"$f":"IF('Simulador Pagos Oportunos'!$V$60=1,0,J177*'Simulador Pagos Oportunos'!$O$63*'Simulador Pagos Oportunos'!$W$59)","v":0},null,"",null,0,null,{"$f":"IFERROR(IF(B177<=0,0,B177*'Simulador Pagos Oportunos'!$Y$67),0)","v":0},null,{"$f":"IFERROR(IF(B177<=0,0,IF('Simulador Pagos Oportunos'!$X$35=3,'Simulador Pagos Oportunos'!$I$49,IF('Simulador Pagos Oportunos'!$X$35=4,'Simulador Pagos Oportunos'!$K$49,IF('Simulador Pagos Oportunos'!$X$35=5,'Simulador Pagos Oportunos'!$M$49,0)))),0)","v":0},null,{"$f":"IF(B177<=0,\"\",IF('Simulador Pagos Oportunos'!$V$40=1,'Simulador Pagos Oportunos'!$Z$62,'Simulador Pagos Oportunos'!$Z$62*'Simulador Pagos Oportunos'!$W$59))","v":""},{"$f":"F177*'Simulador Pagos Oportunos'!$X$59","v":0},"",null,null,null,13,7,0,0,0,"",{"$f":"IF('Simulador Pagos Oportunos'!$X$35=3,AI177,IF('Simulador Pagos Oportunos'!$X$35=4,AJ177,IF('Simulador Pagos Oportunos'!$X$35=5,AK177,0)))","v":0.1825},null,null,0.1825,0,0,0,0,0,0,0,0,{"$f":"IF('Simulador Pagos Oportunos'!$X$35=3,AI177,IF('Simulador Pagos Oportunos'!$X$35=4,AJ177,IF('Simulador Pagos Oportunos'!$X$35=5,AK177,0)))","v":0.1825},{"$f":"IF(AO177<=0,0,IF('Simulador Pagos Oportunos'!$AC$62=1,0,AO177*'Simulador Pagos Oportunos'!$Y$67+IF('Simulador Pagos Oportunos'!$X$35=3,'Simulador Pagos Oportunos'!$I$49,IF('Simulador Pagos Oportunos'!$X$35=4,'Simulador Pagos Oportunos'!$K$49,IF('Simulador Pagos Oportunos'!$X$35=5,'Simulador Pagos Oportunos'!$M$49,0)))))","v":0},null,{"$f":"AQ177*'Simulador Pagos Oportunos'!$X$59","v":0},0,0,"",0,163]
[164,0,null,0,null,0,null,0,null,null,null,{"$f":"IF('Simulador Pagos Oportunos'!$V$60=1,0,J178*'Simulador Pagos Oportunos'!$O$63*'Simulador Pagos Oportunos'!$W$59)","v":0},null,"",null,0,null,{"$f":"IFERROR(IF(B178<=0,0,B178*'Simulador Pagos Oportunos'!$Y$67),0)","v":0},null,{"$f":"IFERROR(IF(B178<=0,0,IF('Simulador Pagos Oportunos'!$X$35=3,'Simulador Pagos Oportunos'!$I$49,IF('Simulador Pagos Oportunos'!$X$35=4,'Simulador Pagos Oportunos'!$K$49,IF('Simulador Pagos Oportunos'!$X$35=5,'Simulador Pagos Oportunos'!$M$49,0)))),0)","v":0},null,{"$f":"IF(B178<=0,\"\",IF('Simulador Pagos Oportunos'!$V$40=1,'Simulador Pagos Oportunos'!$Z$62,'Simulador Pagos Oportunos'!$Z$62*'Simulador Pagos Oportunos'!$W$59))","v":""},{"$f":"F178*'Simulador Pagos Oportunos'!$X$59","v":0},"",null,null,null,13,8,0,0,0,"",{"$f":"IF('Simulador Pagos Oportunos'!$X$35=3,AI178,IF('Simulador Pagos Oportunos'!$X$35=4,AJ178,IF('Simulador Pagos Oportunos'!$X$35=5,AK178,0)))","v":0.1825},null,null,0.1825,0,0,0,0,0,0,0,0,{"$f":"IF('Simulador Pagos Oportunos'!$X$35=3,AI178,IF('Simulador Pagos Oportunos'!$X$35=4,AJ178,IF('Simulador Pagos Oportunos'!$X$35=5,AK178,0)))","v":0.1825},{"$f":"IF(AO178<=0,0,IF('Simulador Pagos Oportunos'!$AC$62=1,0,AO178*'Simulador Pagos Oportunos'!$Y$67+IF('Simulador Pagos Oportunos'!$X$35=3,'Simulador Pagos Oportunos'!$I$49,IF('Simulador Pagos Oportunos'!$X$35=4,'Simulador Pagos Oportunos'!$K$49,IF('Simulador Pagos Oportunos'!$X$35=5,'Simulador Pagos Oportunos'!$M$49,0)))))","v":0},null,{"$f":"AQ178*'Simulador Pagos Oportunos'!$X$59","v":0},0,0,"",0,164]
[165,0,null,0,null,0,null,0,null,null,null,{"$f":"IF('Simulador Pagos Oportunos'!$V$60=1,0,J179*'Simulador Pagos Oportunos'!$O$63*'Simulador Pagos Oportunos'!$W$59)","v":0},null,"",null,0,null,{"$f":"IFERROR(IF(B179<=0,0,B179*'Simulador Pagos Oportunos'!$Y$67),0)","v":0},null,{"$f":"IFERROR(IF(B179<=0,0,IF('Simulador Pagos Oportunos'!$X$35=3,'Simulador Pagos Oportunos'!$I$49,IF('Simulador Pagos Oportunos'!$X$35=4,'Simulador Pagos Oportunos'!$K$49,IF('Simulador Pagos Oportunos'!$X$35=5,'Simulador Pagos Oportunos'!$M$49,0)))),0)","v":0},null,{"$f":"IF(B179<=0,\"\",IF('Simulador Pagos Oportunos'!$V$40=1,'Simulador Pagos Oportunos'!$Z$62,'Simulador Pagos Oportunos'!$Z$62*'Simulador Pagos Oportunos'!$W$59))","v":""},{"$f":"F179*'Simulador Pagos Oportunos'!$X$59","v":0},"",null,null,null,13,9,0,0,0,"",{"$f":"IF('Simulador Pagos Oportunos'!$X$35=3,AI179,IF('Simulador Pagos Oportunos'!$X$35=4,AJ179,IF('Simulador Pagos Oportunos'!$X$35=5,AK179,0)))","v":0.1825},null,null,0.1825,0,0,0,0,0,0,0,0,{"$f":"IF('Simulador Pagos Oportunos'!$X$35=3,AI179,IF('Simulador Pagos Oportunos'!$X$35=4,AJ179,IF('Simulador Pagos Oportunos'!$X$35=5,AK179,0)))","v":0.1825},{"$f":"IF(AO179<=0,0,IF('Simulador Pagos Oportunos'!$AC$62=1,0,AO179*'Simulador Pagos Oportunos'!$Y$67+IF('Simulador Pagos Oportunos'!$X$35=3,'Simulador Pagos Oportunos'!$I$49,IF('Simulador Pagos Oportunos'!$X$35=4,'Simulador Pagos Oportunos'!$K$49,IF('Simulador Pagos Oportunos'!$X$35=5,'Simulador Pagos Oportunos'!$M$49,0)))))","v":0},null,{"$f":"AQ179*'Simulador Pagos Oportunos'!$X$59","v":0},0,0,"",0,165]
[166,0,null,0,null,0,null,0,null,null,null,{"$f":"IF('Simulador Pagos Oportunos'!$V$60=1,0,J180*'Simulador Pagos Oportunos'!$O$63*'Simulador Pagos Oportunos'!$W$59)","v":0},null,"",null,0,null,{"$f":"IFERROR(IF(B180<=0,0,B180*'Simulador Pagos Oportunos'!$Y$67),0)","v":0},null,{"$f":"IFERROR(IF(B180<=0,0,IF('Simulador Pagos Oportunos'!$X$35=3,'Simulador Pagos Oportunos'!$I$49,IF('Simulador Pagos Oportunos'!$X$35=4,'Simulador Pagos Oportunos'!$K$49,IF('Simulador Pagos Oportunos'!$X$35=5,'Simulador Pagos Oportunos'!$M$49,0)))),0)","v":0},null,{"$f":"IF(B180<=0,\"\",IF('Simulador Pagos Oportunos'!$V$40=1,'Simulador Pagos Oportunos'!$Z$62,'Simulador Pagos Oportunos'!$Z$62*'Simulador Pagos Oportunos'!$W$59))","v":""},{"$f":"F180*'Simulador Pagos Oportunos'!$X$59","v":0},"",null,null,null,13,10,0,0,0,"",{"$f":"IF('Simulador Pagos Oportunos'!$X$35=3,AI180,IF('Simulador Pagos Oportunos'!$X$35=4,AJ180,IF('Simulador Pagos Oportunos'!$X$35=5,AK180,0)))","v":0.1825},null,null,0.1825,0,0,0,0,0,0,0,0,{"$f":"IF('Simulador Pagos Oportunos'!$X$35=3,AI180,IF('Simulador Pagos Oportunos'!$X$35=4,AJ180,IF('Simulador Pagos Oportunos'!$X$35=5,AK180,0)))","v":0.1825},{"$f":"IF(AO180<=0,0,IF('Simulador Pagos Oportunos'!$AC$62=1,0,AO180*'Simulador Pagos Oportunos'!$Y$67+IF('Simulador Pagos Oportunos'!$X$35=3,'Simulador Pagos Oportunos'!$I$49,IF('Simulador Pagos Oportunos'!$X$35=4,'Simulador Pagos Oportunos'!$K$49,IF('Simulador Pagos Oportunos'!$X$35=5,'Simulador Pagos Oportunos'!$M$49,0)))))","v":0},null,{"$f":"AQ180*'Simulador Pagos Oportunos'!$X$59","v":0},0,0,"",0,166]
[167,0,null,0,null,0,null,0,null,null,null,{"$f":"IF('Simulador Pagos Oportunos'!$V$60=1,0,J181*'Simulador Pagos Oportunos'!$O$63*'Simulador Pagos Oportunos'!$W$59)","v":0},null,"",null,0,null,{"$f":"IFERROR(IF(B181<=0,0,B181*'Simulador Pagos Oportunos'!$Y$67),0)","v":0},null,{"$f":"IFERROR(IF(B181<=0,0,IF('Simulador Pagos Oportunos'!$X$35=3,'Simulador Pagos Oportunos'!$I$49,IF('Simulador Pagos Oportunos'!$X$35=4,'Simulador Pagos Oportunos'!$K$49,IF('Simulador Pagos Oportunos'!$X$35=5,'Simulador Pagos Oportunos'!$M$49,0)))),0)","v":0},null,{"$f":"IF(B181<=0,\"\",IF('Simulador Pagos Oportunos'!$V$40=1,'Simulador Pagos Oportunos'!$Z$62,'Simulador Pagos Oportunos'!$Z$62*'Simulador Pagos Oportunos'!$W$59))","v":""},{"$f":"F181*'Simulador Pagos Oportunos'!$X$59","v":0},"",null,null,null,13,11,0,0,0,"",{"$f":"IF('Simulador Pagos Oportunos'!$X$35=3,AI181,IF('Simulador Pagos Oportunos'!$X$35=4,AJ181,IF('Simulador Pagos Oportunos'!$X$35=5,AK181,0)))","v":0.1825},null,null,0.1825,0,0,0,0,0,0,0,0,{"$f":"IF('Simulador Pagos Oportunos'!$X$35=3,AI181,IF('Simulador Pagos Oportunos'!$X$35=4,AJ181,IF('Simulador Pagos Oportunos'!$X$35=5,AK181,0)))","v":0.1825},{"$f":"IF(AO181<=0,0,IF('Simulador Pagos Oportunos'!$AC$62=1,0,AO181*'Simulador Pagos Oportunos'!$Y$67+IF('Simulador Pagos Oportunos'!$X$35=3,'Simulador Pagos Oportunos'!$I$49,IF('Simulador Pagos Oportunos'!$X$35=4,'Simulador Pagos Oportunos'!$K$49,IF('Simulador Pagos Oportunos'!$X$35=5,'Simulador Pagos Oportunos'!$M$49,0)))))","v":0},null,{"$f":"AQ181*'Simulador Pagos Oportunos'!$X$59","v":0},0,0,"",0,167]
[168,0,null,0,null,0,null,0,null,null,null,{"$f":"IF('Simulador Pagos Oportunos'!$V$60=1,0,J182*'Simulador Pagos Oportunos'!$O$63*'Simulador Pagos Oportunos'!$W$59)","v":0},null,"",null,0,null,{"$f":"IFERROR(IF(B182<=0,0,B182*'Simulador Pagos Oportunos'!$Y$67),0)","v":0},null,{"$f":"IFERROR(IF(B182<=0,0,IF('Simulador Pagos Oportunos'!$X$35=3,'Simulador Pagos Oportunos'!$I$49,IF('Simulador Pagos Oportunos'!$X$35=4,'Simulador Pagos Oportunos'!$K$49,IF('Simulador Pagos Oportunos'!$X$35=5,'Simulador Pagos Oportunos'!$M$49,0)))),0)","v":0},null,{"$f":"IF(B182<=0,\"\",IF('Simulador Pagos Oportunos'!$V$40=1,'Simulador Pagos Oportunos'!$Z$62,'Simulador Pagos Oportunos'!$Z$62*'Simulador Pagos Oportunos'!$W$59))","v":""},{"$f":"F182*'Simulador Pagos Oportunos'!$X$59","v":0},"",null,null,null,14,0,0,0,0,"",{"$f":"IF('Simulador Pagos Oportunos'!$X$35=3,AI182,IF('Simulador Pagos Oportunos'!$X$35=4,AJ182,IF('Simulador Pagos Oportunos'!$X$35=5,AK182,0)))","v":0.1825},null,null,0.1825,0,0,0,0,0,0,0,0,{"$f":"IF('Simulador Pagos Oportunos'!$X$35=3,AI182,IF('Simulador Pagos Oportunos'!$X$35=4,AJ182,IF('Simulador Pagos Oportunos'!$X$35=5,AK182,0)))","v":0.1825},{"$f":"IF(AO182<=0,0,IF('Simulador Pagos Oportunos'!$AC$62=1,0,AO182*'Simulador Pagos Oportunos'!$Y$67+IF('Simulador Pagos Oportunos'!$X$35=3,'Simulador Pagos Oportunos'!$I$49,IF('Simulador Pagos Oportunos'!$X$35=4,'Simulador Pagos Oportunos'!$K$49,IF('Simulador Pagos Oportunos'!$X$35=5,'Simulador Pagos Oportunos'!$M$49,0)))))","v":0},null,{"$f":"AQ182*'Simulador Pagos Oportunos'!$X$59","v":0},0,0,"",0,168]
[169,0,null,0,null,0,null,0,null,null,null,{"$f":"IF('Simulador Pagos Oportunos'!$V$60=1,0,J183*'Simulador Pagos Oportunos'!$O$63*'Simulador Pagos Oportunos'!$W$59)","v":0},null,"",null,0,null,{"$f":"IFERROR(IF(B183<=0,0,B183*'Simulador Pagos Oportunos'!$Y$67),0)","v":0},null,{"$f":"IFERROR(IF(B183<=0,0,IF('Simulador Pagos Oportunos'!$X$35=3,'Simulador Pagos Oportunos'!$I$49,IF('Simulador Pagos Oportunos'!$X$35=4,'Simulador Pagos Oportunos'!$K$49,IF('Simulador Pagos Oportunos'!$X$35=5,'Simulador Pagos Oportunos'!$M$49,0)))),0)","v":0},null,{"$f":"IF(B183<=0,\"\",IF('Simulador Pagos Oportunos'!$V$40=1,'Simulador Pagos Oportunos'!$Z$62,'Simulador Pagos Oportunos'!$Z$62*'Simulador Pagos Oportunos'!$W$59))","v":""},{"$f":"F183*'Simulador Pagos Oportunos'!$X$59","v":0},"",null,{"$f":"IF(B183<=0,0,IF(AND('Simulador Pagos Oportunos'!$V$40=2,'Simulador Pagos Oportunos'!$X$35=4),0,'Simulador Pagos Oportunos'!$AM$48))","v":0},null,14,1,0,0,0,"",{"$f":"IF('Simulador Pagos Oportunos'!$X$35=3,AI183,IF('Simulador Pagos Oportunos'!$X$35=4,AJ183,IF('Simulador Pagos Oportunos'!$X$35=5,AK183,0)))","v":0.1825},null,null,0.1825,0,0,0,0,0,0,0,0,{"$f":"IF('Simulador Pagos Oportunos'!$X$35=3,AI183,IF('Simulador Pagos Oportunos'!$X$35=4,AJ183,IF('Simulador Pagos Oportunos'!$X$35=5,AK183,0)))","v":0.1825},{"$f":"IF(AO183<=0,0,IF('Simulador Pagos Oportunos'!$AC$62=1,0,AO183*'Simulador Pagos Oportunos'!$Y$67+IF('Simulador Pagos Oportunos'!$X$35=3,'Simulador Pagos Oportunos'!$I$49,IF('Simulador Pagos Oportunos'!$X$35=4,'Simulador Pagos Oportunos'!$K$49,IF('Simulador Pagos Oportunos'!$X$35=5,'Simulador Pagos Oportunos'!$M$49,0)))))","v":0},{"$f":"IF(AO183<=0,0,$AV$32)","v":0},{"$f":"AQ183*'Simulador Pagos Oportunos'!$X$59","v":0},0,0,"",0,169]
[170,0,null,0,null,0,null,0,null,null,null,{"$f":"IF('Simulador Pagos Oportunos'!$V$60=1,0,J184*'Simulador Pagos Oportunos'!$O$63*'Simulador Pagos Oportunos'!$W$59)","v":0},null,"",null,0,null,{"$f":"IFERROR(IF(B184<=0,0,B184*'Simulador Pagos Oportunos'!$Y$67),0)","v":0},null,{"$f":"IFERROR(IF(B184<=0,0,IF('Simulador Pagos Oportunos'!$X$35=3,'Simulador Pagos Oportunos'!$I$49,IF('Simulador Pagos Oportunos'!$X$35=4,'Simulador Pagos Oportunos'!$K$49,IF('Simulador Pagos Oportunos'!$X$35=5,'Simulador Pagos Oportunos'!$M$49,0)))),0)","v":0},null,{"$f":"IF(B184<=0,\"\",IF('Simulador Pagos Oportunos'!$V$40=1,'Simulador Pagos Oportunos'!$Z$62,'Simulador Pagos Oportunos'!$Z$62*'Simulador Pagos Oportunos'!$W$59))","v":""},{"$f":"F184*'Simulador Pagos Oportunos'!$X$59","v":0},"",null,null,null,14,2,0,0,0,"",{"$f":"IF('Simulador Pagos Oportunos'!$X$35=3,AI184,IF('Simulador Pagos Oportunos'!$X$35=4,AJ184,IF('Simulador Pagos Oportunos'!$X$35=5,AK184,0)))","v":0.1825},null,null,0.1825,0,0,0,0,0,0,0,0,{"$f":"IF('Simulador Pagos Oportunos'!$X$35=3,AI184,IF('Simulador Pagos Oportunos'!$X$35=4,AJ184,IF('Simulador Pagos Oportunos'!$X$35=5,AK184,0)))","v":0.1825},{"$f":"IF(AO184<=0,0,IF('Simulador Pagos Oportunos'!$AC$62=1,0,AO184*'Simulador Pagos Oportunos'!$Y$67+IF('Simulador Pagos Oportunos'!$X$35=3,'Simulador Pagos Oportunos'!$I$49,IF('Simulador Pagos Oportunos'!$X$35=4,'Simulador Pagos Oportunos'!$K$49,IF('Simulador Pagos Oportunos'!$X$35=5,'Simulador Pagos Oportunos'!$M$49,0)))))","v":0},null,{"$f":"AQ184*'Simulador Pagos Oportunos'!$X$59","v":0},0,0,"",0,170]
[171,0,null,0,null,0,null,0,null,null,null,{"$f":"IF('Simulador Pagos Oportunos'!$V$60=1,0,J185*'Simulador Pagos Oportunos'!$O$63*'Simulador Pagos Oportunos'!$W$59)","v":0},null,"",null,0,null,{"$f":"IFERROR(IF(B185<=0,0,B185*'Simulador Pagos Oportunos'!$Y$67),0)","v":0},null,{"$f":"IFERROR(IF(B185<=0,0,IF('Simulador Pagos Oportunos'!$X$35=3,'Simulador Pagos Oportunos'!$I$49,IF('Simulador Pagos Oportunos'!$X$35=4,'Simulador Pagos Oportunos'!$K$49,IF('Simulador Pagos Oportunos'!$X$35=5,'Simulador Pagos Oportunos'!$M$49,0)))),0)","v":0},null,{"$f":"IF(B185<=0,\"\",IF('Simulador Pagos Oportunos'!$V$40=1,'Simulador Pagos Oportunos'!$Z$62,'Simulador Pagos Oportunos'!$Z$62*'Simulador Pagos Oportunos'!$W$59))","v":""},{"$f":"F185*'Simulador Pagos Oportunos'!$X$59","v":0},"",null,null,null,14,3,0,0,0,"",{"$f":"IF('Simulador Pagos Oportunos'!$X$35=3,AI185,IF('Simulador Pagos Oportunos'!$X$35=4,AJ185,IF('Simulador Pagos Oportunos'!$X$35=5,AK185,0)))","v":0.1825},null,null,{"$f":"AK184","v":0.1825},0,0,0,0,0,0,0,0,{"$f":"IF('Simulador Pagos Oportunos'!$X$35=3,AI185,IF('Simulador Pagos Oportunos'!$X$35=4,AJ185,IF('Simulador Pagos Oportunos'!$X$35=5,AK185,0)))","v":0.1825},{"$f":"IF(AO185<=0,0,IF('Simulador Pagos Oportunos'!$AC$62=1,0,AO185*'Simulador Pagos Oportunos'!$Y$67+IF('Simulador Pagos Oportunos'!$X$35=3,'Simulador Pagos Oportunos'!$I$49,IF('Simulador Pagos Oportunos'!$X$35=4,'Simulador Pagos Oportunos'!$K$49,IF('Simulador Pagos Oportunos'!$X$35=5,'Simulador Pagos Oportunos'!$M$49,0)))))","v":0},null,{"$f":"AQ185*'Simulador Pagos Oportunos'!$X$59","v":0},0,0,"",0,171]
[172,0,null,0,null,0,null,0,null,null,null,{"$f":"IF('Simulador Pagos Oportunos'!$V$60=1,0,J186*'Simulador Pagos Oportunos'!$O$63*'Simulador Pagos Oportunos'!$W$59)","v":0},null,"",null,0,null,{"$f":"IFERROR(IF(B186<=0,0,B186*'Simulador Pagos Oportunos'!$Y$67),0)","v":0},null,{"$f":"IFERROR(IF(B186<=0,0,IF('Simulador Pagos Oportunos'!$X$35=3,'Simulador Pagos Oportunos'!$I$49,IF('Simulador Pagos Oportunos'!$X$35=4,'Simulador Pagos Oportunos'!$K$49,IF('Simulador Pagos Oportunos'!$X$35=5,'Simulador Pagos Oportunos'!$M$49,0)))),0)","v":0},null,{"$f":"IF(B186<=0,\"\",IF('Simulador Pagos Oportunos'!$V$40=1,'Simulador Pagos Oportunos'!$Z$62,'Simulador Pagos Oportunos'!$Z$62*'Simulador Pagos Oportunos'!$W$59))","v":""},{"$f":"F186*'Simulador Pagos Oportunos'!$X$59","v":0},"",null,null,null,14,4,0,0,0,"",{"$f":"IF('Simulador Pagos Oportunos'!$X$35=3,AI186,IF('Simulador Pagos Oportunos'!$X$35=4,AJ186,IF('Simulador Pagos Oportunos'!$X$35=5,AK186,0)))","v":0.1825},null,null,0.1825,0,0,0,0,0,0,0,0,{"$f":"IF('Simulador Pagos Oportunos'!$X$35=3,AI186,IF('Simulador Pagos Oportunos'!$X$35=4,AJ186,IF('Simulador Pagos Oportunos'!$X$35=5,AK186,0)))","v":0.1825},{"$f":"IF(AO186<=0,0,IF('Simulador Pagos Oportunos'!$AC$62=1,0,AO186*'Simulador Pagos Oportunos'!$Y$67+IF('Simulador Pagos Oportunos'!$X$35=3,'Simulador Pagos Oportunos'!$I$49,IF('Simulador Pagos Oportunos'!$X$35=4,'Simulador Pagos Oportunos'!$K$49,IF('Simulador Pagos Oportunos'!$X$35=5,'Simulador Pagos Oportunos'!$M$49,0)))))","v":0},null,{"$f":"AQ186*'Simulador Pagos Oportunos'!$X$59","v":0},0,0,"",0,172]
[173,0,null,0,null,0,null,0,null,null,null,{"$f":"IF('Simulador Pagos Oportunos'!$V$60=1,0,J187*'Simulador Pagos Oportunos'!$O$63*'Simulador Pagos Oportunos'!$W$59)","v":0},null,"",null,0,null,{"$f":"IFERROR(IF(B187<=0,0,B187*'Simulador Pagos Oportunos'!$Y$67),0)","v":0},null,{"$f":"IFERROR(IF(B187<=0,0,IF('Simulador Pagos Oportunos'!$X$35=3,'Simulador Pagos Oportunos'!$I$49,IF('Simulador Pagos Oportunos'!$X$35=4,'Simulador Pagos Oportunos'!$K$49,IF('Simulador Pagos Oportunos'!$X$35=5,'Simulador Pagos Oportunos'!$M$49,0)))),0)","v":0},null,{"$f":"IF(B187<=0,\"\",IF('Simulador Pagos Oportunos'!$V$40=1,'Simulador Pagos Oportunos'!$Z$62,'Simulador Pagos Oportunos'!$Z$62*'Simulador Pagos Oportunos'!$W$59))","v":""},{"$f":"F187*'Simulador Pagos Oportunos'!$X$59","v":0},"",null,null,null,14,5,0,0,0,"",{"$f":"IF('Simulador Pagos Oportunos'!$X$35=3,AI187,IF('Simulador Pagos Oportunos'!$X$35=4,AJ187,IF('Simulador Pagos Oportunos'!$X$35=5,AK187,0)))","v":0.1825},null,null,0.1825,0,0,0,0,0,0,0,0,{"$f":"IF('Simulador Pagos Oportunos'!$X$35=3,AI187,IF('Simulador Pagos Oportunos'!$X$35=4,AJ187,IF('Simulador Pagos Oportunos'!$X$35=5,AK187,0)))","v":0.1825},{"$f":"IF(AO187<=0,0,IF('Simulador Pagos Oportunos'!$AC$62=1,0,AO187*'Simulador Pagos Oportunos'!$Y$67+IF('Simulador Pagos Oportunos'!$X$35=3,'Simulador Pagos Oportunos'!$I$49,IF('Simulador Pagos Oportunos'!$X$35=4,'Simulador Pagos Oportunos'!$K$49,IF('Simulador Pagos Oportunos'!$X$35=5,'Simulador Pagos Oportunos'!$M$49,0)))))","v":0},null,{"$f":"AQ187*'Simulador Pagos Oportunos'!$X$59","v":0},0,0,"",0,173]
[174,0,null,0,null,0,null,0,null,null,null,{"$f":"IF('Simulador Pagos Oportunos'!$V$60=1,0,J188*'Simulador Pagos Oportunos'!$O$63*'Simulador Pagos Oportunos'!$W$59)","v":0},null,"",null,0,null,{"$f":"IFERROR(IF(B188<=0,0,B188*'Simulador Pagos Oportunos'!$Y$67),0)","v":0},null,{"$f":"IFERROR(IF(B188<=0,0,IF('Simulador Pagos Oportunos'!$X$35=3,'Simulador Pagos Oportunos'!$I$49,IF('Simulador Pagos Oportunos'!$X$35=4,'Simulador Pagos Oportunos'!$K$49,IF('Simulador Pagos Oportunos'!$X$35=5,'Simulador Pagos Oportunos'!$M$49,0)))),0)","v":0},null,{"$f":"IF(B188<=0,\"\",IF('Simulador Pagos Oportunos'!$V$40=1,'Simulador Pagos Oportunos'!$Z$62,'Simulador Pagos Oportunos'!$Z$62*'Simulador Pagos Oportunos'!$W$59))","v":""},{"$f":"F188*'Simulador Pagos Oportunos'!$X$59","v":0},"",null,null,null,14,6,0,0,0,"",{"$f":"IF('Simulador Pagos Oportunos'!$X$35=3,AI188,IF('Simulador Pagos Oportunos'!$X$35=4,AJ188,IF('Simulador Pagos Oportunos'!$X$35=5,AK188,0)))","v":0.1825},null,null,0.1825,0,0,0,0,0,0,0,0,{"$f":"IF('Simulador Pagos Oportunos'!$X$35=3,AI188,IF('Simulador Pagos Oportunos'!$X$35=4,AJ188,IF('Simulador Pagos Oportunos'!$X$35=5,AK188,0)))","v":0.1825},{"$f":"IF(AO188<=0,0,IF('Simulador Pagos Oportunos'!$AC$62=1,0,AO188*'Simulador Pagos Oportunos'!$Y$67+IF('Simulador Pagos Oportunos'!$X$35=3,'Simulador Pagos Oportunos'!$I$49,IF('Simulador Pagos Oportunos'!$X$35=4,'Simulador Pagos Oportunos'!$K$49,IF('Simulador Pagos Oportunos'!$X$35=5,'Simulador Pagos Oportunos'!$M$49,0)))))","v":0},null,{"$f":"AQ188*'Simulador Pagos Oportunos'!$X$59","v":0},0,0,"",0,174]
[175,0,null,0,null,0,null,0,null,null,null,{"$f":"IF('Simulador Pagos Oportunos'!$V$60=1,0,J189*'Simulador Pagos Oportunos'!$O$63*'Simulador Pagos Oportunos'!$W$59)","v":0},null,"",null,0,null,{"$f":"IFERROR(IF(B189<=0,0,B189*'Simulador Pagos Oportunos'!$Y$67),0)","v":0},null,{"$f":"IFERROR(IF(B189<=0,0,IF('Simulador Pagos Oportunos'!$X$35=3,'Simulador Pagos Oportunos'!$I$49,IF('Simulador Pagos Oportunos'!$X$35=4,'Simulador Pagos Oportunos'!$K$49,IF('Simulador Pagos Oportunos'!$X$35=5,'Simulador Pagos Oportunos'!$M$49,0)))),0)","v":0},null,{"$f":"IF(B189<=0,\"\",IF('Simulador Pagos Oportunos'!$V$40=1,'Simulador Pagos Oportunos'!$Z$62,'Simulador Pagos Oportunos'!$Z$62*'Simulador Pagos Oportunos'!$W$59))","v":""},{"$f":"F189*'Simulador Pagos Oportunos'!$X$59","v":0},"",null,null,null,14,7,0,0,0,"",{"$f":"IF('Simulador Pagos Oportunos'!$X$35=3,AI189,IF('Simulador Pagos Oportunos'!$X$35=4,AJ189,IF('Simulador Pagos Oportunos'!$X$35=5,AK189,0)))","v":0.1825},null,null,0.1825,0,0,0,0,0,0,0,0,{"$f":"IF('Simulador Pagos Oportunos'!$X$35=3,AI189,IF('Simulador Pagos Oportunos'!$X$35=4,AJ189,IF('Simulador Pagos Oportunos'!$X$35=5,AK189,0)))","v":0.1825},{"$f":"IF(AO189<=0,0,IF('Simulador Pagos Oportunos'!$AC$62=1,0,AO189*'Simulador Pagos Oportunos'!$Y$67+IF('Simulador Pagos Oportunos'!$X$35=3,'Simulador Pagos Oportunos'!$I$49,IF('Simulador Pagos Oportunos'!$X$35=4,'Simulador Pagos Oportunos'!$K$49,IF('Simulador Pagos Oportunos'!$X$35=5,'Simulador Pagos Oportunos'!$M$49,0)))))","v":0},null,{"$f":"AQ189*'Simulador Pagos Oportunos'!$X$59","v":0},0,0,"",0,175]
[176,0,null,0,null,0,null,0,null,null,null,{"$f":"IF('Simulador Pagos Oportunos'!$V$60=1,0,J190*'Simulador Pagos Oportunos'!$O$63*'Simulador Pagos Oportunos'!$W$59)","v":0},null,"",null,0,null,{"$f":"IFERROR(IF(B190<=0,0,B190*'Simulador Pagos Oportunos'!$Y$67),0)","v":0},null,{"$f":"IFERROR(IF(B190<=0,0,IF('Simulador Pagos Oportunos'!$X$35=3,'Simulador Pagos Oportunos'!$I$49,IF('Simulador Pagos Oportunos'!$X$35=4,'Simulador Pagos Oportunos'!$K$49,IF('Simulador Pagos Oportunos'!$X$35=5,'Simulador Pagos Oportunos'!$M$49,0)))),0)","v":0},null,{"$f":"IF(B190<=0,\"\",IF('Simulador Pagos Oportunos'!$V$40=1,'Simulador Pagos Oportunos'!$Z$62,'Simulador Pagos Oportunos'!$Z$62*'Simulador Pagos Oportunos'!$W$59))","v":""},{"$f":"F190*'Simulador Pagos Oportunos'!$X$59","v":0},"",null,null,null,14,8,0,0,0,"",{"$f":"IF('Simulador Pagos Oportunos'!$X$35=3,AI190,IF('Simulador Pagos Oportunos'!$X$35=4,AJ190,IF('Simulador Pagos Oportunos'!$X$35=5,AK190,0)))","v":0.1825},null,null,0.1825,0,0,0,0,0,0,0,0,{"$f":"IF('Simulador Pagos Oportunos'!$X$35=3,AI190,IF('Simulador Pagos Oportunos'!$X$35=4,AJ190,IF('Simulador Pagos Oportunos'!$X$35=5,AK190,0)))","v":0.1825},{"$f":"IF(AO190<=0,0,IF('Simulador Pagos Oportunos'!$AC$62=1,0,AO190*'Simulador Pagos Oportunos'!$Y$67+IF('Simulador Pagos Oportunos'!$X$35=3,'Simulador Pagos Oportunos'!$I$49,IF('Simulador Pagos Oportunos'!$X$35=4,'Simulador Pagos Oportunos'!$K$49,IF('Simulador Pagos Oportunos'!$X$35=5,'Simulador Pagos Oportunos'!$M$49,0)))))","v":0},null,{"$f":"AQ190*'Simulador Pagos Oportunos'!$X$59","v":0},0,0,"",0,176]
[177,0,null,0,null,0,null,0,null,null,null,{"$f":"IF('Simulador Pagos Oportunos'!$V$60=1,0,J191*'Simulador Pagos Oportunos'!$O$63*'Simulador Pagos Oportunos'!$W$59)","v":0},null,"",null,0,null,{"$f":"IFERROR(IF(B191<=0,0,B191*'Simulador Pagos Oportunos'!$Y$67),0)","v":0},null,{"$f":"IFERROR(IF(B191<=0,0,IF('Simulador Pagos Oportunos'!$X$35=3,'Simulador Pagos Oportunos'!$I$49,IF('Simulador Pagos Oportunos'!$X$35=4,'Simulador Pagos Oportunos'!$K$49,IF('Simulador Pagos Oportunos'!$X$35=5,'Simulador Pagos Oportunos'!$M$49,0)))),0)","v":0},null,{"$f":"IF(B191<=0,\"\",IF('Simulador Pagos Oportunos'!$V$40=1,'Simulador Pagos Oportunos'!$Z$62,'Simulador Pagos Oportunos'!$Z$62*'Simulador Pagos Oportunos'!$W$59))","v":""},{"$f":"F191*'Simulador Pagos Oportunos'!$X$59","v":0},"",null,null,null,14,9,0,0,0,"",{"$f":"IF('Simulador Pagos Oportunos'!$X$35=3,AI191,IF('Simulador Pagos Oportunos'!$X$35=4,AJ191,IF('Simulador Pagos Oportunos'!$X$35=5,AK191,0)))","v":0.1825},null,null,0.1825,0,0,0,0,0,0,0,0,{"$f":"IF('Simulador Pagos Oportunos'!$X$35=3,AI191,IF('Simulador Pagos Oportunos'!$X$35=4,AJ191,IF('Simulador Pagos Oportunos'!$X$35=5,AK191,0)))","v":0.1825},{"$f":"IF(AO191<=0,0,IF('Simulador Pagos Oportunos'!$AC$62=1,0,AO191*'Simulador Pagos Oportunos'!$Y$67+IF('Simulador Pagos Oportunos'!$X$35=3,'Simulador Pagos Oportunos'!$I$49,IF('Simulador Pagos Oportunos'!$X$35=4,'Simulador Pagos Oportunos'!$K$49,IF('Simulador Pagos Oportunos'!$X$35=5,'Simulador Pagos Oportunos'!$M$49,0)))))","v":0},null,{"$f":"AQ191*'Simulador Pagos Oportunos'!$X$59","v":0},0,0,"",0,177]
[178,0,null,0,null,0,null,0,null,null,null,{"$f":"IF('Simulador Pagos Oportunos'!$V$60=1,0,J192*'Simulador Pagos Oportunos'!$O$63*'Simulador Pagos Oportunos'!$W$59)","v":0},null,"",null,0,null,{"$f":"IFERROR(IF(B192<=0,0,B192*'Simulador Pagos Oportunos'!$Y$67),0)","v":0},null,{"$f":"IFERROR(IF(B192<=0,0,IF('Simulador Pagos Oportunos'!$X$35=3,'Simulador Pagos Oportunos'!$I$49,IF('Simulador Pagos Oportunos'!$X$35=4,'Simulador Pagos Oportunos'!$K$49,IF('Simulador Pagos Oportunos'!$X$35=5,'Simulador Pagos Oportunos'!$M$49,0)))),0)","v":0},null,{"$f":"IF(B192<=0,\"\",IF('Simulador Pagos Oportunos'!$V$40=1,'Simulador Pagos Oportunos'!$Z$62,'Simulador Pagos Oportunos'!$Z$62*'Simulador Pagos Oportunos'!$W$59))","v":""},{"$f":"F192*'Simulador Pagos Oportunos'!$X$59","v":0},"",null,null,null,14,10,0,0,0,"",{"$f":"IF('Simulador Pagos Oportunos'!$X$35=3,AI192,IF('Simulador Pagos Oportunos'!$X$35=4,AJ192,IF('Simulador Pagos Oportunos'!$X$35=5,AK192,0)))","v":0.1825},null,null,0.1825,0,0,0,0,0,0,0,0,{"$f":"IF('Simulador Pagos Oportunos'!$X$35=3,AI192,IF('Simulador Pagos Oportunos'!$X$35=4,AJ192,IF('Simulador Pagos Oportunos'!$X$35=5,AK192,0)))","v":0.1825},{"$f":"IF(AO192<=0,0,IF('Simulador Pagos Oportunos'!$AC$62=1,0,AO192*'Simulador Pagos Oportunos'!$Y$67+IF('Simulador Pagos Oportunos'!$X$35=3,'Simulador Pagos Oportunos'!$I$49,IF('Simulador Pagos Oportunos'!$X$35=4,'Simulador Pagos Oportunos'!$K$49,IF('Simulador Pagos Oportunos'!$X$35=5,'Simulador Pagos Oportunos'!$M$49,0)))))","v":0},null,{"$f":"AQ192*'Simulador Pagos Oportunos'!$X$59","v":0},0,0,"",0,178]
[179,0,null,0,null,0,null,0,null,null,null,{"$f":"IF('Simulador Pagos Oportunos'!$V$60=1,0,J193*'Simulador Pagos Oportunos'!$O$63*'Simulador Pagos Oportunos'!$W$59)","v":0},null,"",null,0,null,{"$f":"IFERROR(IF(B193<=0,0,B193*'Simulador Pagos Oportunos'!$Y$67),0)","v":0},null,{"$f":"IFERROR(IF(B193<=0,0,IF('Simulador Pagos Oportunos'!$X$35=3,'Simulador Pagos Oportunos'!$I$49,IF('Simulador Pagos Oportunos'!$X$35=4,'Simulador Pagos Oportunos'!$K$49,IF('Simulador Pagos Oportunos'!$X$35=5,'Simulador Pagos Oportunos'!$M$49,0)))),0)","v":0},null,{"$f":"IF(B193<=0,\"\",IF('Simulador Pagos Oportunos'!$V$40=1,'Simulador Pagos Oportunos'!$Z$62,'Simulador Pagos Oportunos'!$Z$62*'Simulador Pagos Oportunos'!$W$59))","v":""},{"$f":"F193*'Simulador Pagos Oportunos'!$X$59","v":0},"",null,null,null,14,11,0,0,0,"",{"$f":"IF('Simulador Pagos Oportunos'!$X$35=3,AI193,IF('Simulador Pagos Oportunos'!$X$35=4,AJ193,IF('Simulador Pagos Oportunos'!$X$35=5,AK193,0)))","v":0.1825},null,null,0.1825,0,0,0,0,0,0,0,0,{"$f":"IF('Simulador Pagos Oportunos'!$X$35=3,AI193,IF('Simulador Pagos Oportunos'!$X$35=4,AJ193,IF('Simulador Pagos Oportunos'!$X$35=5,AK193,0)))","v":0.1825},{"$f":"IF(AO193<=0,0,IF('Simulador Pagos Oportunos'!$AC$62=1,0,AO193*'Simulador Pagos Oportunos'!$Y$67+IF('Simulador Pagos Oportunos'!$X$35=3,'Simulador Pagos Oportunos'!$I$49,IF('Simulador Pagos Oportunos'!$X$35=4,'Simulador Pagos Oportunos'!$K$49,IF('Simulador Pagos Oportunos'!$X$35=5,'Simulador Pagos Oportunos'!$M$49,0)))))","v":0},null,{"$f":"AQ193*'Simulador Pagos Oportunos'!$X$59","v":0},0,0,"",0,179]
[180,0,null,0,null,0,null,0,null,null,null,{"$f":"IF('Simulador Pagos Oportunos'!$V$60=1,0,J194*'Simulador Pagos Oportunos'!$O$63*'Simulador Pagos Oportunos'!$W$59)","v":0},null,"",null,0,null,{"$f":"IFERROR(IF(B194<=0,0,B194*'Simulador Pagos Oportunos'!$Y$67),0)","v":0},null,{"$f":"IFERROR(IF(B194<=0,0,IF('Simulador Pagos Oportunos'!$X$35=3,'Simulador Pagos Oportunos'!$I$49,IF('Simulador Pagos Oportunos'!$X$35=4,'Simulador Pagos Oportunos'!$K$49,IF('Simulador Pagos Oportunos'!$X$35=5,'Simulador Pagos Oportunos'!$M$49,0)))),0)","v":0},null,{"$f":"IF(B194<=0,\"\",IF('Simulador Pagos Oportunos'!$V$40=1,'Simulador Pagos Oportunos'!$Z$62,'Simulador Pagos Oportunos'!$Z$62*'Simulador Pagos Oportunos'!$W$59))","v":""},{"$f":"F194*'Simulador Pagos Oportunos'!$X$59","v":0},"",null,null,null,15,0,0,0,0,"",{"$f":"IF('Simulador Pagos Oportunos'!$X$35=3,AI194,IF('Simulador Pagos Oportunos'!$X$35=4,AJ194,IF('Simulador Pagos Oportunos'!$X$35=5,AK194,0)))","v":0.1825},null,null,0.1825,0,0,0,0,0,0,0,0,{"$f":"IF('Simulador Pagos Oportunos'!$X$35=3,AI194,IF('Simulador Pagos Oportunos'!$X$35=4,AJ194,IF('Simulador Pagos Oportunos'!$X$35=5,AK194,0)))","v":0.1825},{"$f":"IF(AO194<=0,0,IF('Simulador Pagos Oportunos'!$AC$62=1,0,AO194*'Simulador Pagos Oportunos'!$Y$67+IF('Simulador Pagos Oportunos'!$X$35=3,'Simulador Pagos Oportunos'!$I$49,IF('Simulador Pagos Oportunos'!$X$35=4,'Simulador Pagos Oportunos'!$K$49,IF('Simulador Pagos Oportunos'!$X$35=5,'Simulador Pagos Oportunos'!$M$49,0)))))","v":0},null,{"$f":"AQ194*'Simulador Pagos Oportunos'!$X$59","v":0},0,0,"",0,180]
[181,0,null,{"$f":"IF(B195+F195-D194<=0,B195+F195,IF(AND($AR$2=2,J194>0),B195*AV195,D194*(1+Z195)))","v":0},null,0,null,0,null,null,null,{"$f":"IF('Simulador Pagos Oportunos'!$V$60=1,0,J195*'Simulador Pagos Oportunos'!$O$63*'Simulador Pagos Oportunos'!$W$59)","v":0},null,"",null,0,null,{"$f":"IFERROR(IF(B195<=0,0,B195*'Simulador Pagos Oportunos'!$Y$67),0)","v":0},null,{"$f":"IFERROR(IF(B195<=0,0,IF('Simulador Pagos Oportunos'!$X$35=3,'Simulador Pagos Oportunos'!$I$49,IF('Simulador Pagos Oportunos'!$X$35=4,'Simulador Pagos Oportunos'!$K$49,IF('Simulador Pagos Oportunos'!$X$35=5,'Simulador Pagos Oportunos'!$M$49,0)))),0)","v":0},null,{"$f":"IF(B195<=0,\"\",IF('Simulador Pagos Oportunos'!$V$40=1,'Simulador Pagos Oportunos'!$Z$62,'Simulador Pagos Oportunos'!$Z$62*'Simulador Pagos Oportunos'!$W$59))","v":""},{"$f":"F195*'Simulador Pagos Oportunos'!$X$59","v":0},"",null,{"$f":"IF(B195<=0,0,IF(AND('Simulador Pagos Oportunos'!$V$40=2,'Simulador Pagos Oportunos'!$X$35=4),0,'Simulador Pagos Oportunos'!$AM$48))","v":0},null,15,1,0,0,0,"",{"$f":"IF('Simulador Pagos Oportunos'!$X$35=3,AI195,IF('Simulador Pagos Oportunos'!$X$35=4,AJ195,IF('Simulador Pagos Oportunos'!$X$35=5,AK195,0)))","v":0},null,null,null,0,0,0,0,0,0,0,0,{"$f":"IF('Simulador Pagos Oportunos'!$X$35=3,AI195,IF('Simulador Pagos Oportunos'!$X$35=4,AJ195,IF('Simulador Pagos Oportunos'!$X$35=5,AK195,0)))","v":0},{"$f":"IF(AO195<=0,0,IF('Simulador Pagos Oportunos'!$AC$62=1,0,AO195*'Simulador Pagos Oportunos'!$Y$67+IF('Simulador Pagos Oportunos'!$X$35=3,'Simulador Pagos Oportunos'!$I$49,IF('Simulador Pagos Oportunos'!$X$35=4,'Simulador Pagos Oportunos'!$K$49,IF('Simulador Pagos Oportunos'!$X$35=5,'Simulador Pagos Oportunos'!$M$49,0)))))","v":0},{"$f":"IF(AO195<=0,0,$AV$32)","v":0},{"$f":"AQ195*'Simulador Pagos Oportunos'!$X$59","v":0},0,0,"",0,181]
[182,0,null,0,null,0,null,0,null,null,null,{"$f":"IF('Simulador Pagos Oportunos'!$V$60=1,0,J196*'Simulador Pagos Oportunos'!$O$63*'Simulador Pagos Oportunos'!$W$59)","v":0},null,"",null,0,null,{"$f":"IFERROR(IF(B196<=0,0,B196*'Simulador Pagos Oportunos'!$Y$67),0)","v":0},null,{"$f":"IFERROR(IF(B196<=0,0,IF('Simulador Pagos Oportunos'!$X$35=3,'Simulador Pagos Oportunos'!$I$49,IF('Simulador Pagos Oportunos'!$X$35=4,'Simulador Pagos Oportunos'!$K$49,IF('Simulador Pagos Oportunos'!$X$35=5,'Simulador Pagos Oportunos'!$M$49,0)))),0)","v":0},null,{"$f":"IF(B196<=0,\"\",IF('Simulador Pagos Oportunos'!$V$40=1,'Simulador Pagos Oportunos'!$Z$62,'Simulador Pagos Oportunos'!$Z$62*'Simulador Pagos Oportunos'!$W$59))","v":""},{"$f":"F196*'Simulador Pagos Oportunos'!$X$59","v":0},"",null,null,null,15,2,0,0,0,"",{"$f":"IF('Simulador Pagos Oportunos'!$X$35=3,AI196,IF('Simulador Pagos Oportunos'!$X$35=4,AJ196,IF('Simulador Pagos Oportunos'!$X$35=5,AK196,0)))","v":0},null,null,null,0,0,0,0,0,0,0,0,{"$f":"IF('Simulador Pagos Oportunos'!$X$35=3,AI196,IF('Simulador Pagos Oportunos'!$X$35=4,AJ196,IF('Simulador Pagos Oportunos'!$X$35=5,AK196,0)))","v":0},{"$f":"IF(AO196<=0,0,IF('Simulador Pagos Oportunos'!$AC$62=1,0,AO196*'Simulador Pagos Oportunos'!$Y$67+IF('Simulador Pagos Oportunos'!$X$35=3,'Simulador Pagos Oportunos'!$I$49,IF('Simulador Pagos Oportunos'!$X$35=4,'Simulador Pagos Oportunos'!$K$49,IF('Simulador Pagos Oportunos'!$X$35=5,'Simulador Pagos Oportunos'!$M$49,0)))))","v":0},null,{"$f":"AQ196*'Simulador Pagos Oportunos'!$X$59","v":0},0,0,"",0,182]
[183,0,null,0,null,0,null,0,null,null,null,{"$f":"IF('Simulador Pagos Oportunos'!$V$60=1,0,J197*'Simulador Pagos Oportunos'!$O$63*'Simulador Pagos Oportunos'!$W$59)","v":0},null,"",null,0,null,{"$f":"IFERROR(IF(B197<=0,0,B197*'Simulador Pagos Oportunos'!$Y$67),0)","v":0},null,{"$f":"IFERROR(IF(B197<=0,0,IF('Simulador Pagos Oportunos'!$X$35=3,'Simulador Pagos Oportunos'!$I$49,IF('Simulador Pagos Oportunos'!$X$35=4,'Simulador Pagos Oportunos'!$K$49,IF('Simulador Pagos Oportunos'!$X$35=5,'Simulador Pagos Oportunos'!$M$49,0)))),0)","v":0},null,{"$f":"IF(B197<=0,\"\",IF('Simulador Pagos Oportunos'!$V$40=1,'Simulador Pagos Oportunos'!$Z$62,'Simulador Pagos Oportunos'!$Z$62*'Simulador Pagos Oportunos'!$W$59))","v":""},{"$f":"F197*'Simulador Pagos Oportunos'!$X$59","v":0},"",null,null,null,15,3,0,0,0,"",{"$f":"IF('Simulador Pagos Oportunos'!$X$35=3,AI197,IF('Simulador Pagos Oportunos'!$X$35=4,AJ197,IF('Simulador Pagos Oportunos'!$X$35=5,AK197,0)))","v":0},null,null,null,0,0,0,0,0,0,0,0,{"$f":"IF('Simulador Pagos Oportunos'!$X$35=3,AI197,IF('Simulador Pagos Oportunos'!$X$35=4,AJ197,IF('Simulador Pagos Oportunos'!$X$35=5,AK197,0)))","v":0},{"$f":"IF(AO197<=0,0,IF('Simulador Pagos Oportunos'!$AC$62=1,0,AO197*'Simulador Pagos Oportunos'!$Y$67+IF('Simulador Pagos Oportunos'!$X$35=3,'Simulador Pagos Oportunos'!$I$49,IF('Simulador Pagos Oportunos'!$X$35=4,'Simulador Pagos Oportunos'!$K$49,IF('Simulador Pagos Oportunos'!$X$35=5,'Simulador Pagos Oportunos'!$M$49,0)))))","v":0},null,{"$f":"AQ197*'Simulador Pagos Oportunos'!$X$59","v":0},0,0,"",0,183]
[184,0,null,0,null,0,null,0,null,null,null,{"$f":"IF('Simulador Pagos Oportunos'!$V$60=1,0,J198*'Simulador Pagos Oportunos'!$O$63*'Simulador Pagos Oportunos'!$W$59)","v":0},null,"",null,0,null,{"$f":"IFERROR(IF(B198<=0,0,B198*'Simulador Pagos Oportunos'!$Y$67),0)","v":0},null,{"$f":"IFERROR(IF(B198<=0,0,IF('Simulador Pagos Oportunos'!$X$35=3,'Simulador Pagos Oportunos'!$I$49,IF('Simulador Pagos Oportunos'!$X$35=4,'Simulador Pagos Oportunos'!$K$49,IF('Simulador Pagos Oportunos'!$X$35=5,'Simulador Pagos Oportunos'!$M$49,0)))),0)","v":0},null,{"$f":"IF(B198<=0,\"\",IF('Simulador Pagos Oportunos'!$V$40=1,'Simulador Pagos Oportunos'!$Z$62,'Simulador Pagos Oportunos'!$Z$62*'Simulador Pagos Oportunos'!$W$59))","v":""},{"$f":"F198*'Simulador Pagos Oportunos'!$X$59","v":0},"",null,null,null,15,4,0,0,0,"",{"$f":"IF('Simulador Pagos Oportunos'!$X$35=3,AI198,IF('Simulador Pagos Oportunos'!$X$35=4,AJ198,IF('Simulador Pagos Oportunos'!$X$35=5,AK198,0)))","v":0},null,null,null,0,0,0,0,0,0,0,0,{"$f":"IF('Simulador Pagos Oportunos'!$X$35=3,AI198,IF('Simulador Pagos Oportunos'!$X$35=4,AJ198,IF('Simulador Pagos Oportunos'!$X$35=5,AK198,0)))","v":0},{"$f":"IF(AO198<=0,0,IF('Simulador Pagos Oportunos'!$AC$62=1,0,AO198*'Simulador Pagos Oportunos'!$Y$67+IF('Simulador Pagos Oportunos'!$X$35=3,'Simulador Pagos Oportunos'!$I$49,IF('Simulador Pagos Oportunos'!$X$35=4,'Simulador Pagos Oportunos'!$K$49,IF('Simulador Pagos Oportunos'!$X$35=5,'Simulador Pagos Oportunos'!$M$49,0)))))","v":0},null,{"$f":"AQ198*'Simulador Pagos Oportunos'!$X$59","v":0},0,0,"",0,184]
[185,0,null,0,null,0,null,0,null,null,null,{"$f":"IF('Simulador Pagos Oportunos'!$V$60=1,0,J199*'Simulador Pagos Oportunos'!$O$63*'Simulador Pagos Oportunos'!$W$59)","v":0},null,"",null,0,null,{"$f":"IFERROR(IF(B199<=0,0,B199*'Simulador Pagos Oportunos'!$Y$67),0)","v":0},null,{"$f":"IFERROR(IF(B199<=0,0,IF('Simulador Pagos Oportunos'!$X$35=3,'Simulador Pagos Oportunos'!$I$49,IF('Simulador Pagos Oportunos'!$X$35=4,'Simulador Pagos Oportunos'!$K$49,IF('Simulador Pagos Oportunos'!$X$35=5,'Simulador Pagos Oportunos'!$M$49,0)))),0)","v":0},null,{"$f":"IF(B199<=0,\"\",IF('Simulador Pagos Oportunos'!$V$40=1,'Simulador Pagos Oportunos'!$Z$62,'Simulador Pagos Oportunos'!$Z$62*'Simulador Pagos Oportunos'!$W$59))","v":""},{"$f":"F199*'Simulador Pagos Oportunos'!$X$59","v":0},"",null,null,null,15,5,0,0,0,"",{"$f":"IF('Simulador Pagos Oportunos'!$X$35=3,AI199,IF('Simulador Pagos Oportunos'!$X$35=4,AJ199,IF('Simulador Pagos Oportunos'!$X$35=5,AK199,0)))","v":0},null,null,null,0,0,0,0,0,0,0,0,{"$f":"IF('Simulador Pagos Oportunos'!$X$35=3,AI199,IF('Simulador Pagos Oportunos'!$X$35=4,AJ199,IF('Simulador Pagos Oportunos'!$X$35=5,AK199,0)))","v":0},{"$f":"IF(AO199<=0,0,IF('Simulador Pagos Oportunos'!$AC$62=1,0,AO199*'Simulador Pagos Oportunos'!$Y$67+IF('Simulador Pagos Oportunos'!$X$35=3,'Simulador Pagos Oportunos'!$I$49,IF('Simulador Pagos Oportunos'!$X$35=4,'Simulador Pagos Oportunos'!$K$49,IF('Simulador Pagos Oportunos'!$X$35=5,'Simulador Pagos Oportunos'!$M$49,0)))))","v":0},null,{"$f":"AQ199*'Simulador Pagos Oportunos'!$X$59","v":0},0,0,"",0,185]
[186,0,null,0,null,0,null,0,null,null,null,{"$f":"IF('Simulador Pagos Oportunos'!$V$60=1,0,J200*'Simulador Pagos Oportunos'!$O$63*'Simulador Pagos Oportunos'!$W$59)","v":0},null,"",null,0,null,{"$f":"IFERROR(IF(B200<=0,0,B200*'Simulador Pagos Oportunos'!$Y$67),0)","v":0},null,{"$f":"IFERROR(IF(B200<=0,0,IF('Simulador Pagos Oportunos'!$X$35=3,'Simulador Pagos Oportunos'!$I$49,IF('Simulador Pagos Oportunos'!$X$35=4,'Simulador Pagos Oportunos'!$K$49,IF('Simulador Pagos Oportunos'!$X$35=5,'Simulador Pagos Oportunos'!$M$49,0)))),0)","v":0},null,{"$f":"IF(B200<=0,\"\",IF('Simulador Pagos Oportunos'!$V$40=1,'Simulador Pagos Oportunos'!$Z$62,'Simulador Pagos Oportunos'!$Z$62*'Simulador Pagos Oportunos'!$W$59))","v":""},{"$f":"F200*'Simulador Pagos Oportunos'!$X$59","v":0},"",null,null,null,15,6,0,0,0,"",{"$f":"IF('Simulador Pagos Oportunos'!$X$35=3,AI200,IF('Simulador Pagos Oportunos'!$X$35=4,AJ200,IF('Simulador Pagos Oportunos'!$X$35=5,AK200,0)))","v":0},null,null,null,0,0,0,0,0,0,0,0,{"$f":"IF('Simulador Pagos Oportunos'!$X$35=3,AI200,IF('Simulador Pagos Oportunos'!$X$35=4,AJ200,IF('Simulador Pagos Oportunos'!$X$35=5,AK200,0)))","v":0},{"$f":"IF(AO200<=0,0,IF('Simulador Pagos Oportunos'!$AC$62=1,0,AO200*'Simulador Pagos Oportunos'!$Y$67+IF('Simulador Pagos Oportunos'!$X$35=3,'Simulador Pagos Oportunos'!$I$49,IF('Simulador Pagos Oportunos'!$X$35=4,'Simulador Pagos Oportunos'!$K$49,IF('Simulador Pagos Oportunos'!$X$35=5,'Simulador Pagos Oportunos'!$M$49,0)))))","v":0},null,{"$f":"AQ200*'Simulador Pagos Oportunos'!$X$59","v":0},0,{"$f":"IFERROR(IF(AP200<=0.01,0,AY199-1),0)","v":0},"",0,186]
[187,0,null,0,null,0,null,0,null,null,null,{"$f":"IF('Simulador Pagos Oportunos'!$V$60=1,0,J201*'Simulador Pagos Oportunos'!$O$63*'Simulador Pagos Oportunos'!$W$59)","v":0},null,"",null,0,null,{"$f":"IFERROR(IF(B201<=0,0,B201*'Simulador Pagos Oportunos'!$Y$67),0)","v":0},null,{"$f":"IFERROR(IF(B201<=0,0,IF('Simulador Pagos Oportunos'!$X$35=3,'Simulador Pagos Oportunos'!$I$49,IF('Simulador Pagos Oportunos'!$X$35=4,'Simulador Pagos Oportunos'!$K$49,IF('Simulador Pagos Oportunos'!$X$35=5,'Simulador Pagos Oportunos'!$M$49,0)))),0)","v":0},null,{"$f":"IF(B201<=0,\"\",IF('Simulador Pagos Oportunos'!$V$40=1,'Simulador Pagos Oportunos'!$Z$62,'Simulador Pagos Oportunos'!$Z$62*'Simulador Pagos Oportunos'!$W$59))","v":""},{"$f":"F201*'Simulador Pagos Oportunos'!$X$59","v":0},"",null,null,null,15,7,0,0,0,"",{"$f":"IF('Simulador Pagos Oportunos'!$X$35=3,AI201,IF('Simulador Pagos Oportunos'!$X$35=4,AJ201,IF('Simulador Pagos Oportunos'!$X$35=5,AK201,0)))","v":0},null,null,null,0,0,0,0,0,0,0,0,{"$f":"IF('Simulador Pagos Oportunos'!$X$35=3,AI201,IF('Simulador Pagos Oportunos'!$X$35=4,AJ201,IF('Simulador Pagos Oportunos'!$X$35=5,AK201,0)))","v":0},{"$f":"IF(AO201<=0,0,IF('Simulador Pagos Oportunos'!$AC$62=1,0,AO201*'Simulador Pagos Oportunos'!$Y$67+IF('Simulador Pagos Oportunos'!$X$35=3,'Simulador Pagos Oportunos'!$I$49,IF('Simulador Pagos Oportunos'!$X$35=4,'Simulador Pagos Oportunos'!$K$49,IF('Simulador Pagos Oportunos'!$X$35=5,'Simulador Pagos Oportunos'!$M$49,0)))))","v":0},null,{"$f":"AQ201*'Simulador Pagos Oportunos'!$X$59","v":0},0,0,"",0,187]
[188,0,null,0,null,0,null,0,null,null,null,{"$f":"IF('Simulador Pagos Oportunos'!$V$60=1,0,J202*'Simulador Pagos Oportunos'!$O$63*'Simulador Pagos Oportunos'!$W$59)","v":0},null,"",null,0,null,{"$f":"IFERROR(IF(B202<=0,0,B202*'Simulador Pagos Oportunos'!$Y$67),0)","v":0},null,{"$f":"IFERROR(IF(B202<=0,0,IF('Simulador Pagos Oportunos'!$X$35=3,'Simulador Pagos Oportunos'!$I$49,IF('Simulador Pagos Oportunos'!$X$35=4,'Simulador Pagos Oportunos'!$K$49,IF('Simulador Pagos Oportunos'!$X$35=5,'Simulador Pagos Oportunos'!$M$49,0)))),0)","v":0},null,{"$f":"IF(B202<=0,\"\",IF('Simulador Pagos Oportunos'!$V$40=1,'Simulador Pagos Oportunos'!$Z$62,'Simulador Pagos Oportunos'!$Z$62*'Simulador Pagos Oportunos'!$W$59))","v":""},{"$f":"F202*'Simulador Pagos Oportunos'!$X$59","v":0},"",null,null,null,15,8,0,0,0,"",{"$f":"IF('Simulador Pagos Oportunos'!$X$35=3,AI202,IF('Simulador Pagos Oportunos'!$X$35=4,AJ202,IF('Simulador Pagos Oportunos'!$X$35=5,AK202,0)))","v":0},null,null,null,0,0,0,0,0,0,0,0,{"$f":"IF('Simulador Pagos Oportunos'!$X$35=3,AI202,IF('Simulador Pagos Oportunos'!$X$35=4,AJ202,IF('Simulador Pagos Oportunos'!$X$35=5,AK202,0)))","v":0},{"$f":"IF(AO202<=0,0,IF('Simulador Pagos Oportunos'!$AC$62=1,0,AO202*'Simulador Pagos Oportunos'!$Y$67+IF('Simulador Pagos Oportunos'!$X$35=3,'Simulador Pagos Oportunos'!$I$49,IF('Simulador Pagos Oportunos'!$X$35=4,'Simulador Pagos Oportunos'!$K$49,IF('Simulador Pagos Oportunos'!$X$35=5,'Simulador Pagos Oportunos'!$M$49,0)))))","v":0},null,{"$f":"AQ202*'Simulador Pagos Oportunos'!$X$59","v":0},0,0,"",0,188]
[189,0,null,0,null,0,null,0,null,null,null,{"$f":"IF('Simulador Pagos Oportunos'!$V$60=1,0,J203*'Simulador Pagos Oportunos'!$O$63*'Simulador Pagos Oportunos'!$W$59)","v":0},null,"",null,0,null,{"$f":"IFERROR(IF(B203<=0,0,B203*'Simulador Pagos Oportunos'!$Y$67),0)","v":0},null,{"$f":"IFERROR(IF(B203<=0,0,IF('Simulador Pagos Oportunos'!$X$35=3,'Simulador Pagos Oportunos'!$I$49,IF('Simulador Pagos Oportunos'!$X$35=4,'Simulador Pagos Oportunos'!$K$49,IF('Simulador Pagos Oportunos'!$X$35=5,'Simulador Pagos Oportunos'!$M$49,0)))),0)","v":0},null,{"$f":"IF(B203<=0,\"\",IF('Simulador Pagos Oportunos'!$V$40=1,'Simulador Pagos Oportunos'!$Z$62,'Simulador Pagos Oportunos'!$Z$62*'Simulador Pagos Oportunos'!$W$59))","v":""},{"$f":"F203*'Simulador Pagos Oportunos'!$X$59","v":0},"",null,null,null,15,9,0,0,0,"",{"$f":"IF('Simulador Pagos Oportunos'!$X$35=3,AI203,IF('Simulador Pagos Oportunos'!$X$35=4,AJ203,IF('Simulador Pagos Oportunos'!$X$35=5,AK203,0)))","v":0},null,null,null,0,0,0,0,0,0,0,0,{"$f":"IF('Simulador Pagos Oportunos'!$X$35=3,AI203,IF('Simulador Pagos Oportunos'!$X$35=4,AJ203,IF('Simulador Pagos Oportunos'!$X$35=5,AK203,0)))","v":0},{"$f":"IF(AO203<=0,0,IF('Simulador Pagos Oportunos'!$AC$62=1,0,AO203*'Simulador Pagos Oportunos'!$Y$67+IF('Simulador Pagos Oportunos'!$X$35=3,'Simulador Pagos Oportunos'!$I$49,IF('Simulador Pagos Oportunos'!$X$35=4,'Simulador Pagos Oportunos'!$K$49,IF('Simulador Pagos Oportunos'!$X$35=5,'Simulador Pagos Oportunos'!$M$49,0)))))","v":0},null,{"$f":"AQ203*'Simulador Pagos Oportunos'!$X$59","v":0},0,0,"",0,189]
[190,0,null,0,null,0,null,0,null,null,null,{"$f":"IF('Simulador Pagos Oportunos'!$V$60=1,0,J204*'Simulador Pagos Oportunos'!$O$63*'Simulador Pagos Oportunos'!$W$59)","v":0},null,"",null,0,null,{"$f":"IFERROR(IF(B204<=0,0,B204*'Simulador Pagos Oportunos'!$Y$67),0)","v":0},null,{"$f":"IFERROR(IF(B204<=0,0,IF('Simulador Pagos Oportunos'!$X$35=3,'Simulador Pagos Oportunos'!$I$49,IF('Simulador Pagos Oportunos'!$X$35=4,'Simulador Pagos Oportunos'!$K$49,IF('Simulador Pagos Oportunos'!$X$35=5,'Simulador Pagos Oportunos'!$M$49,0)))),0)","v":0},null,{"$f":"IF(B204<=0,\"\",IF('Simulador Pagos Oportunos'!$V$40=1,'Simulador Pagos Oportunos'!$Z$62,'Simulador Pagos Oportunos'!$Z$62*'Simulador Pagos Oportunos'!$W$59))","v":""},{"$f":"F204*'Simulador Pagos Oportunos'!$X$59","v":0},"",null,null,null,15,10,0,0,0,"",{"$f":"IF('Simulador Pagos Oportunos'!$X$35=3,AI204,IF('Simulador Pagos Oportunos'!$X$35=4,AJ204,IF('Simulador Pagos Oportunos'!$X$35=5,AK204,0)))","v":0},null,null,null,0,0,0,0,0,0,0,0,{"$f":"IF('Simulador Pagos Oportunos'!$X$35=3,AI204,IF('Simulador Pagos Oportunos'!$X$35=4,AJ204,IF('Simulador Pagos Oportunos'!$X$35=5,AK204,0)))","v":0},{"$f":"IF(AO204<=0,0,IF('Simulador Pagos Oportunos'!$AC$62=1,0,AO204*'Simulador Pagos Oportunos'!$Y$67+IF('Simulador Pagos Oportunos'!$X$35=3,'Simulador Pagos Oportunos'!$I$49,IF('Simulador Pagos Oportunos'!$X$35=4,'Simulador Pagos Oportunos'!$K$49,IF('Simulador Pagos Oportunos'!$X$35=5,'Simulador Pagos Oportunos'!$M$49,0)))))","v":0},null,{"$f":"AQ204*'Simulador Pagos Oportunos'!$X$59","v":0},0,0,"",0,190]
[191,0,null,0,null,0,null,0,null,null,null,{"$f":"IF('Simulador Pagos Oportunos'!$V$60=1,0,J205*'Simulador Pagos Oportunos'!$O$63*'Simulador Pagos Oportunos'!$W$59)","v":0},null,"",null,0,null,{"$f":"IFERROR(IF(B205<=0,0,B205*'Simulador Pagos Oportunos'!$Y$67),0)","v":0},null,{"$f":"IFERROR(IF(B205<=0,0,IF('Simulador Pagos Oportunos'!$X$35=3,'Simulador Pagos Oportunos'!$I$49,IF('Simulador Pagos Oportunos'!$X$35=4,'Simulador Pagos Oportunos'!$K$49,IF('Simulador Pagos Oportunos'!$X$35=5,'Simulador Pagos Oportunos'!$M$49,0)))),0)","v":0},null,{"$f":"IF(B205<=0,\"\",IF('Simulador Pagos Oportunos'!$V$40=1,'Simulador Pagos Oportunos'!$Z$62,'Simulador Pagos Oportunos'!$Z$62*'Simulador Pagos Oportunos'!$W$59))","v":""},{"$f":"F205*'Simulador Pagos Oportunos'!$X$59","v":0},"",null,null,null,15,11,0,0,0,"",{"$f":"IF('Simulador Pagos Oportunos'!$X$35=3,AI205,IF('Simulador Pagos Oportunos'!$X$35=4,AJ205,IF('Simulador Pagos Oportunos'!$X$35=5,AK205,0)))","v":0},null,null,null,0,0,0,0,0,0,0,0,{"$f":"IF('Simulador Pagos Oportunos'!$X$35=3,AI205,IF('Simulador Pagos Oportunos'!$X$35=4,AJ205,IF('Simulador Pagos Oportunos'!$X$35=5,AK205,0)))","v":0},{"$f":"IF(AO205<=0,0,IF('Simulador Pagos Oportunos'!$AC$62=1,0,AO205*'Simulador Pagos Oportunos'!$Y$67+IF('Simulador Pagos Oportunos'!$X$35=3,'Simulador Pagos Oportunos'!$I$49,IF('Simulador Pagos Oportunos'!$X$35=4,'Simulador Pagos Oportunos'!$K$49,IF('Simulador Pagos Oportunos'!$X$35=5,'Simulador Pagos Oportunos'!$M$49,0)))))","v":0},null,{"$f":"AQ205*'Simulador Pagos Oportunos'!$X$59","v":0},0,0,"",0,191]
[192,0,null,0,null,0,null,0,null,null,null,{"$f":"IF('Simulador Pagos Oportunos'!$V$60=1,0,J206*'Simulador Pagos Oportunos'!$O$63*'Simulador Pagos Oportunos'!$W$59)","v":0},null,"",null,0,null,{"$f":"IFERROR(IF(B206<=0,0,B206*'Simulador Pagos Oportunos'!$Y$67),0)","v":0},null,{"$f":"IFERROR(IF(B206<=0,0,IF('Simulador Pagos Oportunos'!$X$35=3,'Simulador Pagos Oportunos'!$I$49,IF('Simulador Pagos Oportunos'!$X$35=4,'Simulador Pagos Oportunos'!$K$49,IF('Simulador Pagos Oportunos'!$X$35=5,'Simulador Pagos Oportunos'!$M$49,0)))),0)","v":0},null,{"$f":"IF(B206<=0,\"\",IF('Simulador Pagos Oportunos'!$V$40=1,'Simulador Pagos Oportunos'!$Z$62,'Simulador Pagos Oportunos'!$Z$62*'Simulador Pagos Oportunos'!$W$59))","v":""},{"$f":"F206*'Simulador Pagos Oportunos'!$X$59","v":0},"",null,null,null,16,0,0,0,0,"",{"$f":"IF('Simulador Pagos Oportunos'!$X$35=3,AI206,IF('Simulador Pagos Oportunos'!$X$35=4,AJ206,IF('Simulador Pagos Oportunos'!$X$35=5,AK206,0)))","v":0},null,null,null,0,0,0,0,0,0,0,0,{"$f":"IF('Simulador Pagos Oportunos'!$X$35=3,AI206,IF('Simulador Pagos Oportunos'!$X$35=4,AJ206,IF('Simulador Pagos Oportunos'!$X$35=5,AK206,0)))","v":0},{"$f":"IF(AO206<=0,0,IF('Simulador Pagos Oportunos'!$AC$62=1,0,AO206*'Simulador Pagos Oportunos'!$Y$67+IF('Simulador Pagos Oportunos'!$X$35=3,'Simulador Pagos Oportunos'!$I$49,IF('Simulador Pagos Oportunos'!$X$35=4,'Simulador Pagos Oportunos'!$K$49,IF('Simulador Pagos Oportunos'!$X$35=5,'Simulador Pagos Oportunos'!$M$49,0)))))","v":0},null,{"$f":"AQ206*'Simulador Pagos Oportunos'!$X$59","v":0},0,0,"",0,192]
[193,0,null,0,null,0,null,0,null,null,null,{"$f":"IF('Simulador Pagos Oportunos'!$V$60=1,0,J207*'Simulador Pagos Oportunos'!$O$63*'Simulador Pagos Oportunos'!$W$59)","v":0},null,"",null,0,null,{"$f":"IFERROR(IF(B207<=0,0,B207*'Simulador Pagos Oportunos'!$Y$67),0)","v":0},null,{"$f":"IFERROR(IF(B207<=0,0,IF('Simulador Pagos Oportunos'!$X$35=3,'Simulador Pagos Oportunos'!$I$49,IF('Simulador Pagos Oportunos'!$X$35=4,'Simulador Pagos Oportunos'!$K$49,IF('Simulador Pagos Oportunos'!$X$35=5,'Simulador Pagos Oportunos'!$M$49,0)))),0)","v":0},null,{"$f":"IF(B207<=0,\"\",IF('Simulador Pagos Oportunos'!$V$40=1,'Simulador Pagos Oportunos'!$Z$62,'Simulador Pagos Oportunos'!$Z$62*'Simulador Pagos Oportunos'!$W$59))","v":""},{"$f":"F207*'Simulador Pagos Oportunos'!$X$59","v":0},"",null,{"$f":"IF(B207<=0,0,IF(AND('Simulador Pagos Oportunos'!$V$40=2,'Simulador Pagos Oportunos'!$X$35=4),0,'Simulador Pagos Oportunos'!$AM$48))","v":0},null,16,1,0,0,0,"",{"$f":"IF('Simulador Pagos Oportunos'!$X$35=3,AI207,IF('Simulador Pagos Oportunos'!$X$35=4,AJ207,IF('Simulador Pagos Oportunos'!$X$35=5,AK207,0)))","v":0},null,null,null,0,0,0,0,0,0,{"$f":"+AP207-AQ207","v":0},{"$f":"+AO207-AR207","v":0},{"$f":"IF('Simulador Pagos Oportunos'!$X$35=3,AI207,IF('Simulador Pagos Oportunos'!$X$35=4,AJ207,IF('Simulador Pagos Oportunos'!$X$35=5,AK207,0)))","v":0},{"$f":"IF(AO207<=0,0,IF('Simulador Pagos Oportunos'!$AC$62=1,0,AO207*'Simulador Pagos Oportunos'!$Y$67+IF('Simulador Pagos Oportunos'!$X$35=3,'Simulador Pagos Oportunos'!$I$49,IF('Simulador Pagos Oportunos'!$X$35=4,'Simulador Pagos Oportunos'!$K$49,IF('Simulador Pagos Oportunos'!$X$35=5,'Simulador Pagos Oportunos'!$M$49,0)))))","v":0},{"$f":"IF(AO207<=0,0,$AV$32)","v":0},{"$f":"AQ207*'Simulador Pagos Oportunos'!$X$59","v":0},0,0,"",0,193]
[194,0,null,0,null,{"$f":"IFERROR((N208/360*BA208*B208),0)","v":0},null,0,null,null,null,{"$f":"IF('Simulador Pagos Oportunos'!$V$60=1,0,J208*'Simulador Pagos Oportunos'!$O$63*'Simulador Pagos Oportunos'!$W$59)","v":0},null,{"$f":"IF(B208=0,\"\",AH208)","v":""},null,{"$f":"B208-H208-J208+L208","v":0},null,{"$f":"IFERROR(IF(B208<=0,0,B208*'Simulador Pagos Oportunos'!$Y$67),0)","v":0},null,{"$f":"IFERROR(IF(B208<=0,0,IF('Simulador Pagos Oportunos'!$X$35=3,'Simulador Pagos Oportunos'!$I$49,IF('Simulador Pagos Oportunos'!$X$35=4,'Simulador Pagos Oportunos'!$K$49,IF('Simulador Pagos Oportunos'!$X$35=5,'Simulador Pagos Oportunos'!$M$49,0)))),0)","v":0},null,{"$f":"IF(B208<=0,\"\",IF('Simulador Pagos Oportunos'!$V$40=1,'Simulador Pagos Oportunos'!$Z$62,'Simulador Pagos Oportunos'!$Z$62*'Simulador Pagos Oportunos'!$W$59))","v":""},{"$f":"F208*'Simulador Pagos Oportunos'!$X$59","v":0},{"$f":"IF(B208<=0,\"\",D208+J208+R208+V208+T208+W208)","v":""},null,null,null,16,2,{"$f":"+IF(P208<=0,IF(P207>0,+A208,0),0)","v":0},{"$f":"+IF(AD208>0,+AB208,0)","v":0},{"$f":"+IF(AD208>0,+AC208,0)","v":0},{"$f":"X208","v":""},{"$f":"IF('Simulador Pagos Oportunos'!$X$35=3,AI208,IF('Simulador Pagos Oportunos'!$X$35=4,AJ208,IF('Simulador Pagos Oportunos'!$X$35=5,AK208,0)))","v":0},null,null,null,0,0,{"$f":"IFERROR(AP208/AO208,0)","v":0},0,{"$f":"IFERROR((IF(AO208+AQ208-AP207<0, AO208+AQ208, AP207*(1+AV208))),0)","v":0},{"$f":"IFERROR((AT208/360*BA208*AO208),0)","v":0},0,0,{"$f":"IF('Simulador Pagos Oportunos'!$X$35=3,AI208,IF('Simulador Pagos Oportunos'!$X$35=4,AJ208,IF('Simulador Pagos Oportunos'!$X$35=5,AK208,0)))","v":0},{"$f":"IF(AO208<=0,0,IF('Simulador Pagos Oportunos'!$AC$62=1,0,AO208*'Simulador Pagos Oportunos'!$Y$67+IF('Simulador Pagos Oportunos'!$X$35=3,'Simulador Pagos Oportunos'!$I$49,IF('Simulador Pagos Oportunos'!$X$35=4,'Simulador Pagos Oportunos'!$K$49,IF('Simulador Pagos Oportunos'!$X$35=5,'Simulador Pagos Oportunos'!$M$49,0)))))","v":0},null,{"$f":"AQ208*'Simulador Pagos Oportunos'!$X$59","v":0},{"$f":"AQ208+AR208+AU208","v":0},0,"",{"$f":"IFERROR(DAY(DATE(YEAR(AZ208),MONTH(AZ208)+1,0)),0)","v":0},194]
[195,{"$f":"IF(P208<=0,0,P208)","v":0},null,{"$f":"IF(B209+F209-D208<=0,B209+F209,IF(AND($AR$2=2,J208>0),B209*AV209,D208*(1+Z209)))","v":0},null,0,null,{"$f":"D209-F209","v":0},null,null,null,{"$f":"IF('Simulador Pagos Oportunos'!$V$60=1,0,J209*'Simulador Pagos Oportunos'!$O$63*'Simulador Pagos Oportunos'!$W$59)","v":0},null,"",null,0,null,{"$f":"IFERROR(IF(B209<=0,0,B209*'Simulador Pagos Oportunos'!$Y$67),0)","v":0},null,{"$f":"IFERROR(IF(B209<=0,0,IF('Simulador Pagos Oportunos'!$X$35=3,'Simulador Pagos Oportunos'!$I$49,IF('Simulador Pagos Oportunos'!$X$35=4,'Simulador Pagos Oportunos'!$K$49,IF('Simulador Pagos Oportunos'!$X$35=5,'Simulador Pagos Oportunos'!$M$49,0)))),0)","v":0},null,{"$f":"IF(B209<=0,\"\",IF('Simulador Pagos Oportunos'!$V$40=1,'Simulador Pagos Oportunos'!$Z$62,'Simulador Pagos Oportunos'!$Z$62*'Simulador Pagos Oportunos'!$W$59))","v":""},{"$f":"F209*'Simulador Pagos Oportunos'!$X$59","v":0},"",null,null,null,16,3,0,0,0,"",{"$f":"IF('Simulador Pagos Oportunos'!$X$35=3,AI209,IF('Simulador Pagos Oportunos'!$X$35=4,AJ209,IF('Simulador Pagos Oportunos'!$X$35=5,AK209,0)))","v":0},null,null,null,0,0,0,{"$f":"AS208","v":0},0,0,0,0,{"$f":"IF('Simulador Pagos Oportunos'!$X$35=3,AI209,IF('Simulador Pagos Oportunos'!$X$35=4,AJ209,IF('Simulador Pagos Oportunos'!$X$35=5,AK209,0)))","v":0},{"$f":"IF(AO209<=0,0,IF('Simulador Pagos Oportunos'!$AC$62=1,0,AO209*'Simulador Pagos Oportunos'!$Y$67+IF('Simulador Pagos Oportunos'!$X$35=3,'Simulador Pagos Oportunos'!$I$49,IF('Simulador Pagos Oportunos'!$X$35=4,'Simulador Pagos Oportunos'!$K$49,IF('Simulador Pagos Oportunos'!$X$35=5,'Simulador Pagos Oportunos'!$M$49,0)))))","v":0},null,{"$f":"AQ209*'Simulador Pagos Oportunos'!$X$59","v":0},0,0,{"$f":"IF(AO209=0,\"\",DATE(YEAR(AZ208),MONTH(AZ208)+1,1))","v":""},0,195]
[196,0,null,0,null,0,null,0,null,null,null,{"$f":"IF('Simulador Pagos Oportunos'!$V$60=1,0,J210*'Simulador Pagos Oportunos'!$O$63*'Simulador Pagos Oportunos'!$W$59)","v":0},null,"",null,0,null,{"$f":"IFERROR(IF(B210<=0,0,B210*'Simulador Pagos Oportunos'!$Y$67),0)","v":0},null,{"$f":"IFERROR(IF(B210<=0,0,IF('Simulador Pagos Oportunos'!$X$35=3,'Simulador Pagos Oportunos'!$I$49,IF('Simulador Pagos Oportunos'!$X$35=4,'Simulador Pagos Oportunos'!$K$49,IF('Simulador Pagos Oportunos'!$X$35=5,'Simulador Pagos Oportunos'!$M$49,0)))),0)","v":0},null,{"$f":"IF(B210<=0,\"\",IF('Simulador Pagos Oportunos'!$V$40=1,'Simulador Pagos Oportunos'!$Z$62,'Simulador Pagos Oportunos'!$Z$62*'Simulador Pagos Oportunos'!$W$59))","v":""},{"$f":"F210*'Simulador Pagos Oportunos'!$X$59","v":0},"",null,null,null,16,4,0,0,0,"",{"$f":"IF('Simulador Pagos Oportunos'!$X$35=3,AI210,IF('Simulador Pagos Oportunos'!$X$35=4,AJ210,IF('Simulador Pagos Oportunos'!$X$35=5,AK210,0)))","v":0},null,null,null,0,0,0,0,0,0,0,0,{"$f":"IF('Simulador Pagos Oportunos'!$X$35=3,AI210,IF('Simulador Pagos Oportunos'!$X$35=4,AJ210,IF('Simulador Pagos Oportunos'!$X$35=5,AK210,0)))","v":0},{"$f":"IF(AO210<=0,0,IF('Simulador Pagos Oportunos'!$AC$62=1,0,AO210*'Simulador Pagos Oportunos'!$Y$67+IF('Simulador Pagos Oportunos'!$X$35=3,'Simulador Pagos Oportunos'!$I$49,IF('Simulador Pagos Oportunos'!$X$35=4,'Simulador Pagos Oportunos'!$K$49,IF('Simulador Pagos Oportunos'!$X$35=5,'Simulador Pagos Oportunos'!$M$49,0)))))","v":0},null,{"$f":"AQ210*'Simulador Pagos Oportunos'!$X$59","v":0},0,0,"",0,196]
[197,0,null,0,null,0,null,0,null,null,null,{"$f":"IF('Simulador Pagos Oportunos'!$V$60=1,0,J211*'Simulador Pagos Oportunos'!$O$63*'Simulador Pagos Oportunos'!$W$59)","v":0},null,"",null,0,null,{"$f":"IFERROR(IF(B211<=0,0,B211*'Simulador Pagos Oportunos'!$Y$67),0)","v":0},null,{"$f":"IFERROR(IF(B211<=0,0,IF('Simulador Pagos Oportunos'!$X$35=3,'Simulador Pagos Oportunos'!$I$49,IF('Simulador Pagos Oportunos'!$X$35=4,'Simulador Pagos Oportunos'!$K$49,IF('Simulador Pagos Oportunos'!$X$35=5,'Simulador Pagos Oportunos'!$M$49,0)))),0)","v":0},null,{"$f":"IF(B211<=0,\"\",IF('Simulador Pagos Oportunos'!$V$40=1,'Simulador Pagos Oportunos'!$Z$62,'Simulador Pagos Oportunos'!$Z$62*'Simulador Pagos Oportunos'!$W$59))","v":""},{"$f":"F211*'Simulador Pagos Oportunos'!$X$59","v":0},"",null,null,null,16,5,0,0,0,"",{"$f":"IF('Simulador Pagos Oportunos'!$X$35=3,AI211,IF('Simulador Pagos Oportunos'!$X$35=4,AJ211,IF('Simulador Pagos Oportunos'!$X$35=5,AK211,0)))","v":0},null,null,null,0,0,0,0,0,0,0,0,{"$f":"IF('Simulador Pagos Oportunos'!$X$35=3,AI211,IF('Simulador Pagos Oportunos'!$X$35=4,AJ211,IF('Simulador Pagos Oportunos'!$X$35=5,AK211,0)))","v":0},{"$f":"IF(AO211<=0,0,IF('Simulador Pagos Oportunos'!$AC$62=1,0,AO211*'Simulador Pagos Oportunos'!$Y$67+IF('Simulador Pagos Oportunos'!$X$35=3,'Simulador Pagos Oportunos'!$I$49,IF('Simulador Pagos Oportunos'!$X$35=4,'Simulador Pagos Oportunos'!$K$49,IF('Simulador Pagos Oportunos'!$X$35=5,'Simulador Pagos Oportunos'!$M$49,0)))))","v":0},null,{"$f":"AQ211*'Simulador Pagos Oportunos'!$X$59","v":0},0,0,"",0,197]
[198,0,null,0,null,0,null,0,null,null,null,{"$f":"IF('Simulador Pagos Oportunos'!$V$60=1,0,J212*'Simulador Pagos Oportunos'!$O$63*'Simulador Pagos Oportunos'!$W$59)","v":0},null,"",null,0,null,{"$f":"IFERROR(IF(B212<=0,0,B212*'Simulador Pagos Oportunos'!$Y$67),0)","v":0},null,{"$f":"IFERROR(IF(B212<=0,0,IF('Simulador Pagos Oportunos'!$X$35=3,'Simulador Pagos Oportunos'!$I$49,IF('Simulador Pagos Oportunos'!$X$35=4,'Simulador Pagos Oportunos'!$K$49,IF('Simulador Pagos Oportunos'!$X$35=5,'Simulador Pagos Oportunos'!$M$49,0)))),0)","v":0},null,{"$f":"IF(B212<=0,\"\",IF('Simulador Pagos Oportunos'!$V$40=1,'Simulador Pagos Oportunos'!$Z$62,'Simulador Pagos Oportunos'!$Z$62*'Simulador Pagos Oportunos'!$W$59))","v":""},{"$f":"F212*'Simulador Pagos Oportunos'!$X$59","v":0},"",null,null,null,16,6,0,0,0,"",{"$f":"IF('Simulador Pagos Oportunos'!$X$35=3,AI212,IF('Simulador Pagos Oportunos'!$X$35=4,AJ212,IF('Simulador Pagos Oportunos'!$X$35=5,AK212,0)))","v":0},null,null,null,0,0,0,0,0,0,0,0,{"$f":"IF('Simulador Pagos Oportunos'!$X$35=3,AI212,IF('Simulador Pagos Oportunos'!$X$35=4,AJ212,IF('Simulador Pagos Oportunos'!$X$35=5,AK212,0)))","v":0},{"$f":"IF(AO212<=0,0,IF('Simulador Pagos Oportunos'!$AC$62=1,0,AO212*'Simulador Pagos Oportunos'!$Y$67+IF('Simulador Pagos Oportunos'!$X$35=3,'Simulador Pagos Oportunos'!$I$49,IF('Simulador Pagos Oportunos'!$X$35=4,'Simulador Pagos Oportunos'!$K$49,IF('Simulador Pagos Oportunos'!$X$35=5,'Simulador Pagos Oportunos'!$M$49,0)))))","v":0},null,{"$f":"AQ212*'Simulador Pagos Oportunos'!$X$59","v":0},0,0,"",0,198]
[199,0,null,0,null,0,null,0,null,null,null,{"$f":"IF('Simulador Pagos Oportunos'!$V$60=1,0,J213*'Simulador Pagos Oportunos'!$O$63*'Simulador Pagos Oportunos'!$W$59)","v":0},null,"",null,0,null,{"$f":"IFERROR(IF(B213<=0,0,B213*'Simulador Pagos Oportunos'!$Y$67),0)","v":0},null,{"$f":"IFERROR(IF(B213<=0,0,IF('Simulador Pagos Oportunos'!$X$35=3,'Simulador Pagos Oportunos'!$I$49,IF('Simulador Pagos Oportunos'!$X$35=4,'Simulador Pagos Oportunos'!$K$49,IF('Simulador Pagos Oportunos'!$X$35=5,'Simulador Pagos Oportunos'!$M$49,0)))),0)","v":0},null,{"$f":"IF(B213<=0,\"\",IF('Simulador Pagos Oportunos'!$V$40=1,'Simulador Pagos Oportunos'!$Z$62,'Simulador Pagos Oportunos'!$Z$62*'Simulador Pagos Oportunos'!$W$59))","v":""},{"$f":"F213*'Simulador Pagos Oportunos'!$X$59","v":0},"",null,null,null,16,7,0,0,0,"",{"$f":"IF('Simulador Pagos Oportunos'!$X$35=3,AI213,IF('Simulador Pagos Oportunos'!$X$35=4,AJ213,IF('Simulador Pagos Oportunos'!$X$35=5,AK213,0)))","v":0},null,null,null,0,0,0,0,0,0,0,0,{"$f":"IF('Simulador Pagos Oportunos'!$X$35=3,AI213,IF('Simulador Pagos Oportunos'!$X$35=4,AJ213,IF('Simulador Pagos Oportunos'!$X$35=5,AK213,0)))","v":0},{"$f":"IF(AO213<=0,0,IF('Simulador Pagos Oportunos'!$AC$62=1,0,AO213*'Simulador Pagos Oportunos'!$Y$67+IF('Simulador Pagos Oportunos'!$X$35=3,'Simulador Pagos Oportunos'!$I$49,IF('Simulador Pagos Oportunos'!$X$35=4,'Simulador Pagos Oportunos'!$K$49,IF('Simulador Pagos Oportunos'!$X$35=5,'Simulador Pagos Oportunos'!$M$49,0)))))","v":0},null,{"$f":"AQ213*'Simulador Pagos Oportunos'!$X$59","v":0},0,0,"",0,199]
[200,0,null,0,null,0,null,0,null,null,null,{"$f":"IF('Simulador Pagos Oportunos'!$V$60=1,0,J214*'Simulador Pagos Oportunos'!$O$63*'Simulador Pagos Oportunos'!$W$59)","v":0},null,"",null,0,null,{"$f":"IFERROR(IF(B214<=0,0,B214*'Simulador Pagos Oportunos'!$Y$67),0)","v":0},null,{"$f":"IFERROR(IF(B214<=0,0,IF('Simulador Pagos Oportunos'!$X$35=3,'Simulador Pagos Oportunos'!$I$49,IF('Simulador Pagos Oportunos'!$X$35=4,'Simulador Pagos Oportunos'!$K$49,IF('Simulador Pagos Oportunos'!$X$35=5,'Simulador Pagos Oportunos'!$M$49,0)))),0)","v":0},null,{"$f":"IF(B214<=0,\"\",IF('Simulador Pagos Oportunos'!$V$40=1,'Simulador Pagos Oportunos'!$Z$62,'Simulador Pagos Oportunos'!$Z$62*'Simulador Pagos Oportunos'!$W$59))","v":""},{"$f":"F214*'Simulador Pagos Oportunos'!$X$59","v":0},"",null,null,null,16,8,0,0,0,"",{"$f":"IF('Simulador Pagos Oportunos'!$X$35=3,AI214,IF('Simulador Pagos Oportunos'!$X$35=4,AJ214,IF('Simulador Pagos Oportunos'!$X$35=5,AK214,0)))","v":0},null,null,null,0,0,0,0,0,0,0,0,{"$f":"IF('Simulador Pagos Oportunos'!$X$35=3,AI214,IF('Simulador Pagos Oportunos'!$X$35=4,AJ214,IF('Simulador Pagos Oportunos'!$X$35=5,AK214,0)))","v":0},{"$f":"IF(AO214<=0,0,IF('Simulador Pagos Oportunos'!$AC$62=1,0,AO214*'Simulador Pagos Oportunos'!$Y$67+IF('Simulador Pagos Oportunos'!$X$35=3,'Simulador Pagos Oportunos'!$I$49,IF('Simulador Pagos Oportunos'!$X$35=4,'Simulador Pagos Oportunos'!$K$49,IF('Simulador Pagos Oportunos'!$X$35=5,'Simulador Pagos Oportunos'!$M$49,0)))))","v":0},null,{"$f":"AQ214*'Simulador Pagos Oportunos'!$X$59","v":0},0,0,"",0,200]
[201,0,null,0,null,0,null,0,null,null,null,{"$f":"IF('Simulador Pagos Oportunos'!$V$60=1,0,J215*'Simulador Pagos Oportunos'!$O$63*'Simulador Pagos Oportunos'!$W$59)","v":0},null,"",null,0,null,{"$f":"IFERROR(IF(B215<=0,0,B215*'Simulador Pagos Oportunos'!$Y$67),0)","v":0},null,{"$f":"IFERROR(IF(B215<=0,0,IF('Simulador Pagos Oportunos'!$X$35=3,'Simulador Pagos Oportunos'!$I$49,IF('Simulador Pagos Oportunos'!$X$35=4,'Simulador Pagos Oportunos'!$K$49,IF('Simulador Pagos Oportunos'!$X$35=5,'Simulador Pagos Oportunos'!$M$49,0)))),0)","v":0},null,{"$f":"IF(B215<=0,\"\",IF('Simulador Pagos Oportunos'!$V$40=1,'Simulador Pagos Oportunos'!$Z$62,'Simulador Pagos Oportunos'!$Z$62*'Simulador Pagos Oportunos'!$W$59))","v":""},{"$f":"F215*'Simulador Pagos Oportunos'!$X$59","v":0},"",null,null,null,16,9,0,0,0,"",{"$f":"IF('Simulador Pagos Oportunos'!$X$35=3,AI215,IF('Simulador Pagos Oportunos'!$X$35=4,AJ215,IF('Simulador Pagos Oportunos'!$X$35=5,AK215,0)))","v":0},null,null,null,0,0,0,0,0,0,0,0,{"$f":"IF('Simulador Pagos Oportunos'!$X$35=3,AI215,IF('Simulador Pagos Oportunos'!$X$35=4,AJ215,IF('Simulador Pagos Oportunos'!$X$35=5,AK215,0)))","v":0},{"$f":"IF(AO215<=0,0,IF('Simulador Pagos Oportunos'!$AC$62=1,0,AO215*'Simulador Pagos Oportunos'!$Y$67+IF('Simulador Pagos Oportunos'!$X$35=3,'Simulador Pagos Oportunos'!$I$49,IF('Simulador Pagos Oportunos'!$X$35=4,'Simulador Pagos Oportunos'!$K$49,IF('Simulador Pagos Oportunos'!$X$35=5,'Simulador Pagos Oportunos'!$M$49,0)))))","v":0},null,{"$f":"AQ215*'Simulador Pagos Oportunos'!$X$59","v":0},0,0,"",0,201]
[202,0,null,0,null,0,null,0,null,null,null,{"$f":"IF('Simulador Pagos Oportunos'!$V$60=1,0,J216*'Simulador Pagos Oportunos'!$O$63*'Simulador Pagos Oportunos'!$W$59)","v":0},null,"",null,0,null,{"$f":"IFERROR(IF(B216<=0,0,B216*'Simulador Pagos Oportunos'!$Y$67),0)","v":0},null,{"$f":"IFERROR(IF(B216<=0,0,IF('Simulador Pagos Oportunos'!$X$35=3,'Simulador Pagos Oportunos'!$I$49,IF('Simulador Pagos Oportunos'!$X$35=4,'Simulador Pagos Oportunos'!$K$49,IF('Simulador Pagos Oportunos'!$X$35=5,'Simulador Pagos Oportunos'!$M$49,0)))),0)","v":0},null,{"$f":"IF(B216<=0,\"\",IF('Simulador Pagos Oportunos'!$V$40=1,'Simulador Pagos Oportunos'!$Z$62,'Simulador Pagos Oportunos'!$Z$62*'Simulador Pagos Oportunos'!$W$59))","v":""},{"$f":"F216*'Simulador Pagos Oportunos'!$X$59","v":0},"",null,null,null,16,10,0,0,0,"",{"$f":"IF('Simulador Pagos Oportunos'!$X$35=3,AI216,IF('Simulador Pagos Oportunos'!$X$35=4,AJ216,IF('Simulador Pagos Oportunos'!$X$35=5,AK216,0)))","v":0},null,null,null,0,0,0,0,0,0,0,0,{"$f":"IF('Simulador Pagos Oportunos'!$X$35=3,AI216,IF('Simulador Pagos Oportunos'!$X$35=4,AJ216,IF('Simulador Pagos Oportunos'!$X$35=5,AK216,0)))","v":0},{"$f":"IF(AO216<=0,0,IF('Simulador Pagos Oportunos'!$AC$62=1,0,AO216*'Simulador Pagos Oportunos'!$Y$67+IF('Simulador Pagos Oportunos'!$X$35=3,'Simulador Pagos Oportunos'!$I$49,IF('Simulador Pagos Oportunos'!$X$35=4,'Simulador Pagos Oportunos'!$K$49,IF('Simulador Pagos Oportunos'!$X$35=5,'Simulador Pagos Oportunos'!$M$49,0)))))","v":0},null,{"$f":"AQ216*'Simulador Pagos Oportunos'!$X$59","v":0},0,0,"",0,202]
[203,0,null,0,null,0,null,0,null,null,null,{"$f":"IF('Simulador Pagos Oportunos'!$V$60=1,0,J217*'Simulador Pagos Oportunos'!$O$63*'Simulador Pagos Oportunos'!$W$59)","v":0},null,"",null,0,null,{"$f":"IFERROR(IF(B217<=0,0,B217*'Simulador Pagos Oportunos'!$Y$67),0)","v":0},null,{"$f":"IFERROR(IF(B217<=0,0,IF('Simulador Pagos Oportunos'!$X$35=3,'Simulador Pagos Oportunos'!$I$49,IF('Simulador Pagos Oportunos'!$X$35=4,'Simulador Pagos Oportunos'!$K$49,IF('Simulador Pagos Oportunos'!$X$35=5,'Simulador Pagos Oportunos'!$M$49,0)))),0)","v":0},null,{"$f":"IF(B217<=0,\"\",IF('Simulador Pagos Oportunos'!$V$40=1,'Simulador Pagos Oportunos'!$Z$62,'Simulador Pagos Oportunos'!$Z$62*'Simulador Pagos Oportunos'!$W$59))","v":""},{"$f":"F217*'Simulador Pagos Oportunos'!$X$59","v":0},"",null,null,null,16,11,0,0,0,"",{"$f":"IF('Simulador Pagos Oportunos'!$X$35=3,AI217,IF('Simulador Pagos Oportunos'!$X$35=4,AJ217,IF('Simulador Pagos Oportunos'!$X$35=5,AK217,0)))","v":0},null,null,null,0,0,0,0,0,0,0,0,{"$f":"IF('Simulador Pagos Oportunos'!$X$35=3,AI217,IF('Simulador Pagos Oportunos'!$X$35=4,AJ217,IF('Simulador Pagos Oportunos'!$X$35=5,AK217,0)))","v":0},{"$f":"IF(AO217<=0,0,IF('Simulador Pagos Oportunos'!$AC$62=1,0,AO217*'Simulador Pagos Oportunos'!$Y$67+IF('Simulador Pagos Oportunos'!$X$35=3,'Simulador Pagos Oportunos'!$I$49,IF('Simulador Pagos Oportunos'!$X$35=4,'Simulador Pagos Oportunos'!$K$49,IF('Simulador Pagos Oportunos'!$X$35=5,'Simulador Pagos Oportunos'!$M$49,0)))))","v":0},null,{"$f":"AQ217*'Simulador Pagos Oportunos'!$X$59","v":0},0,0,"",0,203]
[204,0,null,0,null,0,null,0,null,null,null,{"$f":"IF('Simulador Pagos Oportunos'!$V$60=1,0,J218*'Simulador Pagos Oportunos'!$O$63*'Simulador Pagos Oportunos'!$W$59)","v":0},null,"",null,0,null,{"$f":"IFERROR(IF(B218<=0,0,B218*'Simulador Pagos Oportunos'!$Y$67),0)","v":0},null,{"$f":"IFERROR(IF(B218<=0,0,IF('Simulador Pagos Oportunos'!$X$35=3,'Simulador Pagos Oportunos'!$I$49,IF('Simulador Pagos Oportunos'!$X$35=4,'Simulador Pagos Oportunos'!$K$49,IF('Simulador Pagos Oportunos'!$X$35=5,'Simulador Pagos Oportunos'!$M$49,0)))),0)","v":0},null,{"$f":"IF(B218<=0,\"\",IF('Simulador Pagos Oportunos'!$V$40=1,'Simulador Pagos Oportunos'!$Z$62,'Simulador Pagos Oportunos'!$Z$62*'Simulador Pagos Oportunos'!$W$59))","v":""},{"$f":"F218*'Simulador Pagos Oportunos'!$X$59","v":0},"",null,null,null,17,0,0,0,0,"",{"$f":"IF('Simulador Pagos Oportunos'!$X$35=3,AI218,IF('Simulador Pagos Oportunos'!$X$35=4,AJ218,IF('Simulador Pagos Oportunos'!$X$35=5,AK218,0)))","v":0},null,null,null,0,0,0,0,0,0,0,0,{"$f":"IF('Simulador Pagos Oportunos'!$X$35=3,AI218,IF('Simulador Pagos Oportunos'!$X$35=4,AJ218,IF('Simulador Pagos Oportunos'!$X$35=5,AK218,0)))","v":0},{"$f":"IF(AO218<=0,0,IF('Simulador Pagos Oportunos'!$AC$62=1,0,AO218*'Simulador Pagos Oportunos'!$Y$67+IF('Simulador Pagos Oportunos'!$X$35=3,'Simulador Pagos Oportunos'!$I$49,IF('Simulador Pagos Oportunos'!$X$35=4,'Simulador Pagos Oportunos'!$K$49,IF('Simulador Pagos Oportunos'!$X$35=5,'Simulador Pagos Oportunos'!$M$49,0)))))","v":0},null,{"$f":"AQ218*'Simulador Pagos Oportunos'!$X$59","v":0},0,0,"",0,204]
[205,0,null,0,null,0,null,0,null,null,null,{"$f":"IF('Simulador Pagos Oportunos'!$V$60=1,0,J219*'Simulador Pagos Oportunos'!$O$63*'Simulador Pagos Oportunos'!$W$59)","v":0},null,"",null,0,null,{"$f":"IFERROR(IF(B219<=0,0,B219*'Simulador Pagos Oportunos'!$Y$67),0)","v":0},null,{"$f":"IFERROR(IF(B219<=0,0,IF('Simulador Pagos Oportunos'!$X$35=3,'Simulador Pagos Oportunos'!$I$49,IF('Simulador Pagos Oportunos'!$X$35=4,'Simulador Pagos Oportunos'!$K$49,IF('Simulador Pagos Oportunos'!$X$35=5,'Simulador Pagos Oportunos'!$M$49,0)))),0)","v":0},null,{"$f":"IF(B219<=0,\"\",IF('Simulador Pagos Oportunos'!$V$40=1,'Simulador Pagos Oportunos'!$Z$62,'Simulador Pagos Oportunos'!$Z$62*'Simulador Pagos Oportunos'!$W$59))","v":""},{"$f":"F219*'Simulador Pagos Oportunos'!$X$59","v":0},"",null,{"$f":"IF(B219<=0,0,IF(AND('Simulador Pagos Oportunos'!$V$40=2,'Simulador Pagos Oportunos'!$X$35=4),0,'Simulador Pagos Oportunos'!$AM$48))","v":0},null,17,1,0,0,0,"",{"$f":"IF('Simulador Pagos Oportunos'!$X$35=3,AI219,IF('Simulador Pagos Oportunos'!$X$35=4,AJ219,IF('Simulador Pagos Oportunos'!$X$35=5,AK219,0)))","v":0},null,null,null,0,0,0,0,0,0,0,0,{"$f":"IF('Simulador Pagos Oportunos'!$X$35=3,AI219,IF('Simulador Pagos Oportunos'!$X$35=4,AJ219,IF('Simulador Pagos Oportunos'!$X$35=5,AK219,0)))","v":0},{"$f":"IF(AO219<=0,0,IF('Simulador Pagos Oportunos'!$AC$62=1,0,AO219*'Simulador Pagos Oportunos'!$Y$67+IF('Simulador Pagos Oportunos'!$X$35=3,'Simulador Pagos Oportunos'!$I$49,IF('Simulador Pagos Oportunos'!$X$35=4,'Simulador Pagos Oportunos'!$K$49,IF('Simulador Pagos Oportunos'!$X$35=5,'Simulador Pagos Oportunos'!$M$49,0)))))","v":0},{"$f":"IF(AO219<=0,0,$AV$32)","v":0},{"$f":"AQ219*'Simulador Pagos Oportunos'!$X$59","v":0},0,0,"",0,205]
[206,0,null,0,null,0,null,0,null,null,null,{"$f":"IF('Simulador Pagos Oportunos'!$V$60=1,0,J220*'Simulador Pagos Oportunos'!$O$63*'Simulador Pagos Oportunos'!$W$59)","v":0},null,"",null,0,null,{"$f":"IFERROR(IF(B220<=0,0,B220*'Simulador Pagos Oportunos'!$Y$67),0)","v":0},null,{"$f":"IFERROR(IF(B220<=0,0,IF('Simulador Pagos Oportunos'!$X$35=3,'Simulador Pagos Oportunos'!$I$49,IF('Simulador Pagos Oportunos'!$X$35=4,'Simulador Pagos Oportunos'!$K$49,IF('Simulador Pagos Oportunos'!$X$35=5,'Simulador Pagos Oportunos'!$M$49,0)))),0)","v":0},null,{"$f":"IF(B220<=0,\"\",IF('Simulador Pagos Oportunos'!$V$40=1,'Simulador Pagos Oportunos'!$Z$62,'Simulador Pagos Oportunos'!$Z$62*'Simulador Pagos Oportunos'!$W$59))","v":""},{"$f":"F220*'Simulador Pagos Oportunos'!$X$59","v":0},"",null,null,null,17,2,0,0,0,"",{"$f":"IF('Simulador Pagos Oportunos'!$X$35=3,AI220,IF('Simulador Pagos Oportunos'!$X$35=4,AJ220,IF('Simulador Pagos Oportunos'!$X$35=5,AK220,0)))","v":0},null,null,null,0,0,0,0,0,0,0,0,{"$f":"IF('Simulador Pagos Oportunos'!$X$35=3,AI220,IF('Simulador Pagos Oportunos'!$X$35=4,AJ220,IF('Simulador Pagos Oportunos'!$X$35=5,AK220,0)))","v":0},{"$f":"IF(AO220<=0,0,IF('Simulador Pagos Oportunos'!$AC$62=1,0,AO220*'Simulador Pagos Oportunos'!$Y$67+IF('Simulador Pagos Oportunos'!$X$35=3,'Simulador Pagos Oportunos'!$I$49,IF('Simulador Pagos Oportunos'!$X$35=4,'Simulador Pagos Oportunos'!$K$49,IF('Simulador Pagos Oportunos'!$X$35=5,'Simulador Pagos Oportunos'!$M$49,0)))))","v":0},null,{"$f":"AQ220*'Simulador Pagos Oportunos'!$X$59","v":0},0,0,"",0,206]
[207,0,null,0,null,0,null,0,null,null,null,{"$f":"IF('Simulador Pagos Oportunos'!$V$60=1,0,J221*'Simulador Pagos Oportunos'!$O$63*'Simulador Pagos Oportunos'!$W$59)","v":0},null,"",null,0,null,{"$f":"IFERROR(IF(B221<=0,0,B221*'Simulador Pagos Oportunos'!$Y$67),0)","v":0},null,{"$f":"IFERROR(IF(B221<=0,0,IF('Simulador Pagos Oportunos'!$X$35=3,'Simulador Pagos Oportunos'!$I$49,IF('Simulador Pagos Oportunos'!$X$35=4,'Simulador Pagos Oportunos'!$K$49,IF('Simulador Pagos Oportunos'!$X$35=5,'Simulador Pagos Oportunos'!$M$49,0)))),0)","v":0},null,{"$f":"IF(B221<=0,\"\",IF('Simulador Pagos Oportunos'!$V$40=1,'Simulador Pagos Oportunos'!$Z$62,'Simulador Pagos Oportunos'!$Z$62*'Simulador Pagos Oportunos'!$W$59))","v":""},{"$f":"F221*'Simulador Pagos Oportunos'!$X$59","v":0},"",null,null,null,17,3,0,0,0,"",{"$f":"IF('Simulador Pagos Oportunos'!$X$35=3,AI221,IF('Simulador Pagos Oportunos'!$X$35=4,AJ221,IF('Simulador Pagos Oportunos'!$X$35=5,AK221,0)))","v":0},null,null,null,0,0,0,0,0,0,0,0,{"$f":"IF('Simulador Pagos Oportunos'!$X$35=3,AI221,IF('Simulador Pagos Oportunos'!$X$35=4,AJ221,IF('Simulador Pagos Oportunos'!$X$35=5,AK221,0)))","v":0},{"$f":"IF(AO221<=0,0,IF('Simulador Pagos Oportunos'!$AC$62=1,0,AO221*'Simulador Pagos Oportunos'!$Y$67+IF('Simulador Pagos Oportunos'!$X$35=3,'Simulador Pagos Oportunos'!$I$49,IF('Simulador Pagos Oportunos'!$X$35=4,'Simulador Pagos Oportunos'!$K$49,IF('Simulador Pagos Oportunos'!$X$35=5,'Simulador Pagos Oportunos'!$M$49,0)))))","v":0},null,{"$f":"AQ221*'Simulador Pagos Oportunos'!$X$59","v":0},0,0,"",0,207]
[208,0,null,0,null,0,null,0,null,null,null,{"$f":"IF('Simulador Pagos Oportunos'!$V$60=1,0,J222*'Simulador Pagos Oportunos'!$O$63*'Simulador Pagos Oportunos'!$W$59)","v":0},null,"",null,0,null,{"$f":"IFERROR(IF(B222<=0,0,B222*'Simulador Pagos Oportunos'!$Y$67),0)","v":0},null,{"$f":"IFERROR(IF(B222<=0,0,IF('Simulador Pagos Oportunos'!$X$35=3,'Simulador Pagos Oportunos'!$I$49,IF('Simulador Pagos Oportunos'!$X$35=4,'Simulador Pagos Oportunos'!$K$49,IF('Simulador Pagos Oportunos'!$X$35=5,'Simulador Pagos Oportunos'!$M$49,0)))),0)","v":0},null,{"$f":"IF(B222<=0,\"\",IF('Simulador Pagos Oportunos'!$V$40=1,'Simulador Pagos Oportunos'!$Z$62,'Simulador Pagos Oportunos'!$Z$62*'Simulador Pagos Oportunos'!$W$59))","v":""},{"$f":"F222*'Simulador Pagos Oportunos'!$X$59","v":0},"",null,null,null,17,4,0,0,0,"",{"$f":"IF('Simulador Pagos Oportunos'!$X$35=3,AI222,IF('Simulador Pagos Oportunos'!$X$35=4,AJ222,IF('Simulador Pagos Oportunos'!$X$35=5,AK222,0)))","v":0},null,null,null,0,0,0,0,0,0,0,0,{"$f":"IF('Simulador Pagos Oportunos'!$X$35=3,AI222,IF('Simulador Pagos Oportunos'!$X$35=4,AJ222,IF('Simulador Pagos Oportunos'!$X$35=5,AK222,0)))","v":0},{"$f":"IF(AO222<=0,0,IF('Simulador Pagos Oportunos'!$AC$62=1,0,AO222*'Simulador Pagos Oportunos'!$Y$67+IF('Simulador Pagos Oportunos'!$X$35=3,'Simulador Pagos Oportunos'!$I$49,IF('Simulador Pagos Oportunos'!$X$35=4,'Simulador Pagos Oportunos'!$K$49,IF('Simulador Pagos Oportunos'!$X$35=5,'Simulador Pagos Oportunos'!$M$49,0)))))","v":0},null,{"$f":"AQ222*'Simulador Pagos Oportunos'!$X$59","v":0},0,0,"",0,208]
[209,0,null,0,null,0,null,0,null,null,null,{"$f":"IF('Simulador Pagos Oportunos'!$V$60=1,0,J223*'Simulador Pagos Oportunos'!$O$63*'Simulador Pagos Oportunos'!$W$59)","v":0},null,"",null,0,null,{"$f":"IFERROR(IF(B223<=0,0,B223*'Simulador Pagos Oportunos'!$Y$67),0)","v":0},null,{"$f":"IFERROR(IF(B223<=0,0,IF('Simulador Pagos Oportunos'!$X$35=3,'Simulador Pagos Oportunos'!$I$49,IF('Simulador Pagos Oportunos'!$X$35=4,'Simulador Pagos Oportunos'!$K$49,IF('Simulador Pagos Oportunos'!$X$35=5,'Simulador Pagos Oportunos'!$M$49,0)))),0)","v":0},null,{"$f":"IF(B223<=0,\"\",IF('Simulador Pagos Oportunos'!$V$40=1,'Simulador Pagos Oportunos'!$Z$62,'Simulador Pagos Oportunos'!$Z$62*'Simulador Pagos Oportunos'!$W$59))","v":""},{"$f":"F223*'Simulador Pagos Oportunos'!$X$59","v":0},"",null,null,null,17,5,0,0,0,"",{"$f":"IF('Simulador Pagos Oportunos'!$X$35=3,AI223,IF('Simulador Pagos Oportunos'!$X$35=4,AJ223,IF('Simulador Pagos Oportunos'!$X$35=5,AK223,0)))","v":0},null,null,null,0,0,0,0,0,0,0,0,{"$f":"IF('Simulador Pagos Oportunos'!$X$35=3,AI223,IF('Simulador Pagos Oportunos'!$X$35=4,AJ223,IF('Simulador Pagos Oportunos'!$X$35=5,AK223,0)))","v":0},{"$f":"IF(AO223<=0,0,IF('Simulador Pagos Oportunos'!$AC$62=1,0,AO223*'Simulador Pagos Oportunos'!$Y$67+IF('Simulador Pagos Oportunos'!$X$35=3,'Simulador Pagos Oportunos'!$I$49,IF('Simulador Pagos Oportunos'!$X$35=4,'Simulador Pagos Oportunos'!$K$49,IF('Simulador Pagos Oportunos'!$X$35=5,'Simulador Pagos Oportunos'!$M$49,0)))))","v":0},null,{"$f":"AQ223*'Simulador Pagos Oportunos'!$X$59","v":0},0,0,"",0,209]
[210,0,null,0,null,0,null,0,null,null,null,{"$f":"IF('Simulador Pagos Oportunos'!$V$60=1,0,J224*'Simulador Pagos Oportunos'!$O$63*'Simulador Pagos Oportunos'!$W$59)","v":0},null,"",null,0,null,{"$f":"IFERROR(IF(B224<=0,0,B224*'Simulador Pagos Oportunos'!$Y$67),0)","v":0},null,{"$f":"IFERROR(IF(B224<=0,0,IF('Simulador Pagos Oportunos'!$X$35=3,'Simulador Pagos Oportunos'!$I$49,IF('Simulador Pagos Oportunos'!$X$35=4,'Simulador Pagos Oportunos'!$K$49,IF('Simulador Pagos Oportunos'!$X$35=5,'Simulador Pagos Oportunos'!$M$49,0)))),0)","v":0},null,{"$f":"IF(B224<=0,\"\",IF('Simulador Pagos Oportunos'!$V$40=1,'Simulador Pagos Oportunos'!$Z$62,'Simulador Pagos Oportunos'!$Z$62*'Simulador Pagos Oportunos'!$W$59))","v":""},{"$f":"F224*'Simulador Pagos Oportunos'!$X$59","v":0},"",null,null,null,17,6,0,0,0,"",{"$f":"IF('Simulador Pagos Oportunos'!$X$35=3,AI224,IF('Simulador Pagos Oportunos'!$X$35=4,AJ224,IF('Simulador Pagos Oportunos'!$X$35=5,AK224,0)))","v":0},null,null,null,0,0,0,0,0,0,0,0,{"$f":"IF('Simulador Pagos Oportunos'!$X$35=3,AI224,IF('Simulador Pagos Oportunos'!$X$35=4,AJ224,IF('Simulador Pagos Oportunos'!$X$35=5,AK224,0)))","v":0},{"$f":"IF(AO224<=0,0,IF('Simulador Pagos Oportunos'!$AC$62=1,0,AO224*'Simulador Pagos Oportunos'!$Y$67+IF('Simulador Pagos Oportunos'!$X$35=3,'Simulador Pagos Oportunos'!$I$49,IF('Simulador Pagos Oportunos'!$X$35=4,'Simulador Pagos Oportunos'!$K$49,IF('Simulador Pagos Oportunos'!$X$35=5,'Simulador Pagos Oportunos'!$M$49,0)))))","v":0},null,{"$f":"AQ224*'Simulador Pagos Oportunos'!$X$59","v":0},0,0,"",0,210]
[211,0,null,0,null,0,null,0,null,null,null,{"$f":"IF('Simulador Pagos Oportunos'!$V$60=1,0,J225*'Simulador Pagos Oportunos'!$O$63*'Simulador Pagos Oportunos'!$W$59)","v":0},null,"",null,0,null,{"$f":"IFERROR(IF(B225<=0,0,B225*'Simulador Pagos Oportunos'!$Y$67),0)","v":0},null,{"$f":"IFERROR(IF(B225<=0,0,IF('Simulador Pagos Oportunos'!$X$35=3,'Simulador Pagos Oportunos'!$I$49,IF('Simulador Pagos Oportunos'!$X$35=4,'Simulador Pagos Oportunos'!$K$49,IF('Simulador Pagos Oportunos'!$X$35=5,'Simulador Pagos Oportunos'!$M$49,0)))),0)","v":0},null,{"$f":"IF(B225<=0,\"\",IF('Simulador Pagos Oportunos'!$V$40=1,'Simulador Pagos Oportunos'!$Z$62,'Simulador Pagos Oportunos'!$Z$62*'Simulador Pagos Oportunos'!$W$59))","v":""},{"$f":"F225*'Simulador Pagos Oportunos'!$X$59","v":0},"",null,null,null,17,7,0,0,0,"",{"$f":"IF('Simulador Pagos Oportunos'!$X$35=3,AI225,IF('Simulador Pagos Oportunos'!$X$35=4,AJ225,IF('Simulador Pagos Oportunos'!$X$35=5,AK225,0)))","v":0},null,null,null,0,0,0,0,0,0,0,0,{"$f":"IF('Simulador Pagos Oportunos'!$X$35=3,AI225,IF('Simulador Pagos Oportunos'!$X$35=4,AJ225,IF('Simulador Pagos Oportunos'!$X$35=5,AK225,0)))","v":0},{"$f":"IF(AO225<=0,0,IF('Simulador Pagos Oportunos'!$AC$62=1,0,AO225*'Simulador Pagos Oportunos'!$Y$67+IF('Simulador Pagos Oportunos'!$X$35=3,'Simulador Pagos Oportunos'!$I$49,IF('Simulador Pagos Oportunos'!$X$35=4,'Simulador Pagos Oportunos'!$K$49,IF('Simulador Pagos Oportunos'!$X$35=5,'Simulador Pagos Oportunos'!$M$49,0)))))","v":0},null,{"$f":"AQ225*'Simulador Pagos Oportunos'!$X$59","v":0},0,0,"",0,211]
[212,0,null,0,null,0,null,0,null,null,null,{"$f":"IF('Simulador Pagos Oportunos'!$V$60=1,0,J226*'Simulador Pagos Oportunos'!$O$63*'Simulador Pagos Oportunos'!$W$59)","v":0},null,"",null,0,null,{"$f":"IFERROR(IF(B226<=0,0,B226*'Simulador Pagos Oportunos'!$Y$67),0)","v":0},null,{"$f":"IFERROR(IF(B226<=0,0,IF('Simulador Pagos Oportunos'!$X$35=3,'Simulador Pagos Oportunos'!$I$49,IF('Simulador Pagos Oportunos'!$X$35=4,'Simulador Pagos Oportunos'!$K$49,IF('Simulador Pagos Oportunos'!$X$35=5,'Simulador Pagos Oportunos'!$M$49,0)))),0)","v":0},null,{"$f":"IF(B226<=0,\"\",IF('Simulador Pagos Oportunos'!$V$40=1,'Simulador Pagos Oportunos'!$Z$62,'Simulador Pagos Oportunos'!$Z$62*'Simulador Pagos Oportunos'!$W$59))","v":""},{"$f":"F226*'Simulador Pagos Oportunos'!$X$59","v":0},"",null,null,null,17,8,0,0,0,"",{"$f":"IF('Simulador Pagos Oportunos'!$X$35=3,AI226,IF('Simulador Pagos Oportunos'!$X$35=4,AJ226,IF('Simulador Pagos Oportunos'!$X$35=5,AK226,0)))","v":0},null,null,null,0,0,0,0,0,0,0,0,{"$f":"IF('Simulador Pagos Oportunos'!$X$35=3,AI226,IF('Simulador Pagos Oportunos'!$X$35=4,AJ226,IF('Simulador Pagos Oportunos'!$X$35=5,AK226,0)))","v":0},{"$f":"IF(AO226<=0,0,IF('Simulador Pagos Oportunos'!$AC$62=1,0,AO226*'Simulador Pagos Oportunos'!$Y$67+IF('Simulador Pagos Oportunos'!$X$35=3,'Simulador Pagos Oportunos'!$I$49,IF('Simulador Pagos Oportunos'!$X$35=4,'Simulador Pagos Oportunos'!$K$49,IF('Simulador Pagos Oportunos'!$X$35=5,'Simulador Pagos Oportunos'!$M$49,0)))))","v":0},null,{"$f":"AQ226*'Simulador Pagos Oportunos'!$X$59","v":0},0,0,"",0,212]
[213,0,null,0,null,0,null,0,null,null,null,{"$f":"IF('Simulador Pagos Oportunos'!$V$60=1,0,J227*'Simulador Pagos Oportunos'!$O$63*'Simulador Pagos Oportunos'!$W$59)","v":0},null,"",null,0,null,{"$f":"IFERROR(IF(B227<=0,0,B227*'Simulador Pagos Oportunos'!$Y$67),0)","v":0},null,{"$f":"IFERROR(IF(B227<=0,0,IF('Simulador Pagos Oportunos'!$X$35=3,'Simulador Pagos Oportunos'!$I$49,IF('Simulador Pagos Oportunos'!$X$35=4,'Simulador Pagos Oportunos'!$K$49,IF('Simulador Pagos Oportunos'!$X$35=5,'Simulador Pagos Oportunos'!$M$49,0)))),0)","v":0},null,{"$f":"IF(B227<=0,\"\",IF('Simulador Pagos Oportunos'!$V$40=1,'Simulador Pagos Oportunos'!$Z$62,'Simulador Pagos Oportunos'!$Z$62*'Simulador Pagos Oportunos'!$W$59))","v":""},{"$f":"F227*'Simulador Pagos Oportunos'!$X$59","v":0},"",null,null,null,17,9,0,0,0,"",{"$f":"IF('Simulador Pagos Oportunos'!$X$35=3,AI227,IF('Simulador Pagos Oportunos'!$X$35=4,AJ227,IF('Simulador Pagos Oportunos'!$X$35=5,AK227,0)))","v":0},null,null,null,0,0,0,0,0,0,0,0,{"$f":"IF('Simulador Pagos Oportunos'!$X$35=3,AI227,IF('Simulador Pagos Oportunos'!$X$35=4,AJ227,IF('Simulador Pagos Oportunos'!$X$35=5,AK227,0)))","v":0},{"$f":"IF(AO227<=0,0,IF('Simulador Pagos Oportunos'!$AC$62=1,0,AO227*'Simulador Pagos Oportunos'!$Y$67+IF('Simulador Pagos Oportunos'!$X$35=3,'Simulador Pagos Oportunos'!$I$49,IF('Simulador Pagos Oportunos'!$X$35=4,'Simulador Pagos Oportunos'!$K$49,IF('Simulador Pagos Oportunos'!$X$35=5,'Simulador Pagos Oportunos'!$M$49,0)))))","v":0},null,{"$f":"AQ227*'Simulador Pagos Oportunos'!$X$59","v":0},0,0,"",0,213]
[214,0,null,0,null,0,null,0,null,null,null,{"$f":"IF('Simulador Pagos Oportunos'!$V$60=1,0,J228*'Simulador Pagos Oportunos'!$O$63*'Simulador Pagos Oportunos'!$W$59)","v":0},null,"",null,0,null,{"$f":"IFERROR(IF(B228<=0,0,B228*'Simulador Pagos Oportunos'!$Y$67),0)","v":0},null,{"$f":"IFERROR(IF(B228<=0,0,IF('Simulador Pagos Oportunos'!$X$35=3,'Simulador Pagos Oportunos'!$I$49,IF('Simulador Pagos Oportunos'!$X$35=4,'Simulador Pagos Oportunos'!$K$49,IF('Simulador Pagos Oportunos'!$X$35=5,'Simulador Pagos Oportunos'!$M$49,0)))),0)","v":0},null,{"$f":"IF(B228<=0,\"\",IF('Simulador Pagos Oportunos'!$V$40=1,'Simulador Pagos Oportunos'!$Z$62,'Simulador Pagos Oportunos'!$Z$62*'Simulador Pagos Oportunos'!$W$59))","v":""},{"$f":"F228*'Simulador Pagos Oportunos'!$X$59","v":0},"",null,null,null,17,10,0,0,0,"",{"$f":"IF('Simulador Pagos Oportunos'!$X$35=3,AI228,IF('Simulador Pagos Oportunos'!$X$35=4,AJ228,IF('Simulador Pagos Oportunos'!$X$35=5,AK228,0)))","v":0},null,null,null,0,0,0,0,0,0,0,0,{"$f":"IF('Simulador Pagos Oportunos'!$X$35=3,AI228,IF('Simulador Pagos Oportunos'!$X$35=4,AJ228,IF('Simulador Pagos Oportunos'!$X$35=5,AK228,0)))","v":0},{"$f":"IF(AO228<=0,0,IF('Simulador Pagos Oportunos'!$AC$62=1,0,AO228*'Simulador Pagos Oportunos'!$Y$67+IF('Simulador Pagos Oportunos'!$X$35=3,'Simulador Pagos Oportunos'!$I$49,IF('Simulador Pagos Oportunos'!$X$35=4,'Simulador Pagos Oportunos'!$K$49,IF('Simulador Pagos Oportunos'!$X$35=5,'Simulador Pagos Oportunos'!$M$49,0)))))","v":0},null,{"$f":"AQ228*'Simulador Pagos Oportunos'!$X$59","v":0},0,0,"",0,214]
[215,0,null,0,null,0,null,0,null,null,null,{"$f":"IF('Simulador Pagos Oportunos'!$V$60=1,0,J229*'Simulador Pagos Oportunos'!$O$63*'Simulador Pagos Oportunos'!$W$59)","v":0},null,"",null,0,null,{"$f":"IFERROR(IF(B229<=0,0,B229*'Simulador Pagos Oportunos'!$Y$67),0)","v":0},null,{"$f":"IFERROR(IF(B229<=0,0,IF('Simulador Pagos Oportunos'!$X$35=3,'Simulador Pagos Oportunos'!$I$49,IF('Simulador Pagos Oportunos'!$X$35=4,'Simulador Pagos Oportunos'!$K$49,IF('Simulador Pagos Oportunos'!$X$35=5,'Simulador Pagos Oportunos'!$M$49,0)))),0)","v":0},null,{"$f":"IF(B229<=0,\"\",IF('Simulador Pagos Oportunos'!$V$40=1,'Simulador Pagos Oportunos'!$Z$62,'Simulador Pagos Oportunos'!$Z$62*'Simulador Pagos Oportunos'!$W$59))","v":""},{"$f":"F229*'Simulador Pagos Oportunos'!$X$59","v":0},"",null,null,null,17,11,0,0,0,"",{"$f":"IF('Simulador Pagos Oportunos'!$X$35=3,AI229,IF('Simulador Pagos Oportunos'!$X$35=4,AJ229,IF('Simulador Pagos Oportunos'!$X$35=5,AK229,0)))","v":0},null,null,null,0,0,0,0,0,0,0,0,{"$f":"IF('Simulador Pagos Oportunos'!$X$35=3,AI229,IF('Simulador Pagos Oportunos'!$X$35=4,AJ229,IF('Simulador Pagos Oportunos'!$X$35=5,AK229,0)))","v":0},{"$f":"IF(AO229<=0,0,IF('Simulador Pagos Oportunos'!$AC$62=1,0,AO229*'Simulador Pagos Oportunos'!$Y$67+IF('Simulador Pagos Oportunos'!$X$35=3,'Simulador Pagos Oportunos'!$I$49,IF('Simulador Pagos Oportunos'!$X$35=4,'Simulador Pagos Oportunos'!$K$49,IF('Simulador Pagos Oportunos'!$X$35=5,'Simulador Pagos Oportunos'!$M$49,0)))))","v":0},null,{"$f":"AQ229*'Simulador Pagos Oportunos'!$X$59","v":0},0,0,"",0,215]
[216,0,null,0,null,0,null,0,null,null,null,{"$f":"IF('Simulador Pagos Oportunos'!$V$60=1,0,J230*'Simulador Pagos Oportunos'!$O$63*'Simulador Pagos Oportunos'!$W$59)","v":0},null,"",null,0,null,{"$f":"IFERROR(IF(B230<=0,0,B230*'Simulador Pagos Oportunos'!$Y$67),0)","v":0},null,{"$f":"IFERROR(IF(B230<=0,0,IF('Simulador Pagos Oportunos'!$X$35=3,'Simulador Pagos Oportunos'!$I$49,IF('Simulador Pagos Oportunos'!$X$35=4,'Simulador Pagos Oportunos'!$K$49,IF('Simulador Pagos Oportunos'!$X$35=5,'Simulador Pagos Oportunos'!$M$49,0)))),0)","v":0},null,{"$f":"IF(B230<=0,\"\",IF('Simulador Pagos Oportunos'!$V$40=1,'Simulador Pagos Oportunos'!$Z$62,'Simulador Pagos Oportunos'!$Z$62*'Simulador Pagos Oportunos'!$W$59))","v":""},{"$f":"F230*'Simulador Pagos Oportunos'!$X$59","v":0},"",null,null,null,18,0,0,0,0,"",{"$f":"IF('Simulador Pagos Oportunos'!$X$35=3,AI230,IF('Simulador Pagos Oportunos'!$X$35=4,AJ230,IF('Simulador Pagos Oportunos'!$X$35=5,AK230,0)))","v":0},null,null,null,0,0,0,0,0,0,0,0,{"$f":"IF('Simulador Pagos Oportunos'!$X$35=3,AI230,IF('Simulador Pagos Oportunos'!$X$35=4,AJ230,IF('Simulador Pagos Oportunos'!$X$35=5,AK230,0)))","v":0},{"$f":"IF(AO230<=0,0,IF('Simulador Pagos Oportunos'!$AC$62=1,0,AO230*'Simulador Pagos Oportunos'!$Y$67+IF('Simulador Pagos Oportunos'!$X$35=3,'Simulador Pagos Oportunos'!$I$49,IF('Simulador Pagos Oportunos'!$X$35=4,'Simulador Pagos Oportunos'!$K$49,IF('Simulador Pagos Oportunos'!$X$35=5,'Simulador Pagos Oportunos'!$M$49,0)))))","v":0},null,{"$f":"AQ230*'Simulador Pagos Oportunos'!$X$59","v":0},0,0,"",0,216]
[217,0,null,0,null,0,null,0,null,null,null,{"$f":"IF('Simulador Pagos Oportunos'!$V$60=1,0,J231*'Simulador Pagos Oportunos'!$O$63*'Simulador Pagos Oportunos'!$W$59)","v":0},null,"",null,0,null,{"$f":"IFERROR(IF(B231<=0,0,B231*'Simulador Pagos Oportunos'!$Y$67),0)","v":0},null,{"$f":"IFERROR(IF(B231<=0,0,IF('Simulador Pagos Oportunos'!$X$35=3,'Simulador Pagos Oportunos'!$I$49,IF('Simulador Pagos Oportunos'!$X$35=4,'Simulador Pagos Oportunos'!$K$49,IF('Simulador Pagos Oportunos'!$X$35=5,'Simulador Pagos Oportunos'!$M$49,0)))),0)","v":0},null,{"$f":"IF(B231<=0,\"\",IF('Simulador Pagos Oportunos'!$V$40=1,'Simulador Pagos Oportunos'!$Z$62,'Simulador Pagos Oportunos'!$Z$62*'Simulador Pagos Oportunos'!$W$59))","v":""},{"$f":"F231*'Simulador Pagos Oportunos'!$X$59","v":0},"",null,{"$f":"IF(B231<=0,0,IF(AND('Simulador Pagos Oportunos'!$V$40=2,'Simulador Pagos Oportunos'!$X$35=4),0,'Simulador Pagos Oportunos'!$AM$48))","v":0},null,18,1,0,0,0,"",{"$f":"IF('Simulador Pagos Oportunos'!$X$35=3,AI231,IF('Simulador Pagos Oportunos'!$X$35=4,AJ231,IF('Simulador Pagos Oportunos'!$X$35=5,AK231,0)))","v":0},null,null,null,0,0,0,0,0,0,0,0,{"$f":"IF('Simulador Pagos Oportunos'!$X$35=3,AI231,IF('Simulador Pagos Oportunos'!$X$35=4,AJ231,IF('Simulador Pagos Oportunos'!$X$35=5,AK231,0)))","v":0},{"$f":"IF(AO231<=0,0,IF('Simulador Pagos Oportunos'!$AC$62=1,0,AO231*'Simulador Pagos Oportunos'!$Y$67+IF('Simulador Pagos Oportunos'!$X$35=3,'Simulador Pagos Oportunos'!$I$49,IF('Simulador Pagos Oportunos'!$X$35=4,'Simulador Pagos Oportunos'!$K$49,IF('Simulador Pagos Oportunos'!$X$35=5,'Simulador Pagos Oportunos'!$M$49,0)))))","v":0},{"$f":"IF(AO231<=0,0,$AV$32)","v":0},{"$f":"AQ231*'Simulador Pagos Oportunos'!$X$59","v":0},0,0,"",0,217]
[218,0,null,0,null,0,null,0,null,null,null,{"$f":"IF('Simulador Pagos Oportunos'!$V$60=1,0,J232*'Simulador Pagos Oportunos'!$O$63*'Simulador Pagos Oportunos'!$W$59)","v":0},null,"",null,0,null,{"$f":"IFERROR(IF(B232<=0,0,B232*'Simulador Pagos Oportunos'!$Y$67),0)","v":0},null,{"$f":"IFERROR(IF(B232<=0,0,IF('Simulador Pagos Oportunos'!$X$35=3,'Simulador Pagos Oportunos'!$I$49,IF('Simulador Pagos Oportunos'!$X$35=4,'Simulador Pagos Oportunos'!$K$49,IF('Simulador Pagos Oportunos'!$X$35=5,'Simulador Pagos Oportunos'!$M$49,0)))),0)","v":0},null,{"$f":"IF(B232<=0,\"\",IF('Simulador Pagos Oportunos'!$V$40=1,'Simulador Pagos Oportunos'!$Z$62,'Simulador Pagos Oportunos'!$Z$62*'Simulador Pagos Oportunos'!$W$59))","v":""},{"$f":"F232*'Simulador Pagos Oportunos'!$X$59","v":0},"",null,null,null,18,2,0,0,0,"",{"$f":"IF('Simulador Pagos Oportunos'!$X$35=3,AI232,IF('Simulador Pagos Oportunos'!$X$35=4,AJ232,IF('Simulador Pagos Oportunos'!$X$35=5,AK232,0)))","v":0},null,null,null,0,0,0,0,0,0,0,0,{"$f":"IF('Simulador Pagos Oportunos'!$X$35=3,AI232,IF('Simulador Pagos Oportunos'!$X$35=4,AJ232,IF('Simulador Pagos Oportunos'!$X$35=5,AK232,0)))","v":0},{"$f":"IF(AO232<=0,0,IF('Simulador Pagos Oportunos'!$AC$62=1,0,AO232*'Simulador Pagos Oportunos'!$Y$67+IF('Simulador Pagos Oportunos'!$X$35=3,'Simulador Pagos Oportunos'!$I$49,IF('Simulador Pagos Oportunos'!$X$35=4,'Simulador Pagos Oportunos'!$K$49,IF('Simulador Pagos Oportunos'!$X$35=5,'Simulador Pagos Oportunos'!$M$49,0)))))","v":0},null,{"$f":"AQ232*'Simulador Pagos Oportunos'!$X$59","v":0},0,0,"",0,218]
[219,0,null,0,null,0,null,0,null,null,null,{"$f":"IF('Simulador Pagos Oportunos'!$V$60=1,0,J233*'Simulador Pagos Oportunos'!$O$63*'Simulador Pagos Oportunos'!$W$59)","v":0},null,"",null,0,null,{"$f":"IFERROR(IF(B233<=0,0,B233*'Simulador Pagos Oportunos'!$Y$67),0)","v":0},null,{"$f":"IFERROR(IF(B233<=0,0,IF('Simulador Pagos Oportunos'!$X$35=3,'Simulador Pagos Oportunos'!$I$49,IF('Simulador Pagos Oportunos'!$X$35=4,'Simulador Pagos Oportunos'!$K$49,IF('Simulador Pagos Oportunos'!$X$35=5,'Simulador Pagos Oportunos'!$M$49,0)))),0)","v":0},null,{"$f":"IF(B233<=0,\"\",IF('Simulador Pagos Oportunos'!$V$40=1,'Simulador Pagos Oportunos'!$Z$62,'Simulador Pagos Oportunos'!$Z$62*'Simulador Pagos Oportunos'!$W$59))","v":""},{"$f":"F233*'Simulador Pagos Oportunos'!$X$59","v":0},"",null,null,null,18,3,0,0,0,"",{"$f":"IF('Simulador Pagos Oportunos'!$X$35=3,AI233,IF('Simulador Pagos Oportunos'!$X$35=4,AJ233,IF('Simulador Pagos Oportunos'!$X$35=5,AK233,0)))","v":0},null,null,null,0,0,0,0,0,0,0,0,{"$f":"IF('Simulador Pagos Oportunos'!$X$35=3,AI233,IF('Simulador Pagos Oportunos'!$X$35=4,AJ233,IF('Simulador Pagos Oportunos'!$X$35=5,AK233,0)))","v":0},{"$f":"IF(AO233<=0,0,IF('Simulador Pagos Oportunos'!$AC$62=1,0,AO233*'Simulador Pagos Oportunos'!$Y$67+IF('Simulador Pagos Oportunos'!$X$35=3,'Simulador Pagos Oportunos'!$I$49,IF('Simulador Pagos Oportunos'!$X$35=4,'Simulador Pagos Oportunos'!$K$49,IF('Simulador Pagos Oportunos'!$X$35=5,'Simulador Pagos Oportunos'!$M$49,0)))))","v":0},null,{"$f":"AQ233*'Simulador Pagos Oportunos'!$X$59","v":0},0,0,"",0,219]
[220,0,null,0,null,0,null,0,null,null,null,{"$f":"IF('Simulador Pagos Oportunos'!$V$60=1,0,J234*'Simulador Pagos Oportunos'!$O$63*'Simulador Pagos Oportunos'!$W$59)","v":0},null,"",null,0,null,{"$f":"IFERROR(IF(B234<=0,0,B234*'Simulador Pagos Oportunos'!$Y$67),0)","v":0},null,{"$f":"IFERROR(IF(B234<=0,0,IF('Simulador Pagos Oportunos'!$X$35=3,'Simulador Pagos Oportunos'!$I$49,IF('Simulador Pagos Oportunos'!$X$35=4,'Simulador Pagos Oportunos'!$K$49,IF('Simulador Pagos Oportunos'!$X$35=5,'Simulador Pagos Oportunos'!$M$49,0)))),0)","v":0},null,{"$f":"IF(B234<=0,\"\",IF('Simulador Pagos Oportunos'!$V$40=1,'Simulador Pagos Oportunos'!$Z$62,'Simulador Pagos Oportunos'!$Z$62*'Simulador Pagos Oportunos'!$W$59))","v":""},{"$f":"F234*'Simulador Pagos Oportunos'!$X$59","v":0},"",null,null,null,18,4,0,0,0,"",{"$f":"IF('Simulador Pagos Oportunos'!$X$35=3,AI234,IF('Simulador Pagos Oportunos'!$X$35=4,AJ234,IF('Simulador Pagos Oportunos'!$X$35=5,AK234,0)))","v":0},null,null,null,0,0,0,0,0,0,0,0,{"$f":"IF('Simulador Pagos Oportunos'!$X$35=3,AI234,IF('Simulador Pagos Oportunos'!$X$35=4,AJ234,IF('Simulador Pagos Oportunos'!$X$35=5,AK234,0)))","v":0},{"$f":"IF(AO234<=0,0,IF('Simulador Pagos Oportunos'!$AC$62=1,0,AO234*'Simulador Pagos Oportunos'!$Y$67+IF('Simulador Pagos Oportunos'!$X$35=3,'Simulador Pagos Oportunos'!$I$49,IF('Simulador Pagos Oportunos'!$X$35=4,'Simulador Pagos Oportunos'!$K$49,IF('Simulador Pagos Oportunos'!$X$35=5,'Simulador Pagos Oportunos'!$M$49,0)))))","v":0},null,{"$f":"AQ234*'Simulador Pagos Oportunos'!$X$59","v":0},0,0,"",0,220]
[221,0,null,0,null,0,null,0,null,null,null,{"$f":"IF('Simulador Pagos Oportunos'!$V$60=1,0,J235*'Simulador Pagos Oportunos'!$O$63*'Simulador Pagos Oportunos'!$W$59)","v":0},null,"",null,0,null,{"$f":"IFERROR(IF(B235<=0,0,B235*'Simulador Pagos Oportunos'!$Y$67),0)","v":0},null,{"$f":"IFERROR(IF(B235<=0,0,IF('Simulador Pagos Oportunos'!$X$35=3,'Simulador Pagos Oportunos'!$I$49,IF('Simulador Pagos Oportunos'!$X$35=4,'Simulador Pagos Oportunos'!$K$49,IF('Simulador Pagos Oportunos'!$X$35=5,'Simulador Pagos Oportunos'!$M$49,0)))),0)","v":0},null,{"$f":"IF(B235<=0,\"\",IF('Simulador Pagos Oportunos'!$V$40=1,'Simulador Pagos Oportunos'!$Z$62,'Simulador Pagos Oportunos'!$Z$62*'Simulador Pagos Oportunos'!$W$59))","v":""},{"$f":"F235*'Simulador Pagos Oportunos'!$X$59","v":0},"",null,null,null,18,5,0,0,0,"",{"$f":"IF('Simulador Pagos Oportunos'!$X$35=3,AI235,IF('Simulador Pagos Oportunos'!$X$35=4,AJ235,IF('Simulador Pagos Oportunos'!$X$35=5,AK235,0)))","v":0},null,null,null,0,0,0,0,0,0,0,0,{"$f":"IF('Simulador Pagos Oportunos'!$X$35=3,AI235,IF('Simulador Pagos Oportunos'!$X$35=4,AJ235,IF('Simulador Pagos Oportunos'!$X$35=5,AK235,0)))","v":0},{"$f":"IF(AO235<=0,0,IF('Simulador Pagos Oportunos'!$AC$62=1,0,AO235*'Simulador Pagos Oportunos'!$Y$67+IF('Simulador Pagos Oportunos'!$X$35=3,'Simulador Pagos Oportunos'!$I$49,IF('Simulador Pagos Oportunos'!$X$35=4,'Simulador Pagos Oportunos'!$K$49,IF('Simulador Pagos Oportunos'!$X$35=5,'Simulador Pagos Oportunos'!$M$49,0)))))","v":0},null,{"$f":"AQ235*'Simulador Pagos Oportunos'!$X$59","v":0},0,0,"",0,221]
[222,0,null,0,null,0,null,0,null,null,null,{"$f":"IF('Simulador Pagos Oportunos'!$V$60=1,0,J236*'Simulador Pagos Oportunos'!$O$63*'Simulador Pagos Oportunos'!$W$59)","v":0},null,"",null,0,null,{"$f":"IFERROR(IF(B236<=0,0,B236*'Simulador Pagos Oportunos'!$Y$67),0)","v":0},null,{"$f":"IFERROR(IF(B236<=0,0,IF('Simulador Pagos Oportunos'!$X$35=3,'Simulador Pagos Oportunos'!$I$49,IF('Simulador Pagos Oportunos'!$X$35=4,'Simulador Pagos Oportunos'!$K$49,IF('Simulador Pagos Oportunos'!$X$35=5,'Simulador Pagos Oportunos'!$M$49,0)))),0)","v":0},null,{"$f":"IF(B236<=0,\"\",IF('Simulador Pagos Oportunos'!$V$40=1,'Simulador Pagos Oportunos'!$Z$62,'Simulador Pagos Oportunos'!$Z$62*'Simulador Pagos Oportunos'!$W$59))","v":""},{"$f":"F236*'Simulador Pagos Oportunos'!$X$59","v":0},"",null,null,null,18,6,0,0,0,"",{"$f":"IF('Simulador Pagos Oportunos'!$X$35=3,AI236,IF('Simulador Pagos Oportunos'!$X$35=4,AJ236,IF('Simulador Pagos Oportunos'!$X$35=5,AK236,0)))","v":0},null,null,null,0,0,0,0,0,0,0,0,{"$f":"IF('Simulador Pagos Oportunos'!$X$35=3,AI236,IF('Simulador Pagos Oportunos'!$X$35=4,AJ236,IF('Simulador Pagos Oportunos'!$X$35=5,AK236,0)))","v":0},{"$f":"IF(AO236<=0,0,IF('Simulador Pagos Oportunos'!$AC$62=1,0,AO236*'Simulador Pagos Oportunos'!$Y$67+IF('Simulador Pagos Oportunos'!$X$35=3,'Simulador Pagos Oportunos'!$I$49,IF('Simulador Pagos Oportunos'!$X$35=4,'Simulador Pagos Oportunos'!$K$49,IF('Simulador Pagos Oportunos'!$X$35=5,'Simulador Pagos Oportunos'!$M$49,0)))))","v":0},null,{"$f":"AQ236*'Simulador Pagos Oportunos'!$X$59","v":0},0,0,"",0,222]
[223,0,null,0,null,0,null,0,null,null,null,{"$f":"IF('Simulador Pagos Oportunos'!$V$60=1,0,J237*'Simulador Pagos Oportunos'!$O$63*'Simulador Pagos Oportunos'!$W$59)","v":0},null,"",null,0,null,{"$f":"IFERROR(IF(B237<=0,0,B237*'Simulador Pagos Oportunos'!$Y$67),0)","v":0},null,{"$f":"IFERROR(IF(B237<=0,0,IF('Simulador Pagos Oportunos'!$X$35=3,'Simulador Pagos Oportunos'!$I$49,IF('Simulador Pagos Oportunos'!$X$35=4,'Simulador Pagos Oportunos'!$K$49,IF('Simulador Pagos Oportunos'!$X$35=5,'Simulador Pagos Oportunos'!$M$49,0)))),0)","v":0},null,{"$f":"IF(B237<=0,\"\",IF('Simulador Pagos Oportunos'!$V$40=1,'Simulador Pagos Oportunos'!$Z$62,'Simulador Pagos Oportunos'!$Z$62*'Simulador Pagos Oportunos'!$W$59))","v":""},{"$f":"F237*'Simulador Pagos Oportunos'!$X$59","v":0},"",null,null,null,18,7,0,0,0,"",{"$f":"IF('Simulador Pagos Oportunos'!$X$35=3,AI237,IF('Simulador Pagos Oportunos'!$X$35=4,AJ237,IF('Simulador Pagos Oportunos'!$X$35=5,AK237,0)))","v":0},null,null,null,0,0,0,0,0,0,0,0,{"$f":"IF('Simulador Pagos Oportunos'!$X$35=3,AI237,IF('Simulador Pagos Oportunos'!$X$35=4,AJ237,IF('Simulador Pagos Oportunos'!$X$35=5,AK237,0)))","v":0},{"$f":"IF(AO237<=0,0,IF('Simulador Pagos Oportunos'!$AC$62=1,0,AO237*'Simulador Pagos Oportunos'!$Y$67+IF('Simulador Pagos Oportunos'!$X$35=3,'Simulador Pagos Oportunos'!$I$49,IF('Simulador Pagos Oportunos'!$X$35=4,'Simulador Pagos Oportunos'!$K$49,IF('Simulador Pagos Oportunos'!$X$35=5,'Simulador Pagos Oportunos'!$M$49,0)))))","v":0},null,{"$f":"AQ237*'Simulador Pagos Oportunos'!$X$59","v":0},0,0,"",0,223]
[224,0,null,0,null,0,null,0,null,null,null,{"$f":"IF('Simulador Pagos Oportunos'!$V$60=1,0,J238*'Simulador Pagos Oportunos'!$O$63*'Simulador Pagos Oportunos'!$W$59)","v":0},null,"",null,0,null,{"$f":"IFERROR(IF(B238<=0,0,B238*'Simulador Pagos Oportunos'!$Y$67),0)","v":0},null,{"$f":"IFERROR(IF(B238<=0,0,IF('Simulador Pagos Oportunos'!$X$35=3,'Simulador Pagos Oportunos'!$I$49,IF('Simulador Pagos Oportunos'!$X$35=4,'Simulador Pagos Oportunos'!$K$49,IF('Simulador Pagos Oportunos'!$X$35=5,'Simulador Pagos Oportunos'!$M$49,0)))),0)","v":0},null,{"$f":"IF(B238<=0,\"\",IF('Simulador Pagos Oportunos'!$V$40=1,'Simulador Pagos Oportunos'!$Z$62,'Simulador Pagos Oportunos'!$Z$62*'Simulador Pagos Oportunos'!$W$59))","v":""},{"$f":"F238*'Simulador Pagos Oportunos'!$X$59","v":0},"",null,null,null,18,8,0,0,0,"",{"$f":"IF('Simulador Pagos Oportunos'!$X$35=3,AI238,IF('Simulador Pagos Oportunos'!$X$35=4,AJ238,IF('Simulador Pagos Oportunos'!$X$35=5,AK238,0)))","v":0},null,null,null,0,0,0,0,0,0,0,0,{"$f":"IF('Simulador Pagos Oportunos'!$X$35=3,AI238,IF('Simulador Pagos Oportunos'!$X$35=4,AJ238,IF('Simulador Pagos Oportunos'!$X$35=5,AK238,0)))","v":0},{"$f":"IF(AO238<=0,0,IF('Simulador Pagos Oportunos'!$AC$62=1,0,AO238*'Simulador Pagos Oportunos'!$Y$67+IF('Simulador Pagos Oportunos'!$X$35=3,'Simulador Pagos Oportunos'!$I$49,IF('Simulador Pagos Oportunos'!$X$35=4,'Simulador Pagos Oportunos'!$K$49,IF('Simulador Pagos Oportunos'!$X$35=5,'Simulador Pagos Oportunos'!$M$49,0)))))","v":0},null,{"$f":"AQ238*'Simulador Pagos Oportunos'!$X$59","v":0},0,0,"",0,224]
[225,0,null,0,null,0,null,0,null,null,null,{"$f":"IF('Simulador Pagos Oportunos'!$V$60=1,0,J239*'Simulador Pagos Oportunos'!$O$63*'Simulador Pagos Oportunos'!$W$59)","v":0},null,"",null,0,null,{"$f":"IFERROR(IF(B239<=0,0,B239*'Simulador Pagos Oportunos'!$Y$67),0)","v":0},null,{"$f":"IFERROR(IF(B239<=0,0,IF('Simulador Pagos Oportunos'!$X$35=3,'Simulador Pagos Oportunos'!$I$49,IF('Simulador Pagos Oportunos'!$X$35=4,'Simulador Pagos Oportunos'!$K$49,IF('Simulador Pagos Oportunos'!$X$35=5,'Simulador Pagos Oportunos'!$M$49,0)))),0)","v":0},null,{"$f":"IF(B239<=0,\"\",IF('Simulador Pagos Oportunos'!$V$40=1,'Simulador Pagos Oportunos'!$Z$62,'Simulador Pagos Oportunos'!$Z$62*'Simulador Pagos Oportunos'!$W$59))","v":""},{"$f":"F239*'Simulador Pagos Oportunos'!$X$59","v":0},"",null,null,null,18,9,0,0,0,"",{"$f":"IF('Simulador Pagos Oportunos'!$X$35=3,AI239,IF('Simulador Pagos Oportunos'!$X$35=4,AJ239,IF('Simulador Pagos Oportunos'!$X$35=5,AK239,0)))","v":0},null,null,null,0,0,0,0,0,0,0,0,{"$f":"IF('Simulador Pagos Oportunos'!$X$35=3,AI239,IF('Simulador Pagos Oportunos'!$X$35=4,AJ239,IF('Simulador Pagos Oportunos'!$X$35=5,AK239,0)))","v":0},{"$f":"IF(AO239<=0,0,IF('Simulador Pagos Oportunos'!$AC$62=1,0,AO239*'Simulador Pagos Oportunos'!$Y$67+IF('Simulador Pagos Oportunos'!$X$35=3,'Simulador Pagos Oportunos'!$I$49,IF('Simulador Pagos Oportunos'!$X$35=4,'Simulador Pagos Oportunos'!$K$49,IF('Simulador Pagos Oportunos'!$X$35=5,'Simulador Pagos Oportunos'!$M$49,0)))))","v":0},null,{"$f":"AQ239*'Simulador Pagos Oportunos'!$X$59","v":0},0,0,"",0,225]
[226,0,null,0,null,0,null,0,null,null,null,{"$f":"IF('Simulador Pagos Oportunos'!$V$60=1,0,J240*'Simulador Pagos Oportunos'!$O$63*'Simulador Pagos Oportunos'!$W$59)","v":0},null,"",null,0,null,{"$f":"IFERROR(IF(B240<=0,0,B240*'Simulador Pagos Oportunos'!$Y$67),0)","v":0},null,{"$f":"IFERROR(IF(B240<=0,0,IF('Simulador Pagos Oportunos'!$X$35=3,'Simulador Pagos Oportunos'!$I$49,IF('Simulador Pagos Oportunos'!$X$35=4,'Simulador Pagos Oportunos'!$K$49,IF('Simulador Pagos Oportunos'!$X$35=5,'Simulador Pagos Oportunos'!$M$49,0)))),0)","v":0},null,{"$f":"IF(B240<=0,\"\",IF('Simulador Pagos Oportunos'!$V$40=1,'Simulador Pagos Oportunos'!$Z$62,'Simulador Pagos Oportunos'!$Z$62*'Simulador Pagos Oportunos'!$W$59))","v":""},{"$f":"F240*'Simulador Pagos Oportunos'!$X$59","v":0},"",null,null,null,18,10,0,0,0,"",{"$f":"IF('Simulador Pagos Oportunos'!$X$35=3,AI240,IF('Simulador Pagos Oportunos'!$X$35=4,AJ240,IF('Simulador Pagos Oportunos'!$X$35=5,AK240,0)))","v":0},null,null,null,0,0,0,0,0,0,0,0,{"$f":"IF('Simulador Pagos Oportunos'!$X$35=3,AI240,IF('Simulador Pagos Oportunos'!$X$35=4,AJ240,IF('Simulador Pagos Oportunos'!$X$35=5,AK240,0)))","v":0},{"$f":"IF(AO240<=0,0,IF('Simulador Pagos Oportunos'!$AC$62=1,0,AO240*'Simulador Pagos Oportunos'!$Y$67+IF('Simulador Pagos Oportunos'!$X$35=3,'Simulador Pagos Oportunos'!$I$49,IF('Simulador Pagos Oportunos'!$X$35=4,'Simulador Pagos Oportunos'!$K$49,IF('Simulador Pagos Oportunos'!$X$35=5,'Simulador Pagos Oportunos'!$M$49,0)))))","v":0},null,{"$f":"AQ240*'Simulador Pagos Oportunos'!$X$59","v":0},0,0,"",0,226]
[227,0,null,0,null,0,null,0,null,null,null,{"$f":"IF('Simulador Pagos Oportunos'!$V$60=1,0,J241*'Simulador Pagos Oportunos'!$O$63*'Simulador Pagos Oportunos'!$W$59)","v":0},null,"",null,0,null,{"$f":"IFERROR(IF(B241<=0,0,B241*'Simulador Pagos Oportunos'!$Y$67),0)","v":0},null,{"$f":"IFERROR(IF(B241<=0,0,IF('Simulador Pagos Oportunos'!$X$35=3,'Simulador Pagos Oportunos'!$I$49,IF('Simulador Pagos Oportunos'!$X$35=4,'Simulador Pagos Oportunos'!$K$49,IF('Simulador Pagos Oportunos'!$X$35=5,'Simulador Pagos Oportunos'!$M$49,0)))),0)","v":0},null,{"$f":"IF(B241<=0,\"\",IF('Simulador Pagos Oportunos'!$V$40=1,'Simulador Pagos Oportunos'!$Z$62,'Simulador Pagos Oportunos'!$Z$62*'Simulador Pagos Oportunos'!$W$59))","v":""},{"$f":"F241*'Simulador Pagos Oportunos'!$X$59","v":0},"",null,null,null,18,11,0,0,0,"",{"$f":"IF('Simulador Pagos Oportunos'!$X$35=3,AI241,IF('Simulador Pagos Oportunos'!$X$35=4,AJ241,IF('Simulador Pagos Oportunos'!$X$35=5,AK241,0)))","v":0},null,null,null,0,0,0,0,0,0,0,0,{"$f":"IF('Simulador Pagos Oportunos'!$X$35=3,AI241,IF('Simulador Pagos Oportunos'!$X$35=4,AJ241,IF('Simulador Pagos Oportunos'!$X$35=5,AK241,0)))","v":0},{"$f":"IF(AO241<=0,0,IF('Simulador Pagos Oportunos'!$AC$62=1,0,AO241*'Simulador Pagos Oportunos'!$Y$67+IF('Simulador Pagos Oportunos'!$X$35=3,'Simulador Pagos Oportunos'!$I$49,IF('Simulador Pagos Oportunos'!$X$35=4,'Simulador Pagos Oportunos'!$K$49,IF('Simulador Pagos Oportunos'!$X$35=5,'Simulador Pagos Oportunos'!$M$49,0)))))","v":0},null,{"$f":"AQ241*'Simulador Pagos Oportunos'!$X$59","v":0},0,0,"",0,227]
[228,0,null,0,null,0,null,0,null,null,null,{"$f":"IF('Simulador Pagos Oportunos'!$V$60=1,0,J242*'Simulador Pagos Oportunos'!$O$63*'Simulador Pagos Oportunos'!$W$59)","v":0},null,"",null,0,null,{"$f":"IFERROR(IF(B242<=0,0,B242*'Simulador Pagos Oportunos'!$Y$67),0)","v":0},null,{"$f":"IFERROR(IF(B242<=0,0,IF('Simulador Pagos Oportunos'!$X$35=3,'Simulador Pagos Oportunos'!$I$49,IF('Simulador Pagos Oportunos'!$X$35=4,'Simulador Pagos Oportunos'!$K$49,IF('Simulador Pagos Oportunos'!$X$35=5,'Simulador Pagos Oportunos'!$M$49,0)))),0)","v":0},null,{"$f":"IF(B242<=0,\"\",IF('Simulador Pagos Oportunos'!$V$40=1,'Simulador Pagos Oportunos'!$Z$62,'Simulador Pagos Oportunos'!$Z$62*'Simulador Pagos Oportunos'!$W$59))","v":""},{"$f":"F242*'Simulador Pagos Oportunos'!$X$59","v":0},"",null,null,null,19,0,0,0,0,"",{"$f":"IF('Simulador Pagos Oportunos'!$X$35=3,AI242,IF('Simulador Pagos Oportunos'!$X$35=4,AJ242,IF('Simulador Pagos Oportunos'!$X$35=5,AK242,0)))","v":0},null,null,null,0,0,0,0,0,0,0,0,{"$f":"IF('Simulador Pagos Oportunos'!$X$35=3,AI242,IF('Simulador Pagos Oportunos'!$X$35=4,AJ242,IF('Simulador Pagos Oportunos'!$X$35=5,AK242,0)))","v":0},{"$f":"IF(AO242<=0,0,IF('Simulador Pagos Oportunos'!$AC$62=1,0,AO242*'Simulador Pagos Oportunos'!$Y$67+IF('Simulador Pagos Oportunos'!$X$35=3,'Simulador Pagos Oportunos'!$I$49,IF('Simulador Pagos Oportunos'!$X$35=4,'Simulador Pagos Oportunos'!$K$49,IF('Simulador Pagos Oportunos'!$X$35=5,'Simulador Pagos Oportunos'!$M$49,0)))))","v":0},null,{"$f":"AQ242*'Simulador Pagos Oportunos'!$X$59","v":0},0,0,"",0,228]
[229,0,null,0,null,0,null,0,null,null,null,{"$f":"IF('Simulador Pagos Oportunos'!$V$60=1,0,J243*'Simulador Pagos Oportunos'!$O$63*'Simulador Pagos Oportunos'!$W$59)","v":0},null,"",null,0,null,{"$f":"IFERROR(IF(B243<=0,0,B243*'Simulador Pagos Oportunos'!$Y$67),0)","v":0},null,{"$f":"IFERROR(IF(B243<=0,0,IF('Simulador Pagos Oportunos'!$X$35=3,'Simulador Pagos Oportunos'!$I$49,IF('Simulador Pagos Oportunos'!$X$35=4,'Simulador Pagos Oportunos'!$K$49,IF('Simulador Pagos Oportunos'!$X$35=5,'Simulador Pagos Oportunos'!$M$49,0)))),0)","v":0},null,{"$f":"IF(B243<=0,\"\",IF('Simulador Pagos Oportunos'!$V$40=1,'Simulador Pagos Oportunos'!$Z$62,'Simulador Pagos Oportunos'!$Z$62*'Simulador Pagos Oportunos'!$W$59))","v":""},{"$f":"F243*'Simulador Pagos Oportunos'!$X$59","v":0},"",null,{"$f":"IF(B243<=0,0,IF(AND('Simulador Pagos Oportunos'!$V$40=2,'Simulador Pagos Oportunos'!$X$35=4),0,'Simulador Pagos Oportunos'!$AM$48))","v":0},null,19,1,0,0,0,"",{"$f":"IF('Simulador Pagos Oportunos'!$X$35=3,AI243,IF('Simulador Pagos Oportunos'!$X$35=4,AJ243,IF('Simulador Pagos Oportunos'!$X$35=5,AK243,0)))","v":0},null,null,null,0,0,0,0,0,0,0,0,{"$f":"IF('Simulador Pagos Oportunos'!$X$35=3,AI243,IF('Simulador Pagos Oportunos'!$X$35=4,AJ243,IF('Simulador Pagos Oportunos'!$X$35=5,AK243,0)))","v":0},{"$f":"IF(AO243<=0,0,IF('Simulador Pagos Oportunos'!$AC$62=1,0,AO243*'Simulador Pagos Oportunos'!$Y$67+IF('Simulador Pagos Oportunos'!$X$35=3,'Simulador Pagos Oportunos'!$I$49,IF('Simulador Pagos Oportunos'!$X$35=4,'Simulador Pagos Oportunos'!$K$49,IF('Simulador Pagos Oportunos'!$X$35=5,'Simulador Pagos Oportunos'!$M$49,0)))))","v":0},{"$f":"IF(AO243<=0,0,$AV$32)","v":0},{"$f":"AQ243*'Simulador Pagos Oportunos'!$X$59","v":0},0,0,"",0,229]
[230,0,null,0,null,0,null,0,null,null,null,{"$f":"IF('Simulador Pagos Oportunos'!$V$60=1,0,J244*'Simulador Pagos Oportunos'!$O$63*'Simulador Pagos Oportunos'!$W$59)","v":0},null,"",null,0,null,{"$f":"IFERROR(IF(B244<=0,0,B244*'Simulador Pagos Oportunos'!$Y$67),0)","v":0},null,{"$f":"IFERROR(IF(B244<=0,0,IF('Simulador Pagos Oportunos'!$X$35=3,'Simulador Pagos Oportunos'!$I$49,IF('Simulador Pagos Oportunos'!$X$35=4,'Simulador Pagos Oportunos'!$K$49,IF('Simulador Pagos Oportunos'!$X$35=5,'Simulador Pagos Oportunos'!$M$49,0)))),0)","v":0},null,{"$f":"IF(B244<=0,\"\",IF('Simulador Pagos Oportunos'!$V$40=1,'Simulador Pagos Oportunos'!$Z$62,'Simulador Pagos Oportunos'!$Z$62*'Simulador Pagos Oportunos'!$W$59))","v":""},{"$f":"F244*'Simulador Pagos Oportunos'!$X$59","v":0},"",null,null,null,19,2,0,0,0,"",{"$f":"IF('Simulador Pagos Oportunos'!$X$35=3,AI244,IF('Simulador Pagos Oportunos'!$X$35=4,AJ244,IF('Simulador Pagos Oportunos'!$X$35=5,AK244,0)))","v":0},null,null,null,0,0,0,0,0,0,0,0,{"$f":"IF('Simulador Pagos Oportunos'!$X$35=3,AI244,IF('Simulador Pagos Oportunos'!$X$35=4,AJ244,IF('Simulador Pagos Oportunos'!$X$35=5,AK244,0)))","v":0},{"$f":"IF(AO244<=0,0,IF('Simulador Pagos Oportunos'!$AC$62=1,0,AO244*'Simulador Pagos Oportunos'!$Y$67+IF('Simulador Pagos Oportunos'!$X$35=3,'Simulador Pagos Oportunos'!$I$49,IF('Simulador Pagos Oportunos'!$X$35=4,'Simulador Pagos Oportunos'!$K$49,IF('Simulador Pagos Oportunos'!$X$35=5,'Simulador Pagos Oportunos'!$M$49,0)))))","v":0},null,{"$f":"AQ244*'Simulador Pagos Oportunos'!$X$59","v":0},0,0,"",0,230]
[231,0,null,0,null,0,null,0,null,null,null,{"$f":"IF('Simulador Pagos Oportunos'!$V$60=1,0,J245*'Simulador Pagos Oportunos'!$O$63*'Simulador Pagos Oportunos'!$W$59)","v":0},null,"",null,0,null,{"$f":"IFERROR(IF(B245<=0,0,B245*'Simulador Pagos Oportunos'!$Y$67),0)","v":0},null,{"$f":"IFERROR(IF(B245<=0,0,IF('Simulador Pagos Oportunos'!$X$35=3,'Simulador Pagos Oportunos'!$I$49,IF('Simulador Pagos Oportunos'!$X$35=4,'Simulador Pagos Oportunos'!$K$49,IF('Simulador Pagos Oportunos'!$X$35=5,'Simulador Pagos Oportunos'!$M$49,0)))),0)","v":0},null,{"$f":"IF(B245<=0,\"\",IF('Simulador Pagos Oportunos'!$V$40=1,'Simulador Pagos Oportunos'!$Z$62,'Simulador Pagos Oportunos'!$Z$62*'Simulador Pagos Oportunos'!$W$59))","v":""},{"$f":"F245*'Simulador Pagos Oportunos'!$X$59","v":0},"",null,null,null,19,3,0,0,0,"",{"$f":"IF('Simulador Pagos Oportunos'!$X$35=3,AI245,IF('Simulador Pagos Oportunos'!$X$35=4,AJ245,IF('Simulador Pagos Oportunos'!$X$35=5,AK245,0)))","v":0},null,null,null,0,0,0,0,0,0,0,0,{"$f":"IF('Simulador Pagos Oportunos'!$X$35=3,AI245,IF('Simulador Pagos Oportunos'!$X$35=4,AJ245,IF('Simulador Pagos Oportunos'!$X$35=5,AK245,0)))","v":0},{"$f":"IF(AO245<=0,0,IF('Simulador Pagos Oportunos'!$AC$62=1,0,AO245*'Simulador Pagos Oportunos'!$Y$67+IF('Simulador Pagos Oportunos'!$X$35=3,'Simulador Pagos Oportunos'!$I$49,IF('Simulador Pagos Oportunos'!$X$35=4,'Simulador Pagos Oportunos'!$K$49,IF('Simulador Pagos Oportunos'!$X$35=5,'Simulador Pagos Oportunos'!$M$49,0)))))","v":0},null,{"$f":"AQ245*'Simulador Pagos Oportunos'!$X$59","v":0},0,0,"",0,231]
[232,0,null,0,null,0,null,0,null,null,null,{"$f":"IF('Simulador Pagos Oportunos'!$V$60=1,0,J246*'Simulador Pagos Oportunos'!$O$63*'Simulador Pagos Oportunos'!$W$59)","v":0},null,"",null,0,null,{"$f":"IFERROR(IF(B246<=0,0,B246*'Simulador Pagos Oportunos'!$Y$67),0)","v":0},null,{"$f":"IFERROR(IF(B246<=0,0,IF('Simulador Pagos Oportunos'!$X$35=3,'Simulador Pagos Oportunos'!$I$49,IF('Simulador Pagos Oportunos'!$X$35=4,'Simulador Pagos Oportunos'!$K$49,IF('Simulador Pagos Oportunos'!$X$35=5,'Simulador Pagos Oportunos'!$M$49,0)))),0)","v":0},null,{"$f":"IF(B246<=0,\"\",IF('Simulador Pagos Oportunos'!$V$40=1,'Simulador Pagos Oportunos'!$Z$62,'Simulador Pagos Oportunos'!$Z$62*'Simulador Pagos Oportunos'!$W$59))","v":""},{"$f":"F246*'Simulador Pagos Oportunos'!$X$59","v":0},"",null,null,null,19,4,0,0,0,"",{"$f":"IF('Simulador Pagos Oportunos'!$X$35=3,AI246,IF('Simulador Pagos Oportunos'!$X$35=4,AJ246,IF('Simulador Pagos Oportunos'!$X$35=5,AK246,0)))","v":0},null,null,null,0,0,0,0,0,0,0,0,{"$f":"IF('Simulador Pagos Oportunos'!$X$35=3,AI246,IF('Simulador Pagos Oportunos'!$X$35=4,AJ246,IF('Simulador Pagos Oportunos'!$X$35=5,AK246,0)))","v":0},{"$f":"IF(AO246<=0,0,IF('Simulador Pagos Oportunos'!$AC$62=1,0,AO246*'Simulador Pagos Oportunos'!$Y$67+IF('Simulador Pagos Oportunos'!$X$35=3,'Simulador Pagos Oportunos'!$I$49,IF('Simulador Pagos Oportunos'!$X$35=4,'Simulador Pagos Oportunos'!$K$49,IF('Simulador Pagos Oportunos'!$X$35=5,'Simulador Pagos Oportunos'!$M$49,0)))))","v":0},null,{"$f":"AQ246*'Simulador Pagos Oportunos'!$X$59","v":0},0,0,"",0,232]
[233,0,null,0,null,0,null,0,null,null,null,{"$f":"IF('Simulador Pagos Oportunos'!$V$60=1,0,J247*'Simulador Pagos Oportunos'!$O$63*'Simulador Pagos Oportunos'!$W$59)","v":0},null,"",null,0,null,{"$f":"IFERROR(IF(B247<=0,0,B247*'Simulador Pagos Oportunos'!$Y$67),0)","v":0},null,{"$f":"IFERROR(IF(B247<=0,0,IF('Simulador Pagos Oportunos'!$X$35=3,'Simulador Pagos Oportunos'!$I$49,IF('Simulador Pagos Oportunos'!$X$35=4,'Simulador Pagos Oportunos'!$K$49,IF('Simulador Pagos Oportunos'!$X$35=5,'Simulador Pagos Oportunos'!$M$49,0)))),0)","v":0},null,{"$f":"IF(B247<=0,\"\",IF('Simulador Pagos Oportunos'!$V$40=1,'Simulador Pagos Oportunos'!$Z$62,'Simulador Pagos Oportunos'!$Z$62*'Simulador Pagos Oportunos'!$W$59))","v":""},{"$f":"F247*'Simulador Pagos Oportunos'!$X$59","v":0},"",null,null,null,19,5,0,0,0,"",{"$f":"IF('Simulador Pagos Oportunos'!$X$35=3,AI247,IF('Simulador Pagos Oportunos'!$X$35=4,AJ247,IF('Simulador Pagos Oportunos'!$X$35=5,AK247,0)))","v":0},null,null,null,0,0,0,0,0,0,0,0,{"$f":"IF('Simulador Pagos Oportunos'!$X$35=3,AI247,IF('Simulador Pagos Oportunos'!$X$35=4,AJ247,IF('Simulador Pagos Oportunos'!$X$35=5,AK247,0)))","v":0},{"$f":"IF(AO247<=0,0,IF('Simulador Pagos Oportunos'!$AC$62=1,0,AO247*'Simulador Pagos Oportunos'!$Y$67+IF('Simulador Pagos Oportunos'!$X$35=3,'Simulador Pagos Oportunos'!$I$49,IF('Simulador Pagos Oportunos'!$X$35=4,'Simulador Pagos Oportunos'!$K$49,IF('Simulador Pagos Oportunos'!$X$35=5,'Simulador Pagos Oportunos'!$M$49,0)))))","v":0},null,{"$f":"AQ247*'Simulador Pagos Oportunos'!$X$59","v":0},0,0,"",0,233]
[234,0,null,0,null,0,null,0,null,null,null,{"$f":"IF('Simulador Pagos Oportunos'!$V$60=1,0,J248*'Simulador Pagos Oportunos'!$O$63*'Simulador Pagos Oportunos'!$W$59)","v":0},null,"",null,0,null,{"$f":"IFERROR(IF(B248<=0,0,B248*'Simulador Pagos Oportunos'!$Y$67),0)","v":0},null,{"$f":"IFERROR(IF(B248<=0,0,IF('Simulador Pagos Oportunos'!$X$35=3,'Simulador Pagos Oportunos'!$I$49,IF('Simulador Pagos Oportunos'!$X$35=4,'Simulador Pagos Oportunos'!$K$49,IF('Simulador Pagos Oportunos'!$X$35=5,'Simulador Pagos Oportunos'!$M$49,0)))),0)","v":0},null,{"$f":"IF(B248<=0,\"\",IF('Simulador Pagos Oportunos'!$V$40=1,'Simulador Pagos Oportunos'!$Z$62,'Simulador Pagos Oportunos'!$Z$62*'Simulador Pagos Oportunos'!$W$59))","v":""},{"$f":"F248*'Simulador Pagos Oportunos'!$X$59","v":0},"",null,null,null,19,6,0,0,0,"",{"$f":"IF('Simulador Pagos Oportunos'!$X$35=3,AI248,IF('Simulador Pagos Oportunos'!$X$35=4,AJ248,IF('Simulador Pagos Oportunos'!$X$35=5,AK248,0)))","v":0},null,null,null,0,0,0,0,0,0,0,0,{"$f":"IF('Simulador Pagos Oportunos'!$X$35=3,AI248,IF('Simulador Pagos Oportunos'!$X$35=4,AJ248,IF('Simulador Pagos Oportunos'!$X$35=5,AK248,0)))","v":0},{"$f":"IF(AO248<=0,0,IF('Simulador Pagos Oportunos'!$AC$62=1,0,AO248*'Simulador Pagos Oportunos'!$Y$67+IF('Simulador Pagos Oportunos'!$X$35=3,'Simulador Pagos Oportunos'!$I$49,IF('Simulador Pagos Oportunos'!$X$35=4,'Simulador Pagos Oportunos'!$K$49,IF('Simulador Pagos Oportunos'!$X$35=5,'Simulador Pagos Oportunos'!$M$49,0)))))","v":0},null,{"$f":"AQ248*'Simulador Pagos Oportunos'!$X$59","v":0},0,0,"",0,234]
[235,0,null,0,null,0,null,0,null,null,null,{"$f":"IF('Simulador Pagos Oportunos'!$V$60=1,0,J249*'Simulador Pagos Oportunos'!$O$63*'Simulador Pagos Oportunos'!$W$59)","v":0},null,"",null,0,null,{"$f":"IFERROR(IF(B249<=0,0,B249*'Simulador Pagos Oportunos'!$Y$67),0)","v":0},null,{"$f":"IFERROR(IF(B249<=0,0,IF('Simulador Pagos Oportunos'!$X$35=3,'Simulador Pagos Oportunos'!$I$49,IF('Simulador Pagos Oportunos'!$X$35=4,'Simulador Pagos Oportunos'!$K$49,IF('Simulador Pagos Oportunos'!$X$35=5,'Simulador Pagos Oportunos'!$M$49,0)))),0)","v":0},null,{"$f":"IF(B249<=0,\"\",IF('Simulador Pagos Oportunos'!$V$40=1,'Simulador Pagos Oportunos'!$Z$62,'Simulador Pagos Oportunos'!$Z$62*'Simulador Pagos Oportunos'!$W$59))","v":""},{"$f":"F249*'Simulador Pagos Oportunos'!$X$59","v":0},"",null,null,null,19,7,0,0,0,"",{"$f":"IF('Simulador Pagos Oportunos'!$X$35=3,AI249,IF('Simulador Pagos Oportunos'!$X$35=4,AJ249,IF('Simulador Pagos Oportunos'!$X$35=5,AK249,0)))","v":0},null,null,null,0,0,0,0,0,0,0,0,{"$f":"IF('Simulador Pagos Oportunos'!$X$35=3,AI249,IF('Simulador Pagos Oportunos'!$X$35=4,AJ249,IF('Simulador Pagos Oportunos'!$X$35=5,AK249,0)))","v":0},{"$f":"IF(AO249<=0,0,IF('Simulador Pagos Oportunos'!$AC$62=1,0,AO249*'Simulador Pagos Oportunos'!$Y$67+IF('Simulador Pagos Oportunos'!$X$35=3,'Simulador Pagos Oportunos'!$I$49,IF('Simulador Pagos Oportunos'!$X$35=4,'Simulador Pagos Oportunos'!$K$49,IF('Simulador Pagos Oportunos'!$X$35=5,'Simulador Pagos Oportunos'!$M$49,0)))))","v":0},null,{"$f":"AQ249*'Simulador Pagos Oportunos'!$X$59","v":0},0,0,"",0,235]
[236,0,null,0,null,0,null,0,null,null,null,{"$f":"IF('Simulador Pagos Oportunos'!$V$60=1,0,J250*'Simulador Pagos Oportunos'!$O$63*'Simulador Pagos Oportunos'!$W$59)","v":0},null,"",null,0,null,{"$f":"IFERROR(IF(B250<=0,0,B250*'Simulador Pagos Oportunos'!$Y$67),0)","v":0},null,{"$f":"IFERROR(IF(B250<=0,0,IF('Simulador Pagos Oportunos'!$X$35=3,'Simulador Pagos Oportunos'!$I$49,IF('Simulador Pagos Oportunos'!$X$35=4,'Simulador Pagos Oportunos'!$K$49,IF('Simulador Pagos Oportunos'!$X$35=5,'Simulador Pagos Oportunos'!$M$49,0)))),0)","v":0},null,{"$f":"IF(B250<=0,\"\",IF('Simulador Pagos Oportunos'!$V$40=1,'Simulador Pagos Oportunos'!$Z$62,'Simulador Pagos Oportunos'!$Z$62*'Simulador Pagos Oportunos'!$W$59))","v":""},{"$f":"F250*'Simulador Pagos Oportunos'!$X$59","v":0},"",null,null,null,19,8,0,0,0,"",{"$f":"IF('Simulador Pagos Oportunos'!$X$35=3,AI250,IF('Simulador Pagos Oportunos'!$X$35=4,AJ250,IF('Simulador Pagos Oportunos'!$X$35=5,AK250,0)))","v":0},null,null,null,0,0,0,0,0,0,0,0,{"$f":"IF('Simulador Pagos Oportunos'!$X$35=3,AI250,IF('Simulador Pagos Oportunos'!$X$35=4,AJ250,IF('Simulador Pagos Oportunos'!$X$35=5,AK250,0)))","v":0},{"$f":"IF(AO250<=0,0,IF('Simulador Pagos Oportunos'!$AC$62=1,0,AO250*'Simulador Pagos Oportunos'!$Y$67+IF('Simulador Pagos Oportunos'!$X$35=3,'Simulador Pagos Oportunos'!$I$49,IF('Simulador Pagos Oportunos'!$X$35=4,'Simulador Pagos Oportunos'!$K$49,IF('Simulador Pagos Oportunos'!$X$35=5,'Simulador Pagos Oportunos'!$M$49,0)))))","v":0},null,{"$f":"AQ250*'Simulador Pagos Oportunos'!$X$59","v":0},0,0,"",0,236]
[237,0,null,0,null,0,null,0,null,null,null,{"$f":"IF('Simulador Pagos Oportunos'!$V$60=1,0,J251*'Simulador Pagos Oportunos'!$O$63*'Simulador Pagos Oportunos'!$W$59)","v":0},null,"",null,0,null,{"$f":"IFERROR(IF(B251<=0,0,B251*'Simulador Pagos Oportunos'!$Y$67),0)","v":0},null,{"$f":"IFERROR(IF(B251<=0,0,IF('Simulador Pagos Oportunos'!$X$35=3,'Simulador Pagos Oportunos'!$I$49,IF('Simulador Pagos Oportunos'!$X$35=4,'Simulador Pagos Oportunos'!$K$49,IF('Simulador Pagos Oportunos'!$X$35=5,'Simulador Pagos Oportunos'!$M$49,0)))),0)","v":0},null,{"$f":"IF(B251<=0,\"\",IF('Simulador Pagos Oportunos'!$V$40=1,'Simulador Pagos Oportunos'!$Z$62,'Simulador Pagos Oportunos'!$Z$62*'Simulador Pagos Oportunos'!$W$59))","v":""},{"$f":"F251*'Simulador Pagos Oportunos'!$X$59","v":0},"",null,null,null,19,9,0,0,0,"",{"$f":"IF('Simulador Pagos Oportunos'!$X$35=3,AI251,IF('Simulador Pagos Oportunos'!$X$35=4,AJ251,IF('Simulador Pagos Oportunos'!$X$35=5,AK251,0)))","v":0},null,null,null,0,0,0,0,0,0,0,0,{"$f":"IF('Simulador Pagos Oportunos'!$X$35=3,AI251,IF('Simulador Pagos Oportunos'!$X$35=4,AJ251,IF('Simulador Pagos Oportunos'!$X$35=5,AK251,0)))","v":0},{"$f":"IF(AO251<=0,0,IF('Simulador Pagos Oportunos'!$AC$62=1,0,AO251*'Simulador Pagos Oportunos'!$Y$67+IF('Simulador Pagos Oportunos'!$X$35=3,'Simulador Pagos Oportunos'!$I$49,IF('Simulador Pagos Oportunos'!$X$35=4,'Simulador Pagos Oportunos'!$K$49,IF('Simulador Pagos Oportunos'!$X$35=5,'Simulador Pagos Oportunos'!$M$49,0)))))","v":0},null,{"$f":"AQ251*'Simulador Pagos Oportunos'!$X$59","v":0},0,0,"",0,237]
[238,0,null,0,null,0,null,0,null,null,null,{"$f":"IF('Simulador Pagos Oportunos'!$V$60=1,0,J252*'Simulador Pagos Oportunos'!$O$63*'Simulador Pagos Oportunos'!$W$59)","v":0},null,"",null,0,null,{"$f":"IFERROR(IF(B252<=0,0,B252*'Simulador Pagos Oportunos'!$Y$67),0)","v":0},null,{"$f":"IFERROR(IF(B252<=0,0,IF('Simulador Pagos Oportunos'!$X$35=3,'Simulador Pagos Oportunos'!$I$49,IF('Simulador Pagos Oportunos'!$X$35=4,'Simulador Pagos Oportunos'!$K$49,IF('Simulador Pagos Oportunos'!$X$35=5,'Simulador Pagos Oportunos'!$M$49,0)))),0)","v":0},null,{"$f":"IF(B252<=0,\"\",IF('Simulador Pagos Oportunos'!$V$40=1,'Simulador Pagos Oportunos'!$Z$62,'Simulador Pagos Oportunos'!$Z$62*'Simulador Pagos Oportunos'!$W$59))","v":""},{"$f":"F252*'Simulador Pagos Oportunos'!$X$59","v":0},"",null,null,null,19,10,0,0,0,"",{"$f":"IF('Simulador Pagos Oportunos'!$X$35=3,AI252,IF('Simulador Pagos Oportunos'!$X$35=4,AJ252,IF('Simulador Pagos Oportunos'!$X$35=5,AK252,0)))","v":0},null,null,null,0,0,0,0,0,0,0,0,{"$f":"IF('Simulador Pagos Oportunos'!$X$35=3,AI252,IF('Simulador Pagos Oportunos'!$X$35=4,AJ252,IF('Simulador Pagos Oportunos'!$X$35=5,AK252,0)))","v":0},{"$f":"IF(AO252<=0,0,IF('Simulador Pagos Oportunos'!$AC$62=1,0,AO252*'Simulador Pagos Oportunos'!$Y$67+IF('Simulador Pagos Oportunos'!$X$35=3,'Simulador Pagos Oportunos'!$I$49,IF('Simulador Pagos Oportunos'!$X$35=4,'Simulador Pagos Oportunos'!$K$49,IF('Simulador Pagos Oportunos'!$X$35=5,'Simulador Pagos Oportunos'!$M$49,0)))))","v":0},null,{"$f":"AQ252*'Simulador Pagos Oportunos'!$X$59","v":0},0,0,"",0,238]
[239,0,null,0,null,0,null,0,null,null,null,{"$f":"IF('Simulador Pagos Oportunos'!$V$60=1,0,J253*'Simulador Pagos Oportunos'!$O$63*'Simulador Pagos Oportunos'!$W$59)","v":0},null,"",null,0,null,{"$f":"IFERROR(IF(B253<=0,0,B253*'Simulador Pagos Oportunos'!$Y$67),0)","v":0},null,{"$f":"IFERROR(IF(B253<=0,0,IF('Simulador Pagos Oportunos'!$X$35=3,'Simulador Pagos Oportunos'!$I$49,IF('Simulador Pagos Oportunos'!$X$35=4,'Simulador Pagos Oportunos'!$K$49,IF('Simulador Pagos Oportunos'!$X$35=5,'Simulador Pagos Oportunos'!$M$49,0)))),0)","v":0},null,{"$f":"IF(B253<=0,\"\",IF('Simulador Pagos Oportunos'!$V$40=1,'Simulador Pagos Oportunos'!$Z$62,'Simulador Pagos Oportunos'!$Z$62*'Simulador Pagos Oportunos'!$W$59))","v":""},{"$f":"F253*'Simulador Pagos Oportunos'!$X$59","v":0},"",null,null,null,19,11,0,0,0,"",{"$f":"IF('Simulador Pagos Oportunos'!$X$35=3,AI253,IF('Simulador Pagos Oportunos'!$X$35=4,AJ253,IF('Simulador Pagos Oportunos'!$X$35=5,AK253,0)))","v":0},null,null,null,0,0,0,0,0,0,0,0,{"$f":"IF('Simulador Pagos Oportunos'!$X$35=3,AI253,IF('Simulador Pagos Oportunos'!$X$35=4,AJ253,IF('Simulador Pagos Oportunos'!$X$35=5,AK253,0)))","v":0},{"$f":"IF(AO253<=0,0,IF('Simulador Pagos Oportunos'!$AC$62=1,0,AO253*'Simulador Pagos Oportunos'!$Y$67+IF('Simulador Pagos Oportunos'!$X$35=3,'Simulador Pagos Oportunos'!$I$49,IF('Simulador Pagos Oportunos'!$X$35=4,'Simulador Pagos Oportunos'!$K$49,IF('Simulador Pagos Oportunos'!$X$35=5,'Simulador Pagos Oportunos'!$M$49,0)))))","v":0},null,{"$f":"AQ253*'Simulador Pagos Oportunos'!$X$59","v":0},0,0,"",0,239]
[240,0,null,0,null,0,null,0,null,null,null,{"$f":"IF('Simulador Pagos Oportunos'!$V$60=1,0,J254*'Simulador Pagos Oportunos'!$O$63*'Simulador Pagos Oportunos'!$W$59)","v":0},null,"",null,0,null,{"$f":"IFERROR(IF(B254<=0,0,B254*'Simulador Pagos Oportunos'!$Y$67),0)","v":0},null,{"$f":"IFERROR(IF(B254<=0,0,IF('Simulador Pagos Oportunos'!$X$35=3,'Simulador Pagos Oportunos'!$I$49,IF('Simulador Pagos Oportunos'!$X$35=4,'Simulador Pagos Oportunos'!$K$49,IF('Simulador Pagos Oportunos'!$X$35=5,'Simulador Pagos Oportunos'!$M$49,0)))),0)","v":0},null,{"$f":"IF(B254<=0,\"\",IF('Simulador Pagos Oportunos'!$V$40=1,'Simulador Pagos Oportunos'!$Z$62,'Simulador Pagos Oportunos'!$Z$62*'Simulador Pagos Oportunos'!$W$59))","v":""},{"$f":"F254*'Simulador Pagos Oportunos'!$X$59","v":0},"",null,null,null,20,0,0,0,0,"",{"$f":"IF('Simulador Pagos Oportunos'!$X$35=3,AI254,IF('Simulador Pagos Oportunos'!$X$35=4,AJ254,IF('Simulador Pagos Oportunos'!$X$35=5,AK254,0)))","v":0},null,null,null,0,0,0,0,0,0,0,0,{"$f":"IF('Simulador Pagos Oportunos'!$X$35=3,AI254,IF('Simulador Pagos Oportunos'!$X$35=4,AJ254,IF('Simulador Pagos Oportunos'!$X$35=5,AK254,0)))","v":0},{"$f":"IF(AO254<=0,0,IF('Simulador Pagos Oportunos'!$AC$62=1,0,AO254*'Simulador Pagos Oportunos'!$Y$67+IF('Simulador Pagos Oportunos'!$X$35=3,'Simulador Pagos Oportunos'!$I$49,IF('Simulador Pagos Oportunos'!$X$35=4,'Simulador Pagos Oportunos'!$K$49,IF('Simulador Pagos Oportunos'!$X$35=5,'Simulador Pagos Oportunos'!$M$49,0)))))","v":0},null,{"$f":"AQ254*'Simulador Pagos Oportunos'!$X$59","v":0},0,0,"",0,240]
[null,null,null,"Erogación \n(a+b)",null,"Interés \n(a)",null,"Amortización (b)",null,"Prepagos a capital (c)",null,null,null,null,null,null,null,"Seguro de \nvida (d)",null,"Seguro de daños \n(e)",null,null,"IVA Intereses (f)","Pago Mensual (a+b+c+d+e+f)"]
[null,null,null,{"$f":"SUM(D15:D194)","v":0},null,{"$f":"SUM(F15:F194)","v":0},null,{"$f":"SUM(H15:H194)","v":0},null,{"$f":"SUM(J15:J194)","v":0},null,null,null,null,null,null,null,{"$f":"SUM(R15:R194)","v":0},null,{"$f":"SUM(T15:T194)","v":0},null,null,{"$f":"SUM(W15:W194)","v":0},{"$f":"SUM(X15:X194)","v":0}]
[]
[null,null,null,null,null,null,null,null,null,null,null,null,null,null,null,null,null,null,null,null,null,null,null,{"$f":"SUM(X15:Y255)","v":0}]

{"sheet":"Carat_cont_PO","index":6,"n_rows":44,"n_cols":4,"rows_kept":44,"cut":false,"hidden":false,"merged":[[40,0,40,3],[33,0,33,3],[41,0,41,3],[42,0,42,3],[43,0,43,3],[35,0,35,3],[36,0,36,3],[37,0,37,3],[38,0,38,3],[39,0,39,3],[34,0,34,3],[26,0,26,3],[30,2,32,3],[17,1,17,3],[18,0,18,3],[19,0,19,1],[19,2,19,3],[20,0,20,1],[20,2,20,3],[21,0,21,3],[22,0,22,3],[23,0,23,3],[24,0,24,3],[25,0,25,3],[16,1,16,3],[1,0,1,3],[6,1,6,3],[7,0,7,3],[8,0,8,3],[11,1,14,1]]}
[]
["Carátula de Crédito "]
[null,null,null,"Nombre del Acreditado y/o Coacreditado:"]
[null,null,null,{"$f":"IF('Simulador Pagos Oportunos'!C13=\"\",\"\",'Simulador Pagos Oportunos'!C13)","v":""}]
[null,null,null,"Número de Crédito:"]
[]
["Nombre comercial del producto:",{"$f":"\"LIQUIDEZ PAGOS OPORTUNOS\"&\" \"&A18","v":"LIQUIDEZ PAGOS OPORTUNOS 15 Años"}]
[]
["Tipo de Crédito: Crédito Hipotecario "]
["CAT","TASA DE INTERES","MONTO O LINEA DE","MONTO TOTAL A PAGAR O"]
["(Costo Anual Total)","ANUAL ORDINARIA","CRÉDITO","MINIMO A PAGAR"]
[{"$f":"'Tabla Pagos Oportunos'!B11","v":0},{"$f":"IFERROR(IF('Simulador Pagos Oportunos'!$I$22=0,0,IF('Simulador Pagos Oportunos'!$X$35=3,'Simulador Pagos Oportunos'!$AC$35,IF('Simulador Pagos Oportunos'!$X$35=4,'Simulador Pagos Oportunos'!$AD$35,IF('Simulador Pagos Oportunos'!$X$35=5,'Simulador Pagos Oportunos'!$AE$35,0)))),\"\")","v":0},{"$f":"'Simulador Pagos Oportunos'!$Z$41","v":0},{"$f":"IFERROR(SUM('Tabla Pagos Oportunos'!X15:X254),0)","v":0}]
["Sin IVA",null,null,"Moneda en"]
["Para fines",null,null,"Pesos"]
["informativos y de",null,null,"Mexicanos "]
["comparación","Tasa Fija"]
["PLAZO DEL CRÉDITO:","Fecha Límite de pago: \nSi tu fecha de corte es el día 3, tu fecha de pago es el día 3 de cada mes. \nSi tu fecha de corte es el día 17, tu fecha de pago es el día 17 de cada mes. "]
[{"$f":"IF('Simulador Pagos Oportunos'!$X$35=3,'Simulador Pagos Oportunos'!$AC$32,IF('Simulador Pagos Oportunos'!$X$35=4,'Simulador Pagos Oportunos'!$AD$32,IF('Simulador Pagos Oportunos'!$X$35=5,'Simulador Pagos Oportunos'!$AE$32,0)))/12&\" Años\"","v":"15 Años"},"Fecha de corte: \nSi tu fecha de disposición es entre el dia 3 y 16, tu fecha de corte será el día 3 de cada mes. \nSi tu fecha de disposición es entre el día 17 y 2, tu fecha de corte será el día 17 de cada mes."]
["COMISIONES RELEVANTES"]
[{"$f":"\"Apertura: \"&TEXT(IF('Simulador Pagos Oportunos'!$X$35=3,'Simulador Pagos Oportunos'!$I$59,IF('Simulador Pagos Oportunos'!$X$35=4,'Simulador Pagos Oportunos'!$K$59,IF('Simulador Pagos Oportunos'!$X$35=5,'Simulador Pagos Oportunos'!$M$59,0))),\"$###,###.00\")&\"  más IVA\"","v":"Apertura: $.00  más IVA"},null,"Cobranza: $500.00 más IVA por pago tardío "]
[{"$f":"\"Prepago: \"&IF('Simulador Pagos Oportunos'!$V$60=1,\"0% \",\"3% \")&\"más IVA sobre el monto anticipado\"","v":"Prepago: 0% más IVA sobre el monto anticipado"},null,"Para otras comisiones consulte la cláusula décimo tercera"]
["ADVERTENCIAS"]
[]
["Incumplir tus obligaciones te puede generar comisiones e intereses moratorios. "]
["Contratar créditos que excedan tu capacidad de pago afecta tu historial crediticio. "]
["El avalista, obligado solidario o coacreditado responderá como obligado principal por el total del pago frente a la Institución Financiera. "]
["SEGUROS"]
["Seguros Obligatorios:","Aseguradora:","Cláusulas:"]
[]
["Vida","Cardif México Seguros de Vida,          S.A. de C.V.","Vigésima Cuarta"]
[null,null,"Scotiabank Inverlat le ofrece al acreditado y/o coacreditado, la posibilidad de contratar a nombre de este (os) último(s) los seguros establecidos en la cláusula vigésima cuarta. Lo anterior sin perjuicio del derecho innegable que el cliente tiene de contratarlos a través de terceros."]
["Daños, Responsabilidad Civil y           Desempleo","Cardif México Seguros Generales, S.A. de C.V."]
[]
["ESTADO DE CUENTA"]
["Envío a Domicilio ü              Consulta vía Internet ___            Envío por Correo Electrónico ___"]
["Aclaraciones y reclamaciones:"]
["Unidad Especializada de Aclaraciones:"]
["Domicilio: Río Usumacinta S/N, esq. con Fernando Montes de Oca, Col. La Presita, Municipio de Cuautitlán Izcalli, Estado de México, C.P. 54763"]
["Teléfono: (55) 5123 0990"]
["Correo electrónico: une@scotiabank.com.mx"]
["Página de Internet: www.scotiabank.com.mx "]
[{"$f":"\"Registro de Contratos de Adhesión Núm:  \"&IF('Simulador Valora'!I22=0,\"\",IFERROR(VLOOKUP('Simulador Pagos Oportunos'!$V$40&\"-2-1\",RECAS!$A$3:$D$5,4,0),\"Revisa los datos ingresados\"))","v":"Registro de Contratos de Adhesión Núm:  "}]
["Comisión Nacional para la Protección y Defensa de los Usuarios de Servicios Financieros (CONDUSEF):"]
["Teléfono: 800 999 8080 y (55) 5340 0999. Página de Internet. www.condusef.gob.mx "]

{"sheet":"RECAS","index":7,"n_rows":5,"n_cols":8,"rows_kept":5,"cut":false,"hidden":false,"merged":[[0,1,0,4]]}
[null,"RELACIÓN RECAS"]
["Clave","No.","Nombre","RECA","Fecha de expedición","Tipo Crédito","Esquema","Mancomunado"]
[{"$f":"F3&\"-\"&G3&\"-\"&H3","v":"2-1-1"},39,"Crediliquidez Libre Valora","0319-138-027732/11-02355-0622","2022-06-13",2,1,1]
[{"$f":"F4&\"-\"&G4&\"-\"&H4","v":"2-3-1"},40,"Crediliquidez Libre Hipoteca 7X5","0319-138-027733/11-02356-0622","2022-06-13",2,3,1]
[{"$f":"F5&\"-\"&G5&\"-\"&H5","v":"2-2-1"},41,"Crediliquidez Libre Pagos Oportunos","0319-138-027734/11-02357-0622","2022-06-13",2,2,1]